{"text_format":"1","workbook":"xlsx","n_sheets":13,"sheets":["Fiche paramétrage concours","Liste inscrits","Tirage Poules","Fiche score","Fiche tirage dirigé","Cadrage","Tableau final","Qualifiés","fiche inscription","AS","Feuil1","Tirage","Aide"],"not_rendered":{"charts":0,"images":4,"macros":1,"external_links":0,"defined_names":11,"comments":0,"pivot_tables":0},"unopened":[],"bounds":{"document_bytes":16777216,"sheet_cells":100000,"rows_first":2000,"rows_last":500,"rows_between":2000,"halvings":0,"cell_chars":16384,"cell_head_chars":4096},"cells_cut":0,"cells_raw":0,"read":"whole","date_system":"1900"}

{"sheet":"Fiche paramétrage concours","index":0,"n_rows":17,"n_cols":8,"rows_kept":17,"cut":false,"hidden":false,"merged":[[16,1,16,4],[0,1,0,2],[2,1,2,2],[6,1,6,2],[8,1,8,2],[6,4,6,7]]}
["Nom de l'AS ou de l'entité organisatrice : ",null,null,null,{"$f":"sociétés","v":0}]
[]
["Nom du concours :"]
[]
["Catégorie du Concours :",null,"(* 1 N autorisé, ** 2 N autorisés)"]
[]
["Lieu du concours :",null,null,null,"Saisie Inscrits équipe par équipe (minimum 2 maximum 3)"]
[null,null,null,null,"Nom Prénom","N° licence","AS (Sélection dans liste déroulante)","Div\n(liste)"]
["Date du concours :"]
[]
["Nombre d'équipes engagées :",{"$f":"'Liste inscrits'!AF1","v":0},"(calculé automatiquement après saisie inscrits)"]
[]
["Nombre de qualifiés :",null,"(uniquement dans le cas de concours avec plusieurs qualifiés)"]
[]
["Nombre de poules : ",null,"à renseigner obligatoirement  (un nb est calculé automatiquement après saisie inscrits et nb qualifiés en cliquant sur le bouton jaune)"]
[]
["Horaires et durée des parties :\nfacultatif, sinon effacer la cellule B17 ","Parties en 1h45 - 1ère partie 13h30 à 15h15  - 2ème partie 15h30 à 17h55 - barrages 17h30 à 19h15 - partie qualificative à Polliat dimanche 10h00"]

{"sheet":"Liste inscrits","index":1,"n_rows":209,"n_cols":47,"rows_kept":209,"cut":false,"hidden":false,"merged":[[4,31,5,31],[8,31,9,31]]}
["Nom","N° licence",null,"M3","N°S","N°AS","Nom","N° licence",null,"M3","N°S","N°AS","Nom","N° licence",null,"M3","N°S","N°AS",null,null,null,"Div","N°S","N°AS",null,null,null,"Div","N°S","N°AS",null,{"$f":"COUNTA(A:A)-1","v":0},null,null,null,"nb g poules","tir dir","cadrage","1/16 ou 1ère tableau final","1/8 ou 2e tableau final","1/4 ou 3e tableau final","1/2 ou 4e tableau final","finale","cadrage qualif","nb part g > poules","nbj/p","class/t p"]
[null,null,null,null,{"$f":"IF(ISERROR(VLOOKUP(C2,AS!$A:$H,7,FALSE)),\"\",VLOOKUP(C2,AS!$A:$H,7,FALSE))","v":""},{"$f":"IF(ISERROR(VLOOKUP(C2,AS!$A:$H,8,FALSE)),\"\",VLOOKUP(C2,AS!$A:$H,8,FALSE))","v":""},null,null,null,null,{"$f":"IF(ISERROR(VLOOKUP(I2,AS!$A:$H,7,FALSE)),\"\",VLOOKUP(I2,AS!$A:$H,7,FALSE))","v":""},{"$f":"IF(ISERROR(VLOOKUP(I2,AS!$A:$H,8,FALSE)),\"\",VLOOKUP(I2,AS!$A:$H,8,FALSE))","v":""},null,null,null,null,{"$f":"IF(ISERROR(VLOOKUP(O2,AS!$A:$H,7,FALSE)),\"\",VLOOKUP(O2,AS!$A:$H,7,FALSE))","v":""},{"$f":"IF(ISERROR(VLOOKUP(O2,AS!$A:$H,8,FALSE)),\"\",VLOOKUP(O2,AS!$A:$H,8,FALSE))","v":""},null,null,null,null,{"$f":"IF(ISERROR(VLOOKUP(U2,AS!$A:$H,7,FALSE)),\"\",VLOOKUP(U2,AS!$A:$H,7,FALSE))","v":""},{"$f":"IF(ISERROR(VLOOKUP(U2,AS!$A:$H,8,FALSE)),\"\",VLOOKUP(U2,AS!$A:$H,8,FALSE))","v":""},null,null,null,null,{"$f":"IF(ISERROR(VLOOKUP(AA2,AS!$A:$H,7,FALSE)),\"\",VLOOKUP(AA2,AS!$A:$H,7,FALSE))","v":""},{"$f":"IF(ISERROR(VLOOKUP(AA2,AS!$A:$H,8,FALSE)),\"\",VLOOKUP(AA2,AS!$A:$H,8,FALSE))","v":""},null,null,null,{"$f":"A2&E2&F2","v":""},null,{"$f":"IF(AI2=\"\",\"\",IF(OFFSET('Fiche score'!$A$2,VLOOKUP(RIGHT(AI2,2),Feuil1!A:C,2,FALSE),VLOOKUP(RIGHT(AI2,2),Feuil1!A:C,3,FALSE))=A2 & CHAR(10) & C2,2,IF(OFFSET('Fiche score'!$A$2,VLOOKUP(RIGHT(AI2,2),Feuil1!A:C,2,FALSE)+1,VLOOKUP(RIGHT(AI2,2),Feuil1!A:C,3,FALSE))=A2 & CHAR(10) & C2,2,IF(OFFSET('Fiche score'!$A$2,VLOOKUP(RIGHT(AI2,2),Feuil1!A:C,2,FALSE)-1,VLOOKUP(RIGHT(AI2,2),Feuil1!A:C,3,FALSE))=A2 & CHAR(10) & C2,1,IF(OFFSET('Fiche score'!$A$2,VLOOKUP(RIGHT(AI2,2),Feuil1!A:C,2,FALSE)-2,VLOOKUP(RIGHT(AI2,2),Feuil1!A:C,3,FALSE))=A2 & CHAR(10) & C2,1,\"0\")))))","v":""},{"$f":"IF(ISERROR(VLOOKUP(A2 & CHAR(10) &C2,'Fiche tirage dirigé'!I:I,1,FALSE)),0,1)","v":0},{"$f":"IF(ISERROR(VLOOKUP(A2& CHAR(10) &C2,Cadrage!H:H,1,FALSE)),0,1)","v":0},{"$f":"IF(ISERROR(VLOOKUP(A2 & CHAR(10) &C2,'Tableau final'!V:V,1,FALSE)),0,1)","v":0},{"$f":"IF(ISERROR(VLOOKUP(A2 & CHAR(10) &C2,'Tableau final'!W:W,1,FALSE)),0,1)","v":0},{"$f":"IF(ISERROR(VLOOKUP(A2 & CHAR(10) &C2,'Tableau final'!X:X,1,FALSE)),0,1)","v":0},{"$f":"IF(ISERROR(VLOOKUP(A2 & CHAR(10) &C2,'Tableau final'!Y:Y,1,FALSE)),0,1)","v":0},{"$f":"IF(ISERROR(VLOOKUP(A2 & CHAR(10) &C2,'Tableau final'!Z:Z,1,FALSE)),0,1)","v":0},{"$f":"IF('Tableau final'!$A$1<>\"\",IF('Tableau final'!$B$5=\"Qualifiés\",IF(ISERROR(VLOOKUP(A2 & CHAR(10) &C2,'Tableau final'!C:F,1,FALSE)),\"\",IF(AND(VLOOKUP(A2 & CHAR(10) &C2,'Tableau final'!C:F,3,FALSE)<>\"\",VLOOKUP(A2 & CHAR(10) &C2,'Tableau final'!C:F,4,FALSE)=\"x\"),1,\"\")),IF('Tableau final'!$G$5=\"Qualifiés\",IF(ISERROR(VLOOKUP(A2 & CHAR(10) &C2,'Tableau final'!H:K,1,FALSE)),\"\",IF(AND(VLOOKUP(A2 & CHAR(10) &C2,'Tableau final'!H:K,3,FALSE)<>\"\",VLOOKUP(A2 & CHAR(10) &C2,'Tableau final'!H:K,4,FALSE)=\"x\"),1,\"\")),IF('Tableau final'!$L$5=\"Qualifiés\",IF(ISERROR(VLOOKUP(A2 & CHAR(10) &C2,'Tableau final'!M:P,1,FALSE)),\"\",IF(AND(VLOOKUP(A2 & CHAR(10) &C2,'Tableau final'!M:P,3,FALSE)<>\"\",VLOOKUP(A2 & CHAR(10) &C2,'Tableau final'!M:P,4,FALSE)=\"x\"),1,\"\")),\"\"))),\"\")","v":""},{"$f":"IF(SUM(AK2:AR2)=0,\"0\",SUM(AK2:AR2))","v":"0"},{"$f":"IF(ISERROR(VLOOKUP(AI2,Tirage!A:J,1,FALSE)),\"\",IF(VLOOKUP(AI2,Tirage!A:J,1,FALSE)=\"Office \",3,4))","v":""},{"$f":"IF(AJ2=\"0\",4,IF(AJ2=1,3,IF(AJ2=2,IF(OFFSET('Fiche score'!$A$2,VLOOKUP(RIGHT(AI2,2),Feuil1!A:C,2,FALSE),VLOOKUP(RIGHT(AI2,2),Feuil1!A:C,3,FALSE))=A2 & CHAR(10) & C2,1,2),\"\")))","v":""}]
[null,null,null,null,{"$f":"IF(ISERROR(VLOOKUP(C3,AS!$A:$H,7,FALSE)),\"\",VLOOKUP(C3,AS!$A:$H,7,FALSE))","v":""},{"$f":"IF(ISERROR(VLOOKUP(C3,AS!$A:$H,8,FALSE)),\"\",VLOOKUP(C3,AS!$A:$H,8,FALSE))","v":""},null,null,null,null,{"$f":"IF(ISERROR(VLOOKUP(I3,AS!$A:$H,7,FALSE)),\"\",VLOOKUP(I3,AS!$A:$H,7,FALSE))","v":""},{"$f":"IF(ISERROR(VLOOKUP(I3,AS!$A:$H,8,FALSE)),\"\",VLOOKUP(I3,AS!$A:$H,8,FALSE))","v":""},null,null,null,null,{"$f":"IF(ISERROR(VLOOKUP(O3,AS!$A:$H,7,FALSE)),\"\",VLOOKUP(O3,AS!$A:$H,7,FALSE))","v":""},{"$f":"IF(ISERROR(VLOOKUP(O3,AS!$A:$H,8,FALSE)),\"\",VLOOKUP(O3,AS!$A:$H,8,FALSE))","v":""},null,null,null,null,{"$f":"IF(ISERROR(VLOOKUP(U3,AS!$A:$H,7,FALSE)),\"\",VLOOKUP(U3,AS!$A:$H,7,FALSE))","v":""},{"$f":"IF(ISERROR(VLOOKUP(U3,AS!$A:$H,8,FALSE)),\"\",VLOOKUP(U3,AS!$A:$H,8,FALSE))","v":""},null,null,null,null,{"$f":"IF(ISERROR(VLOOKUP(AA3,AS!$A:$H,7,FALSE)),\"\",VLOOKUP(AA3,AS!$A:$H,7,FALSE))","v":""},{"$f":"IF(ISERROR(VLOOKUP(AA3,AS!$A:$H,8,FALSE)),\"\",VLOOKUP(AA3,AS!$A:$H,8,FALSE))","v":""},null,null,null,{"$f":"A3&E3&F3","v":""},null,{"$f":"IF(AI3=\"\",\"\",IF(OFFSET('Fiche score'!$A$2,VLOOKUP(RIGHT(AI3,2),Feuil1!A:C,2,FALSE),VLOOKUP(RIGHT(AI3,2),Feuil1!A:C,3,FALSE))=A3 & CHAR(10) & C3,2,IF(OFFSET('Fiche score'!$A$2,VLOOKUP(RIGHT(AI3,2),Feuil1!A:C,2,FALSE)+1,VLOOKUP(RIGHT(AI3,2),Feuil1!A:C,3,FALSE))=A3 & CHAR(10) & C3,2,IF(OFFSET('Fiche score'!$A$2,VLOOKUP(RIGHT(AI3,2),Feuil1!A:C,2,FALSE)-1,VLOOKUP(RIGHT(AI3,2),Feuil1!A:C,3,FALSE))=A3 & CHAR(10) & C3,1,IF(OFFSET('Fiche score'!$A$2,VLOOKUP(RIGHT(AI3,2),Feuil1!A:C,2,FALSE)-2,VLOOKUP(RIGHT(AI3,2),Feuil1!A:C,3,FALSE))=A3 & CHAR(10) & C3,1,\"0\")))))","v":""},{"$f":"IF(ISERROR(VLOOKUP(A3 & CHAR(10) &C3,'Fiche tirage dirigé'!I:I,1,FALSE)),0,1)","v":0},{"$f":"IF(ISERROR(VLOOKUP(A3& CHAR(10) &C3,Cadrage!H:H,1,FALSE)),0,1)","v":0},{"$f":"IF(ISERROR(VLOOKUP(A3 & CHAR(10) &C3,'Tableau final'!V:V,1,FALSE)),0,1)","v":0},{"$f":"IF(ISERROR(VLOOKUP(A3 & CHAR(10) &C3,'Tableau final'!W:W,1,FALSE)),0,1)","v":0},{"$f":"IF(ISERROR(VLOOKUP(A3 & CHAR(10) &C3,'Tableau final'!X:X,1,FALSE)),0,1)","v":0},{"$f":"IF(ISERROR(VLOOKUP(A3 & CHAR(10) &C3,'Tableau final'!Y:Y,1,FALSE)),0,1)","v":0},{"$f":"IF(ISERROR(VLOOKUP(A3 & CHAR(10) &C3,'Tableau final'!Z:Z,1,FALSE)),0,1)","v":0},{"$f":"IF('Tableau final'!$A$1<>\"\",IF('Tableau final'!$B$5=\"Qualifiés\",IF(ISERROR(VLOOKUP(A3 & CHAR(10) &C3,'Tableau final'!C:F,1,FALSE)),\"\",IF(AND(VLOOKUP(A3 & CHAR(10) &C3,'Tableau final'!C:F,3,FALSE)<>\"\",VLOOKUP(A3 & CHAR(10) &C3,'Tableau final'!C:F,4,FALSE)=\"x\"),1,\"\")),IF('Tableau final'!$G$5=\"Qualifiés\",IF(ISERROR(VLOOKUP(A3 & CHAR(10) &C3,'Tableau final'!H:K,1,FALSE)),\"\",IF(AND(VLOOKUP(A3 & CHAR(10) &C3,'Tableau final'!H:K,3,FALSE)<>\"\",VLOOKUP(A3 & CHAR(10) &C3,'Tableau final'!H:K,4,FALSE)=\"x\"),1,\"\")),IF('Tableau final'!$L$5=\"Qualifiés\",IF(ISERROR(VLOOKUP(A3 & CHAR(10) &C3,'Tableau final'!M:P,1,FALSE)),\"\",IF(AND(VLOOKUP(A3 & CHAR(10) &C3,'Tableau final'!M:P,3,FALSE)<>\"\",VLOOKUP(A3 & CHAR(10) &C3,'Tableau final'!M:P,4,FALSE)=\"x\"),1,\"\")),\"\"))),\"\")","v":""},{"$f":"IF(SUM(AK3:AR3)=0,\"0\",SUM(AK3:AR3))","v":"0"},{"$f":"IF(ISERROR(VLOOKUP(AI3,Tirage!A:J,1,FALSE)),\"\",IF(VLOOKUP(AI3,Tirage!A:J,1,FALSE)=\"Office \",3,4))","v":""},{"$f":"IF(AJ3=\"0\",4,IF(AJ3=1,3,IF(AJ3=2,IF(OFFSET('Fiche score'!$A$2,VLOOKUP(RIGHT(AI3,2),Feuil1!A:C,2,FALSE),VLOOKUP(RIGHT(AI3,2),Feuil1!A:C,3,FALSE))=A3 & CHAR(10) & C3,1,2),\"\")))","v":""}]
[null,null,null,null,{"$f":"IF(ISERROR(VLOOKUP(C4,AS!$A:$H,7,FALSE)),\"\",VLOOKUP(C4,AS!$A:$H,7,FALSE))","v":""},{"$f":"IF(ISERROR(VLOOKUP(C4,AS!$A:$H,8,FALSE)),\"\",VLOOKUP(C4,AS!$A:$H,8,FALSE))","v":""},null,null,null,null,{"$f":"IF(ISERROR(VLOOKUP(I4,AS!$A:$H,7,FALSE)),\"\",VLOOKUP(I4,AS!$A:$H,7,FALSE))","v":""},{"$f":"IF(ISERROR(VLOOKUP(I4,AS!$A:$H,8,FALSE)),\"\",VLOOKUP(I4,AS!$A:$H,8,FALSE))","v":""},null,null,null,null,{"$f":"IF(ISERROR(VLOOKUP(O4,AS!$A:$H,7,FALSE)),\"\",VLOOKUP(O4,AS!$A:$H,7,FALSE))","v":""},{"$f":"IF(ISERROR(VLOOKUP(O4,AS!$A:$H,8,FALSE)),\"\",VLOOKUP(O4,AS!$A:$H,8,FALSE))","v":""},null,null,null,null,{"$f":"IF(ISERROR(VLOOKUP(U4,AS!$A:$H,7,FALSE)),\"\",VLOOKUP(U4,AS!$A:$H,7,FALSE))","v":""},{"$f":"IF(ISERROR(VLOOKUP(U4,AS!$A:$H,8,FALSE)),\"\",VLOOKUP(U4,AS!$A:$H,8,FALSE))","v":""},null,null,null,null,{"$f":"IF(ISERROR(VLOOKUP(AA4,AS!$A:$H,7,FALSE)),\"\",VLOOKUP(AA4,AS!$A:$H,7,FALSE))","v":""},{"$f":"IF(ISERROR(VLOOKUP(AA4,AS!$A:$H,8,FALSE)),\"\",VLOOKUP(AA4,AS!$A:$H,8,FALSE))","v":""},null,null,null,"",null,{"$f":"IF(AI4=\"\",\"\",IF(OFFSET('Fiche score'!$A$2,VLOOKUP(RIGHT(AI4,2),Feuil1!A:C,2,FALSE),VLOOKUP(RIGHT(AI4,2),Feuil1!A:C,3,FALSE))=A4 & CHAR(10) & C4,2,IF(OFFSET('Fiche score'!$A$2,VLOOKUP(RIGHT(AI4,2),Feuil1!A:C,2,FALSE)+1,VLOOKUP(RIGHT(AI4,2),Feuil1!A:C,3,FALSE))=A4 & CHAR(10) & C4,2,IF(OFFSET('Fiche score'!$A$2,VLOOKUP(RIGHT(AI4,2),Feuil1!A:C,2,FALSE)-1,VLOOKUP(RIGHT(AI4,2),Feuil1!A:C,3,FALSE))=A4 & CHAR(10) & C4,1,IF(OFFSET('Fiche score'!$A$2,VLOOKUP(RIGHT(AI4,2),Feuil1!A:C,2,FALSE)-2,VLOOKUP(RIGHT(AI4,2),Feuil1!A:C,3,FALSE))=A4 & CHAR(10) & C4,1,\"0\")))))","v":""},{"$f":"IF(ISERROR(VLOOKUP(A4 & CHAR(10) &C4,'Fiche tirage dirigé'!I:I,1,FALSE)),0,1)","v":0},{"$f":"IF(ISERROR(VLOOKUP(A4& CHAR(10) &C4,Cadrage!H:H,1,FALSE)),0,1)","v":0},{"$f":"IF(ISERROR(VLOOKUP(A4 & CHAR(10) &C4,'Tableau final'!V:V,1,FALSE)),0,1)","v":0},{"$f":"IF(ISERROR(VLOOKUP(A4 & CHAR(10) &C4,'Tableau final'!W:W,1,FALSE)),0,1)","v":0},{"$f":"IF(ISERROR(VLOOKUP(A4 & CHAR(10) &C4,'Tableau final'!X:X,1,FALSE)),0,1)","v":0},{"$f":"IF(ISERROR(VLOOKUP(A4 & CHAR(10) &C4,'Tableau final'!Y:Y,1,FALSE)),0,1)","v":0},{"$f":"IF(ISERROR(VLOOKUP(A4 & CHAR(10) &C4,'Tableau final'!Z:Z,1,FALSE)),0,1)","v":0},{"$f":"IF('Tableau final'!$A$1<>\"\",IF('Tableau final'!$B$5=\"Qualifiés\",IF(ISERROR(VLOOKUP(A4 & CHAR(10) &C4,'Tableau final'!C:F,1,FALSE)),\"\",IF(AND(VLOOKUP(A4 & CHAR(10) &C4,'Tableau final'!C:F,3,FALSE)<>\"\",VLOOKUP(A4 & CHAR(10) &C4,'Tableau final'!C:F,4,FALSE)=\"x\"),1,\"\")),IF('Tableau final'!$G$5=\"Qualifiés\",IF(ISERROR(VLOOKUP(A4 & CHAR(10) &C4,'Tableau final'!H:K,1,FALSE)),\"\",IF(AND(VLOOKUP(A4 & CHAR(10) &C4,'Tableau final'!H:K,3,FALSE)<>\"\",VLOOKUP(A4 & CHAR(10) &C4,'Tableau final'!H:K,4,FALSE)=\"x\"),1,\"\")),IF('Tableau final'!$L$5=\"Qualifiés\",IF(ISERROR(VLOOKUP(A4 & CHAR(10) &C4,'Tableau final'!M:P,1,FALSE)),\"\",IF(AND(VLOOKUP(A4 & CHAR(10) &C4,'Tableau final'!M:P,3,FALSE)<>\"\",VLOOKUP(A4 & CHAR(10) &C4,'Tableau final'!M:P,4,FALSE)=\"x\"),1,\"\")),\"\"))),\"\")","v":""},"0",{"$f":"IF(ISERROR(VLOOKUP(AI4,Tirage!A:J,1,FALSE)),\"\",IF(VLOOKUP(AI4,Tirage!A:J,1,FALSE)=\"Office \",3,4))","v":""},{"$f":"IF(AJ4=\"0\",4,IF(AJ4=1,3,IF(AJ4=2,IF(OFFSET('Fiche score'!$A$2,VLOOKUP(RIGHT(AI4,2),Feuil1!A:C,2,FALSE),VLOOKUP(RIGHT(AI4,2),Feuil1!A:C,3,FALSE))=A4 & CHAR(10) & C4,1,2),\"\")))","v":""}]
[null,null,null,null,{"$f":"IF(ISERROR(VLOOKUP(C5,AS!$A:$H,7,FALSE)),\"\",VLOOKUP(C5,AS!$A:$H,7,FALSE))","v":""},{"$f":"IF(ISERROR(VLOOKUP(C5,AS!$A:$H,8,FALSE)),\"\",VLOOKUP(C5,AS!$A:$H,8,FALSE))","v":""},null,null,null,null,{"$f":"IF(ISERROR(VLOOKUP(I5,AS!$A:$H,7,FALSE)),\"\",VLOOKUP(I5,AS!$A:$H,7,FALSE))","v":""},{"$f":"IF(ISERROR(VLOOKUP(I5,AS!$A:$H,8,FALSE)),\"\",VLOOKUP(I5,AS!$A:$H,8,FALSE))","v":""},null,null,null,null,{"$f":"IF(ISERROR(VLOOKUP(O5,AS!$A:$H,7,FALSE)),\"\",VLOOKUP(O5,AS!$A:$H,7,FALSE))","v":""},{"$f":"IF(ISERROR(VLOOKUP(O5,AS!$A:$H,8,FALSE)),\"\",VLOOKUP(O5,AS!$A:$H,8,FALSE))","v":""},null,null,null,null,{"$f":"IF(ISERROR(VLOOKUP(U5,AS!$A:$H,7,FALSE)),\"\",VLOOKUP(U5,AS!$A:$H,7,FALSE))","v":""},{"$f":"IF(ISERROR(VLOOKUP(U5,AS!$A:$H,8,FALSE)),\"\",VLOOKUP(U5,AS!$A:$H,8,FALSE))","v":""},null,null,null,null,{"$f":"IF(ISERROR(VLOOKUP(AA5,AS!$A:$H,7,FALSE)),\"\",VLOOKUP(AA5,AS!$A:$H,7,FALSE))","v":""},{"$f":"IF(ISERROR(VLOOKUP(AA5,AS!$A:$H,8,FALSE)),\"\",VLOOKUP(AA5,AS!$A:$H,8,FALSE))","v":""},null,"nombre de poules",null,"",null,{"$f":"IF(AI5=\"\",\"\",IF(OFFSET('Fiche score'!$A$2,VLOOKUP(RIGHT(AI5,2),Feuil1!A:C,2,FALSE),VLOOKUP(RIGHT(AI5,2),Feuil1!A:C,3,FALSE))=A5 & CHAR(10) & C5,2,IF(OFFSET('Fiche score'!$A$2,VLOOKUP(RIGHT(AI5,2),Feuil1!A:C,2,FALSE)+1,VLOOKUP(RIGHT(AI5,2),Feuil1!A:C,3,FALSE))=A5 & CHAR(10) & C5,2,IF(OFFSET('Fiche score'!$A$2,VLOOKUP(RIGHT(AI5,2),Feuil1!A:C,2,FALSE)-1,VLOOKUP(RIGHT(AI5,2),Feuil1!A:C,3,FALSE))=A5 & CHAR(10) & C5,1,IF(OFFSET('Fiche score'!$A$2,VLOOKUP(RIGHT(AI5,2),Feuil1!A:C,2,FALSE)-2,VLOOKUP(RIGHT(AI5,2),Feuil1!A:C,3,FALSE))=A5 & CHAR(10) & C5,1,\"0\")))))","v":""},{"$f":"IF(ISERROR(VLOOKUP(A5 & CHAR(10) &C5,'Fiche tirage dirigé'!I:I,1,FALSE)),0,1)","v":0},{"$f":"IF(ISERROR(VLOOKUP(A5& CHAR(10) &C5,Cadrage!H:H,1,FALSE)),0,1)","v":0},{"$f":"IF(ISERROR(VLOOKUP(A5 & CHAR(10) &C5,'Tableau final'!V:V,1,FALSE)),0,1)","v":0},{"$f":"IF(ISERROR(VLOOKUP(A5 & CHAR(10) &C5,'Tableau final'!W:W,1,FALSE)),0,1)","v":0},{"$f":"IF(ISERROR(VLOOKUP(A5 & CHAR(10) &C5,'Tableau final'!X:X,1,FALSE)),0,1)","v":0},{"$f":"IF(ISERROR(VLOOKUP(A5 & CHAR(10) &C5,'Tableau final'!Y:Y,1,FALSE)),0,1)","v":0},{"$f":"IF(ISERROR(VLOOKUP(A5 & CHAR(10) &C5,'Tableau final'!Z:Z,1,FALSE)),0,1)","v":0},{"$f":"IF('Tableau final'!$A$1<>\"\",IF('Tableau final'!$B$5=\"Qualifiés\",IF(ISERROR(VLOOKUP(A5 & CHAR(10) &C5,'Tableau final'!C:F,1,FALSE)),\"\",IF(AND(VLOOKUP(A5 & CHAR(10) &C5,'Tableau final'!C:F,3,FALSE)<>\"\",VLOOKUP(A5 & CHAR(10) &C5,'Tableau final'!C:F,4,FALSE)=\"x\"),1,\"\")),IF('Tableau final'!$G$5=\"Qualifiés\",IF(ISERROR(VLOOKUP(A5 & CHAR(10) &C5,'Tableau final'!H:K,1,FALSE)),\"\",IF(AND(VLOOKUP(A5 & CHAR(10) &C5,'Tableau final'!H:K,3,FALSE)<>\"\",VLOOKUP(A5 & CHAR(10) &C5,'Tableau final'!H:K,4,FALSE)=\"x\"),1,\"\")),IF('Tableau final'!$L$5=\"Qualifiés\",IF(ISERROR(VLOOKUP(A5 & CHAR(10) &C5,'Tableau final'!M:P,1,FALSE)),\"\",IF(AND(VLOOKUP(A5 & CHAR(10) &C5,'Tableau final'!M:P,3,FALSE)<>\"\",VLOOKUP(A5 & CHAR(10) &C5,'Tableau final'!M:P,4,FALSE)=\"x\"),1,\"\")),\"\"))),\"\")","v":""},"0",{"$f":"IF(ISERROR(VLOOKUP(AI5,Tirage!A:J,1,FALSE)),\"\",IF(VLOOKUP(AI5,Tirage!A:J,1,FALSE)=\"Office \",3,4))","v":""},{"$f":"IF(AJ5=\"0\",4,IF(AJ5=1,3,IF(AJ5=2,IF(OFFSET('Fiche score'!$A$2,VLOOKUP(RIGHT(AI5,2),Feuil1!A:C,2,FALSE),VLOOKUP(RIGHT(AI5,2),Feuil1!A:C,3,FALSE))=A5 & CHAR(10) & C5,1,2),\"\")))","v":""}]
[null,null,null,null,{"$f":"IF(ISERROR(VLOOKUP(C6,AS!$A:$H,7,FALSE)),\"\",VLOOKUP(C6,AS!$A:$H,7,FALSE))","v":""},{"$f":"IF(ISERROR(VLOOKUP(C6,AS!$A:$H,8,FALSE)),\"\",VLOOKUP(C6,AS!$A:$H,8,FALSE))","v":""},null,null,null,null,{"$f":"IF(ISERROR(VLOOKUP(I6,AS!$A:$H,7,FALSE)),\"\",VLOOKUP(I6,AS!$A:$H,7,FALSE))","v":""},{"$f":"IF(ISERROR(VLOOKUP(I6,AS!$A:$H,8,FALSE)),\"\",VLOOKUP(I6,AS!$A:$H,8,FALSE))","v":""},null,null,null,null,{"$f":"IF(ISERROR(VLOOKUP(O6,AS!$A:$H,7,FALSE)),\"\",VLOOKUP(O6,AS!$A:$H,7,FALSE))","v":""},{"$f":"IF(ISERROR(VLOOKUP(O6,AS!$A:$H,8,FALSE)),\"\",VLOOKUP(O6,AS!$A:$H,8,FALSE))","v":""},null,null,null,null,{"$f":"IF(ISERROR(VLOOKUP(U6,AS!$A:$H,7,FALSE)),\"\",VLOOKUP(U6,AS!$A:$H,7,FALSE))","v":""},{"$f":"IF(ISERROR(VLOOKUP(U6,AS!$A:$H,8,FALSE)),\"\",VLOOKUP(U6,AS!$A:$H,8,FALSE))","v":""},null,null,null,null,{"$f":"IF(ISERROR(VLOOKUP(AA6,AS!$A:$H,7,FALSE)),\"\",VLOOKUP(AA6,AS!$A:$H,7,FALSE))","v":""},{"$f":"IF(ISERROR(VLOOKUP(AA6,AS!$A:$H,8,FALSE)),\"\",VLOOKUP(AA6,AS!$A:$H,8,FALSE))","v":""},null,null,null,"",null,{"$f":"IF(AI6=\"\",\"\",IF(OFFSET('Fiche score'!$A$2,VLOOKUP(RIGHT(AI6,2),Feuil1!A:C,2,FALSE),VLOOKUP(RIGHT(AI6,2),Feuil1!A:C,3,FALSE))=A6 & CHAR(10) & C6,2,IF(OFFSET('Fiche score'!$A$2,VLOOKUP(RIGHT(AI6,2),Feuil1!A:C,2,FALSE)+1,VLOOKUP(RIGHT(AI6,2),Feuil1!A:C,3,FALSE))=A6 & CHAR(10) & C6,2,IF(OFFSET('Fiche score'!$A$2,VLOOKUP(RIGHT(AI6,2),Feuil1!A:C,2,FALSE)-1,VLOOKUP(RIGHT(AI6,2),Feuil1!A:C,3,FALSE))=A6 & CHAR(10) & C6,1,IF(OFFSET('Fiche score'!$A$2,VLOOKUP(RIGHT(AI6,2),Feuil1!A:C,2,FALSE)-2,VLOOKUP(RIGHT(AI6,2),Feuil1!A:C,3,FALSE))=A6 & CHAR(10) & C6,1,\"0\")))))","v":""},{"$f":"IF(ISERROR(VLOOKUP(A6 & CHAR(10) &C6,'Fiche tirage dirigé'!I:I,1,FALSE)),0,1)","v":0},{"$f":"IF(ISERROR(VLOOKUP(A6& CHAR(10) &C6,Cadrage!H:H,1,FALSE)),0,1)","v":0},{"$f":"IF(ISERROR(VLOOKUP(A6 & CHAR(10) &C6,'Tableau final'!V:V,1,FALSE)),0,1)","v":0},{"$f":"IF(ISERROR(VLOOKUP(A6 & CHAR(10) &C6,'Tableau final'!W:W,1,FALSE)),0,1)","v":0},{"$f":"IF(ISERROR(VLOOKUP(A6 & CHAR(10) &C6,'Tableau final'!X:X,1,FALSE)),0,1)","v":0},{"$f":"IF(ISERROR(VLOOKUP(A6 & CHAR(10) &C6,'Tableau final'!Y:Y,1,FALSE)),0,1)","v":0},{"$f":"IF(ISERROR(VLOOKUP(A6 & CHAR(10) &C6,'Tableau final'!Z:Z,1,FALSE)),0,1)","v":0},{"$f":"IF('Tableau final'!$A$1<>\"\",IF('Tableau final'!$B$5=\"Qualifiés\",IF(ISERROR(VLOOKUP(A6 & CHAR(10) &C6,'Tableau final'!C:F,1,FALSE)),\"\",IF(AND(VLOOKUP(A6 & CHAR(10) &C6,'Tableau final'!C:F,3,FALSE)<>\"\",VLOOKUP(A6 & CHAR(10) &C6,'Tableau final'!C:F,4,FALSE)=\"x\"),1,\"\")),IF('Tableau final'!$G$5=\"Qualifiés\",IF(ISERROR(VLOOKUP(A6 & CHAR(10) &C6,'Tableau final'!H:K,1,FALSE)),\"\",IF(AND(VLOOKUP(A6 & CHAR(10) &C6,'Tableau final'!H:K,3,FALSE)<>\"\",VLOOKUP(A6 & CHAR(10) &C6,'Tableau final'!H:K,4,FALSE)=\"x\"),1,\"\")),IF('Tableau final'!$L$5=\"Qualifiés\",IF(ISERROR(VLOOKUP(A6 & CHAR(10) &C6,'Tableau final'!M:P,1,FALSE)),\"\",IF(AND(VLOOKUP(A6 & CHAR(10) &C6,'Tableau final'!M:P,3,FALSE)<>\"\",VLOOKUP(A6 & CHAR(10) &C6,'Tableau final'!M:P,4,FALSE)=\"x\"),1,\"\")),\"\"))),\"\")","v":""},"0",{"$f":"IF(ISERROR(VLOOKUP(AI6,Tirage!A:J,1,FALSE)),\"\",IF(VLOOKUP(AI6,Tirage!A:J,1,FALSE)=\"Office \",3,4))","v":""},{"$f":"IF(AJ6=\"0\",4,IF(AJ6=1,3,IF(AJ6=2,IF(OFFSET('Fiche score'!$A$2,VLOOKUP(RIGHT(AI6,2),Feuil1!A:C,2,FALSE),VLOOKUP(RIGHT(AI6,2),Feuil1!A:C,3,FALSE))=A6 & CHAR(10) & C6,1,2),\"\")))","v":""}]
[null,null,null,null,{"$f":"IF(ISERROR(VLOOKUP(C7,AS!$A:$H,7,FALSE)),\"\",VLOOKUP(C7,AS!$A:$H,7,FALSE))","v":""},{"$f":"IF(ISERROR(VLOOKUP(C7,AS!$A:$H,8,FALSE)),\"\",VLOOKUP(C7,AS!$A:$H,8,FALSE))","v":""},null,null,null,null,{"$f":"IF(ISERROR(VLOOKUP(I7,AS!$A:$H,7,FALSE)),\"\",VLOOKUP(I7,AS!$A:$H,7,FALSE))","v":""},{"$f":"IF(ISERROR(VLOOKUP(I7,AS!$A:$H,8,FALSE)),\"\",VLOOKUP(I7,AS!$A:$H,8,FALSE))","v":""},null,null,null,null,{"$f":"IF(ISERROR(VLOOKUP(O7,AS!$A:$H,7,FALSE)),\"\",VLOOKUP(O7,AS!$A:$H,7,FALSE))","v":""},{"$f":"IF(ISERROR(VLOOKUP(O7,AS!$A:$H,8,FALSE)),\"\",VLOOKUP(O7,AS!$A:$H,8,FALSE))","v":""},null,null,null,null,{"$f":"IF(ISERROR(VLOOKUP(U7,AS!$A:$H,7,FALSE)),\"\",VLOOKUP(U7,AS!$A:$H,7,FALSE))","v":""},{"$f":"IF(ISERROR(VLOOKUP(U7,AS!$A:$H,8,FALSE)),\"\",VLOOKUP(U7,AS!$A:$H,8,FALSE))","v":""},null,null,null,null,{"$f":"IF(ISERROR(VLOOKUP(AA7,AS!$A:$H,7,FALSE)),\"\",VLOOKUP(AA7,AS!$A:$H,7,FALSE))","v":""},{"$f":"IF(ISERROR(VLOOKUP(AA7,AS!$A:$H,8,FALSE)),\"\",VLOOKUP(AA7,AS!$A:$H,8,FALSE))","v":""},null,{"$f":"'Fiche paramétrage concours'!B15","v":0},null,"",null,{"$f":"IF(AI7=\"\",\"\",IF(OFFSET('Fiche score'!$A$2,VLOOKUP(RIGHT(AI7,2),Feuil1!A:C,2,FALSE),VLOOKUP(RIGHT(AI7,2),Feuil1!A:C,3,FALSE))=A7 & CHAR(10) & C7,2,IF(OFFSET('Fiche score'!$A$2,VLOOKUP(RIGHT(AI7,2),Feuil1!A:C,2,FALSE)+1,VLOOKUP(RIGHT(AI7,2),Feuil1!A:C,3,FALSE))=A7 & CHAR(10) & C7,2,IF(OFFSET('Fiche score'!$A$2,VLOOKUP(RIGHT(AI7,2),Feuil1!A:C,2,FALSE)-1,VLOOKUP(RIGHT(AI7,2),Feuil1!A:C,3,FALSE))=A7 & CHAR(10) & C7,1,IF(OFFSET('Fiche score'!$A$2,VLOOKUP(RIGHT(AI7,2),Feuil1!A:C,2,FALSE)-2,VLOOKUP(RIGHT(AI7,2),Feuil1!A:C,3,FALSE))=A7 & CHAR(10) & C7,1,\"0\")))))","v":""},{"$f":"IF(ISERROR(VLOOKUP(A7 & CHAR(10) &C7,'Fiche tirage dirigé'!I:I,1,FALSE)),0,1)","v":0},{"$f":"IF(ISERROR(VLOOKUP(A7& CHAR(10) &C7,Cadrage!H:H,1,FALSE)),0,1)","v":0},{"$f":"IF(ISERROR(VLOOKUP(A7 & CHAR(10) &C7,'Tableau final'!V:V,1,FALSE)),0,1)","v":0},{"$f":"IF(ISERROR(VLOOKUP(A7 & CHAR(10) &C7,'Tableau final'!W:W,1,FALSE)),0,1)","v":0},{"$f":"IF(ISERROR(VLOOKUP(A7 & CHAR(10) &C7,'Tableau final'!X:X,1,FALSE)),0,1)","v":0},{"$f":"IF(ISERROR(VLOOKUP(A7 & CHAR(10) &C7,'Tableau final'!Y:Y,1,FALSE)),0,1)","v":0},{"$f":"IF(ISERROR(VLOOKUP(A7 & CHAR(10) &C7,'Tableau final'!Z:Z,1,FALSE)),0,1)","v":0},{"$f":"IF('Tableau final'!$A$1<>\"\",IF('Tableau final'!$B$5=\"Qualifiés\",IF(ISERROR(VLOOKUP(A7 & CHAR(10) &C7,'Tableau final'!C:F,1,FALSE)),\"\",IF(AND(VLOOKUP(A7 & CHAR(10) &C7,'Tableau final'!C:F,3,FALSE)<>\"\",VLOOKUP(A7 & CHAR(10) &C7,'Tableau final'!C:F,4,FALSE)=\"x\"),1,\"\")),IF('Tableau final'!$G$5=\"Qualifiés\",IF(ISERROR(VLOOKUP(A7 & CHAR(10) &C7,'Tableau final'!H:K,1,FALSE)),\"\",IF(AND(VLOOKUP(A7 & CHAR(10) &C7,'Tableau final'!H:K,3,FALSE)<>\"\",VLOOKUP(A7 & CHAR(10) &C7,'Tableau final'!H:K,4,FALSE)=\"x\"),1,\"\")),IF('Tableau final'!$L$5=\"Qualifiés\",IF(ISERROR(VLOOKUP(A7 & CHAR(10) &C7,'Tableau final'!M:P,1,FALSE)),\"\",IF(AND(VLOOKUP(A7 & CHAR(10) &C7,'Tableau final'!M:P,3,FALSE)<>\"\",VLOOKUP(A7 & CHAR(10) &C7,'Tableau final'!M:P,4,FALSE)=\"x\"),1,\"\")),\"\"))),\"\")","v":""},"0",{"$f":"IF(ISERROR(VLOOKUP(AI7,Tirage!A:J,1,FALSE)),\"\",IF(VLOOKUP(AI7,Tirage!A:J,1,FALSE)=\"Office \",3,4))","v":""},{"$f":"IF(AJ7=\"0\",4,IF(AJ7=1,3,IF(AJ7=2,IF(OFFSET('Fiche score'!$A$2,VLOOKUP(RIGHT(AI7,2),Feuil1!A:C,2,FALSE),VLOOKUP(RIGHT(AI7,2),Feuil1!A:C,3,FALSE))=A7 & CHAR(10) & C7,1,2),\"\")))","v":""}]
[null,null,null,null,{"$f":"IF(ISERROR(VLOOKUP(C8,AS!$A:$H,7,FALSE)),\"\",VLOOKUP(C8,AS!$A:$H,7,FALSE))","v":""},{"$f":"IF(ISERROR(VLOOKUP(C8,AS!$A:$H,8,FALSE)),\"\",VLOOKUP(C8,AS!$A:$H,8,FALSE))","v":""},null,null,null,null,{"$f":"IF(ISERROR(VLOOKUP(I8,AS!$A:$H,7,FALSE)),\"\",VLOOKUP(I8,AS!$A:$H,7,FALSE))","v":""},{"$f":"IF(ISERROR(VLOOKUP(I8,AS!$A:$H,8,FALSE)),\"\",VLOOKUP(I8,AS!$A:$H,8,FALSE))","v":""},null,null,null,null,{"$f":"IF(ISERROR(VLOOKUP(O8,AS!$A:$H,7,FALSE)),\"\",VLOOKUP(O8,AS!$A:$H,7,FALSE))","v":""},{"$f":"IF(ISERROR(VLOOKUP(O8,AS!$A:$H,8,FALSE)),\"\",VLOOKUP(O8,AS!$A:$H,8,FALSE))","v":""},null,null,null,null,{"$f":"IF(ISERROR(VLOOKUP(U8,AS!$A:$H,7,FALSE)),\"\",VLOOKUP(U8,AS!$A:$H,7,FALSE))","v":""},{"$f":"IF(ISERROR(VLOOKUP(U8,AS!$A:$H,8,FALSE)),\"\",VLOOKUP(U8,AS!$A:$H,8,FALSE))","v":""},null,null,null,null,{"$f":"IF(ISERROR(VLOOKUP(AA8,AS!$A:$H,7,FALSE)),\"\",VLOOKUP(AA8,AS!$A:$H,7,FALSE))","v":""},{"$f":"IF(ISERROR(VLOOKUP(AA8,AS!$A:$H,8,FALSE)),\"\",VLOOKUP(AA8,AS!$A:$H,8,FALSE))","v":""},null,null,null,"",null,{"$f":"IF(AI8=\"\",\"\",IF(OFFSET('Fiche score'!$A$2,VLOOKUP(RIGHT(AI8,2),Feuil1!A:C,2,FALSE),VLOOKUP(RIGHT(AI8,2),Feuil1!A:C,3,FALSE))=A8 & CHAR(10) & C8,2,IF(OFFSET('Fiche score'!$A$2,VLOOKUP(RIGHT(AI8,2),Feuil1!A:C,2,FALSE)+1,VLOOKUP(RIGHT(AI8,2),Feuil1!A:C,3,FALSE))=A8 & CHAR(10) & C8,2,IF(OFFSET('Fiche score'!$A$2,VLOOKUP(RIGHT(AI8,2),Feuil1!A:C,2,FALSE)-1,VLOOKUP(RIGHT(AI8,2),Feuil1!A:C,3,FALSE))=A8 & CHAR(10) & C8,1,IF(OFFSET('Fiche score'!$A$2,VLOOKUP(RIGHT(AI8,2),Feuil1!A:C,2,FALSE)-2,VLOOKUP(RIGHT(AI8,2),Feuil1!A:C,3,FALSE))=A8 & CHAR(10) & C8,1,\"0\")))))","v":""},{"$f":"IF(ISERROR(VLOOKUP(A8 & CHAR(10) &C8,'Fiche tirage dirigé'!I:I,1,FALSE)),0,1)","v":0},{"$f":"IF(ISERROR(VLOOKUP(A8& CHAR(10) &C8,Cadrage!H:H,1,FALSE)),0,1)","v":0},{"$f":"IF(ISERROR(VLOOKUP(A8 & CHAR(10) &C8,'Tableau final'!V:V,1,FALSE)),0,1)","v":0},{"$f":"IF(ISERROR(VLOOKUP(A8 & CHAR(10) &C8,'Tableau final'!W:W,1,FALSE)),0,1)","v":0},{"$f":"IF(ISERROR(VLOOKUP(A8 & CHAR(10) &C8,'Tableau final'!X:X,1,FALSE)),0,1)","v":0},{"$f":"IF(ISERROR(VLOOKUP(A8 & CHAR(10) &C8,'Tableau final'!Y:Y,1,FALSE)),0,1)","v":0},{"$f":"IF(ISERROR(VLOOKUP(A8 & CHAR(10) &C8,'Tableau final'!Z:Z,1,FALSE)),0,1)","v":0},{"$f":"IF('Tableau final'!$A$1<>\"\",IF('Tableau final'!$B$5=\"Qualifiés\",IF(ISERROR(VLOOKUP(A8 & CHAR(10) &C8,'Tableau final'!C:F,1,FALSE)),\"\",IF(AND(VLOOKUP(A8 & CHAR(10) &C8,'Tableau final'!C:F,3,FALSE)<>\"\",VLOOKUP(A8 & CHAR(10) &C8,'Tableau final'!C:F,4,FALSE)=\"x\"),1,\"\")),IF('Tableau final'!$G$5=\"Qualifiés\",IF(ISERROR(VLOOKUP(A8 & CHAR(10) &C8,'Tableau final'!H:K,1,FALSE)),\"\",IF(AND(VLOOKUP(A8 & CHAR(10) &C8,'Tableau final'!H:K,3,FALSE)<>\"\",VLOOKUP(A8 & CHAR(10) &C8,'Tableau final'!H:K,4,FALSE)=\"x\"),1,\"\")),IF('Tableau final'!$L$5=\"Qualifiés\",IF(ISERROR(VLOOKUP(A8 & CHAR(10) &C8,'Tableau final'!M:P,1,FALSE)),\"\",IF(AND(VLOOKUP(A8 & CHAR(10) &C8,'Tableau final'!M:P,3,FALSE)<>\"\",VLOOKUP(A8 & CHAR(10) &C8,'Tableau final'!M:P,4,FALSE)=\"x\"),1,\"\")),\"\"))),\"\")","v":""},"0",{"$f":"IF(ISERROR(VLOOKUP(AI8,Tirage!A:J,1,FALSE)),\"\",IF(VLOOKUP(AI8,Tirage!A:J,1,FALSE)=\"Office \",3,4))","v":""},{"$f":"IF(AJ8=\"0\",4,IF(AJ8=1,3,IF(AJ8=2,IF(OFFSET('Fiche score'!$A$2,VLOOKUP(RIGHT(AI8,2),Feuil1!A:C,2,FALSE),VLOOKUP(RIGHT(AI8,2),Feuil1!A:C,3,FALSE))=A8 & CHAR(10) & C8,1,2),\"\")))","v":""}]
[null,null,null,null,{"$f":"IF(ISERROR(VLOOKUP(C9,AS!$A:$H,7,FALSE)),\"\",VLOOKUP(C9,AS!$A:$H,7,FALSE))","v":""},{"$f":"IF(ISERROR(VLOOKUP(C9,AS!$A:$H,8,FALSE)),\"\",VLOOKUP(C9,AS!$A:$H,8,FALSE))","v":""},null,null,null,null,{"$f":"IF(ISERROR(VLOOKUP(I9,AS!$A:$H,7,FALSE)),\"\",VLOOKUP(I9,AS!$A:$H,7,FALSE))","v":""},{"$f":"IF(ISERROR(VLOOKUP(I9,AS!$A:$H,8,FALSE)),\"\",VLOOKUP(I9,AS!$A:$H,8,FALSE))","v":""},null,null,null,null,{"$f":"IF(ISERROR(VLOOKUP(O9,AS!$A:$H,7,FALSE)),\"\",VLOOKUP(O9,AS!$A:$H,7,FALSE))","v":""},{"$f":"IF(ISERROR(VLOOKUP(O9,AS!$A:$H,8,FALSE)),\"\",VLOOKUP(O9,AS!$A:$H,8,FALSE))","v":""},null,null,null,null,{"$f":"IF(ISERROR(VLOOKUP(U9,AS!$A:$H,7,FALSE)),\"\",VLOOKUP(U9,AS!$A:$H,7,FALSE))","v":""},{"$f":"IF(ISERROR(VLOOKUP(U9,AS!$A:$H,8,FALSE)),\"\",VLOOKUP(U9,AS!$A:$H,8,FALSE))","v":""},null,null,null,null,{"$f":"IF(ISERROR(VLOOKUP(AA9,AS!$A:$H,7,FALSE)),\"\",VLOOKUP(AA9,AS!$A:$H,7,FALSE))","v":""},{"$f":"IF(ISERROR(VLOOKUP(AA9,AS!$A:$H,8,FALSE)),\"\",VLOOKUP(AA9,AS!$A:$H,8,FALSE))","v":""},null,"nombre de qualifiés",null,"",null,{"$f":"IF(AI9=\"\",\"\",IF(OFFSET('Fiche score'!$A$2,VLOOKUP(RIGHT(AI9,2),Feuil1!A:C,2,FALSE),VLOOKUP(RIGHT(AI9,2),Feuil1!A:C,3,FALSE))=A9 & CHAR(10) & C9,2,IF(OFFSET('Fiche score'!$A$2,VLOOKUP(RIGHT(AI9,2),Feuil1!A:C,2,FALSE)+1,VLOOKUP(RIGHT(AI9,2),Feuil1!A:C,3,FALSE))=A9 & CHAR(10) & C9,2,IF(OFFSET('Fiche score'!$A$2,VLOOKUP(RIGHT(AI9,2),Feuil1!A:C,2,FALSE)-1,VLOOKUP(RIGHT(AI9,2),Feuil1!A:C,3,FALSE))=A9 & CHAR(10) & C9,1,IF(OFFSET('Fiche score'!$A$2,VLOOKUP(RIGHT(AI9,2),Feuil1!A:C,2,FALSE)-2,VLOOKUP(RIGHT(AI9,2),Feuil1!A:C,3,FALSE))=A9 & CHAR(10) & C9,1,\"0\")))))","v":""},{"$f":"IF(ISERROR(VLOOKUP(A9 & CHAR(10) &C9,'Fiche tirage dirigé'!I:I,1,FALSE)),0,1)","v":0},{"$f":"IF(ISERROR(VLOOKUP(A9& CHAR(10) &C9,Cadrage!H:H,1,FALSE)),0,1)","v":0},{"$f":"IF(ISERROR(VLOOKUP(A9 & CHAR(10) &C9,'Tableau final'!V:V,1,FALSE)),0,1)","v":0},{"$f":"IF(ISERROR(VLOOKUP(A9 & CHAR(10) &C9,'Tableau final'!W:W,1,FALSE)),0,1)","v":0},{"$f":"IF(ISERROR(VLOOKUP(A9 & CHAR(10) &C9,'Tableau final'!X:X,1,FALSE)),0,1)","v":0},{"$f":"IF(ISERROR(VLOOKUP(A9 & CHAR(10) &C9,'Tableau final'!Y:Y,1,FALSE)),0,1)","v":0},{"$f":"IF(ISERROR(VLOOKUP(A9 & CHAR(10) &C9,'Tableau final'!Z:Z,1,FALSE)),0,1)","v":0},{"$f":"IF('Tableau final'!$A$1<>\"\",IF('Tableau final'!$B$5=\"Qualifiés\",IF(ISERROR(VLOOKUP(A9 & CHAR(10) &C9,'Tableau final'!C:F,1,FALSE)),\"\",IF(AND(VLOOKUP(A9 & CHAR(10) &C9,'Tableau final'!C:F,3,FALSE)<>\"\",VLOOKUP(A9 & CHAR(10) &C9,'Tableau final'!C:F,4,FALSE)=\"x\"),1,\"\")),IF('Tableau final'!$G$5=\"Qualifiés\",IF(ISERROR(VLOOKUP(A9 & CHAR(10) &C9,'Tableau final'!H:K,1,FALSE)),\"\",IF(AND(VLOOKUP(A9 & CHAR(10) &C9,'Tableau final'!H:K,3,FALSE)<>\"\",VLOOKUP(A9 & CHAR(10) &C9,'Tableau final'!H:K,4,FALSE)=\"x\"),1,\"\")),IF('Tableau final'!$L$5=\"Qualifiés\",IF(ISERROR(VLOOKUP(A9 & CHAR(10) &C9,'Tableau final'!M:P,1,FALSE)),\"\",IF(AND(VLOOKUP(A9 & CHAR(10) &C9,'Tableau final'!M:P,3,FALSE)<>\"\",VLOOKUP(A9 & CHAR(10) &C9,'Tableau final'!M:P,4,FALSE)=\"x\"),1,\"\")),\"\"))),\"\")","v":""},"0",{"$f":"IF(ISERROR(VLOOKUP(AI9,Tirage!A:J,1,FALSE)),\"\",IF(VLOOKUP(AI9,Tirage!A:J,1,FALSE)=\"Office \",3,4))","v":""},{"$f":"IF(AJ9=\"0\",4,IF(AJ9=1,3,IF(AJ9=2,IF(OFFSET('Fiche score'!$A$2,VLOOKUP(RIGHT(AI9,2),Feuil1!A:C,2,FALSE),VLOOKUP(RIGHT(AI9,2),Feuil1!A:C,3,FALSE))=A9 & CHAR(10) & C9,1,2),\"\")))","v":""}]
[null,null,null,null,{"$f":"IF(ISERROR(VLOOKUP(C10,AS!$A:$H,7,FALSE)),\"\",VLOOKUP(C10,AS!$A:$H,7,FALSE))","v":""},{"$f":"IF(ISERROR(VLOOKUP(C10,AS!$A:$H,8,FALSE)),\"\",VLOOKUP(C10,AS!$A:$H,8,FALSE))","v":""},null,null,null,null,{"$f":"IF(ISERROR(VLOOKUP(I10,AS!$A:$H,7,FALSE)),\"\",VLOOKUP(I10,AS!$A:$H,7,FALSE))","v":""},{"$f":"IF(ISERROR(VLOOKUP(I10,AS!$A:$H,8,FALSE)),\"\",VLOOKUP(I10,AS!$A:$H,8,FALSE))","v":""},null,null,null,null,{"$f":"IF(ISERROR(VLOOKUP(O10,AS!$A:$H,7,FALSE)),\"\",VLOOKUP(O10,AS!$A:$H,7,FALSE))","v":""},{"$f":"IF(ISERROR(VLOOKUP(O10,AS!$A:$H,8,FALSE)),\"\",VLOOKUP(O10,AS!$A:$H,8,FALSE))","v":""},null,null,null,null,{"$f":"IF(ISERROR(VLOOKUP(U10,AS!$A:$H,7,FALSE)),\"\",VLOOKUP(U10,AS!$A:$H,7,FALSE))","v":""},{"$f":"IF(ISERROR(VLOOKUP(U10,AS!$A:$H,8,FALSE)),\"\",VLOOKUP(U10,AS!$A:$H,8,FALSE))","v":""},null,null,null,null,{"$f":"IF(ISERROR(VLOOKUP(AA10,AS!$A:$H,7,FALSE)),\"\",VLOOKUP(AA10,AS!$A:$H,7,FALSE))","v":""},{"$f":"IF(ISERROR(VLOOKUP(AA10,AS!$A:$H,8,FALSE)),\"\",VLOOKUP(AA10,AS!$A:$H,8,FALSE))","v":""},null,null,null,"",null,{"$f":"IF(AI10=\"\",\"\",IF(OFFSET('Fiche score'!$A$2,VLOOKUP(RIGHT(AI10,2),Feuil1!A:C,2,FALSE),VLOOKUP(RIGHT(AI10,2),Feuil1!A:C,3,FALSE))=A10 & CHAR(10) & C10,2,IF(OFFSET('Fiche score'!$A$2,VLOOKUP(RIGHT(AI10,2),Feuil1!A:C,2,FALSE)+1,VLOOKUP(RIGHT(AI10,2),Feuil1!A:C,3,FALSE))=A10 & CHAR(10) & C10,2,IF(OFFSET('Fiche score'!$A$2,VLOOKUP(RIGHT(AI10,2),Feuil1!A:C,2,FALSE)-1,VLOOKUP(RIGHT(AI10,2),Feuil1!A:C,3,FALSE))=A10 & CHAR(10) & C10,1,IF(OFFSET('Fiche score'!$A$2,VLOOKUP(RIGHT(AI10,2),Feuil1!A:C,2,FALSE)-2,VLOOKUP(RIGHT(AI10,2),Feuil1!A:C,3,FALSE))=A10 & CHAR(10) & C10,1,\"0\")))))","v":""},{"$f":"IF(ISERROR(VLOOKUP(A10 & CHAR(10) &C10,'Fiche tirage dirigé'!I:I,1,FALSE)),0,1)","v":0},{"$f":"IF(ISERROR(VLOOKUP(A10& CHAR(10) &C10,Cadrage!H:H,1,FALSE)),0,1)","v":0},{"$f":"IF(ISERROR(VLOOKUP(A10 & CHAR(10) &C10,'Tableau final'!V:V,1,FALSE)),0,1)","v":0},{"$f":"IF(ISERROR(VLOOKUP(A10 & CHAR(10) &C10,'Tableau final'!W:W,1,FALSE)),0,1)","v":0},{"$f":"IF(ISERROR(VLOOKUP(A10 & CHAR(10) &C10,'Tableau final'!X:X,1,FALSE)),0,1)","v":0},{"$f":"IF(ISERROR(VLOOKUP(A10 & CHAR(10) &C10,'Tableau final'!Y:Y,1,FALSE)),0,1)","v":0},{"$f":"IF(ISERROR(VLOOKUP(A10 & CHAR(10) &C10,'Tableau final'!Z:Z,1,FALSE)),0,1)","v":0},{"$f":"IF('Tableau final'!$A$1<>\"\",IF('Tableau final'!$B$5=\"Qualifiés\",IF(ISERROR(VLOOKUP(A10 & CHAR(10) &C10,'Tableau final'!C:F,1,FALSE)),\"\",IF(AND(VLOOKUP(A10 & CHAR(10) &C10,'Tableau final'!C:F,3,FALSE)<>\"\",VLOOKUP(A10 & CHAR(10) &C10,'Tableau final'!C:F,4,FALSE)=\"x\"),1,\"\")),IF('Tableau final'!$G$5=\"Qualifiés\",IF(ISERROR(VLOOKUP(A10 & CHAR(10) &C10,'Tableau final'!H:K,1,FALSE)),\"\",IF(AND(VLOOKUP(A10 & CHAR(10) &C10,'Tableau final'!H:K,3,FALSE)<>\"\",VLOOKUP(A10 & CHAR(10) &C10,'Tableau final'!H:K,4,FALSE)=\"x\"),1,\"\")),IF('Tableau final'!$L$5=\"Qualifiés\",IF(ISERROR(VLOOKUP(A10 & CHAR(10) &C10,'Tableau final'!M:P,1,FALSE)),\"\",IF(AND(VLOOKUP(A10 & CHAR(10) &C10,'Tableau final'!M:P,3,FALSE)<>\"\",VLOOKUP(A10 & CHAR(10) &C10,'Tableau final'!M:P,4,FALSE)=\"x\"),1,\"\")),\"\"))),\"\")","v":""},"0",{"$f":"IF(ISERROR(VLOOKUP(AI10,Tirage!A:J,1,FALSE)),\"\",IF(VLOOKUP(AI10,Tirage!A:J,1,FALSE)=\"Office \",3,4))","v":""},{"$f":"IF(AJ10=\"0\",4,IF(AJ10=1,3,IF(AJ10=2,IF(OFFSET('Fiche score'!$A$2,VLOOKUP(RIGHT(AI10,2),Feuil1!A:C,2,FALSE),VLOOKUP(RIGHT(AI10,2),Feuil1!A:C,3,FALSE))=A10 & CHAR(10) & C10,1,2),\"\")))","v":""}]
[null,null,null,null,{"$f":"IF(ISERROR(VLOOKUP(C11,AS!$A:$H,7,FALSE)),\"\",VLOOKUP(C11,AS!$A:$H,7,FALSE))","v":""},{"$f":"IF(ISERROR(VLOOKUP(C11,AS!$A:$H,8,FALSE)),\"\",VLOOKUP(C11,AS!$A:$H,8,FALSE))","v":""},null,null,null,null,{"$f":"IF(ISERROR(VLOOKUP(I11,AS!$A:$H,7,FALSE)),\"\",VLOOKUP(I11,AS!$A:$H,7,FALSE))","v":""},{"$f":"IF(ISERROR(VLOOKUP(I11,AS!$A:$H,8,FALSE)),\"\",VLOOKUP(I11,AS!$A:$H,8,FALSE))","v":""},null,null,null,null,{"$f":"IF(ISERROR(VLOOKUP(O11,AS!$A:$H,7,FALSE)),\"\",VLOOKUP(O11,AS!$A:$H,7,FALSE))","v":""},{"$f":"IF(ISERROR(VLOOKUP(O11,AS!$A:$H,8,FALSE)),\"\",VLOOKUP(O11,AS!$A:$H,8,FALSE))","v":""},null,null,null,null,{"$f":"IF(ISERROR(VLOOKUP(U11,AS!$A:$H,7,FALSE)),\"\",VLOOKUP(U11,AS!$A:$H,7,FALSE))","v":""},{"$f":"IF(ISERROR(VLOOKUP(U11,AS!$A:$H,8,FALSE)),\"\",VLOOKUP(U11,AS!$A:$H,8,FALSE))","v":""},null,null,null,null,{"$f":"IF(ISERROR(VLOOKUP(AA11,AS!$A:$H,7,FALSE)),\"\",VLOOKUP(AA11,AS!$A:$H,7,FALSE))","v":""},{"$f":"IF(ISERROR(VLOOKUP(AA11,AS!$A:$H,8,FALSE)),\"\",VLOOKUP(AA11,AS!$A:$H,8,FALSE))","v":""},null,{"$f":"'Fiche paramétrage concours'!B13","v":0},null,"",null,{"$f":"IF(AI11=\"\",\"\",IF(OFFSET('Fiche score'!$A$2,VLOOKUP(RIGHT(AI11,2),Feuil1!A:C,2,FALSE),VLOOKUP(RIGHT(AI11,2),Feuil1!A:C,3,FALSE))=A11 & CHAR(10) & C11,2,IF(OFFSET('Fiche score'!$A$2,VLOOKUP(RIGHT(AI11,2),Feuil1!A:C,2,FALSE)+1,VLOOKUP(RIGHT(AI11,2),Feuil1!A:C,3,FALSE))=A11 & CHAR(10) & C11,2,IF(OFFSET('Fiche score'!$A$2,VLOOKUP(RIGHT(AI11,2),Feuil1!A:C,2,FALSE)-1,VLOOKUP(RIGHT(AI11,2),Feuil1!A:C,3,FALSE))=A11 & CHAR(10) & C11,1,IF(OFFSET('Fiche score'!$A$2,VLOOKUP(RIGHT(AI11,2),Feuil1!A:C,2,FALSE)-2,VLOOKUP(RIGHT(AI11,2),Feuil1!A:C,3,FALSE))=A11 & CHAR(10) & C11,1,\"0\")))))","v":""},{"$f":"IF(ISERROR(VLOOKUP(A11 & CHAR(10) &C11,'Fiche tirage dirigé'!I:I,1,FALSE)),0,1)","v":0},{"$f":"IF(ISERROR(VLOOKUP(A11& CHAR(10) &C11,Cadrage!H:H,1,FALSE)),0,1)","v":0},{"$f":"IF(ISERROR(VLOOKUP(A11 & CHAR(10) &C11,'Tableau final'!V:V,1,FALSE)),0,1)","v":0},{"$f":"IF(ISERROR(VLOOKUP(A11 & CHAR(10) &C11,'Tableau final'!W:W,1,FALSE)),0,1)","v":0},{"$f":"IF(ISERROR(VLOOKUP(A11 & CHAR(10) &C11,'Tableau final'!X:X,1,FALSE)),0,1)","v":0},{"$f":"IF(ISERROR(VLOOKUP(A11 & CHAR(10) &C11,'Tableau final'!Y:Y,1,FALSE)),0,1)","v":0},{"$f":"IF(ISERROR(VLOOKUP(A11 & CHAR(10) &C11,'Tableau final'!Z:Z,1,FALSE)),0,1)","v":0},{"$f":"IF('Tableau final'!$A$1<>\"\",IF('Tableau final'!$B$5=\"Qualifiés\",IF(ISERROR(VLOOKUP(A11 & CHAR(10) &C11,'Tableau final'!C:F,1,FALSE)),\"\",IF(AND(VLOOKUP(A11 & CHAR(10) &C11,'Tableau final'!C:F,3,FALSE)<>\"\",VLOOKUP(A11 & CHAR(10) &C11,'Tableau final'!C:F,4,FALSE)=\"x\"),1,\"\")),IF('Tableau final'!$G$5=\"Qualifiés\",IF(ISERROR(VLOOKUP(A11 & CHAR(10) &C11,'Tableau final'!H:K,1,FALSE)),\"\",IF(AND(VLOOKUP(A11 & CHAR(10) &C11,'Tableau final'!H:K,3,FALSE)<>\"\",VLOOKUP(A11 & CHAR(10) &C11,'Tableau final'!H:K,4,FALSE)=\"x\"),1,\"\")),IF('Tableau final'!$L$5=\"Qualifiés\",IF(ISERROR(VLOOKUP(A11 & CHAR(10) &C11,'Tableau final'!M:P,1,FALSE)),\"\",IF(AND(VLOOKUP(A11 & CHAR(10) &C11,'Tableau final'!M:P,3,FALSE)<>\"\",VLOOKUP(A11 & CHAR(10) &C11,'Tableau final'!M:P,4,FALSE)=\"x\"),1,\"\")),\"\"))),\"\")","v":""},"0",{"$f":"IF(ISERROR(VLOOKUP(AI11,Tirage!A:J,1,FALSE)),\"\",IF(VLOOKUP(AI11,Tirage!A:J,1,FALSE)=\"Office \",3,4))","v":""},{"$f":"IF(AJ11=\"0\",4,IF(AJ11=1,3,IF(AJ11=2,IF(OFFSET('Fiche score'!$A$2,VLOOKUP(RIGHT(AI11,2),Feuil1!A:C,2,FALSE),VLOOKUP(RIGHT(AI11,2),Feuil1!A:C,3,FALSE))=A11 & CHAR(10) & C11,1,2),\"\")))","v":""}]
[null,null,null,null,{"$f":"IF(ISERROR(VLOOKUP(C12,AS!$A:$H,7,FALSE)),\"\",VLOOKUP(C12,AS!$A:$H,7,FALSE))","v":""},{"$f":"IF(ISERROR(VLOOKUP(C12,AS!$A:$H,8,FALSE)),\"\",VLOOKUP(C12,AS!$A:$H,8,FALSE))","v":""},null,null,null,null,{"$f":"IF(ISERROR(VLOOKUP(I12,AS!$A:$H,7,FALSE)),\"\",VLOOKUP(I12,AS!$A:$H,7,FALSE))","v":""},{"$f":"IF(ISERROR(VLOOKUP(I12,AS!$A:$H,8,FALSE)),\"\",VLOOKUP(I12,AS!$A:$H,8,FALSE))","v":""},null,null,null,null,{"$f":"IF(ISERROR(VLOOKUP(O12,AS!$A:$H,7,FALSE)),\"\",VLOOKUP(O12,AS!$A:$H,7,FALSE))","v":""},{"$f":"IF(ISERROR(VLOOKUP(O12,AS!$A:$H,8,FALSE)),\"\",VLOOKUP(O12,AS!$A:$H,8,FALSE))","v":""},null,null,null,null,{"$f":"IF(ISERROR(VLOOKUP(U12,AS!$A:$H,7,FALSE)),\"\",VLOOKUP(U12,AS!$A:$H,7,FALSE))","v":""},{"$f":"IF(ISERROR(VLOOKUP(U12,AS!$A:$H,8,FALSE)),\"\",VLOOKUP(U12,AS!$A:$H,8,FALSE))","v":""},null,null,null,null,{"$f":"IF(ISERROR(VLOOKUP(AA12,AS!$A:$H,7,FALSE)),\"\",VLOOKUP(AA12,AS!$A:$H,7,FALSE))","v":""},{"$f":"IF(ISERROR(VLOOKUP(AA12,AS!$A:$H,8,FALSE)),\"\",VLOOKUP(AA12,AS!$A:$H,8,FALSE))","v":""},null,null,null,"",null,{"$f":"IF(AI12=\"\",\"\",IF(OFFSET('Fiche score'!$A$2,VLOOKUP(RIGHT(AI12,2),Feuil1!A:C,2,FALSE),VLOOKUP(RIGHT(AI12,2),Feuil1!A:C,3,FALSE))=A12 & CHAR(10) & C12,2,IF(OFFSET('Fiche score'!$A$2,VLOOKUP(RIGHT(AI12,2),Feuil1!A:C,2,FALSE)+1,VLOOKUP(RIGHT(AI12,2),Feuil1!A:C,3,FALSE))=A12 & CHAR(10) & C12,2,IF(OFFSET('Fiche score'!$A$2,VLOOKUP(RIGHT(AI12,2),Feuil1!A:C,2,FALSE)-1,VLOOKUP(RIGHT(AI12,2),Feuil1!A:C,3,FALSE))=A12 & CHAR(10) & C12,1,IF(OFFSET('Fiche score'!$A$2,VLOOKUP(RIGHT(AI12,2),Feuil1!A:C,2,FALSE)-2,VLOOKUP(RIGHT(AI12,2),Feuil1!A:C,3,FALSE))=A12 & CHAR(10) & C12,1,\"0\")))))","v":""},{"$f":"IF(ISERROR(VLOOKUP(A12 & CHAR(10) &C12,'Fiche tirage dirigé'!I:I,1,FALSE)),0,1)","v":0},{"$f":"IF(ISERROR(VLOOKUP(A12& CHAR(10) &C12,Cadrage!H:H,1,FALSE)),0,1)","v":0},{"$f":"IF(ISERROR(VLOOKUP(A12 & CHAR(10) &C12,'Tableau final'!V:V,1,FALSE)),0,1)","v":0},{"$f":"IF(ISERROR(VLOOKUP(A12 & CHAR(10) &C12,'Tableau final'!W:W,1,FALSE)),0,1)","v":0},{"$f":"IF(ISERROR(VLOOKUP(A12 & CHAR(10) &C12,'Tableau final'!X:X,1,FALSE)),0,1)","v":0},{"$f":"IF(ISERROR(VLOOKUP(A12 & CHAR(10) &C12,'Tableau final'!Y:Y,1,FALSE)),0,1)","v":0},{"$f":"IF(ISERROR(VLOOKUP(A12 & CHAR(10) &C12,'Tableau final'!Z:Z,1,FALSE)),0,1)","v":0},{"$f":"IF('Tableau final'!$A$1<>\"\",IF('Tableau final'!$B$5=\"Qualifiés\",IF(ISERROR(VLOOKUP(A12 & CHAR(10) &C12,'Tableau final'!C:F,1,FALSE)),\"\",IF(AND(VLOOKUP(A12 & CHAR(10) &C12,'Tableau final'!C:F,3,FALSE)<>\"\",VLOOKUP(A12 & CHAR(10) &C12,'Tableau final'!C:F,4,FALSE)=\"x\"),1,\"\")),IF('Tableau final'!$G$5=\"Qualifiés\",IF(ISERROR(VLOOKUP(A12 & CHAR(10) &C12,'Tableau final'!H:K,1,FALSE)),\"\",IF(AND(VLOOKUP(A12 & CHAR(10) &C12,'Tableau final'!H:K,3,FALSE)<>\"\",VLOOKUP(A12 & CHAR(10) &C12,'Tableau final'!H:K,4,FALSE)=\"x\"),1,\"\")),IF('Tableau final'!$L$5=\"Qualifiés\",IF(ISERROR(VLOOKUP(A12 & CHAR(10) &C12,'Tableau final'!M:P,1,FALSE)),\"\",IF(AND(VLOOKUP(A12 & CHAR(10) &C12,'Tableau final'!M:P,3,FALSE)<>\"\",VLOOKUP(A12 & CHAR(10) &C12,'Tableau final'!M:P,4,FALSE)=\"x\"),1,\"\")),\"\"))),\"\")","v":""},"0",{"$f":"IF(ISERROR(VLOOKUP(AI12,Tirage!A:J,1,FALSE)),\"\",IF(VLOOKUP(AI12,Tirage!A:J,1,FALSE)=\"Office \",3,4))","v":""},{"$f":"IF(AJ12=\"0\",4,IF(AJ12=1,3,IF(AJ12=2,IF(OFFSET('Fiche score'!$A$2,VLOOKUP(RIGHT(AI12,2),Feuil1!A:C,2,FALSE),VLOOKUP(RIGHT(AI12,2),Feuil1!A:C,3,FALSE))=A12 & CHAR(10) & C12,1,2),\"\")))","v":""}]
[null,null,null,null,{"$f":"IF(ISERROR(VLOOKUP(C13,AS!$A:$H,7,FALSE)),\"\",VLOOKUP(C13,AS!$A:$H,7,FALSE))","v":""},{"$f":"IF(ISERROR(VLOOKUP(C13,AS!$A:$H,8,FALSE)),\"\",VLOOKUP(C13,AS!$A:$H,8,FALSE))","v":""},null,null,null,null,{"$f":"IF(ISERROR(VLOOKUP(I13,AS!$A:$H,7,FALSE)),\"\",VLOOKUP(I13,AS!$A:$H,7,FALSE))","v":""},{"$f":"IF(ISERROR(VLOOKUP(I13,AS!$A:$H,8,FALSE)),\"\",VLOOKUP(I13,AS!$A:$H,8,FALSE))","v":""},null,null,null,null,{"$f":"IF(ISERROR(VLOOKUP(O13,AS!$A:$H,7,FALSE)),\"\",VLOOKUP(O13,AS!$A:$H,7,FALSE))","v":""},{"$f":"IF(ISERROR(VLOOKUP(O13,AS!$A:$H,8,FALSE)),\"\",VLOOKUP(O13,AS!$A:$H,8,FALSE))","v":""},null,null,null,null,{"$f":"IF(ISERROR(VLOOKUP(U13,AS!$A:$H,7,FALSE)),\"\",VLOOKUP(U13,AS!$A:$H,7,FALSE))","v":""},{"$f":"IF(ISERROR(VLOOKUP(U13,AS!$A:$H,8,FALSE)),\"\",VLOOKUP(U13,AS!$A:$H,8,FALSE))","v":""},null,null,null,null,{"$f":"IF(ISERROR(VLOOKUP(AA13,AS!$A:$H,7,FALSE)),\"\",VLOOKUP(AA13,AS!$A:$H,7,FALSE))","v":""},{"$f":"IF(ISERROR(VLOOKUP(AA13,AS!$A:$H,8,FALSE)),\"\",VLOOKUP(AA13,AS!$A:$H,8,FALSE))","v":""},null,null,null,"",null,{"$f":"IF(AI13=\"\",\"\",IF(OFFSET('Fiche score'!$A$2,VLOOKUP(RIGHT(AI13,2),Feuil1!A:C,2,FALSE),VLOOKUP(RIGHT(AI13,2),Feuil1!A:C,3,FALSE))=A13 & CHAR(10) & C13,2,IF(OFFSET('Fiche score'!$A$2,VLOOKUP(RIGHT(AI13,2),Feuil1!A:C,2,FALSE)+1,VLOOKUP(RIGHT(AI13,2),Feuil1!A:C,3,FALSE))=A13 & CHAR(10) & C13,2,IF(OFFSET('Fiche score'!$A$2,VLOOKUP(RIGHT(AI13,2),Feuil1!A:C,2,FALSE)-1,VLOOKUP(RIGHT(AI13,2),Feuil1!A:C,3,FALSE))=A13 & CHAR(10) & C13,1,IF(OFFSET('Fiche score'!$A$2,VLOOKUP(RIGHT(AI13,2),Feuil1!A:C,2,FALSE)-2,VLOOKUP(RIGHT(AI13,2),Feuil1!A:C,3,FALSE))=A13 & CHAR(10) & C13,1,\"0\")))))","v":""},{"$f":"IF(ISERROR(VLOOKUP(A13 & CHAR(10) &C13,'Fiche tirage dirigé'!I:I,1,FALSE)),0,1)","v":0},{"$f":"IF(ISERROR(VLOOKUP(A13& CHAR(10) &C13,Cadrage!H:H,1,FALSE)),0,1)","v":0},{"$f":"IF(ISERROR(VLOOKUP(A13 & CHAR(10) &C13,'Tableau final'!V:V,1,FALSE)),0,1)","v":0},{"$f":"IF(ISERROR(VLOOKUP(A13 & CHAR(10) &C13,'Tableau final'!W:W,1,FALSE)),0,1)","v":0},{"$f":"IF(ISERROR(VLOOKUP(A13 & CHAR(10) &C13,'Tableau final'!X:X,1,FALSE)),0,1)","v":0},{"$f":"IF(ISERROR(VLOOKUP(A13 & CHAR(10) &C13,'Tableau final'!Y:Y,1,FALSE)),0,1)","v":0},{"$f":"IF(ISERROR(VLOOKUP(A13 & CHAR(10) &C13,'Tableau final'!Z:Z,1,FALSE)),0,1)","v":0},{"$f":"IF('Tableau final'!$A$1<>\"\",IF('Tableau final'!$B$5=\"Qualifiés\",IF(ISERROR(VLOOKUP(A13 & CHAR(10) &C13,'Tableau final'!C:F,1,FALSE)),\"\",IF(AND(VLOOKUP(A13 & CHAR(10) &C13,'Tableau final'!C:F,3,FALSE)<>\"\",VLOOKUP(A13 & CHAR(10) &C13,'Tableau final'!C:F,4,FALSE)=\"x\"),1,\"\")),IF('Tableau final'!$G$5=\"Qualifiés\",IF(ISERROR(VLOOKUP(A13 & CHAR(10) &C13,'Tableau final'!H:K,1,FALSE)),\"\",IF(AND(VLOOKUP(A13 & CHAR(10) &C13,'Tableau final'!H:K,3,FALSE)<>\"\",VLOOKUP(A13 & CHAR(10) &C13,'Tableau final'!H:K,4,FALSE)=\"x\"),1,\"\")),IF('Tableau final'!$L$5=\"Qualifiés\",IF(ISERROR(VLOOKUP(A13 & CHAR(10) &C13,'Tableau final'!M:P,1,FALSE)),\"\",IF(AND(VLOOKUP(A13 & CHAR(10) &C13,'Tableau final'!M:P,3,FALSE)<>\"\",VLOOKUP(A13 & CHAR(10) &C13,'Tableau final'!M:P,4,FALSE)=\"x\"),1,\"\")),\"\"))),\"\")","v":""},"0",{"$f":"IF(ISERROR(VLOOKUP(AI13,Tirage!A:J,1,FALSE)),\"\",IF(VLOOKUP(AI13,Tirage!A:J,1,FALSE)=\"Office \",3,4))","v":""},{"$f":"IF(AJ13=\"0\",4,IF(AJ13=1,3,IF(AJ13=2,IF(OFFSET('Fiche score'!$A$2,VLOOKUP(RIGHT(AI13,2),Feuil1!A:C,2,FALSE),VLOOKUP(RIGHT(AI13,2),Feuil1!A:C,3,FALSE))=A13 & CHAR(10) & C13,1,2),\"\")))","v":""}]
[null,null,null,null,{"$f":"IF(ISERROR(VLOOKUP(C14,AS!$A:$H,7,FALSE)),\"\",VLOOKUP(C14,AS!$A:$H,7,FALSE))","v":""},{"$f":"IF(ISERROR(VLOOKUP(C14,AS!$A:$H,8,FALSE)),\"\",VLOOKUP(C14,AS!$A:$H,8,FALSE))","v":""},null,null,null,null,{"$f":"IF(ISERROR(VLOOKUP(I14,AS!$A:$H,7,FALSE)),\"\",VLOOKUP(I14,AS!$A:$H,7,FALSE))","v":""},{"$f":"IF(ISERROR(VLOOKUP(I14,AS!$A:$H,8,FALSE)),\"\",VLOOKUP(I14,AS!$A:$H,8,FALSE))","v":""},null,null,null,null,{"$f":"IF(ISERROR(VLOOKUP(O14,AS!$A:$H,7,FALSE)),\"\",VLOOKUP(O14,AS!$A:$H,7,FALSE))","v":""},{"$f":"IF(ISERROR(VLOOKUP(O14,AS!$A:$H,8,FALSE)),\"\",VLOOKUP(O14,AS!$A:$H,8,FALSE))","v":""},null,null,null,null,{"$f":"IF(ISERROR(VLOOKUP(U14,AS!$A:$H,7,FALSE)),\"\",VLOOKUP(U14,AS!$A:$H,7,FALSE))","v":""},{"$f":"IF(ISERROR(VLOOKUP(U14,AS!$A:$H,8,FALSE)),\"\",VLOOKUP(U14,AS!$A:$H,8,FALSE))","v":""},null,null,null,null,{"$f":"IF(ISERROR(VLOOKUP(AA14,AS!$A:$H,7,FALSE)),\"\",VLOOKUP(AA14,AS!$A:$H,7,FALSE))","v":""},{"$f":"IF(ISERROR(VLOOKUP(AA14,AS!$A:$H,8,FALSE)),\"\",VLOOKUP(AA14,AS!$A:$H,8,FALSE))","v":""},null,null,null,"",null,{"$f":"IF(AI14=\"\",\"\",IF(OFFSET('Fiche score'!$A$2,VLOOKUP(RIGHT(AI14,2),Feuil1!A:C,2,FALSE),VLOOKUP(RIGHT(AI14,2),Feuil1!A:C,3,FALSE))=A14 & CHAR(10) & C14,2,IF(OFFSET('Fiche score'!$A$2,VLOOKUP(RIGHT(AI14,2),Feuil1!A:C,2,FALSE)+1,VLOOKUP(RIGHT(AI14,2),Feuil1!A:C,3,FALSE))=A14 & CHAR(10) & C14,2,IF(OFFSET('Fiche score'!$A$2,VLOOKUP(RIGHT(AI14,2),Feuil1!A:C,2,FALSE)-1,VLOOKUP(RIGHT(AI14,2),Feuil1!A:C,3,FALSE))=A14 & CHAR(10) & C14,1,IF(OFFSET('Fiche score'!$A$2,VLOOKUP(RIGHT(AI14,2),Feuil1!A:C,2,FALSE)-2,VLOOKUP(RIGHT(AI14,2),Feuil1!A:C,3,FALSE))=A14 & CHAR(10) & C14,1,\"0\")))))","v":""},{"$f":"IF(ISERROR(VLOOKUP(A14 & CHAR(10) &C14,'Fiche tirage dirigé'!I:I,1,FALSE)),0,1)","v":0},{"$f":"IF(ISERROR(VLOOKUP(A14& CHAR(10) &C14,Cadrage!H:H,1,FALSE)),0,1)","v":0},{"$f":"IF(ISERROR(VLOOKUP(A14 & CHAR(10) &C14,'Tableau final'!V:V,1,FALSE)),0,1)","v":0},{"$f":"IF(ISERROR(VLOOKUP(A14 & CHAR(10) &C14,'Tableau final'!W:W,1,FALSE)),0,1)","v":0},{"$f":"IF(ISERROR(VLOOKUP(A14 & CHAR(10) &C14,'Tableau final'!X:X,1,FALSE)),0,1)","v":0},{"$f":"IF(ISERROR(VLOOKUP(A14 & CHAR(10) &C14,'Tableau final'!Y:Y,1,FALSE)),0,1)","v":0},{"$f":"IF(ISERROR(VLOOKUP(A14 & CHAR(10) &C14,'Tableau final'!Z:Z,1,FALSE)),0,1)","v":0},{"$f":"IF('Tableau final'!$A$1<>\"\",IF('Tableau final'!$B$5=\"Qualifiés\",IF(ISERROR(VLOOKUP(A14 & CHAR(10) &C14,'Tableau final'!C:F,1,FALSE)),\"\",IF(AND(VLOOKUP(A14 & CHAR(10) &C14,'Tableau final'!C:F,3,FALSE)<>\"\",VLOOKUP(A14 & CHAR(10) &C14,'Tableau final'!C:F,4,FALSE)=\"x\"),1,\"\")),IF('Tableau final'!$G$5=\"Qualifiés\",IF(ISERROR(VLOOKUP(A14 & CHAR(10) &C14,'Tableau final'!H:K,1,FALSE)),\"\",IF(AND(VLOOKUP(A14 & CHAR(10) &C14,'Tableau final'!H:K,3,FALSE)<>\"\",VLOOKUP(A14 & CHAR(10) &C14,'Tableau final'!H:K,4,FALSE)=\"x\"),1,\"\")),IF('Tableau final'!$L$5=\"Qualifiés\",IF(ISERROR(VLOOKUP(A14 & CHAR(10) &C14,'Tableau final'!M:P,1,FALSE)),\"\",IF(AND(VLOOKUP(A14 & CHAR(10) &C14,'Tableau final'!M:P,3,FALSE)<>\"\",VLOOKUP(A14 & CHAR(10) &C14,'Tableau final'!M:P,4,FALSE)=\"x\"),1,\"\")),\"\"))),\"\")","v":""},"0",{"$f":"IF(ISERROR(VLOOKUP(AI14,Tirage!A:J,1,FALSE)),\"\",IF(VLOOKUP(AI14,Tirage!A:J,1,FALSE)=\"Office \",3,4))","v":""},{"$f":"IF(AJ14=\"0\",4,IF(AJ14=1,3,IF(AJ14=2,IF(OFFSET('Fiche score'!$A$2,VLOOKUP(RIGHT(AI14,2),Feuil1!A:C,2,FALSE),VLOOKUP(RIGHT(AI14,2),Feuil1!A:C,3,FALSE))=A14 & CHAR(10) & C14,1,2),\"\")))","v":""}]
[null,null,null,null,{"$f":"IF(ISERROR(VLOOKUP(C15,AS!$A:$H,7,FALSE)),\"\",VLOOKUP(C15,AS!$A:$H,7,FALSE))","v":""},{"$f":"IF(ISERROR(VLOOKUP(C15,AS!$A:$H,8,FALSE)),\"\",VLOOKUP(C15,AS!$A:$H,8,FALSE))","v":""},null,null,null,null,{"$f":"IF(ISERROR(VLOOKUP(I15,AS!$A:$H,7,FALSE)),\"\",VLOOKUP(I15,AS!$A:$H,7,FALSE))","v":""},{"$f":"IF(ISERROR(VLOOKUP(I15,AS!$A:$H,8,FALSE)),\"\",VLOOKUP(I15,AS!$A:$H,8,FALSE))","v":""},null,null,null,null,{"$f":"IF(ISERROR(VLOOKUP(O15,AS!$A:$H,7,FALSE)),\"\",VLOOKUP(O15,AS!$A:$H,7,FALSE))","v":""},{"$f":"IF(ISERROR(VLOOKUP(O15,AS!$A:$H,8,FALSE)),\"\",VLOOKUP(O15,AS!$A:$H,8,FALSE))","v":""},null,null,null,null,{"$f":"IF(ISERROR(VLOOKUP(U15,AS!$A:$H,7,FALSE)),\"\",VLOOKUP(U15,AS!$A:$H,7,FALSE))","v":""},{"$f":"IF(ISERROR(VLOOKUP(U15,AS!$A:$H,8,FALSE)),\"\",VLOOKUP(U15,AS!$A:$H,8,FALSE))","v":""},null,null,null,null,{"$f":"IF(ISERROR(VLOOKUP(AA15,AS!$A:$H,7,FALSE)),\"\",VLOOKUP(AA15,AS!$A:$H,7,FALSE))","v":""},{"$f":"IF(ISERROR(VLOOKUP(AA15,AS!$A:$H,8,FALSE)),\"\",VLOOKUP(AA15,AS!$A:$H,8,FALSE))","v":""},null,null,null,"",null,{"$f":"IF(AI15=\"\",\"\",IF(OFFSET('Fiche score'!$A$2,VLOOKUP(RIGHT(AI15,2),Feuil1!A:C,2,FALSE),VLOOKUP(RIGHT(AI15,2),Feuil1!A:C,3,FALSE))=A15 & CHAR(10) & C15,2,IF(OFFSET('Fiche score'!$A$2,VLOOKUP(RIGHT(AI15,2),Feuil1!A:C,2,FALSE)+1,VLOOKUP(RIGHT(AI15,2),Feuil1!A:C,3,FALSE))=A15 & CHAR(10) & C15,2,IF(OFFSET('Fiche score'!$A$2,VLOOKUP(RIGHT(AI15,2),Feuil1!A:C,2,FALSE)-1,VLOOKUP(RIGHT(AI15,2),Feuil1!A:C,3,FALSE))=A15 & CHAR(10) & C15,1,IF(OFFSET('Fiche score'!$A$2,VLOOKUP(RIGHT(AI15,2),Feuil1!A:C,2,FALSE)-2,VLOOKUP(RIGHT(AI15,2),Feuil1!A:C,3,FALSE))=A15 & CHAR(10) & C15,1,\"0\")))))","v":""},{"$f":"IF(ISERROR(VLOOKUP(A15 & CHAR(10) &C15,'Fiche tirage dirigé'!I:I,1,FALSE)),0,1)","v":0},{"$f":"IF(ISERROR(VLOOKUP(A15& CHAR(10) &C15,Cadrage!H:H,1,FALSE)),0,1)","v":0},{"$f":"IF(ISERROR(VLOOKUP(A15 & CHAR(10) &C15,'Tableau final'!V:V,1,FALSE)),0,1)","v":0},{"$f":"IF(ISERROR(VLOOKUP(A15 & CHAR(10) &C15,'Tableau final'!W:W,1,FALSE)),0,1)","v":0},{"$f":"IF(ISERROR(VLOOKUP(A15 & CHAR(10) &C15,'Tableau final'!X:X,1,FALSE)),0,1)","v":0},{"$f":"IF(ISERROR(VLOOKUP(A15 & CHAR(10) &C15,'Tableau final'!Y:Y,1,FALSE)),0,1)","v":0},{"$f":"IF(ISERROR(VLOOKUP(A15 & CHAR(10) &C15,'Tableau final'!Z:Z,1,FALSE)),0,1)","v":0},{"$f":"IF('Tableau final'!$A$1<>\"\",IF('Tableau final'!$B$5=\"Qualifiés\",IF(ISERROR(VLOOKUP(A15 & CHAR(10) &C15,'Tableau final'!C:F,1,FALSE)),\"\",IF(AND(VLOOKUP(A15 & CHAR(10) &C15,'Tableau final'!C:F,3,FALSE)<>\"\",VLOOKUP(A15 & CHAR(10) &C15,'Tableau final'!C:F,4,FALSE)=\"x\"),1,\"\")),IF('Tableau final'!$G$5=\"Qualifiés\",IF(ISERROR(VLOOKUP(A15 & CHAR(10) &C15,'Tableau final'!H:K,1,FALSE)),\"\",IF(AND(VLOOKUP(A15 & CHAR(10) &C15,'Tableau final'!H:K,3,FALSE)<>\"\",VLOOKUP(A15 & CHAR(10) &C15,'Tableau final'!H:K,4,FALSE)=\"x\"),1,\"\")),IF('Tableau final'!$L$5=\"Qualifiés\",IF(ISERROR(VLOOKUP(A15 & CHAR(10) &C15,'Tableau final'!M:P,1,FALSE)),\"\",IF(AND(VLOOKUP(A15 & CHAR(10) &C15,'Tableau final'!M:P,3,FALSE)<>\"\",VLOOKUP(A15 & CHAR(10) &C15,'Tableau final'!M:P,4,FALSE)=\"x\"),1,\"\")),\"\"))),\"\")","v":""},"0",{"$f":"IF(ISERROR(VLOOKUP(AI15,Tirage!A:J,1,FALSE)),\"\",IF(VLOOKUP(AI15,Tirage!A:J,1,FALSE)=\"Office \",3,4))","v":""},{"$f":"IF(AJ15=\"0\",4,IF(AJ15=1,3,IF(AJ15=2,IF(OFFSET('Fiche score'!$A$2,VLOOKUP(RIGHT(AI15,2),Feuil1!A:C,2,FALSE),VLOOKUP(RIGHT(AI15,2),Feuil1!A:C,3,FALSE))=A15 & CHAR(10) & C15,1,2),\"\")))","v":""}]
[null,null,null,null,{"$f":"IF(ISERROR(VLOOKUP(C16,AS!$A:$H,7,FALSE)),\"\",VLOOKUP(C16,AS!$A:$H,7,FALSE))","v":""},{"$f":"IF(ISERROR(VLOOKUP(C16,AS!$A:$H,8,FALSE)),\"\",VLOOKUP(C16,AS!$A:$H,8,FALSE))","v":""},null,null,null,null,{"$f":"IF(ISERROR(VLOOKUP(I16,AS!$A:$H,7,FALSE)),\"\",VLOOKUP(I16,AS!$A:$H,7,FALSE))","v":""},{"$f":"IF(ISERROR(VLOOKUP(I16,AS!$A:$H,8,FALSE)),\"\",VLOOKUP(I16,AS!$A:$H,8,FALSE))","v":""},null,null,null,null,{"$f":"IF(ISERROR(VLOOKUP(O16,AS!$A:$H,7,FALSE)),\"\",VLOOKUP(O16,AS!$A:$H,7,FALSE))","v":""},{"$f":"IF(ISERROR(VLOOKUP(O16,AS!$A:$H,8,FALSE)),\"\",VLOOKUP(O16,AS!$A:$H,8,FALSE))","v":""},null,null,null,null,{"$f":"IF(ISERROR(VLOOKUP(U16,AS!$A:$H,7,FALSE)),\"\",VLOOKUP(U16,AS!$A:$H,7,FALSE))","v":""},{"$f":"IF(ISERROR(VLOOKUP(U16,AS!$A:$H,8,FALSE)),\"\",VLOOKUP(U16,AS!$A:$H,8,FALSE))","v":""},null,null,null,null,{"$f":"IF(ISERROR(VLOOKUP(AA16,AS!$A:$H,7,FALSE)),\"\",VLOOKUP(AA16,AS!$A:$H,7,FALSE))","v":""},{"$f":"IF(ISERROR(VLOOKUP(AA16,AS!$A:$H,8,FALSE)),\"\",VLOOKUP(AA16,AS!$A:$H,8,FALSE))","v":""},null,null,null,"",null,{"$f":"IF(AI16=\"\",\"\",IF(OFFSET('Fiche score'!$A$2,VLOOKUP(RIGHT(AI16,2),Feuil1!A:C,2,FALSE),VLOOKUP(RIGHT(AI16,2),Feuil1!A:C,3,FALSE))=A16 & CHAR(10) & C16,2,IF(OFFSET('Fiche score'!$A$2,VLOOKUP(RIGHT(AI16,2),Feuil1!A:C,2,FALSE)+1,VLOOKUP(RIGHT(AI16,2),Feuil1!A:C,3,FALSE))=A16 & CHAR(10) & C16,2,IF(OFFSET('Fiche score'!$A$2,VLOOKUP(RIGHT(AI16,2),Feuil1!A:C,2,FALSE)-1,VLOOKUP(RIGHT(AI16,2),Feuil1!A:C,3,FALSE))=A16 & CHAR(10) & C16,1,IF(OFFSET('Fiche score'!$A$2,VLOOKUP(RIGHT(AI16,2),Feuil1!A:C,2,FALSE)-2,VLOOKUP(RIGHT(AI16,2),Feuil1!A:C,3,FALSE))=A16 & CHAR(10) & C16,1,\"0\")))))","v":""},{"$f":"IF(ISERROR(VLOOKUP(A16 & CHAR(10) &C16,'Fiche tirage dirigé'!I:I,1,FALSE)),0,1)","v":0},{"$f":"IF(ISERROR(VLOOKUP(A16& CHAR(10) &C16,Cadrage!H:H,1,FALSE)),0,1)","v":0},{"$f":"IF(ISERROR(VLOOKUP(A16 & CHAR(10) &C16,'Tableau final'!V:V,1,FALSE)),0,1)","v":0},{"$f":"IF(ISERROR(VLOOKUP(A16 & CHAR(10) &C16,'Tableau final'!W:W,1,FALSE)),0,1)","v":0},{"$f":"IF(ISERROR(VLOOKUP(A16 & CHAR(10) &C16,'Tableau final'!X:X,1,FALSE)),0,1)","v":0},{"$f":"IF(ISERROR(VLOOKUP(A16 & CHAR(10) &C16,'Tableau final'!Y:Y,1,FALSE)),0,1)","v":0},{"$f":"IF(ISERROR(VLOOKUP(A16 & CHAR(10) &C16,'Tableau final'!Z:Z,1,FALSE)),0,1)","v":0},{"$f":"IF('Tableau final'!$A$1<>\"\",IF('Tableau final'!$B$5=\"Qualifiés\",IF(ISERROR(VLOOKUP(A16 & CHAR(10) &C16,'Tableau final'!C:F,1,FALSE)),\"\",IF(AND(VLOOKUP(A16 & CHAR(10) &C16,'Tableau final'!C:F,3,FALSE)<>\"\",VLOOKUP(A16 & CHAR(10) &C16,'Tableau final'!C:F,4,FALSE)=\"x\"),1,\"\")),IF('Tableau final'!$G$5=\"Qualifiés\",IF(ISERROR(VLOOKUP(A16 & CHAR(10) &C16,'Tableau final'!H:K,1,FALSE)),\"\",IF(AND(VLOOKUP(A16 & CHAR(10) &C16,'Tableau final'!H:K,3,FALSE)<>\"\",VLOOKUP(A16 & CHAR(10) &C16,'Tableau final'!H:K,4,FALSE)=\"x\"),1,\"\")),IF('Tableau final'!$L$5=\"Qualifiés\",IF(ISERROR(VLOOKUP(A16 & CHAR(10) &C16,'Tableau final'!M:P,1,FALSE)),\"\",IF(AND(VLOOKUP(A16 & CHAR(10) &C16,'Tableau final'!M:P,3,FALSE)<>\"\",VLOOKUP(A16 & CHAR(10) &C16,'Tableau final'!M:P,4,FALSE)=\"x\"),1,\"\")),\"\"))),\"\")","v":""},"0",{"$f":"IF(ISERROR(VLOOKUP(AI16,Tirage!A:J,1,FALSE)),\"\",IF(VLOOKUP(AI16,Tirage!A:J,1,FALSE)=\"Office \",3,4))","v":""},{"$f":"IF(AJ16=\"0\",4,IF(AJ16=1,3,IF(AJ16=2,IF(OFFSET('Fiche score'!$A$2,VLOOKUP(RIGHT(AI16,2),Feuil1!A:C,2,FALSE),VLOOKUP(RIGHT(AI16,2),Feuil1!A:C,3,FALSE))=A16 & CHAR(10) & C16,1,2),\"\")))","v":""}]
[null,null,null,null,{"$f":"IF(ISERROR(VLOOKUP(C17,AS!$A:$H,7,FALSE)),\"\",VLOOKUP(C17,AS!$A:$H,7,FALSE))","v":""},{"$f":"IF(ISERROR(VLOOKUP(C17,AS!$A:$H,8,FALSE)),\"\",VLOOKUP(C17,AS!$A:$H,8,FALSE))","v":""},null,null,null,null,{"$f":"IF(ISERROR(VLOOKUP(I17,AS!$A:$H,7,FALSE)),\"\",VLOOKUP(I17,AS!$A:$H,7,FALSE))","v":""},{"$f":"IF(ISERROR(VLOOKUP(I17,AS!$A:$H,8,FALSE)),\"\",VLOOKUP(I17,AS!$A:$H,8,FALSE))","v":""},null,null,null,null,{"$f":"IF(ISERROR(VLOOKUP(O17,AS!$A:$H,7,FALSE)),\"\",VLOOKUP(O17,AS!$A:$H,7,FALSE))","v":""},{"$f":"IF(ISERROR(VLOOKUP(O17,AS!$A:$H,8,FALSE)),\"\",VLOOKUP(O17,AS!$A:$H,8,FALSE))","v":""},null,null,null,null,{"$f":"IF(ISERROR(VLOOKUP(U17,AS!$A:$H,7,FALSE)),\"\",VLOOKUP(U17,AS!$A:$H,7,FALSE))","v":""},{"$f":"IF(ISERROR(VLOOKUP(U17,AS!$A:$H,8,FALSE)),\"\",VLOOKUP(U17,AS!$A:$H,8,FALSE))","v":""},null,null,null,null,{"$f":"IF(ISERROR(VLOOKUP(AA17,AS!$A:$H,7,FALSE)),\"\",VLOOKUP(AA17,AS!$A:$H,7,FALSE))","v":""},{"$f":"IF(ISERROR(VLOOKUP(AA17,AS!$A:$H,8,FALSE)),\"\",VLOOKUP(AA17,AS!$A:$H,8,FALSE))","v":""},null,null,null,"",null,{"$f":"IF(AI17=\"\",\"\",IF(OFFSET('Fiche score'!$A$2,VLOOKUP(RIGHT(AI17,2),Feuil1!A:C,2,FALSE),VLOOKUP(RIGHT(AI17,2),Feuil1!A:C,3,FALSE))=A17 & CHAR(10) & C17,2,IF(OFFSET('Fiche score'!$A$2,VLOOKUP(RIGHT(AI17,2),Feuil1!A:C,2,FALSE)+1,VLOOKUP(RIGHT(AI17,2),Feuil1!A:C,3,FALSE))=A17 & CHAR(10) & C17,2,IF(OFFSET('Fiche score'!$A$2,VLOOKUP(RIGHT(AI17,2),Feuil1!A:C,2,FALSE)-1,VLOOKUP(RIGHT(AI17,2),Feuil1!A:C,3,FALSE))=A17 & CHAR(10) & C17,1,IF(OFFSET('Fiche score'!$A$2,VLOOKUP(RIGHT(AI17,2),Feuil1!A:C,2,FALSE)-2,VLOOKUP(RIGHT(AI17,2),Feuil1!A:C,3,FALSE))=A17 & CHAR(10) & C17,1,\"0\")))))","v":""},{"$f":"IF(ISERROR(VLOOKUP(A17 & CHAR(10) &C17,'Fiche tirage dirigé'!I:I,1,FALSE)),0,1)","v":0},{"$f":"IF(ISERROR(VLOOKUP(A17& CHAR(10) &C17,Cadrage!H:H,1,FALSE)),0,1)","v":0},{"$f":"IF(ISERROR(VLOOKUP(A17 & CHAR(10) &C17,'Tableau final'!V:V,1,FALSE)),0,1)","v":0},{"$f":"IF(ISERROR(VLOOKUP(A17 & CHAR(10) &C17,'Tableau final'!W:W,1,FALSE)),0,1)","v":0},{"$f":"IF(ISERROR(VLOOKUP(A17 & CHAR(10) &C17,'Tableau final'!X:X,1,FALSE)),0,1)","v":0},{"$f":"IF(ISERROR(VLOOKUP(A17 & CHAR(10) &C17,'Tableau final'!Y:Y,1,FALSE)),0,1)","v":0},{"$f":"IF(ISERROR(VLOOKUP(A17 & CHAR(10) &C17,'Tableau final'!Z:Z,1,FALSE)),0,1)","v":0},{"$f":"IF('Tableau final'!$A$1<>\"\",IF('Tableau final'!$B$5=\"Qualifiés\",IF(ISERROR(VLOOKUP(A17 & CHAR(10) &C17,'Tableau final'!C:F,1,FALSE)),\"\",IF(AND(VLOOKUP(A17 & CHAR(10) &C17,'Tableau final'!C:F,3,FALSE)<>\"\",VLOOKUP(A17 & CHAR(10) &C17,'Tableau final'!C:F,4,FALSE)=\"x\"),1,\"\")),IF('Tableau final'!$G$5=\"Qualifiés\",IF(ISERROR(VLOOKUP(A17 & CHAR(10) &C17,'Tableau final'!H:K,1,FALSE)),\"\",IF(AND(VLOOKUP(A17 & CHAR(10) &C17,'Tableau final'!H:K,3,FALSE)<>\"\",VLOOKUP(A17 & CHAR(10) &C17,'Tableau final'!H:K,4,FALSE)=\"x\"),1,\"\")),IF('Tableau final'!$L$5=\"Qualifiés\",IF(ISERROR(VLOOKUP(A17 & CHAR(10) &C17,'Tableau final'!M:P,1,FALSE)),\"\",IF(AND(VLOOKUP(A17 & CHAR(10) &C17,'Tableau final'!M:P,3,FALSE)<>\"\",VLOOKUP(A17 & CHAR(10) &C17,'Tableau final'!M:P,4,FALSE)=\"x\"),1,\"\")),\"\"))),\"\")","v":""},"0",{"$f":"IF(ISERROR(VLOOKUP(AI17,Tirage!A:J,1,FALSE)),\"\",IF(VLOOKUP(AI17,Tirage!A:J,1,FALSE)=\"Office \",3,4))","v":""},{"$f":"IF(AJ17=\"0\",4,IF(AJ17=1,3,IF(AJ17=2,IF(OFFSET('Fiche score'!$A$2,VLOOKUP(RIGHT(AI17,2),Feuil1!A:C,2,FALSE),VLOOKUP(RIGHT(AI17,2),Feuil1!A:C,3,FALSE))=A17 & CHAR(10) & C17,1,2),\"\")))","v":""}]
[null,null,null,null,{"$f":"IF(ISERROR(VLOOKUP(C18,AS!$A:$H,7,FALSE)),\"\",VLOOKUP(C18,AS!$A:$H,7,FALSE))","v":""},{"$f":"IF(ISERROR(VLOOKUP(C18,AS!$A:$H,8,FALSE)),\"\",VLOOKUP(C18,AS!$A:$H,8,FALSE))","v":""},null,null,null,null,{"$f":"IF(ISERROR(VLOOKUP(I18,AS!$A:$H,7,FALSE)),\"\",VLOOKUP(I18,AS!$A:$H,7,FALSE))","v":""},{"$f":"IF(ISERROR(VLOOKUP(I18,AS!$A:$H,8,FALSE)),\"\",VLOOKUP(I18,AS!$A:$H,8,FALSE))","v":""},null,null,null,null,{"$f":"IF(ISERROR(VLOOKUP(O18,AS!$A:$H,7,FALSE)),\"\",VLOOKUP(O18,AS!$A:$H,7,FALSE))","v":""},{"$f":"IF(ISERROR(VLOOKUP(O18,AS!$A:$H,8,FALSE)),\"\",VLOOKUP(O18,AS!$A:$H,8,FALSE))","v":""},null,null,null,null,{"$f":"IF(ISERROR(VLOOKUP(U18,AS!$A:$H,7,FALSE)),\"\",VLOOKUP(U18,AS!$A:$H,7,FALSE))","v":""},{"$f":"IF(ISERROR(VLOOKUP(U18,AS!$A:$H,8,FALSE)),\"\",VLOOKUP(U18,AS!$A:$H,8,FALSE))","v":""},null,null,null,null,{"$f":"IF(ISERROR(VLOOKUP(AA18,AS!$A:$H,7,FALSE)),\"\",VLOOKUP(AA18,AS!$A:$H,7,FALSE))","v":""},{"$f":"IF(ISERROR(VLOOKUP(AA18,AS!$A:$H,8,FALSE)),\"\",VLOOKUP(AA18,AS!$A:$H,8,FALSE))","v":""},null,null,null,"",null,{"$f":"IF(AI18=\"\",\"\",IF(OFFSET('Fiche score'!$A$2,VLOOKUP(RIGHT(AI18,2),Feuil1!A:C,2,FALSE),VLOOKUP(RIGHT(AI18,2),Feuil1!A:C,3,FALSE))=A18 & CHAR(10) & C18,2,IF(OFFSET('Fiche score'!$A$2,VLOOKUP(RIGHT(AI18,2),Feuil1!A:C,2,FALSE)+1,VLOOKUP(RIGHT(AI18,2),Feuil1!A:C,3,FALSE))=A18 & CHAR(10) & C18,2,IF(OFFSET('Fiche score'!$A$2,VLOOKUP(RIGHT(AI18,2),Feuil1!A:C,2,FALSE)-1,VLOOKUP(RIGHT(AI18,2),Feuil1!A:C,3,FALSE))=A18 & CHAR(10) & C18,1,IF(OFFSET('Fiche score'!$A$2,VLOOKUP(RIGHT(AI18,2),Feuil1!A:C,2,FALSE)-2,VLOOKUP(RIGHT(AI18,2),Feuil1!A:C,3,FALSE))=A18 & CHAR(10) & C18,1,\"0\")))))","v":""},{"$f":"IF(ISERROR(VLOOKUP(A18 & CHAR(10) &C18,'Fiche tirage dirigé'!I:I,1,FALSE)),0,1)","v":0},{"$f":"IF(ISERROR(VLOOKUP(A18& CHAR(10) &C18,Cadrage!H:H,1,FALSE)),0,1)","v":0},{"$f":"IF(ISERROR(VLOOKUP(A18 & CHAR(10) &C18,'Tableau final'!V:V,1,FALSE)),0,1)","v":0},{"$f":"IF(ISERROR(VLOOKUP(A18 & CHAR(10) &C18,'Tableau final'!W:W,1,FALSE)),0,1)","v":0},{"$f":"IF(ISERROR(VLOOKUP(A18 & CHAR(10) &C18,'Tableau final'!X:X,1,FALSE)),0,1)","v":0},{"$f":"IF(ISERROR(VLOOKUP(A18 & CHAR(10) &C18,'Tableau final'!Y:Y,1,FALSE)),0,1)","v":0},{"$f":"IF(ISERROR(VLOOKUP(A18 & CHAR(10) &C18,'Tableau final'!Z:Z,1,FALSE)),0,1)","v":0},{"$f":"IF('Tableau final'!$A$1<>\"\",IF('Tableau final'!$B$5=\"Qualifiés\",IF(ISERROR(VLOOKUP(A18 & CHAR(10) &C18,'Tableau final'!C:F,1,FALSE)),\"\",IF(AND(VLOOKUP(A18 & CHAR(10) &C18,'Tableau final'!C:F,3,FALSE)<>\"\",VLOOKUP(A18 & CHAR(10) &C18,'Tableau final'!C:F,4,FALSE)=\"x\"),1,\"\")),IF('Tableau final'!$G$5=\"Qualifiés\",IF(ISERROR(VLOOKUP(A18 & CHAR(10) &C18,'Tableau final'!H:K,1,FALSE)),\"\",IF(AND(VLOOKUP(A18 & CHAR(10) &C18,'Tableau final'!H:K,3,FALSE)<>\"\",VLOOKUP(A18 & CHAR(10) &C18,'Tableau final'!H:K,4,FALSE)=\"x\"),1,\"\")),IF('Tableau final'!$L$5=\"Qualifiés\",IF(ISERROR(VLOOKUP(A18 & CHAR(10) &C18,'Tableau final'!M:P,1,FALSE)),\"\",IF(AND(VLOOKUP(A18 & CHAR(10) &C18,'Tableau final'!M:P,3,FALSE)<>\"\",VLOOKUP(A18 & CHAR(10) &C18,'Tableau final'!M:P,4,FALSE)=\"x\"),1,\"\")),\"\"))),\"\")","v":""},"0",{"$f":"IF(ISERROR(VLOOKUP(AI18,Tirage!A:J,1,FALSE)),\"\",IF(VLOOKUP(AI18,Tirage!A:J,1,FALSE)=\"Office \",3,4))","v":""},{"$f":"IF(AJ18=\"0\",4,IF(AJ18=1,3,IF(AJ18=2,IF(OFFSET('Fiche score'!$A$2,VLOOKUP(RIGHT(AI18,2),Feuil1!A:C,2,FALSE),VLOOKUP(RIGHT(AI18,2),Feuil1!A:C,3,FALSE))=A18 & CHAR(10) & C18,1,2),\"\")))","v":""}]
[null,null,null,null,{"$f":"IF(ISERROR(VLOOKUP(C19,AS!$A:$H,7,FALSE)),\"\",VLOOKUP(C19,AS!$A:$H,7,FALSE))","v":""},{"$f":"IF(ISERROR(VLOOKUP(C19,AS!$A:$H,8,FALSE)),\"\",VLOOKUP(C19,AS!$A:$H,8,FALSE))","v":""},null,null,null,null,{"$f":"IF(ISERROR(VLOOKUP(I19,AS!$A:$H,7,FALSE)),\"\",VLOOKUP(I19,AS!$A:$H,7,FALSE))","v":""},{"$f":"IF(ISERROR(VLOOKUP(I19,AS!$A:$H,8,FALSE)),\"\",VLOOKUP(I19,AS!$A:$H,8,FALSE))","v":""},null,null,null,null,{"$f":"IF(ISERROR(VLOOKUP(O19,AS!$A:$H,7,FALSE)),\"\",VLOOKUP(O19,AS!$A:$H,7,FALSE))","v":""},{"$f":"IF(ISERROR(VLOOKUP(O19,AS!$A:$H,8,FALSE)),\"\",VLOOKUP(O19,AS!$A:$H,8,FALSE))","v":""},null,null,null,null,{"$f":"IF(ISERROR(VLOOKUP(U19,AS!$A:$H,7,FALSE)),\"\",VLOOKUP(U19,AS!$A:$H,7,FALSE))","v":""},{"$f":"IF(ISERROR(VLOOKUP(U19,AS!$A:$H,8,FALSE)),\"\",VLOOKUP(U19,AS!$A:$H,8,FALSE))","v":""},null,null,null,null,{"$f":"IF(ISERROR(VLOOKUP(AA19,AS!$A:$H,7,FALSE)),\"\",VLOOKUP(AA19,AS!$A:$H,7,FALSE))","v":""},{"$f":"IF(ISERROR(VLOOKUP(AA19,AS!$A:$H,8,FALSE)),\"\",VLOOKUP(AA19,AS!$A:$H,8,FALSE))","v":""},null,null,null,"",null,{"$f":"IF(AI19=\"\",\"\",IF(OFFSET('Fiche score'!$A$2,VLOOKUP(RIGHT(AI19,2),Feuil1!A:C,2,FALSE),VLOOKUP(RIGHT(AI19,2),Feuil1!A:C,3,FALSE))=A19 & CHAR(10) & C19,2,IF(OFFSET('Fiche score'!$A$2,VLOOKUP(RIGHT(AI19,2),Feuil1!A:C,2,FALSE)+1,VLOOKUP(RIGHT(AI19,2),Feuil1!A:C,3,FALSE))=A19 & CHAR(10) & C19,2,IF(OFFSET('Fiche score'!$A$2,VLOOKUP(RIGHT(AI19,2),Feuil1!A:C,2,FALSE)-1,VLOOKUP(RIGHT(AI19,2),Feuil1!A:C,3,FALSE))=A19 & CHAR(10) & C19,1,IF(OFFSET('Fiche score'!$A$2,VLOOKUP(RIGHT(AI19,2),Feuil1!A:C,2,FALSE)-2,VLOOKUP(RIGHT(AI19,2),Feuil1!A:C,3,FALSE))=A19 & CHAR(10) & C19,1,\"0\")))))","v":""},{"$f":"IF(ISERROR(VLOOKUP(A19 & CHAR(10) &C19,'Fiche tirage dirigé'!I:I,1,FALSE)),0,1)","v":0},{"$f":"IF(ISERROR(VLOOKUP(A19& CHAR(10) &C19,Cadrage!H:H,1,FALSE)),0,1)","v":0},{"$f":"IF(ISERROR(VLOOKUP(A19 & CHAR(10) &C19,'Tableau final'!V:V,1,FALSE)),0,1)","v":0},{"$f":"IF(ISERROR(VLOOKUP(A19 & CHAR(10) &C19,'Tableau final'!W:W,1,FALSE)),0,1)","v":0},{"$f":"IF(ISERROR(VLOOKUP(A19 & CHAR(10) &C19,'Tableau final'!X:X,1,FALSE)),0,1)","v":0},{"$f":"IF(ISERROR(VLOOKUP(A19 & CHAR(10) &C19,'Tableau final'!Y:Y,1,FALSE)),0,1)","v":0},{"$f":"IF(ISERROR(VLOOKUP(A19 & CHAR(10) &C19,'Tableau final'!Z:Z,1,FALSE)),0,1)","v":0},{"$f":"IF('Tableau final'!$A$1<>\"\",IF('Tableau final'!$B$5=\"Qualifiés\",IF(ISERROR(VLOOKUP(A19 & CHAR(10) &C19,'Tableau final'!C:F,1,FALSE)),\"\",IF(AND(VLOOKUP(A19 & CHAR(10) &C19,'Tableau final'!C:F,3,FALSE)<>\"\",VLOOKUP(A19 & CHAR(10) &C19,'Tableau final'!C:F,4,FALSE)=\"x\"),1,\"\")),IF('Tableau final'!$G$5=\"Qualifiés\",IF(ISERROR(VLOOKUP(A19 & CHAR(10) &C19,'Tableau final'!H:K,1,FALSE)),\"\",IF(AND(VLOOKUP(A19 & CHAR(10) &C19,'Tableau final'!H:K,3,FALSE)<>\"\",VLOOKUP(A19 & CHAR(10) &C19,'Tableau final'!H:K,4,FALSE)=\"x\"),1,\"\")),IF('Tableau final'!$L$5=\"Qualifiés\",IF(ISERROR(VLOOKUP(A19 & CHAR(10) &C19,'Tableau final'!M:P,1,FALSE)),\"\",IF(AND(VLOOKUP(A19 & CHAR(10) &C19,'Tableau final'!M:P,3,FALSE)<>\"\",VLOOKUP(A19 & CHAR(10) &C19,'Tableau final'!M:P,4,FALSE)=\"x\"),1,\"\")),\"\"))),\"\")","v":""},"0",{"$f":"IF(ISERROR(VLOOKUP(AI19,Tirage!A:J,1,FALSE)),\"\",IF(VLOOKUP(AI19,Tirage!A:J,1,FALSE)=\"Office \",3,4))","v":""},{"$f":"IF(AJ19=\"0\",4,IF(AJ19=1,3,IF(AJ19=2,IF(OFFSET('Fiche score'!$A$2,VLOOKUP(RIGHT(AI19,2),Feuil1!A:C,2,FALSE),VLOOKUP(RIGHT(AI19,2),Feuil1!A:C,3,FALSE))=A19 & CHAR(10) & C19,1,2),\"\")))","v":""}]
[null,null,null,null,{"$f":"IF(ISERROR(VLOOKUP(C20,AS!$A:$H,7,FALSE)),\"\",VLOOKUP(C20,AS!$A:$H,7,FALSE))","v":""},{"$f":"IF(ISERROR(VLOOKUP(C20,AS!$A:$H,8,FALSE)),\"\",VLOOKUP(C20,AS!$A:$H,8,FALSE))","v":""},null,null,null,null,{"$f":"IF(ISERROR(VLOOKUP(I20,AS!$A:$H,7,FALSE)),\"\",VLOOKUP(I20,AS!$A:$H,7,FALSE))","v":""},{"$f":"IF(ISERROR(VLOOKUP(I20,AS!$A:$H,8,FALSE)),\"\",VLOOKUP(I20,AS!$A:$H,8,FALSE))","v":""},null,null,null,null,{"$f":"IF(ISERROR(VLOOKUP(O20,AS!$A:$H,7,FALSE)),\"\",VLOOKUP(O20,AS!$A:$H,7,FALSE))","v":""},{"$f":"IF(ISERROR(VLOOKUP(O20,AS!$A:$H,8,FALSE)),\"\",VLOOKUP(O20,AS!$A:$H,8,FALSE))","v":""},null,null,null,null,{"$f":"IF(ISERROR(VLOOKUP(U20,AS!$A:$H,7,FALSE)),\"\",VLOOKUP(U20,AS!$A:$H,7,FALSE))","v":""},{"$f":"IF(ISERROR(VLOOKUP(U20,AS!$A:$H,8,FALSE)),\"\",VLOOKUP(U20,AS!$A:$H,8,FALSE))","v":""},null,null,null,null,{"$f":"IF(ISERROR(VLOOKUP(AA20,AS!$A:$H,7,FALSE)),\"\",VLOOKUP(AA20,AS!$A:$H,7,FALSE))","v":""},{"$f":"IF(ISERROR(VLOOKUP(AA20,AS!$A:$H,8,FALSE)),\"\",VLOOKUP(AA20,AS!$A:$H,8,FALSE))","v":""},null,null,null,"",null,{"$f":"IF(AI20=\"\",\"\",IF(OFFSET('Fiche score'!$A$2,VLOOKUP(RIGHT(AI20,2),Feuil1!A:C,2,FALSE),VLOOKUP(RIGHT(AI20,2),Feuil1!A:C,3,FALSE))=A20 & CHAR(10) & C20,2,IF(OFFSET('Fiche score'!$A$2,VLOOKUP(RIGHT(AI20,2),Feuil1!A:C,2,FALSE)+1,VLOOKUP(RIGHT(AI20,2),Feuil1!A:C,3,FALSE))=A20 & CHAR(10) & C20,2,IF(OFFSET('Fiche score'!$A$2,VLOOKUP(RIGHT(AI20,2),Feuil1!A:C,2,FALSE)-1,VLOOKUP(RIGHT(AI20,2),Feuil1!A:C,3,FALSE))=A20 & CHAR(10) & C20,1,IF(OFFSET('Fiche score'!$A$2,VLOOKUP(RIGHT(AI20,2),Feuil1!A:C,2,FALSE)-2,VLOOKUP(RIGHT(AI20,2),Feuil1!A:C,3,FALSE))=A20 & CHAR(10) & C20,1,\"0\")))))","v":""},{"$f":"IF(ISERROR(VLOOKUP(A20 & CHAR(10) &C20,'Fiche tirage dirigé'!I:I,1,FALSE)),0,1)","v":0},{"$f":"IF(ISERROR(VLOOKUP(A20& CHAR(10) &C20,Cadrage!H:H,1,FALSE)),0,1)","v":0},{"$f":"IF(ISERROR(VLOOKUP(A20 & CHAR(10) &C20,'Tableau final'!V:V,1,FALSE)),0,1)","v":0},{"$f":"IF(ISERROR(VLOOKUP(A20 & CHAR(10) &C20,'Tableau final'!W:W,1,FALSE)),0,1)","v":0},{"$f":"IF(ISERROR(VLOOKUP(A20 & CHAR(10) &C20,'Tableau final'!X:X,1,FALSE)),0,1)","v":0},{"$f":"IF(ISERROR(VLOOKUP(A20 & CHAR(10) &C20,'Tableau final'!Y:Y,1,FALSE)),0,1)","v":0},{"$f":"IF(ISERROR(VLOOKUP(A20 & CHAR(10) &C20,'Tableau final'!Z:Z,1,FALSE)),0,1)","v":0},{"$f":"IF('Tableau final'!$A$1<>\"\",IF('Tableau final'!$B$5=\"Qualifiés\",IF(ISERROR(VLOOKUP(A20 & CHAR(10) &C20,'Tableau final'!C:F,1,FALSE)),\"\",IF(AND(VLOOKUP(A20 & CHAR(10) &C20,'Tableau final'!C:F,3,FALSE)<>\"\",VLOOKUP(A20 & CHAR(10) &C20,'Tableau final'!C:F,4,FALSE)=\"x\"),1,\"\")),IF('Tableau final'!$G$5=\"Qualifiés\",IF(ISERROR(VLOOKUP(A20 & CHAR(10) &C20,'Tableau final'!H:K,1,FALSE)),\"\",IF(AND(VLOOKUP(A20 & CHAR(10) &C20,'Tableau final'!H:K,3,FALSE)<>\"\",VLOOKUP(A20 & CHAR(10) &C20,'Tableau final'!H:K,4,FALSE)=\"x\"),1,\"\")),IF('Tableau final'!$L$5=\"Qualifiés\",IF(ISERROR(VLOOKUP(A20 & CHAR(10) &C20,'Tableau final'!M:P,1,FALSE)),\"\",IF(AND(VLOOKUP(A20 & CHAR(10) &C20,'Tableau final'!M:P,3,FALSE)<>\"\",VLOOKUP(A20 & CHAR(10) &C20,'Tableau final'!M:P,4,FALSE)=\"x\"),1,\"\")),\"\"))),\"\")","v":""},"0",{"$f":"IF(ISERROR(VLOOKUP(AI20,Tirage!A:J,1,FALSE)),\"\",IF(VLOOKUP(AI20,Tirage!A:J,1,FALSE)=\"Office \",3,4))","v":""},{"$f":"IF(AJ20=\"0\",4,IF(AJ20=1,3,IF(AJ20=2,IF(OFFSET('Fiche score'!$A$2,VLOOKUP(RIGHT(AI20,2),Feuil1!A:C,2,FALSE),VLOOKUP(RIGHT(AI20,2),Feuil1!A:C,3,FALSE))=A20 & CHAR(10) & C20,1,2),\"\")))","v":""}]
[null,null,null,null,{"$f":"IF(ISERROR(VLOOKUP(C21,AS!$A:$H,7,FALSE)),\"\",VLOOKUP(C21,AS!$A:$H,7,FALSE))","v":""},{"$f":"IF(ISERROR(VLOOKUP(C21,AS!$A:$H,8,FALSE)),\"\",VLOOKUP(C21,AS!$A:$H,8,FALSE))","v":""},null,null,null,null,{"$f":"IF(ISERROR(VLOOKUP(I21,AS!$A:$H,7,FALSE)),\"\",VLOOKUP(I21,AS!$A:$H,7,FALSE))","v":""},{"$f":"IF(ISERROR(VLOOKUP(I21,AS!$A:$H,8,FALSE)),\"\",VLOOKUP(I21,AS!$A:$H,8,FALSE))","v":""},null,null,null,null,{"$f":"IF(ISERROR(VLOOKUP(O21,AS!$A:$H,7,FALSE)),\"\",VLOOKUP(O21,AS!$A:$H,7,FALSE))","v":""},{"$f":"IF(ISERROR(VLOOKUP(O21,AS!$A:$H,8,FALSE)),\"\",VLOOKUP(O21,AS!$A:$H,8,FALSE))","v":""},null,null,null,null,{"$f":"IF(ISERROR(VLOOKUP(U21,AS!$A:$H,7,FALSE)),\"\",VLOOKUP(U21,AS!$A:$H,7,FALSE))","v":""},{"$f":"IF(ISERROR(VLOOKUP(U21,AS!$A:$H,8,FALSE)),\"\",VLOOKUP(U21,AS!$A:$H,8,FALSE))","v":""},null,null,null,null,{"$f":"IF(ISERROR(VLOOKUP(AA21,AS!$A:$H,7,FALSE)),\"\",VLOOKUP(AA21,AS!$A:$H,7,FALSE))","v":""},{"$f":"IF(ISERROR(VLOOKUP(AA21,AS!$A:$H,8,FALSE)),\"\",VLOOKUP(AA21,AS!$A:$H,8,FALSE))","v":""},null,null,null,"",null,{"$f":"IF(AI21=\"\",\"\",IF(OFFSET('Fiche score'!$A$2,VLOOKUP(RIGHT(AI21,2),Feuil1!A:C,2,FALSE),VLOOKUP(RIGHT(AI21,2),Feuil1!A:C,3,FALSE))=A21 & CHAR(10) & C21,2,IF(OFFSET('Fiche score'!$A$2,VLOOKUP(RIGHT(AI21,2),Feuil1!A:C,2,FALSE)+1,VLOOKUP(RIGHT(AI21,2),Feuil1!A:C,3,FALSE))=A21 & CHAR(10) & C21,2,IF(OFFSET('Fiche score'!$A$2,VLOOKUP(RIGHT(AI21,2),Feuil1!A:C,2,FALSE)-1,VLOOKUP(RIGHT(AI21,2),Feuil1!A:C,3,FALSE))=A21 & CHAR(10) & C21,1,IF(OFFSET('Fiche score'!$A$2,VLOOKUP(RIGHT(AI21,2),Feuil1!A:C,2,FALSE)-2,VLOOKUP(RIGHT(AI21,2),Feuil1!A:C,3,FALSE))=A21 & CHAR(10) & C21,1,\"0\")))))","v":""},{"$f":"IF(ISERROR(VLOOKUP(A21 & CHAR(10) &C21,'Fiche tirage dirigé'!I:I,1,FALSE)),0,1)","v":0},{"$f":"IF(ISERROR(VLOOKUP(A21& CHAR(10) &C21,Cadrage!H:H,1,FALSE)),0,1)","v":0},{"$f":"IF(ISERROR(VLOOKUP(A21 & CHAR(10) &C21,'Tableau final'!V:V,1,FALSE)),0,1)","v":0},{"$f":"IF(ISERROR(VLOOKUP(A21 & CHAR(10) &C21,'Tableau final'!W:W,1,FALSE)),0,1)","v":0},{"$f":"IF(ISERROR(VLOOKUP(A21 & CHAR(10) &C21,'Tableau final'!X:X,1,FALSE)),0,1)","v":0},{"$f":"IF(ISERROR(VLOOKUP(A21 & CHAR(10) &C21,'Tableau final'!Y:Y,1,FALSE)),0,1)","v":0},{"$f":"IF(ISERROR(VLOOKUP(A21 & CHAR(10) &C21,'Tableau final'!Z:Z,1,FALSE)),0,1)","v":0},{"$f":"IF('Tableau final'!$A$1<>\"\",IF('Tableau final'!$B$5=\"Qualifiés\",IF(ISERROR(VLOOKUP(A21 & CHAR(10) &C21,'Tableau final'!C:F,1,FALSE)),\"\",IF(AND(VLOOKUP(A21 & CHAR(10) &C21,'Tableau final'!C:F,3,FALSE)<>\"\",VLOOKUP(A21 & CHAR(10) &C21,'Tableau final'!C:F,4,FALSE)=\"x\"),1,\"\")),IF('Tableau final'!$G$5=\"Qualifiés\",IF(ISERROR(VLOOKUP(A21 & CHAR(10) &C21,'Tableau final'!H:K,1,FALSE)),\"\",IF(AND(VLOOKUP(A21 & CHAR(10) &C21,'Tableau final'!H:K,3,FALSE)<>\"\",VLOOKUP(A21 & CHAR(10) &C21,'Tableau final'!H:K,4,FALSE)=\"x\"),1,\"\")),IF('Tableau final'!$L$5=\"Qualifiés\",IF(ISERROR(VLOOKUP(A21 & CHAR(10) &C21,'Tableau final'!M:P,1,FALSE)),\"\",IF(AND(VLOOKUP(A21 & CHAR(10) &C21,'Tableau final'!M:P,3,FALSE)<>\"\",VLOOKUP(A21 & CHAR(10) &C21,'Tableau final'!M:P,4,FALSE)=\"x\"),1,\"\")),\"\"))),\"\")","v":""},"0",{"$f":"IF(ISERROR(VLOOKUP(AI21,Tirage!A:J,1,FALSE)),\"\",IF(VLOOKUP(AI21,Tirage!A:J,1,FALSE)=\"Office \",3,4))","v":""},{"$f":"IF(AJ21=\"0\",4,IF(AJ21=1,3,IF(AJ21=2,IF(OFFSET('Fiche score'!$A$2,VLOOKUP(RIGHT(AI21,2),Feuil1!A:C,2,FALSE),VLOOKUP(RIGHT(AI21,2),Feuil1!A:C,3,FALSE))=A21 & CHAR(10) & C21,1,2),\"\")))","v":""}]
[null,null,null,null,{"$f":"IF(ISERROR(VLOOKUP(C22,AS!$A:$H,7,FALSE)),\"\",VLOOKUP(C22,AS!$A:$H,7,FALSE))","v":""},{"$f":"IF(ISERROR(VLOOKUP(C22,AS!$A:$H,8,FALSE)),\"\",VLOOKUP(C22,AS!$A:$H,8,FALSE))","v":""},null,null,null,null,{"$f":"IF(ISERROR(VLOOKUP(I22,AS!$A:$H,7,FALSE)),\"\",VLOOKUP(I22,AS!$A:$H,7,FALSE))","v":""},{"$f":"IF(ISERROR(VLOOKUP(I22,AS!$A:$H,8,FALSE)),\"\",VLOOKUP(I22,AS!$A:$H,8,FALSE))","v":""},null,null,null,null,{"$f":"IF(ISERROR(VLOOKUP(O22,AS!$A:$H,7,FALSE)),\"\",VLOOKUP(O22,AS!$A:$H,7,FALSE))","v":""},{"$f":"IF(ISERROR(VLOOKUP(O22,AS!$A:$H,8,FALSE)),\"\",VLOOKUP(O22,AS!$A:$H,8,FALSE))","v":""},null,null,null,null,{"$f":"IF(ISERROR(VLOOKUP(U22,AS!$A:$H,7,FALSE)),\"\",VLOOKUP(U22,AS!$A:$H,7,FALSE))","v":""},{"$f":"IF(ISERROR(VLOOKUP(U22,AS!$A:$H,8,FALSE)),\"\",VLOOKUP(U22,AS!$A:$H,8,FALSE))","v":""},null,null,null,null,{"$f":"IF(ISERROR(VLOOKUP(AA22,AS!$A:$H,7,FALSE)),\"\",VLOOKUP(AA22,AS!$A:$H,7,FALSE))","v":""},{"$f":"IF(ISERROR(VLOOKUP(AA22,AS!$A:$H,8,FALSE)),\"\",VLOOKUP(AA22,AS!$A:$H,8,FALSE))","v":""},null,null,null,"",null,{"$f":"IF(AI22=\"\",\"\",IF(OFFSET('Fiche score'!$A$2,VLOOKUP(RIGHT(AI22,2),Feuil1!A:C,2,FALSE),VLOOKUP(RIGHT(AI22,2),Feuil1!A:C,3,FALSE))=A22 & CHAR(10) & C22,2,IF(OFFSET('Fiche score'!$A$2,VLOOKUP(RIGHT(AI22,2),Feuil1!A:C,2,FALSE)+1,VLOOKUP(RIGHT(AI22,2),Feuil1!A:C,3,FALSE))=A22 & CHAR(10) & C22,2,IF(OFFSET('Fiche score'!$A$2,VLOOKUP(RIGHT(AI22,2),Feuil1!A:C,2,FALSE)-1,VLOOKUP(RIGHT(AI22,2),Feuil1!A:C,3,FALSE))=A22 & CHAR(10) & C22,1,IF(OFFSET('Fiche score'!$A$2,VLOOKUP(RIGHT(AI22,2),Feuil1!A:C,2,FALSE)-2,VLOOKUP(RIGHT(AI22,2),Feuil1!A:C,3,FALSE))=A22 & CHAR(10) & C22,1,\"0\")))))","v":""},{"$f":"IF(ISERROR(VLOOKUP(A22 & CHAR(10) &C22,'Fiche tirage dirigé'!I:I,1,FALSE)),0,1)","v":0},{"$f":"IF(ISERROR(VLOOKUP(A22& CHAR(10) &C22,Cadrage!H:H,1,FALSE)),0,1)","v":0},{"$f":"IF(ISERROR(VLOOKUP(A22 & CHAR(10) &C22,'Tableau final'!V:V,1,FALSE)),0,1)","v":0},{"$f":"IF(ISERROR(VLOOKUP(A22 & CHAR(10) &C22,'Tableau final'!W:W,1,FALSE)),0,1)","v":0},{"$f":"IF(ISERROR(VLOOKUP(A22 & CHAR(10) &C22,'Tableau final'!X:X,1,FALSE)),0,1)","v":0},{"$f":"IF(ISERROR(VLOOKUP(A22 & CHAR(10) &C22,'Tableau final'!Y:Y,1,FALSE)),0,1)","v":0},{"$f":"IF(ISERROR(VLOOKUP(A22 & CHAR(10) &C22,'Tableau final'!Z:Z,1,FALSE)),0,1)","v":0},{"$f":"IF('Tableau final'!$A$1<>\"\",IF('Tableau final'!$B$5=\"Qualifiés\",IF(ISERROR(VLOOKUP(A22 & CHAR(10) &C22,'Tableau final'!C:F,1,FALSE)),\"\",IF(AND(VLOOKUP(A22 & CHAR(10) &C22,'Tableau final'!C:F,3,FALSE)<>\"\",VLOOKUP(A22 & CHAR(10) &C22,'Tableau final'!C:F,4,FALSE)=\"x\"),1,\"\")),IF('Tableau final'!$G$5=\"Qualifiés\",IF(ISERROR(VLOOKUP(A22 & CHAR(10) &C22,'Tableau final'!H:K,1,FALSE)),\"\",IF(AND(VLOOKUP(A22 & CHAR(10) &C22,'Tableau final'!H:K,3,FALSE)<>\"\",VLOOKUP(A22 & CHAR(10) &C22,'Tableau final'!H:K,4,FALSE)=\"x\"),1,\"\")),IF('Tableau final'!$L$5=\"Qualifiés\",IF(ISERROR(VLOOKUP(A22 & CHAR(10) &C22,'Tableau final'!M:P,1,FALSE)),\"\",IF(AND(VLOOKUP(A22 & CHAR(10) &C22,'Tableau final'!M:P,3,FALSE)<>\"\",VLOOKUP(A22 & CHAR(10) &C22,'Tableau final'!M:P,4,FALSE)=\"x\"),1,\"\")),\"\"))),\"\")","v":""},"0",{"$f":"IF(ISERROR(VLOOKUP(AI22,Tirage!A:J,1,FALSE)),\"\",IF(VLOOKUP(AI22,Tirage!A:J,1,FALSE)=\"Office \",3,4))","v":""},{"$f":"IF(AJ22=\"0\",4,IF(AJ22=1,3,IF(AJ22=2,IF(OFFSET('Fiche score'!$A$2,VLOOKUP(RIGHT(AI22,2),Feuil1!A:C,2,FALSE),VLOOKUP(RIGHT(AI22,2),Feuil1!A:C,3,FALSE))=A22 & CHAR(10) & C22,1,2),\"\")))","v":""}]
[null,null,null,null,{"$f":"IF(ISERROR(VLOOKUP(C23,AS!$A:$H,7,FALSE)),\"\",VLOOKUP(C23,AS!$A:$H,7,FALSE))","v":""},{"$f":"IF(ISERROR(VLOOKUP(C23,AS!$A:$H,8,FALSE)),\"\",VLOOKUP(C23,AS!$A:$H,8,FALSE))","v":""},null,null,null,null,{"$f":"IF(ISERROR(VLOOKUP(I23,AS!$A:$H,7,FALSE)),\"\",VLOOKUP(I23,AS!$A:$H,7,FALSE))","v":""},{"$f":"IF(ISERROR(VLOOKUP(I23,AS!$A:$H,8,FALSE)),\"\",VLOOKUP(I23,AS!$A:$H,8,FALSE))","v":""},null,null,null,null,{"$f":"IF(ISERROR(VLOOKUP(O23,AS!$A:$H,7,FALSE)),\"\",VLOOKUP(O23,AS!$A:$H,7,FALSE))","v":""},{"$f":"IF(ISERROR(VLOOKUP(O23,AS!$A:$H,8,FALSE)),\"\",VLOOKUP(O23,AS!$A:$H,8,FALSE))","v":""},null,null,null,null,{"$f":"IF(ISERROR(VLOOKUP(U23,AS!$A:$H,7,FALSE)),\"\",VLOOKUP(U23,AS!$A:$H,7,FALSE))","v":""},{"$f":"IF(ISERROR(VLOOKUP(U23,AS!$A:$H,8,FALSE)),\"\",VLOOKUP(U23,AS!$A:$H,8,FALSE))","v":""},null,null,null,null,{"$f":"IF(ISERROR(VLOOKUP(AA23,AS!$A:$H,7,FALSE)),\"\",VLOOKUP(AA23,AS!$A:$H,7,FALSE))","v":""},{"$f":"IF(ISERROR(VLOOKUP(AA23,AS!$A:$H,8,FALSE)),\"\",VLOOKUP(AA23,AS!$A:$H,8,FALSE))","v":""},null,null,null,"",null,{"$f":"IF(AI23=\"\",\"\",IF(OFFSET('Fiche score'!$A$2,VLOOKUP(RIGHT(AI23,2),Feuil1!A:C,2,FALSE),VLOOKUP(RIGHT(AI23,2),Feuil1!A:C,3,FALSE))=A23 & CHAR(10) & C23,2,IF(OFFSET('Fiche score'!$A$2,VLOOKUP(RIGHT(AI23,2),Feuil1!A:C,2,FALSE)+1,VLOOKUP(RIGHT(AI23,2),Feuil1!A:C,3,FALSE))=A23 & CHAR(10) & C23,2,IF(OFFSET('Fiche score'!$A$2,VLOOKUP(RIGHT(AI23,2),Feuil1!A:C,2,FALSE)-1,VLOOKUP(RIGHT(AI23,2),Feuil1!A:C,3,FALSE))=A23 & CHAR(10) & C23,1,IF(OFFSET('Fiche score'!$A$2,VLOOKUP(RIGHT(AI23,2),Feuil1!A:C,2,FALSE)-2,VLOOKUP(RIGHT(AI23,2),Feuil1!A:C,3,FALSE))=A23 & CHAR(10) & C23,1,\"0\")))))","v":""},{"$f":"IF(ISERROR(VLOOKUP(A23 & CHAR(10) &C23,'Fiche tirage dirigé'!I:I,1,FALSE)),0,1)","v":0},{"$f":"IF(ISERROR(VLOOKUP(A23& CHAR(10) &C23,Cadrage!H:H,1,FALSE)),0,1)","v":0},{"$f":"IF(ISERROR(VLOOKUP(A23 & CHAR(10) &C23,'Tableau final'!V:V,1,FALSE)),0,1)","v":0},{"$f":"IF(ISERROR(VLOOKUP(A23 & CHAR(10) &C23,'Tableau final'!W:W,1,FALSE)),0,1)","v":0},{"$f":"IF(ISERROR(VLOOKUP(A23 & CHAR(10) &C23,'Tableau final'!X:X,1,FALSE)),0,1)","v":0},{"$f":"IF(ISERROR(VLOOKUP(A23 & CHAR(10) &C23,'Tableau final'!Y:Y,1,FALSE)),0,1)","v":0},{"$f":"IF(ISERROR(VLOOKUP(A23 & CHAR(10) &C23,'Tableau final'!Z:Z,1,FALSE)),0,1)","v":0},{"$f":"IF('Tableau final'!$A$1<>\"\",IF('Tableau final'!$B$5=\"Qualifiés\",IF(ISERROR(VLOOKUP(A23 & CHAR(10) &C23,'Tableau final'!C:F,1,FALSE)),\"\",IF(AND(VLOOKUP(A23 & CHAR(10) &C23,'Tableau final'!C:F,3,FALSE)<>\"\",VLOOKUP(A23 & CHAR(10) &C23,'Tableau final'!C:F,4,FALSE)=\"x\"),1,\"\")),IF('Tableau final'!$G$5=\"Qualifiés\",IF(ISERROR(VLOOKUP(A23 & CHAR(10) &C23,'Tableau final'!H:K,1,FALSE)),\"\",IF(AND(VLOOKUP(A23 & CHAR(10) &C23,'Tableau final'!H:K,3,FALSE)<>\"\",VLOOKUP(A23 & CHAR(10) &C23,'Tableau final'!H:K,4,FALSE)=\"x\"),1,\"\")),IF('Tableau final'!$L$5=\"Qualifiés\",IF(ISERROR(VLOOKUP(A23 & CHAR(10) &C23,'Tableau final'!M:P,1,FALSE)),\"\",IF(AND(VLOOKUP(A23 & CHAR(10) &C23,'Tableau final'!M:P,3,FALSE)<>\"\",VLOOKUP(A23 & CHAR(10) &C23,'Tableau final'!M:P,4,FALSE)=\"x\"),1,\"\")),\"\"))),\"\")","v":""},"0",{"$f":"IF(ISERROR(VLOOKUP(AI23,Tirage!A:J,1,FALSE)),\"\",IF(VLOOKUP(AI23,Tirage!A:J,1,FALSE)=\"Office \",3,4))","v":""},{"$f":"IF(AJ23=\"0\",4,IF(AJ23=1,3,IF(AJ23=2,IF(OFFSET('Fiche score'!$A$2,VLOOKUP(RIGHT(AI23,2),Feuil1!A:C,2,FALSE),VLOOKUP(RIGHT(AI23,2),Feuil1!A:C,3,FALSE))=A23 & CHAR(10) & C23,1,2),\"\")))","v":""}]
[null,null,null,null,{"$f":"IF(ISERROR(VLOOKUP(C24,AS!$A:$H,7,FALSE)),\"\",VLOOKUP(C24,AS!$A:$H,7,FALSE))","v":""},{"$f":"IF(ISERROR(VLOOKUP(C24,AS!$A:$H,8,FALSE)),\"\",VLOOKUP(C24,AS!$A:$H,8,FALSE))","v":""},null,null,null,null,{"$f":"IF(ISERROR(VLOOKUP(I24,AS!$A:$H,7,FALSE)),\"\",VLOOKUP(I24,AS!$A:$H,7,FALSE))","v":""},{"$f":"IF(ISERROR(VLOOKUP(I24,AS!$A:$H,8,FALSE)),\"\",VLOOKUP(I24,AS!$A:$H,8,FALSE))","v":""},null,null,null,null,{"$f":"IF(ISERROR(VLOOKUP(O24,AS!$A:$H,7,FALSE)),\"\",VLOOKUP(O24,AS!$A:$H,7,FALSE))","v":""},{"$f":"IF(ISERROR(VLOOKUP(O24,AS!$A:$H,8,FALSE)),\"\",VLOOKUP(O24,AS!$A:$H,8,FALSE))","v":""},null,null,null,null,{"$f":"IF(ISERROR(VLOOKUP(U24,AS!$A:$H,7,FALSE)),\"\",VLOOKUP(U24,AS!$A:$H,7,FALSE))","v":""},{"$f":"IF(ISERROR(VLOOKUP(U24,AS!$A:$H,8,FALSE)),\"\",VLOOKUP(U24,AS!$A:$H,8,FALSE))","v":""},null,null,null,null,{"$f":"IF(ISERROR(VLOOKUP(AA24,AS!$A:$H,7,FALSE)),\"\",VLOOKUP(AA24,AS!$A:$H,7,FALSE))","v":""},{"$f":"IF(ISERROR(VLOOKUP(AA24,AS!$A:$H,8,FALSE)),\"\",VLOOKUP(AA24,AS!$A:$H,8,FALSE))","v":""},null,null,null,"",null,{"$f":"IF(AI24=\"\",\"\",IF(OFFSET('Fiche score'!$A$2,VLOOKUP(RIGHT(AI24,2),Feuil1!A:C,2,FALSE),VLOOKUP(RIGHT(AI24,2),Feuil1!A:C,3,FALSE))=A24 & CHAR(10) & C24,2,IF(OFFSET('Fiche score'!$A$2,VLOOKUP(RIGHT(AI24,2),Feuil1!A:C,2,FALSE)+1,VLOOKUP(RIGHT(AI24,2),Feuil1!A:C,3,FALSE))=A24 & CHAR(10) & C24,2,IF(OFFSET('Fiche score'!$A$2,VLOOKUP(RIGHT(AI24,2),Feuil1!A:C,2,FALSE)-1,VLOOKUP(RIGHT(AI24,2),Feuil1!A:C,3,FALSE))=A24 & CHAR(10) & C24,1,IF(OFFSET('Fiche score'!$A$2,VLOOKUP(RIGHT(AI24,2),Feuil1!A:C,2,FALSE)-2,VLOOKUP(RIGHT(AI24,2),Feuil1!A:C,3,FALSE))=A24 & CHAR(10) & C24,1,\"0\")))))","v":""},{"$f":"IF(ISERROR(VLOOKUP(A24 & CHAR(10) &C24,'Fiche tirage dirigé'!I:I,1,FALSE)),0,1)","v":0},{"$f":"IF(ISERROR(VLOOKUP(A24& CHAR(10) &C24,Cadrage!H:H,1,FALSE)),0,1)","v":0},{"$f":"IF(ISERROR(VLOOKUP(A24 & CHAR(10) &C24,'Tableau final'!V:V,1,FALSE)),0,1)","v":0},{"$f":"IF(ISERROR(VLOOKUP(A24 & CHAR(10) &C24,'Tableau final'!W:W,1,FALSE)),0,1)","v":0},{"$f":"IF(ISERROR(VLOOKUP(A24 & CHAR(10) &C24,'Tableau final'!X:X,1,FALSE)),0,1)","v":0},{"$f":"IF(ISERROR(VLOOKUP(A24 & CHAR(10) &C24,'Tableau final'!Y:Y,1,FALSE)),0,1)","v":0},{"$f":"IF(ISERROR(VLOOKUP(A24 & CHAR(10) &C24,'Tableau final'!Z:Z,1,FALSE)),0,1)","v":0},{"$f":"IF('Tableau final'!$A$1<>\"\",IF('Tableau final'!$B$5=\"Qualifiés\",IF(ISERROR(VLOOKUP(A24 & CHAR(10) &C24,'Tableau final'!C:F,1,FALSE)),\"\",IF(AND(VLOOKUP(A24 & CHAR(10) &C24,'Tableau final'!C:F,3,FALSE)<>\"\",VLOOKUP(A24 & CHAR(10) &C24,'Tableau final'!C:F,4,FALSE)=\"x\"),1,\"\")),IF('Tableau final'!$G$5=\"Qualifiés\",IF(ISERROR(VLOOKUP(A24 & CHAR(10) &C24,'Tableau final'!H:K,1,FALSE)),\"\",IF(AND(VLOOKUP(A24 & CHAR(10) &C24,'Tableau final'!H:K,3,FALSE)<>\"\",VLOOKUP(A24 & CHAR(10) &C24,'Tableau final'!H:K,4,FALSE)=\"x\"),1,\"\")),IF('Tableau final'!$L$5=\"Qualifiés\",IF(ISERROR(VLOOKUP(A24 & CHAR(10) &C24,'Tableau final'!M:P,1,FALSE)),\"\",IF(AND(VLOOKUP(A24 & CHAR(10) &C24,'Tableau final'!M:P,3,FALSE)<>\"\",VLOOKUP(A24 & CHAR(10) &C24,'Tableau final'!M:P,4,FALSE)=\"x\"),1,\"\")),\"\"))),\"\")","v":""},"0",{"$f":"IF(ISERROR(VLOOKUP(AI24,Tirage!A:J,1,FALSE)),\"\",IF(VLOOKUP(AI24,Tirage!A:J,1,FALSE)=\"Office \",3,4))","v":""},{"$f":"IF(AJ24=\"0\",4,IF(AJ24=1,3,IF(AJ24=2,IF(OFFSET('Fiche score'!$A$2,VLOOKUP(RIGHT(AI24,2),Feuil1!A:C,2,FALSE),VLOOKUP(RIGHT(AI24,2),Feuil1!A:C,3,FALSE))=A24 & CHAR(10) & C24,1,2),\"\")))","v":""}]
[null,null,null,null,{"$f":"IF(ISERROR(VLOOKUP(C25,AS!$A:$H,7,FALSE)),\"\",VLOOKUP(C25,AS!$A:$H,7,FALSE))","v":""},{"$f":"IF(ISERROR(VLOOKUP(C25,AS!$A:$H,8,FALSE)),\"\",VLOOKUP(C25,AS!$A:$H,8,FALSE))","v":""},null,null,null,null,{"$f":"IF(ISERROR(VLOOKUP(I25,AS!$A:$H,7,FALSE)),\"\",VLOOKUP(I25,AS!$A:$H,7,FALSE))","v":""},{"$f":"IF(ISERROR(VLOOKUP(I25,AS!$A:$H,8,FALSE)),\"\",VLOOKUP(I25,AS!$A:$H,8,FALSE))","v":""},null,null,null,null,{"$f":"IF(ISERROR(VLOOKUP(O25,AS!$A:$H,7,FALSE)),\"\",VLOOKUP(O25,AS!$A:$H,7,FALSE))","v":""},{"$f":"IF(ISERROR(VLOOKUP(O25,AS!$A:$H,8,FALSE)),\"\",VLOOKUP(O25,AS!$A:$H,8,FALSE))","v":""},null,null,null,null,{"$f":"IF(ISERROR(VLOOKUP(U25,AS!$A:$H,7,FALSE)),\"\",VLOOKUP(U25,AS!$A:$H,7,FALSE))","v":""},{"$f":"IF(ISERROR(VLOOKUP(U25,AS!$A:$H,8,FALSE)),\"\",VLOOKUP(U25,AS!$A:$H,8,FALSE))","v":""},null,null,null,null,{"$f":"IF(ISERROR(VLOOKUP(AA25,AS!$A:$H,7,FALSE)),\"\",VLOOKUP(AA25,AS!$A:$H,7,FALSE))","v":""},{"$f":"IF(ISERROR(VLOOKUP(AA25,AS!$A:$H,8,FALSE)),\"\",VLOOKUP(AA25,AS!$A:$H,8,FALSE))","v":""},null,null,null,"",null,{"$f":"IF(AI25=\"\",\"\",IF(OFFSET('Fiche score'!$A$2,VLOOKUP(RIGHT(AI25,2),Feuil1!A:C,2,FALSE),VLOOKUP(RIGHT(AI25,2),Feuil1!A:C,3,FALSE))=A25 & CHAR(10) & C25,2,IF(OFFSET('Fiche score'!$A$2,VLOOKUP(RIGHT(AI25,2),Feuil1!A:C,2,FALSE)+1,VLOOKUP(RIGHT(AI25,2),Feuil1!A:C,3,FALSE))=A25 & CHAR(10) & C25,2,IF(OFFSET('Fiche score'!$A$2,VLOOKUP(RIGHT(AI25,2),Feuil1!A:C,2,FALSE)-1,VLOOKUP(RIGHT(AI25,2),Feuil1!A:C,3,FALSE))=A25 & CHAR(10) & C25,1,IF(OFFSET('Fiche score'!$A$2,VLOOKUP(RIGHT(AI25,2),Feuil1!A:C,2,FALSE)-2,VLOOKUP(RIGHT(AI25,2),Feuil1!A:C,3,FALSE))=A25 & CHAR(10) & C25,1,\"0\")))))","v":""},{"$f":"IF(ISERROR(VLOOKUP(A25 & CHAR(10) &C25,'Fiche tirage dirigé'!I:I,1,FALSE)),0,1)","v":0},{"$f":"IF(ISERROR(VLOOKUP(A25& CHAR(10) &C25,Cadrage!H:H,1,FALSE)),0,1)","v":0},{"$f":"IF(ISERROR(VLOOKUP(A25 & CHAR(10) &C25,'Tableau final'!V:V,1,FALSE)),0,1)","v":0},{"$f":"IF(ISERROR(VLOOKUP(A25 & CHAR(10) &C25,'Tableau final'!W:W,1,FALSE)),0,1)","v":0},{"$f":"IF(ISERROR(VLOOKUP(A25 & CHAR(10) &C25,'Tableau final'!X:X,1,FALSE)),0,1)","v":0},{"$f":"IF(ISERROR(VLOOKUP(A25 & CHAR(10) &C25,'Tableau final'!Y:Y,1,FALSE)),0,1)","v":0},{"$f":"IF(ISERROR(VLOOKUP(A25 & CHAR(10) &C25,'Tableau final'!Z:Z,1,FALSE)),0,1)","v":0},{"$f":"IF('Tableau final'!$A$1<>\"\",IF('Tableau final'!$B$5=\"Qualifiés\",IF(ISERROR(VLOOKUP(A25 & CHAR(10) &C25,'Tableau final'!C:F,1,FALSE)),\"\",IF(AND(VLOOKUP(A25 & CHAR(10) &C25,'Tableau final'!C:F,3,FALSE)<>\"\",VLOOKUP(A25 & CHAR(10) &C25,'Tableau final'!C:F,4,FALSE)=\"x\"),1,\"\")),IF('Tableau final'!$G$5=\"Qualifiés\",IF(ISERROR(VLOOKUP(A25 & CHAR(10) &C25,'Tableau final'!H:K,1,FALSE)),\"\",IF(AND(VLOOKUP(A25 & CHAR(10) &C25,'Tableau final'!H:K,3,FALSE)<>\"\",VLOOKUP(A25 & CHAR(10) &C25,'Tableau final'!H:K,4,FALSE)=\"x\"),1,\"\")),IF('Tableau final'!$L$5=\"Qualifiés\",IF(ISERROR(VLOOKUP(A25 & CHAR(10) &C25,'Tableau final'!M:P,1,FALSE)),\"\",IF(AND(VLOOKUP(A25 & CHAR(10) &C25,'Tableau final'!M:P,3,FALSE)<>\"\",VLOOKUP(A25 & CHAR(10) &C25,'Tableau final'!M:P,4,FALSE)=\"x\"),1,\"\")),\"\"))),\"\")","v":""},"0",{"$f":"IF(ISERROR(VLOOKUP(AI25,Tirage!A:J,1,FALSE)),\"\",IF(VLOOKUP(AI25,Tirage!A:J,1,FALSE)=\"Office \",3,4))","v":""},{"$f":"IF(AJ25=\"0\",4,IF(AJ25=1,3,IF(AJ25=2,IF(OFFSET('Fiche score'!$A$2,VLOOKUP(RIGHT(AI25,2),Feuil1!A:C,2,FALSE),VLOOKUP(RIGHT(AI25,2),Feuil1!A:C,3,FALSE))=A25 & CHAR(10) & C25,1,2),\"\")))","v":""}]
[null,null,null,null,{"$f":"IF(ISERROR(VLOOKUP(C26,AS!$A:$H,7,FALSE)),\"\",VLOOKUP(C26,AS!$A:$H,7,FALSE))","v":""},{"$f":"IF(ISERROR(VLOOKUP(C26,AS!$A:$H,8,FALSE)),\"\",VLOOKUP(C26,AS!$A:$H,8,FALSE))","v":""},null,null,null,null,{"$f":"IF(ISERROR(VLOOKUP(I26,AS!$A:$H,7,FALSE)),\"\",VLOOKUP(I26,AS!$A:$H,7,FALSE))","v":""},{"$f":"IF(ISERROR(VLOOKUP(I26,AS!$A:$H,8,FALSE)),\"\",VLOOKUP(I26,AS!$A:$H,8,FALSE))","v":""},null,null,null,null,{"$f":"IF(ISERROR(VLOOKUP(O26,AS!$A:$H,7,FALSE)),\"\",VLOOKUP(O26,AS!$A:$H,7,FALSE))","v":""},{"$f":"IF(ISERROR(VLOOKUP(O26,AS!$A:$H,8,FALSE)),\"\",VLOOKUP(O26,AS!$A:$H,8,FALSE))","v":""},null,null,null,null,{"$f":"IF(ISERROR(VLOOKUP(U26,AS!$A:$H,7,FALSE)),\"\",VLOOKUP(U26,AS!$A:$H,7,FALSE))","v":""},{"$f":"IF(ISERROR(VLOOKUP(U26,AS!$A:$H,8,FALSE)),\"\",VLOOKUP(U26,AS!$A:$H,8,FALSE))","v":""},null,null,null,null,{"$f":"IF(ISERROR(VLOOKUP(AA26,AS!$A:$H,7,FALSE)),\"\",VLOOKUP(AA26,AS!$A:$H,7,FALSE))","v":""},{"$f":"IF(ISERROR(VLOOKUP(AA26,AS!$A:$H,8,FALSE)),\"\",VLOOKUP(AA26,AS!$A:$H,8,FALSE))","v":""},null,null,null,"",null,{"$f":"IF(AI26=\"\",\"\",IF(OFFSET('Fiche score'!$A$2,VLOOKUP(RIGHT(AI26,2),Feuil1!A:C,2,FALSE),VLOOKUP(RIGHT(AI26,2),Feuil1!A:C,3,FALSE))=A26 & CHAR(10) & C26,2,IF(OFFSET('Fiche score'!$A$2,VLOOKUP(RIGHT(AI26,2),Feuil1!A:C,2,FALSE)+1,VLOOKUP(RIGHT(AI26,2),Feuil1!A:C,3,FALSE))=A26 & CHAR(10) & C26,2,IF(OFFSET('Fiche score'!$A$2,VLOOKUP(RIGHT(AI26,2),Feuil1!A:C,2,FALSE)-1,VLOOKUP(RIGHT(AI26,2),Feuil1!A:C,3,FALSE))=A26 & CHAR(10) & C26,1,IF(OFFSET('Fiche score'!$A$2,VLOOKUP(RIGHT(AI26,2),Feuil1!A:C,2,FALSE)-2,VLOOKUP(RIGHT(AI26,2),Feuil1!A:C,3,FALSE))=A26 & CHAR(10) & C26,1,\"0\")))))","v":""},{"$f":"IF(ISERROR(VLOOKUP(A26 & CHAR(10) &C26,'Fiche tirage dirigé'!I:I,1,FALSE)),0,1)","v":0},{"$f":"IF(ISERROR(VLOOKUP(A26& CHAR(10) &C26,Cadrage!H:H,1,FALSE)),0,1)","v":0},{"$f":"IF(ISERROR(VLOOKUP(A26 & CHAR(10) &C26,'Tableau final'!V:V,1,FALSE)),0,1)","v":0},{"$f":"IF(ISERROR(VLOOKUP(A26 & CHAR(10) &C26,'Tableau final'!W:W,1,FALSE)),0,1)","v":0},{"$f":"IF(ISERROR(VLOOKUP(A26 & CHAR(10) &C26,'Tableau final'!X:X,1,FALSE)),0,1)","v":0},{"$f":"IF(ISERROR(VLOOKUP(A26 & CHAR(10) &C26,'Tableau final'!Y:Y,1,FALSE)),0,1)","v":0},{"$f":"IF(ISERROR(VLOOKUP(A26 & CHAR(10) &C26,'Tableau final'!Z:Z,1,FALSE)),0,1)","v":0},{"$f":"IF('Tableau final'!$A$1<>\"\",IF('Tableau final'!$B$5=\"Qualifiés\",IF(ISERROR(VLOOKUP(A26 & CHAR(10) &C26,'Tableau final'!C:F,1,FALSE)),\"\",IF(AND(VLOOKUP(A26 & CHAR(10) &C26,'Tableau final'!C:F,3,FALSE)<>\"\",VLOOKUP(A26 & CHAR(10) &C26,'Tableau final'!C:F,4,FALSE)=\"x\"),1,\"\")),IF('Tableau final'!$G$5=\"Qualifiés\",IF(ISERROR(VLOOKUP(A26 & CHAR(10) &C26,'Tableau final'!H:K,1,FALSE)),\"\",IF(AND(VLOOKUP(A26 & CHAR(10) &C26,'Tableau final'!H:K,3,FALSE)<>\"\",VLOOKUP(A26 & CHAR(10) &C26,'Tableau final'!H:K,4,FALSE)=\"x\"),1,\"\")),IF('Tableau final'!$L$5=\"Qualifiés\",IF(ISERROR(VLOOKUP(A26 & CHAR(10) &C26,'Tableau final'!M:P,1,FALSE)),\"\",IF(AND(VLOOKUP(A26 & CHAR(10) &C26,'Tableau final'!M:P,3,FALSE)<>\"\",VLOOKUP(A26 & CHAR(10) &C26,'Tableau final'!M:P,4,FALSE)=\"x\"),1,\"\")),\"\"))),\"\")","v":""},"0",{"$f":"IF(ISERROR(VLOOKUP(AI26,Tirage!A:J,1,FALSE)),\"\",IF(VLOOKUP(AI26,Tirage!A:J,1,FALSE)=\"Office \",3,4))","v":""},{"$f":"IF(AJ26=\"0\",4,IF(AJ26=1,3,IF(AJ26=2,IF(OFFSET('Fiche score'!$A$2,VLOOKUP(RIGHT(AI26,2),Feuil1!A:C,2,FALSE),VLOOKUP(RIGHT(AI26,2),Feuil1!A:C,3,FALSE))=A26 & CHAR(10) & C26,1,2),\"\")))","v":""}]
[null,null,null,null,{"$f":"IF(ISERROR(VLOOKUP(C27,AS!$A:$H,7,FALSE)),\"\",VLOOKUP(C27,AS!$A:$H,7,FALSE))","v":""},{"$f":"IF(ISERROR(VLOOKUP(C27,AS!$A:$H,8,FALSE)),\"\",VLOOKUP(C27,AS!$A:$H,8,FALSE))","v":""},null,null,null,null,{"$f":"IF(ISERROR(VLOOKUP(I27,AS!$A:$H,7,FALSE)),\"\",VLOOKUP(I27,AS!$A:$H,7,FALSE))","v":""},{"$f":"IF(ISERROR(VLOOKUP(I27,AS!$A:$H,8,FALSE)),\"\",VLOOKUP(I27,AS!$A:$H,8,FALSE))","v":""},null,null,null,null,{"$f":"IF(ISERROR(VLOOKUP(O27,AS!$A:$H,7,FALSE)),\"\",VLOOKUP(O27,AS!$A:$H,7,FALSE))","v":""},{"$f":"IF(ISERROR(VLOOKUP(O27,AS!$A:$H,8,FALSE)),\"\",VLOOKUP(O27,AS!$A:$H,8,FALSE))","v":""},null,null,null,null,{"$f":"IF(ISERROR(VLOOKUP(U27,AS!$A:$H,7,FALSE)),\"\",VLOOKUP(U27,AS!$A:$H,7,FALSE))","v":""},{"$f":"IF(ISERROR(VLOOKUP(U27,AS!$A:$H,8,FALSE)),\"\",VLOOKUP(U27,AS!$A:$H,8,FALSE))","v":""},null,null,null,null,{"$f":"IF(ISERROR(VLOOKUP(AA27,AS!$A:$H,7,FALSE)),\"\",VLOOKUP(AA27,AS!$A:$H,7,FALSE))","v":""},{"$f":"IF(ISERROR(VLOOKUP(AA27,AS!$A:$H,8,FALSE)),\"\",VLOOKUP(AA27,AS!$A:$H,8,FALSE))","v":""},null,null,null,"",null,{"$f":"IF(AI27=\"\",\"\",IF(OFFSET('Fiche score'!$A$2,VLOOKUP(RIGHT(AI27,2),Feuil1!A:C,2,FALSE),VLOOKUP(RIGHT(AI27,2),Feuil1!A:C,3,FALSE))=A27 & CHAR(10) & C27,2,IF(OFFSET('Fiche score'!$A$2,VLOOKUP(RIGHT(AI27,2),Feuil1!A:C,2,FALSE)+1,VLOOKUP(RIGHT(AI27,2),Feuil1!A:C,3,FALSE))=A27 & CHAR(10) & C27,2,IF(OFFSET('Fiche score'!$A$2,VLOOKUP(RIGHT(AI27,2),Feuil1!A:C,2,FALSE)-1,VLOOKUP(RIGHT(AI27,2),Feuil1!A:C,3,FALSE))=A27 & CHAR(10) & C27,1,IF(OFFSET('Fiche score'!$A$2,VLOOKUP(RIGHT(AI27,2),Feuil1!A:C,2,FALSE)-2,VLOOKUP(RIGHT(AI27,2),Feuil1!A:C,3,FALSE))=A27 & CHAR(10) & C27,1,\"0\")))))","v":""},{"$f":"IF(ISERROR(VLOOKUP(A27 & CHAR(10) &C27,'Fiche tirage dirigé'!I:I,1,FALSE)),0,1)","v":0},{"$f":"IF(ISERROR(VLOOKUP(A27& CHAR(10) &C27,Cadrage!H:H,1,FALSE)),0,1)","v":0},{"$f":"IF(ISERROR(VLOOKUP(A27 & CHAR(10) &C27,'Tableau final'!V:V,1,FALSE)),0,1)","v":0},{"$f":"IF(ISERROR(VLOOKUP(A27 & CHAR(10) &C27,'Tableau final'!W:W,1,FALSE)),0,1)","v":0},{"$f":"IF(ISERROR(VLOOKUP(A27 & CHAR(10) &C27,'Tableau final'!X:X,1,FALSE)),0,1)","v":0},{"$f":"IF(ISERROR(VLOOKUP(A27 & CHAR(10) &C27,'Tableau final'!Y:Y,1,FALSE)),0,1)","v":0},{"$f":"IF(ISERROR(VLOOKUP(A27 & CHAR(10) &C27,'Tableau final'!Z:Z,1,FALSE)),0,1)","v":0},{"$f":"IF('Tableau final'!$A$1<>\"\",IF('Tableau final'!$B$5=\"Qualifiés\",IF(ISERROR(VLOOKUP(A27 & CHAR(10) &C27,'Tableau final'!C:F,1,FALSE)),\"\",IF(AND(VLOOKUP(A27 & CHAR(10) &C27,'Tableau final'!C:F,3,FALSE)<>\"\",VLOOKUP(A27 & CHAR(10) &C27,'Tableau final'!C:F,4,FALSE)=\"x\"),1,\"\")),IF('Tableau final'!$G$5=\"Qualifiés\",IF(ISERROR(VLOOKUP(A27 & CHAR(10) &C27,'Tableau final'!H:K,1,FALSE)),\"\",IF(AND(VLOOKUP(A27 & CHAR(10) &C27,'Tableau final'!H:K,3,FALSE)<>\"\",VLOOKUP(A27 & CHAR(10) &C27,'Tableau final'!H:K,4,FALSE)=\"x\"),1,\"\")),IF('Tableau final'!$L$5=\"Qualifiés\",IF(ISERROR(VLOOKUP(A27 & CHAR(10) &C27,'Tableau final'!M:P,1,FALSE)),\"\",IF(AND(VLOOKUP(A27 & CHAR(10) &C27,'Tableau final'!M:P,3,FALSE)<>\"\",VLOOKUP(A27 & CHAR(10) &C27,'Tableau final'!M:P,4,FALSE)=\"x\"),1,\"\")),\"\"))),\"\")","v":""},"0",{"$f":"IF(ISERROR(VLOOKUP(AI27,Tirage!A:J,1,FALSE)),\"\",IF(VLOOKUP(AI27,Tirage!A:J,1,FALSE)=\"Office \",3,4))","v":""},{"$f":"IF(AJ27=\"0\",4,IF(AJ27=1,3,IF(AJ27=2,IF(OFFSET('Fiche score'!$A$2,VLOOKUP(RIGHT(AI27,2),Feuil1!A:C,2,FALSE),VLOOKUP(RIGHT(AI27,2),Feuil1!A:C,3,FALSE))=A27 & CHAR(10) & C27,1,2),\"\")))","v":""}]
[null,null,null,null,{"$f":"IF(ISERROR(VLOOKUP(C28,AS!$A:$H,7,FALSE)),\"\",VLOOKUP(C28,AS!$A:$H,7,FALSE))","v":""},{"$f":"IF(ISERROR(VLOOKUP(C28,AS!$A:$H,8,FALSE)),\"\",VLOOKUP(C28,AS!$A:$H,8,FALSE))","v":""},null,null,null,null,{"$f":"IF(ISERROR(VLOOKUP(I28,AS!$A:$H,7,FALSE)),\"\",VLOOKUP(I28,AS!$A:$H,7,FALSE))","v":""},{"$f":"IF(ISERROR(VLOOKUP(I28,AS!$A:$H,8,FALSE)),\"\",VLOOKUP(I28,AS!$A:$H,8,FALSE))","v":""},null,null,null,null,{"$f":"IF(ISERROR(VLOOKUP(O28,AS!$A:$H,7,FALSE)),\"\",VLOOKUP(O28,AS!$A:$H,7,FALSE))","v":""},{"$f":"IF(ISERROR(VLOOKUP(O28,AS!$A:$H,8,FALSE)),\"\",VLOOKUP(O28,AS!$A:$H,8,FALSE))","v":""},null,null,null,null,{"$f":"IF(ISERROR(VLOOKUP(U28,AS!$A:$H,7,FALSE)),\"\",VLOOKUP(U28,AS!$A:$H,7,FALSE))","v":""},{"$f":"IF(ISERROR(VLOOKUP(U28,AS!$A:$H,8,FALSE)),\"\",VLOOKUP(U28,AS!$A:$H,8,FALSE))","v":""},null,null,null,null,{"$f":"IF(ISERROR(VLOOKUP(AA28,AS!$A:$H,7,FALSE)),\"\",VLOOKUP(AA28,AS!$A:$H,7,FALSE))","v":""},{"$f":"IF(ISERROR(VLOOKUP(AA28,AS!$A:$H,8,FALSE)),\"\",VLOOKUP(AA28,AS!$A:$H,8,FALSE))","v":""},null,null,null,"",null,{"$f":"IF(AI28=\"\",\"\",IF(OFFSET('Fiche score'!$A$2,VLOOKUP(RIGHT(AI28,2),Feuil1!A:C,2,FALSE),VLOOKUP(RIGHT(AI28,2),Feuil1!A:C,3,FALSE))=A28 & CHAR(10) & C28,2,IF(OFFSET('Fiche score'!$A$2,VLOOKUP(RIGHT(AI28,2),Feuil1!A:C,2,FALSE)+1,VLOOKUP(RIGHT(AI28,2),Feuil1!A:C,3,FALSE))=A28 & CHAR(10) & C28,2,IF(OFFSET('Fiche score'!$A$2,VLOOKUP(RIGHT(AI28,2),Feuil1!A:C,2,FALSE)-1,VLOOKUP(RIGHT(AI28,2),Feuil1!A:C,3,FALSE))=A28 & CHAR(10) & C28,1,IF(OFFSET('Fiche score'!$A$2,VLOOKUP(RIGHT(AI28,2),Feuil1!A:C,2,FALSE)-2,VLOOKUP(RIGHT(AI28,2),Feuil1!A:C,3,FALSE))=A28 & CHAR(10) & C28,1,\"0\")))))","v":""},{"$f":"IF(ISERROR(VLOOKUP(A28 & CHAR(10) &C28,'Fiche tirage dirigé'!I:I,1,FALSE)),0,1)","v":0},{"$f":"IF(ISERROR(VLOOKUP(A28& CHAR(10) &C28,Cadrage!H:H,1,FALSE)),0,1)","v":0},{"$f":"IF(ISERROR(VLOOKUP(A28 & CHAR(10) &C28,'Tableau final'!V:V,1,FALSE)),0,1)","v":0},{"$f":"IF(ISERROR(VLOOKUP(A28 & CHAR(10) &C28,'Tableau final'!W:W,1,FALSE)),0,1)","v":0},{"$f":"IF(ISERROR(VLOOKUP(A28 & CHAR(10) &C28,'Tableau final'!X:X,1,FALSE)),0,1)","v":0},{"$f":"IF(ISERROR(VLOOKUP(A28 & CHAR(10) &C28,'Tableau final'!Y:Y,1,FALSE)),0,1)","v":0},{"$f":"IF(ISERROR(VLOOKUP(A28 & CHAR(10) &C28,'Tableau final'!Z:Z,1,FALSE)),0,1)","v":0},{"$f":"IF('Tableau final'!$A$1<>\"\",IF('Tableau final'!$B$5=\"Qualifiés\",IF(ISERROR(VLOOKUP(A28 & CHAR(10) &C28,'Tableau final'!C:F,1,FALSE)),\"\",IF(AND(VLOOKUP(A28 & CHAR(10) &C28,'Tableau final'!C:F,3,FALSE)<>\"\",VLOOKUP(A28 & CHAR(10) &C28,'Tableau final'!C:F,4,FALSE)=\"x\"),1,\"\")),IF('Tableau final'!$G$5=\"Qualifiés\",IF(ISERROR(VLOOKUP(A28 & CHAR(10) &C28,'Tableau final'!H:K,1,FALSE)),\"\",IF(AND(VLOOKUP(A28 & CHAR(10) &C28,'Tableau final'!H:K,3,FALSE)<>\"\",VLOOKUP(A28 & CHAR(10) &C28,'Tableau final'!H:K,4,FALSE)=\"x\"),1,\"\")),IF('Tableau final'!$L$5=\"Qualifiés\",IF(ISERROR(VLOOKUP(A28 & CHAR(10) &C28,'Tableau final'!M:P,1,FALSE)),\"\",IF(AND(VLOOKUP(A28 & CHAR(10) &C28,'Tableau final'!M:P,3,FALSE)<>\"\",VLOOKUP(A28 & CHAR(10) &C28,'Tableau final'!M:P,4,FALSE)=\"x\"),1,\"\")),\"\"))),\"\")","v":""},"0",{"$f":"IF(ISERROR(VLOOKUP(AI28,Tirage!A:J,1,FALSE)),\"\",IF(VLOOKUP(AI28,Tirage!A:J,1,FALSE)=\"Office \",3,4))","v":""},{"$f":"IF(AJ28=\"0\",4,IF(AJ28=1,3,IF(AJ28=2,IF(OFFSET('Fiche score'!$A$2,VLOOKUP(RIGHT(AI28,2),Feuil1!A:C,2,FALSE),VLOOKUP(RIGHT(AI28,2),Feuil1!A:C,3,FALSE))=A28 & CHAR(10) & C28,1,2),\"\")))","v":""}]
[null,null,null,null,{"$f":"IF(ISERROR(VLOOKUP(C29,AS!$A:$H,7,FALSE)),\"\",VLOOKUP(C29,AS!$A:$H,7,FALSE))","v":""},{"$f":"IF(ISERROR(VLOOKUP(C29,AS!$A:$H,8,FALSE)),\"\",VLOOKUP(C29,AS!$A:$H,8,FALSE))","v":""},null,null,null,null,{"$f":"IF(ISERROR(VLOOKUP(I29,AS!$A:$H,7,FALSE)),\"\",VLOOKUP(I29,AS!$A:$H,7,FALSE))","v":""},{"$f":"IF(ISERROR(VLOOKUP(I29,AS!$A:$H,8,FALSE)),\"\",VLOOKUP(I29,AS!$A:$H,8,FALSE))","v":""},null,null,null,null,{"$f":"IF(ISERROR(VLOOKUP(O29,AS!$A:$H,7,FALSE)),\"\",VLOOKUP(O29,AS!$A:$H,7,FALSE))","v":""},{"$f":"IF(ISERROR(VLOOKUP(O29,AS!$A:$H,8,FALSE)),\"\",VLOOKUP(O29,AS!$A:$H,8,FALSE))","v":""},null,null,null,null,{"$f":"IF(ISERROR(VLOOKUP(U29,AS!$A:$H,7,FALSE)),\"\",VLOOKUP(U29,AS!$A:$H,7,FALSE))","v":""},{"$f":"IF(ISERROR(VLOOKUP(U29,AS!$A:$H,8,FALSE)),\"\",VLOOKUP(U29,AS!$A:$H,8,FALSE))","v":""},null,null,null,null,{"$f":"IF(ISERROR(VLOOKUP(AA29,AS!$A:$H,7,FALSE)),\"\",VLOOKUP(AA29,AS!$A:$H,7,FALSE))","v":""},{"$f":"IF(ISERROR(VLOOKUP(AA29,AS!$A:$H,8,FALSE)),\"\",VLOOKUP(AA29,AS!$A:$H,8,FALSE))","v":""},null,null,null,"",null,{"$f":"IF(AI29=\"\",\"\",IF(OFFSET('Fiche score'!$A$2,VLOOKUP(RIGHT(AI29,2),Feuil1!A:C,2,FALSE),VLOOKUP(RIGHT(AI29,2),Feuil1!A:C,3,FALSE))=A29 & CHAR(10) & C29,2,IF(OFFSET('Fiche score'!$A$2,VLOOKUP(RIGHT(AI29,2),Feuil1!A:C,2,FALSE)+1,VLOOKUP(RIGHT(AI29,2),Feuil1!A:C,3,FALSE))=A29 & CHAR(10) & C29,2,IF(OFFSET('Fiche score'!$A$2,VLOOKUP(RIGHT(AI29,2),Feuil1!A:C,2,FALSE)-1,VLOOKUP(RIGHT(AI29,2),Feuil1!A:C,3,FALSE))=A29 & CHAR(10) & C29,1,IF(OFFSET('Fiche score'!$A$2,VLOOKUP(RIGHT(AI29,2),Feuil1!A:C,2,FALSE)-2,VLOOKUP(RIGHT(AI29,2),Feuil1!A:C,3,FALSE))=A29 & CHAR(10) & C29,1,\"0\")))))","v":""},{"$f":"IF(ISERROR(VLOOKUP(A29 & CHAR(10) &C29,'Fiche tirage dirigé'!I:I,1,FALSE)),0,1)","v":0},{"$f":"IF(ISERROR(VLOOKUP(A29& CHAR(10) &C29,Cadrage!H:H,1,FALSE)),0,1)","v":0},{"$f":"IF(ISERROR(VLOOKUP(A29 & CHAR(10) &C29,'Tableau final'!V:V,1,FALSE)),0,1)","v":0},{"$f":"IF(ISERROR(VLOOKUP(A29 & CHAR(10) &C29,'Tableau final'!W:W,1,FALSE)),0,1)","v":0},{"$f":"IF(ISERROR(VLOOKUP(A29 & CHAR(10) &C29,'Tableau final'!X:X,1,FALSE)),0,1)","v":0},{"$f":"IF(ISERROR(VLOOKUP(A29 & CHAR(10) &C29,'Tableau final'!Y:Y,1,FALSE)),0,1)","v":0},{"$f":"IF(ISERROR(VLOOKUP(A29 & CHAR(10) &C29,'Tableau final'!Z:Z,1,FALSE)),0,1)","v":0},{"$f":"IF('Tableau final'!$A$1<>\"\",IF('Tableau final'!$B$5=\"Qualifiés\",IF(ISERROR(VLOOKUP(A29 & CHAR(10) &C29,'Tableau final'!C:F,1,FALSE)),\"\",IF(AND(VLOOKUP(A29 & CHAR(10) &C29,'Tableau final'!C:F,3,FALSE)<>\"\",VLOOKUP(A29 & CHAR(10) &C29,'Tableau final'!C:F,4,FALSE)=\"x\"),1,\"\")),IF('Tableau final'!$G$5=\"Qualifiés\",IF(ISERROR(VLOOKUP(A29 & CHAR(10) &C29,'Tableau final'!H:K,1,FALSE)),\"\",IF(AND(VLOOKUP(A29 & CHAR(10) &C29,'Tableau final'!H:K,3,FALSE)<>\"\",VLOOKUP(A29 & CHAR(10) &C29,'Tableau final'!H:K,4,FALSE)=\"x\"),1,\"\")),IF('Tableau final'!$L$5=\"Qualifiés\",IF(ISERROR(VLOOKUP(A29 & CHAR(10) &C29,'Tableau final'!M:P,1,FALSE)),\"\",IF(AND(VLOOKUP(A29 & CHAR(10) &C29,'Tableau final'!M:P,3,FALSE)<>\"\",VLOOKUP(A29 & CHAR(10) &C29,'Tableau final'!M:P,4,FALSE)=\"x\"),1,\"\")),\"\"))),\"\")","v":""},"0",{"$f":"IF(ISERROR(VLOOKUP(AI29,Tirage!A:J,1,FALSE)),\"\",IF(VLOOKUP(AI29,Tirage!A:J,1,FALSE)=\"Office \",3,4))","v":""},{"$f":"IF(AJ29=\"0\",4,IF(AJ29=1,3,IF(AJ29=2,IF(OFFSET('Fiche score'!$A$2,VLOOKUP(RIGHT(AI29,2),Feuil1!A:C,2,FALSE),VLOOKUP(RIGHT(AI29,2),Feuil1!A:C,3,FALSE))=A29 & CHAR(10) & C29,1,2),\"\")))","v":""}]
[null,null,null,null,{"$f":"IF(ISERROR(VLOOKUP(C30,AS!$A:$H,7,FALSE)),\"\",VLOOKUP(C30,AS!$A:$H,7,FALSE))","v":""},{"$f":"IF(ISERROR(VLOOKUP(C30,AS!$A:$H,8,FALSE)),\"\",VLOOKUP(C30,AS!$A:$H,8,FALSE))","v":""},null,null,null,null,{"$f":"IF(ISERROR(VLOOKUP(I30,AS!$A:$H,7,FALSE)),\"\",VLOOKUP(I30,AS!$A:$H,7,FALSE))","v":""},{"$f":"IF(ISERROR(VLOOKUP(I30,AS!$A:$H,8,FALSE)),\"\",VLOOKUP(I30,AS!$A:$H,8,FALSE))","v":""},null,null,null,null,{"$f":"IF(ISERROR(VLOOKUP(O30,AS!$A:$H,7,FALSE)),\"\",VLOOKUP(O30,AS!$A:$H,7,FALSE))","v":""},{"$f":"IF(ISERROR(VLOOKUP(O30,AS!$A:$H,8,FALSE)),\"\",VLOOKUP(O30,AS!$A:$H,8,FALSE))","v":""},null,null,null,null,{"$f":"IF(ISERROR(VLOOKUP(U30,AS!$A:$H,7,FALSE)),\"\",VLOOKUP(U30,AS!$A:$H,7,FALSE))","v":""},{"$f":"IF(ISERROR(VLOOKUP(U30,AS!$A:$H,8,FALSE)),\"\",VLOOKUP(U30,AS!$A:$H,8,FALSE))","v":""},null,null,null,null,{"$f":"IF(ISERROR(VLOOKUP(AA30,AS!$A:$H,7,FALSE)),\"\",VLOOKUP(AA30,AS!$A:$H,7,FALSE))","v":""},{"$f":"IF(ISERROR(VLOOKUP(AA30,AS!$A:$H,8,FALSE)),\"\",VLOOKUP(AA30,AS!$A:$H,8,FALSE))","v":""},null,null,null,"",null,{"$f":"IF(AI30=\"\",\"\",IF(OFFSET('Fiche score'!$A$2,VLOOKUP(RIGHT(AI30,2),Feuil1!A:C,2,FALSE),VLOOKUP(RIGHT(AI30,2),Feuil1!A:C,3,FALSE))=A30 & CHAR(10) & C30,2,IF(OFFSET('Fiche score'!$A$2,VLOOKUP(RIGHT(AI30,2),Feuil1!A:C,2,FALSE)+1,VLOOKUP(RIGHT(AI30,2),Feuil1!A:C,3,FALSE))=A30 & CHAR(10) & C30,2,IF(OFFSET('Fiche score'!$A$2,VLOOKUP(RIGHT(AI30,2),Feuil1!A:C,2,FALSE)-1,VLOOKUP(RIGHT(AI30,2),Feuil1!A:C,3,FALSE))=A30 & CHAR(10) & C30,1,IF(OFFSET('Fiche score'!$A$2,VLOOKUP(RIGHT(AI30,2),Feuil1!A:C,2,FALSE)-2,VLOOKUP(RIGHT(AI30,2),Feuil1!A:C,3,FALSE))=A30 & CHAR(10) & C30,1,\"0\")))))","v":""},{"$f":"IF(ISERROR(VLOOKUP(A30 & CHAR(10) &C30,'Fiche tirage dirigé'!I:I,1,FALSE)),0,1)","v":0},{"$f":"IF(ISERROR(VLOOKUP(A30& CHAR(10) &C30,Cadrage!H:H,1,FALSE)),0,1)","v":0},{"$f":"IF(ISERROR(VLOOKUP(A30 & CHAR(10) &C30,'Tableau final'!V:V,1,FALSE)),0,1)","v":0},{"$f":"IF(ISERROR(VLOOKUP(A30 & CHAR(10) &C30,'Tableau final'!W:W,1,FALSE)),0,1)","v":0},{"$f":"IF(ISERROR(VLOOKUP(A30 & CHAR(10) &C30,'Tableau final'!X:X,1,FALSE)),0,1)","v":0},{"$f":"IF(ISERROR(VLOOKUP(A30 & CHAR(10) &C30,'Tableau final'!Y:Y,1,FALSE)),0,1)","v":0},{"$f":"IF(ISERROR(VLOOKUP(A30 & CHAR(10) &C30,'Tableau final'!Z:Z,1,FALSE)),0,1)","v":0},{"$f":"IF('Tableau final'!$A$1<>\"\",IF('Tableau final'!$B$5=\"Qualifiés\",IF(ISERROR(VLOOKUP(A30 & CHAR(10) &C30,'Tableau final'!C:F,1,FALSE)),\"\",IF(AND(VLOOKUP(A30 & CHAR(10) &C30,'Tableau final'!C:F,3,FALSE)<>\"\",VLOOKUP(A30 & CHAR(10) &C30,'Tableau final'!C:F,4,FALSE)=\"x\"),1,\"\")),IF('Tableau final'!$G$5=\"Qualifiés\",IF(ISERROR(VLOOKUP(A30 & CHAR(10) &C30,'Tableau final'!H:K,1,FALSE)),\"\",IF(AND(VLOOKUP(A30 & CHAR(10) &C30,'Tableau final'!H:K,3,FALSE)<>\"\",VLOOKUP(A30 & CHAR(10) &C30,'Tableau final'!H:K,4,FALSE)=\"x\"),1,\"\")),IF('Tableau final'!$L$5=\"Qualifiés\",IF(ISERROR(VLOOKUP(A30 & CHAR(10) &C30,'Tableau final'!M:P,1,FALSE)),\"\",IF(AND(VLOOKUP(A30 & CHAR(10) &C30,'Tableau final'!M:P,3,FALSE)<>\"\",VLOOKUP(A30 & CHAR(10) &C30,'Tableau final'!M:P,4,FALSE)=\"x\"),1,\"\")),\"\"))),\"\")","v":""},"0",{"$f":"IF(ISERROR(VLOOKUP(AI30,Tirage!A:J,1,FALSE)),\"\",IF(VLOOKUP(AI30,Tirage!A:J,1,FALSE)=\"Office \",3,4))","v":""},{"$f":"IF(AJ30=\"0\",4,IF(AJ30=1,3,IF(AJ30=2,IF(OFFSET('Fiche score'!$A$2,VLOOKUP(RIGHT(AI30,2),Feuil1!A:C,2,FALSE),VLOOKUP(RIGHT(AI30,2),Feuil1!A:C,3,FALSE))=A30 & CHAR(10) & C30,1,2),\"\")))","v":""}]
[null,null,null,null,{"$f":"IF(ISERROR(VLOOKUP(C31,AS!$A:$H,7,FALSE)),\"\",VLOOKUP(C31,AS!$A:$H,7,FALSE))","v":""},{"$f":"IF(ISERROR(VLOOKUP(C31,AS!$A:$H,8,FALSE)),\"\",VLOOKUP(C31,AS!$A:$H,8,FALSE))","v":""},null,null,null,null,{"$f":"IF(ISERROR(VLOOKUP(I31,AS!$A:$H,7,FALSE)),\"\",VLOOKUP(I31,AS!$A:$H,7,FALSE))","v":""},{"$f":"IF(ISERROR(VLOOKUP(I31,AS!$A:$H,8,FALSE)),\"\",VLOOKUP(I31,AS!$A:$H,8,FALSE))","v":""},null,null,null,null,{"$f":"IF(ISERROR(VLOOKUP(O31,AS!$A:$H,7,FALSE)),\"\",VLOOKUP(O31,AS!$A:$H,7,FALSE))","v":""},{"$f":"IF(ISERROR(VLOOKUP(O31,AS!$A:$H,8,FALSE)),\"\",VLOOKUP(O31,AS!$A:$H,8,FALSE))","v":""},null,null,null,null,{"$f":"IF(ISERROR(VLOOKUP(U31,AS!$A:$H,7,FALSE)),\"\",VLOOKUP(U31,AS!$A:$H,7,FALSE))","v":""},{"$f":"IF(ISERROR(VLOOKUP(U31,AS!$A:$H,8,FALSE)),\"\",VLOOKUP(U31,AS!$A:$H,8,FALSE))","v":""},null,null,null,null,{"$f":"IF(ISERROR(VLOOKUP(AA31,AS!$A:$H,7,FALSE)),\"\",VLOOKUP(AA31,AS!$A:$H,7,FALSE))","v":""},{"$f":"IF(ISERROR(VLOOKUP(AA31,AS!$A:$H,8,FALSE)),\"\",VLOOKUP(AA31,AS!$A:$H,8,FALSE))","v":""},null,null,null,"",null,{"$f":"IF(AI31=\"\",\"\",IF(OFFSET('Fiche score'!$A$2,VLOOKUP(RIGHT(AI31,2),Feuil1!A:C,2,FALSE),VLOOKUP(RIGHT(AI31,2),Feuil1!A:C,3,FALSE))=A31 & CHAR(10) & C31,2,IF(OFFSET('Fiche score'!$A$2,VLOOKUP(RIGHT(AI31,2),Feuil1!A:C,2,FALSE)+1,VLOOKUP(RIGHT(AI31,2),Feuil1!A:C,3,FALSE))=A31 & CHAR(10) & C31,2,IF(OFFSET('Fiche score'!$A$2,VLOOKUP(RIGHT(AI31,2),Feuil1!A:C,2,FALSE)-1,VLOOKUP(RIGHT(AI31,2),Feuil1!A:C,3,FALSE))=A31 & CHAR(10) & C31,1,IF(OFFSET('Fiche score'!$A$2,VLOOKUP(RIGHT(AI31,2),Feuil1!A:C,2,FALSE)-2,VLOOKUP(RIGHT(AI31,2),Feuil1!A:C,3,FALSE))=A31 & CHAR(10) & C31,1,\"0\")))))","v":""},{"$f":"IF(ISERROR(VLOOKUP(A31 & CHAR(10) &C31,'Fiche tirage dirigé'!I:I,1,FALSE)),0,1)","v":0},{"$f":"IF(ISERROR(VLOOKUP(A31& CHAR(10) &C31,Cadrage!H:H,1,FALSE)),0,1)","v":0},{"$f":"IF(ISERROR(VLOOKUP(A31 & CHAR(10) &C31,'Tableau final'!V:V,1,FALSE)),0,1)","v":0},{"$f":"IF(ISERROR(VLOOKUP(A31 & CHAR(10) &C31,'Tableau final'!W:W,1,FALSE)),0,1)","v":0},{"$f":"IF(ISERROR(VLOOKUP(A31 & CHAR(10) &C31,'Tableau final'!X:X,1,FALSE)),0,1)","v":0},{"$f":"IF(ISERROR(VLOOKUP(A31 & CHAR(10) &C31,'Tableau final'!Y:Y,1,FALSE)),0,1)","v":0},{"$f":"IF(ISERROR(VLOOKUP(A31 & CHAR(10) &C31,'Tableau final'!Z:Z,1,FALSE)),0,1)","v":0},{"$f":"IF('Tableau final'!$A$1<>\"\",IF('Tableau final'!$B$5=\"Qualifiés\",IF(ISERROR(VLOOKUP(A31 & CHAR(10) &C31,'Tableau final'!C:F,1,FALSE)),\"\",IF(AND(VLOOKUP(A31 & CHAR(10) &C31,'Tableau final'!C:F,3,FALSE)<>\"\",VLOOKUP(A31 & CHAR(10) &C31,'Tableau final'!C:F,4,FALSE)=\"x\"),1,\"\")),IF('Tableau final'!$G$5=\"Qualifiés\",IF(ISERROR(VLOOKUP(A31 & CHAR(10) &C31,'Tableau final'!H:K,1,FALSE)),\"\",IF(AND(VLOOKUP(A31 & CHAR(10) &C31,'Tableau final'!H:K,3,FALSE)<>\"\",VLOOKUP(A31 & CHAR(10) &C31,'Tableau final'!H:K,4,FALSE)=\"x\"),1,\"\")),IF('Tableau final'!$L$5=\"Qualifiés\",IF(ISERROR(VLOOKUP(A31 & CHAR(10) &C31,'Tableau final'!M:P,1,FALSE)),\"\",IF(AND(VLOOKUP(A31 & CHAR(10) &C31,'Tableau final'!M:P,3,FALSE)<>\"\",VLOOKUP(A31 & CHAR(10) &C31,'Tableau final'!M:P,4,FALSE)=\"x\"),1,\"\")),\"\"))),\"\")","v":""},"0",{"$f":"IF(ISERROR(VLOOKUP(AI31,Tirage!A:J,1,FALSE)),\"\",IF(VLOOKUP(AI31,Tirage!A:J,1,FALSE)=\"Office \",3,4))","v":""},{"$f":"IF(AJ31=\"0\",4,IF(AJ31=1,3,IF(AJ31=2,IF(OFFSET('Fiche score'!$A$2,VLOOKUP(RIGHT(AI31,2),Feuil1!A:C,2,FALSE),VLOOKUP(RIGHT(AI31,2),Feuil1!A:C,3,FALSE))=A31 & CHAR(10) & C31,1,2),\"\")))","v":""}]
[null,null,null,null,{"$f":"IF(ISERROR(VLOOKUP(C32,AS!$A:$H,7,FALSE)),\"\",VLOOKUP(C32,AS!$A:$H,7,FALSE))","v":""},{"$f":"IF(ISERROR(VLOOKUP(C32,AS!$A:$H,8,FALSE)),\"\",VLOOKUP(C32,AS!$A:$H,8,FALSE))","v":""},null,null,null,null,{"$f":"IF(ISERROR(VLOOKUP(I32,AS!$A:$H,7,FALSE)),\"\",VLOOKUP(I32,AS!$A:$H,7,FALSE))","v":""},{"$f":"IF(ISERROR(VLOOKUP(I32,AS!$A:$H,8,FALSE)),\"\",VLOOKUP(I32,AS!$A:$H,8,FALSE))","v":""},null,null,null,null,{"$f":"IF(ISERROR(VLOOKUP(O32,AS!$A:$H,7,FALSE)),\"\",VLOOKUP(O32,AS!$A:$H,7,FALSE))","v":""},{"$f":"IF(ISERROR(VLOOKUP(O32,AS!$A:$H,8,FALSE)),\"\",VLOOKUP(O32,AS!$A:$H,8,FALSE))","v":""},null,null,null,null,{"$f":"IF(ISERROR(VLOOKUP(U32,AS!$A:$H,7,FALSE)),\"\",VLOOKUP(U32,AS!$A:$H,7,FALSE))","v":""},{"$f":"IF(ISERROR(VLOOKUP(U32,AS!$A:$H,8,FALSE)),\"\",VLOOKUP(U32,AS!$A:$H,8,FALSE))","v":""},null,null,null,null,{"$f":"IF(ISERROR(VLOOKUP(AA32,AS!$A:$H,7,FALSE)),\"\",VLOOKUP(AA32,AS!$A:$H,7,FALSE))","v":""},{"$f":"IF(ISERROR(VLOOKUP(AA32,AS!$A:$H,8,FALSE)),\"\",VLOOKUP(AA32,AS!$A:$H,8,FALSE))","v":""},null,null,null,"",null,{"$f":"IF(AI32=\"\",\"\",IF(OFFSET('Fiche score'!$A$2,VLOOKUP(RIGHT(AI32,2),Feuil1!A:C,2,FALSE),VLOOKUP(RIGHT(AI32,2),Feuil1!A:C,3,FALSE))=A32 & CHAR(10) & C32,2,IF(OFFSET('Fiche score'!$A$2,VLOOKUP(RIGHT(AI32,2),Feuil1!A:C,2,FALSE)+1,VLOOKUP(RIGHT(AI32,2),Feuil1!A:C,3,FALSE))=A32 & CHAR(10) & C32,2,IF(OFFSET('Fiche score'!$A$2,VLOOKUP(RIGHT(AI32,2),Feuil1!A:C,2,FALSE)-1,VLOOKUP(RIGHT(AI32,2),Feuil1!A:C,3,FALSE))=A32 & CHAR(10) & C32,1,IF(OFFSET('Fiche score'!$A$2,VLOOKUP(RIGHT(AI32,2),Feuil1!A:C,2,FALSE)-2,VLOOKUP(RIGHT(AI32,2),Feuil1!A:C,3,FALSE))=A32 & CHAR(10) & C32,1,\"0\")))))","v":""},{"$f":"IF(ISERROR(VLOOKUP(A32 & CHAR(10) &C32,'Fiche tirage dirigé'!I:I,1,FALSE)),0,1)","v":0},{"$f":"IF(ISERROR(VLOOKUP(A32& CHAR(10) &C32,Cadrage!H:H,1,FALSE)),0,1)","v":0},{"$f":"IF(ISERROR(VLOOKUP(A32 & CHAR(10) &C32,'Tableau final'!V:V,1,FALSE)),0,1)","v":0},{"$f":"IF(ISERROR(VLOOKUP(A32 & CHAR(10) &C32,'Tableau final'!W:W,1,FALSE)),0,1)","v":0},{"$f":"IF(ISERROR(VLOOKUP(A32 & CHAR(10) &C32,'Tableau final'!X:X,1,FALSE)),0,1)","v":0},{"$f":"IF(ISERROR(VLOOKUP(A32 & CHAR(10) &C32,'Tableau final'!Y:Y,1,FALSE)),0,1)","v":0},{"$f":"IF(ISERROR(VLOOKUP(A32 & CHAR(10) &C32,'Tableau final'!Z:Z,1,FALSE)),0,1)","v":0},{"$f":"IF('Tableau final'!$A$1<>\"\",IF('Tableau final'!$B$5=\"Qualifiés\",IF(ISERROR(VLOOKUP(A32 & CHAR(10) &C32,'Tableau final'!C:F,1,FALSE)),\"\",IF(AND(VLOOKUP(A32 & CHAR(10) &C32,'Tableau final'!C:F,3,FALSE)<>\"\",VLOOKUP(A32 & CHAR(10) &C32,'Tableau final'!C:F,4,FALSE)=\"x\"),1,\"\")),IF('Tableau final'!$G$5=\"Qualifiés\",IF(ISERROR(VLOOKUP(A32 & CHAR(10) &C32,'Tableau final'!H:K,1,FALSE)),\"\",IF(AND(VLOOKUP(A32 & CHAR(10) &C32,'Tableau final'!H:K,3,FALSE)<>\"\",VLOOKUP(A32 & CHAR(10) &C32,'Tableau final'!H:K,4,FALSE)=\"x\"),1,\"\")),IF('Tableau final'!$L$5=\"Qualifiés\",IF(ISERROR(VLOOKUP(A32 & CHAR(10) &C32,'Tableau final'!M:P,1,FALSE)),\"\",IF(AND(VLOOKUP(A32 & CHAR(10) &C32,'Tableau final'!M:P,3,FALSE)<>\"\",VLOOKUP(A32 & CHAR(10) &C32,'Tableau final'!M:P,4,FALSE)=\"x\"),1,\"\")),\"\"))),\"\")","v":""},"0",{"$f":"IF(ISERROR(VLOOKUP(AI32,Tirage!A:J,1,FALSE)),\"\",IF(VLOOKUP(AI32,Tirage!A:J,1,FALSE)=\"Office \",3,4))","v":""},{"$f":"IF(AJ32=\"0\",4,IF(AJ32=1,3,IF(AJ32=2,IF(OFFSET('Fiche score'!$A$2,VLOOKUP(RIGHT(AI32,2),Feuil1!A:C,2,FALSE),VLOOKUP(RIGHT(AI32,2),Feuil1!A:C,3,FALSE))=A32 & CHAR(10) & C32,1,2),\"\")))","v":""}]
[null,null,null,null,{"$f":"IF(ISERROR(VLOOKUP(C33,AS!$A:$H,7,FALSE)),\"\",VLOOKUP(C33,AS!$A:$H,7,FALSE))","v":""},{"$f":"IF(ISERROR(VLOOKUP(C33,AS!$A:$H,8,FALSE)),\"\",VLOOKUP(C33,AS!$A:$H,8,FALSE))","v":""},null,null,null,null,{"$f":"IF(ISERROR(VLOOKUP(I33,AS!$A:$H,7,FALSE)),\"\",VLOOKUP(I33,AS!$A:$H,7,FALSE))","v":""},{"$f":"IF(ISERROR(VLOOKUP(I33,AS!$A:$H,8,FALSE)),\"\",VLOOKUP(I33,AS!$A:$H,8,FALSE))","v":""},null,null,null,null,{"$f":"IF(ISERROR(VLOOKUP(O33,AS!$A:$H,7,FALSE)),\"\",VLOOKUP(O33,AS!$A:$H,7,FALSE))","v":""},{"$f":"IF(ISERROR(VLOOKUP(O33,AS!$A:$H,8,FALSE)),\"\",VLOOKUP(O33,AS!$A:$H,8,FALSE))","v":""},null,null,null,null,{"$f":"IF(ISERROR(VLOOKUP(U33,AS!$A:$H,7,FALSE)),\"\",VLOOKUP(U33,AS!$A:$H,7,FALSE))","v":""},{"$f":"IF(ISERROR(VLOOKUP(U33,AS!$A:$H,8,FALSE)),\"\",VLOOKUP(U33,AS!$A:$H,8,FALSE))","v":""},null,null,null,null,{"$f":"IF(ISERROR(VLOOKUP(AA33,AS!$A:$H,7,FALSE)),\"\",VLOOKUP(AA33,AS!$A:$H,7,FALSE))","v":""},{"$f":"IF(ISERROR(VLOOKUP(AA33,AS!$A:$H,8,FALSE)),\"\",VLOOKUP(AA33,AS!$A:$H,8,FALSE))","v":""},null,null,null,"",null,{"$f":"IF(AI33=\"\",\"\",IF(OFFSET('Fiche score'!$A$2,VLOOKUP(RIGHT(AI33,2),Feuil1!A:C,2,FALSE),VLOOKUP(RIGHT(AI33,2),Feuil1!A:C,3,FALSE))=A33 & CHAR(10) & C33,2,IF(OFFSET('Fiche score'!$A$2,VLOOKUP(RIGHT(AI33,2),Feuil1!A:C,2,FALSE)+1,VLOOKUP(RIGHT(AI33,2),Feuil1!A:C,3,FALSE))=A33 & CHAR(10) & C33,2,IF(OFFSET('Fiche score'!$A$2,VLOOKUP(RIGHT(AI33,2),Feuil1!A:C,2,FALSE)-1,VLOOKUP(RIGHT(AI33,2),Feuil1!A:C,3,FALSE))=A33 & CHAR(10) & C33,1,IF(OFFSET('Fiche score'!$A$2,VLOOKUP(RIGHT(AI33,2),Feuil1!A:C,2,FALSE)-2,VLOOKUP(RIGHT(AI33,2),Feuil1!A:C,3,FALSE))=A33 & CHAR(10) & C33,1,\"0\")))))","v":""},{"$f":"IF(ISERROR(VLOOKUP(A33 & CHAR(10) &C33,'Fiche tirage dirigé'!I:I,1,FALSE)),0,1)","v":0},{"$f":"IF(ISERROR(VLOOKUP(A33& CHAR(10) &C33,Cadrage!H:H,1,FALSE)),0,1)","v":0},{"$f":"IF(ISERROR(VLOOKUP(A33 & CHAR(10) &C33,'Tableau final'!V:V,1,FALSE)),0,1)","v":0},{"$f":"IF(ISERROR(VLOOKUP(A33 & CHAR(10) &C33,'Tableau final'!W:W,1,FALSE)),0,1)","v":0},{"$f":"IF(ISERROR(VLOOKUP(A33 & CHAR(10) &C33,'Tableau final'!X:X,1,FALSE)),0,1)","v":0},{"$f":"IF(ISERROR(VLOOKUP(A33 & CHAR(10) &C33,'Tableau final'!Y:Y,1,FALSE)),0,1)","v":0},{"$f":"IF(ISERROR(VLOOKUP(A33 & CHAR(10) &C33,'Tableau final'!Z:Z,1,FALSE)),0,1)","v":0},{"$f":"IF('Tableau final'!$A$1<>\"\",IF('Tableau final'!$B$5=\"Qualifiés\",IF(ISERROR(VLOOKUP(A33 & CHAR(10) &C33,'Tableau final'!C:F,1,FALSE)),\"\",IF(AND(VLOOKUP(A33 & CHAR(10) &C33,'Tableau final'!C:F,3,FALSE)<>\"\",VLOOKUP(A33 & CHAR(10) &C33,'Tableau final'!C:F,4,FALSE)=\"x\"),1,\"\")),IF('Tableau final'!$G$5=\"Qualifiés\",IF(ISERROR(VLOOKUP(A33 & CHAR(10) &C33,'Tableau final'!H:K,1,FALSE)),\"\",IF(AND(VLOOKUP(A33 & CHAR(10) &C33,'Tableau final'!H:K,3,FALSE)<>\"\",VLOOKUP(A33 & CHAR(10) &C33,'Tableau final'!H:K,4,FALSE)=\"x\"),1,\"\")),IF('Tableau final'!$L$5=\"Qualifiés\",IF(ISERROR(VLOOKUP(A33 & CHAR(10) &C33,'Tableau final'!M:P,1,FALSE)),\"\",IF(AND(VLOOKUP(A33 & CHAR(10) &C33,'Tableau final'!M:P,3,FALSE)<>\"\",VLOOKUP(A33 & CHAR(10) &C33,'Tableau final'!M:P,4,FALSE)=\"x\"),1,\"\")),\"\"))),\"\")","v":""},"0",{"$f":"IF(ISERROR(VLOOKUP(AI33,Tirage!A:J,1,FALSE)),\"\",IF(VLOOKUP(AI33,Tirage!A:J,1,FALSE)=\"Office \",3,4))","v":""},{"$f":"IF(AJ33=\"0\",4,IF(AJ33=1,3,IF(AJ33=2,IF(OFFSET('Fiche score'!$A$2,VLOOKUP(RIGHT(AI33,2),Feuil1!A:C,2,FALSE),VLOOKUP(RIGHT(AI33,2),Feuil1!A:C,3,FALSE))=A33 & CHAR(10) & C33,1,2),\"\")))","v":""}]
[null,null,null,null,{"$f":"IF(ISERROR(VLOOKUP(C34,AS!$A:$H,7,FALSE)),\"\",VLOOKUP(C34,AS!$A:$H,7,FALSE))","v":""},{"$f":"IF(ISERROR(VLOOKUP(C34,AS!$A:$H,8,FALSE)),\"\",VLOOKUP(C34,AS!$A:$H,8,FALSE))","v":""},null,null,null,null,{"$f":"IF(ISERROR(VLOOKUP(I34,AS!$A:$H,7,FALSE)),\"\",VLOOKUP(I34,AS!$A:$H,7,FALSE))","v":""},{"$f":"IF(ISERROR(VLOOKUP(I34,AS!$A:$H,8,FALSE)),\"\",VLOOKUP(I34,AS!$A:$H,8,FALSE))","v":""},null,null,null,null,{"$f":"IF(ISERROR(VLOOKUP(O34,AS!$A:$H,7,FALSE)),\"\",VLOOKUP(O34,AS!$A:$H,7,FALSE))","v":""},{"$f":"IF(ISERROR(VLOOKUP(O34,AS!$A:$H,8,FALSE)),\"\",VLOOKUP(O34,AS!$A:$H,8,FALSE))","v":""},null,null,null,null,{"$f":"IF(ISERROR(VLOOKUP(U34,AS!$A:$H,7,FALSE)),\"\",VLOOKUP(U34,AS!$A:$H,7,FALSE))","v":""},{"$f":"IF(ISERROR(VLOOKUP(U34,AS!$A:$H,8,FALSE)),\"\",VLOOKUP(U34,AS!$A:$H,8,FALSE))","v":""},null,null,null,null,{"$f":"IF(ISERROR(VLOOKUP(AA34,AS!$A:$H,7,FALSE)),\"\",VLOOKUP(AA34,AS!$A:$H,7,FALSE))","v":""},{"$f":"IF(ISERROR(VLOOKUP(AA34,AS!$A:$H,8,FALSE)),\"\",VLOOKUP(AA34,AS!$A:$H,8,FALSE))","v":""},null,null,null,"",null,{"$f":"IF(AI34=\"\",\"\",IF(OFFSET('Fiche score'!$A$2,VLOOKUP(RIGHT(AI34,2),Feuil1!A:C,2,FALSE),VLOOKUP(RIGHT(AI34,2),Feuil1!A:C,3,FALSE))=A34 & CHAR(10) & C34,2,IF(OFFSET('Fiche score'!$A$2,VLOOKUP(RIGHT(AI34,2),Feuil1!A:C,2,FALSE)+1,VLOOKUP(RIGHT(AI34,2),Feuil1!A:C,3,FALSE))=A34 & CHAR(10) & C34,2,IF(OFFSET('Fiche score'!$A$2,VLOOKUP(RIGHT(AI34,2),Feuil1!A:C,2,FALSE)-1,VLOOKUP(RIGHT(AI34,2),Feuil1!A:C,3,FALSE))=A34 & CHAR(10) & C34,1,IF(OFFSET('Fiche score'!$A$2,VLOOKUP(RIGHT(AI34,2),Feuil1!A:C,2,FALSE)-2,VLOOKUP(RIGHT(AI34,2),Feuil1!A:C,3,FALSE))=A34 & CHAR(10) & C34,1,\"0\")))))","v":""},{"$f":"IF(ISERROR(VLOOKUP(A34 & CHAR(10) &C34,'Fiche tirage dirigé'!I:I,1,FALSE)),0,1)","v":0},{"$f":"IF(ISERROR(VLOOKUP(A34& CHAR(10) &C34,Cadrage!H:H,1,FALSE)),0,1)","v":0},{"$f":"IF(ISERROR(VLOOKUP(A34 & CHAR(10) &C34,'Tableau final'!V:V,1,FALSE)),0,1)","v":0},{"$f":"IF(ISERROR(VLOOKUP(A34 & CHAR(10) &C34,'Tableau final'!W:W,1,FALSE)),0,1)","v":0},{"$f":"IF(ISERROR(VLOOKUP(A34 & CHAR(10) &C34,'Tableau final'!X:X,1,FALSE)),0,1)","v":0},{"$f":"IF(ISERROR(VLOOKUP(A34 & CHAR(10) &C34,'Tableau final'!Y:Y,1,FALSE)),0,1)","v":0},{"$f":"IF(ISERROR(VLOOKUP(A34 & CHAR(10) &C34,'Tableau final'!Z:Z,1,FALSE)),0,1)","v":0},{"$f":"IF('Tableau final'!$A$1<>\"\",IF('Tableau final'!$B$5=\"Qualifiés\",IF(ISERROR(VLOOKUP(A34 & CHAR(10) &C34,'Tableau final'!C:F,1,FALSE)),\"\",IF(AND(VLOOKUP(A34 & CHAR(10) &C34,'Tableau final'!C:F,3,FALSE)<>\"\",VLOOKUP(A34 & CHAR(10) &C34,'Tableau final'!C:F,4,FALSE)=\"x\"),1,\"\")),IF('Tableau final'!$G$5=\"Qualifiés\",IF(ISERROR(VLOOKUP(A34 & CHAR(10) &C34,'Tableau final'!H:K,1,FALSE)),\"\",IF(AND(VLOOKUP(A34 & CHAR(10) &C34,'Tableau final'!H:K,3,FALSE)<>\"\",VLOOKUP(A34 & CHAR(10) &C34,'Tableau final'!H:K,4,FALSE)=\"x\"),1,\"\")),IF('Tableau final'!$L$5=\"Qualifiés\",IF(ISERROR(VLOOKUP(A34 & CHAR(10) &C34,'Tableau final'!M:P,1,FALSE)),\"\",IF(AND(VLOOKUP(A34 & CHAR(10) &C34,'Tableau final'!M:P,3,FALSE)<>\"\",VLOOKUP(A34 & CHAR(10) &C34,'Tableau final'!M:P,4,FALSE)=\"x\"),1,\"\")),\"\"))),\"\")","v":""},"0",{"$f":"IF(ISERROR(VLOOKUP(AI34,Tirage!A:J,1,FALSE)),\"\",IF(VLOOKUP(AI34,Tirage!A:J,1,FALSE)=\"Office \",3,4))","v":""},{"$f":"IF(AJ34=\"0\",4,IF(AJ34=1,3,IF(AJ34=2,IF(OFFSET('Fiche score'!$A$2,VLOOKUP(RIGHT(AI34,2),Feuil1!A:C,2,FALSE),VLOOKUP(RIGHT(AI34,2),Feuil1!A:C,3,FALSE))=A34 & CHAR(10) & C34,1,2),\"\")))","v":""}]
[null,null,null,null,{"$f":"IF(ISERROR(VLOOKUP(C35,AS!$A:$H,7,FALSE)),\"\",VLOOKUP(C35,AS!$A:$H,7,FALSE))","v":""},{"$f":"IF(ISERROR(VLOOKUP(C35,AS!$A:$H,8,FALSE)),\"\",VLOOKUP(C35,AS!$A:$H,8,FALSE))","v":""},null,null,null,null,{"$f":"IF(ISERROR(VLOOKUP(I35,AS!$A:$H,7,FALSE)),\"\",VLOOKUP(I35,AS!$A:$H,7,FALSE))","v":""},{"$f":"IF(ISERROR(VLOOKUP(I35,AS!$A:$H,8,FALSE)),\"\",VLOOKUP(I35,AS!$A:$H,8,FALSE))","v":""},null,null,null,null,{"$f":"IF(ISERROR(VLOOKUP(O35,AS!$A:$H,7,FALSE)),\"\",VLOOKUP(O35,AS!$A:$H,7,FALSE))","v":""},{"$f":"IF(ISERROR(VLOOKUP(O35,AS!$A:$H,8,FALSE)),\"\",VLOOKUP(O35,AS!$A:$H,8,FALSE))","v":""},null,null,null,null,{"$f":"IF(ISERROR(VLOOKUP(U35,AS!$A:$H,7,FALSE)),\"\",VLOOKUP(U35,AS!$A:$H,7,FALSE))","v":""},{"$f":"IF(ISERROR(VLOOKUP(U35,AS!$A:$H,8,FALSE)),\"\",VLOOKUP(U35,AS!$A:$H,8,FALSE))","v":""},null,null,null,null,{"$f":"IF(ISERROR(VLOOKUP(AA35,AS!$A:$H,7,FALSE)),\"\",VLOOKUP(AA35,AS!$A:$H,7,FALSE))","v":""},{"$f":"IF(ISERROR(VLOOKUP(AA35,AS!$A:$H,8,FALSE)),\"\",VLOOKUP(AA35,AS!$A:$H,8,FALSE))","v":""},null,null,null,"",null,{"$f":"IF(AI35=\"\",\"\",IF(OFFSET('Fiche score'!$A$2,VLOOKUP(RIGHT(AI35,2),Feuil1!A:C,2,FALSE),VLOOKUP(RIGHT(AI35,2),Feuil1!A:C,3,FALSE))=A35 & CHAR(10) & C35,2,IF(OFFSET('Fiche score'!$A$2,VLOOKUP(RIGHT(AI35,2),Feuil1!A:C,2,FALSE)+1,VLOOKUP(RIGHT(AI35,2),Feuil1!A:C,3,FALSE))=A35 & CHAR(10) & C35,2,IF(OFFSET('Fiche score'!$A$2,VLOOKUP(RIGHT(AI35,2),Feuil1!A:C,2,FALSE)-1,VLOOKUP(RIGHT(AI35,2),Feuil1!A:C,3,FALSE))=A35 & CHAR(10) & C35,1,IF(OFFSET('Fiche score'!$A$2,VLOOKUP(RIGHT(AI35,2),Feuil1!A:C,2,FALSE)-2,VLOOKUP(RIGHT(AI35,2),Feuil1!A:C,3,FALSE))=A35 & CHAR(10) & C35,1,\"0\")))))","v":""},{"$f":"IF(ISERROR(VLOOKUP(A35 & CHAR(10) &C35,'Fiche tirage dirigé'!I:I,1,FALSE)),0,1)","v":0},{"$f":"IF(ISERROR(VLOOKUP(A35& CHAR(10) &C35,Cadrage!H:H,1,FALSE)),0,1)","v":0},{"$f":"IF(ISERROR(VLOOKUP(A35 & CHAR(10) &C35,'Tableau final'!V:V,1,FALSE)),0,1)","v":0},{"$f":"IF(ISERROR(VLOOKUP(A35 & CHAR(10) &C35,'Tableau final'!W:W,1,FALSE)),0,1)","v":0},{"$f":"IF(ISERROR(VLOOKUP(A35 & CHAR(10) &C35,'Tableau final'!X:X,1,FALSE)),0,1)","v":0},{"$f":"IF(ISERROR(VLOOKUP(A35 & CHAR(10) &C35,'Tableau final'!Y:Y,1,FALSE)),0,1)","v":0},{"$f":"IF(ISERROR(VLOOKUP(A35 & CHAR(10) &C35,'Tableau final'!Z:Z,1,FALSE)),0,1)","v":0},{"$f":"IF('Tableau final'!$A$1<>\"\",IF('Tableau final'!$B$5=\"Qualifiés\",IF(ISERROR(VLOOKUP(A35 & CHAR(10) &C35,'Tableau final'!C:F,1,FALSE)),\"\",IF(AND(VLOOKUP(A35 & CHAR(10) &C35,'Tableau final'!C:F,3,FALSE)<>\"\",VLOOKUP(A35 & CHAR(10) &C35,'Tableau final'!C:F,4,FALSE)=\"x\"),1,\"\")),IF('Tableau final'!$G$5=\"Qualifiés\",IF(ISERROR(VLOOKUP(A35 & CHAR(10) &C35,'Tableau final'!H:K,1,FALSE)),\"\",IF(AND(VLOOKUP(A35 & CHAR(10) &C35,'Tableau final'!H:K,3,FALSE)<>\"\",VLOOKUP(A35 & CHAR(10) &C35,'Tableau final'!H:K,4,FALSE)=\"x\"),1,\"\")),IF('Tableau final'!$L$5=\"Qualifiés\",IF(ISERROR(VLOOKUP(A35 & CHAR(10) &C35,'Tableau final'!M:P,1,FALSE)),\"\",IF(AND(VLOOKUP(A35 & CHAR(10) &C35,'Tableau final'!M:P,3,FALSE)<>\"\",VLOOKUP(A35 & CHAR(10) &C35,'Tableau final'!M:P,4,FALSE)=\"x\"),1,\"\")),\"\"))),\"\")","v":""},"0",{"$f":"IF(ISERROR(VLOOKUP(AI35,Tirage!A:J,1,FALSE)),\"\",IF(VLOOKUP(AI35,Tirage!A:J,1,FALSE)=\"Office \",3,4))","v":""},{"$f":"IF(AJ35=\"0\",4,IF(AJ35=1,3,IF(AJ35=2,IF(OFFSET('Fiche score'!$A$2,VLOOKUP(RIGHT(AI35,2),Feuil1!A:C,2,FALSE),VLOOKUP(RIGHT(AI35,2),Feuil1!A:C,3,FALSE))=A35 & CHAR(10) & C35,1,2),\"\")))","v":""}]
[null,null,null,null,{"$f":"IF(ISERROR(VLOOKUP(C36,AS!$A:$H,7,FALSE)),\"\",VLOOKUP(C36,AS!$A:$H,7,FALSE))","v":""},{"$f":"IF(ISERROR(VLOOKUP(C36,AS!$A:$H,8,FALSE)),\"\",VLOOKUP(C36,AS!$A:$H,8,FALSE))","v":""},null,null,null,null,{"$f":"IF(ISERROR(VLOOKUP(I36,AS!$A:$H,7,FALSE)),\"\",VLOOKUP(I36,AS!$A:$H,7,FALSE))","v":""},{"$f":"IF(ISERROR(VLOOKUP(I36,AS!$A:$H,8,FALSE)),\"\",VLOOKUP(I36,AS!$A:$H,8,FALSE))","v":""},null,null,null,null,{"$f":"IF(ISERROR(VLOOKUP(O36,AS!$A:$H,7,FALSE)),\"\",VLOOKUP(O36,AS!$A:$H,7,FALSE))","v":""},{"$f":"IF(ISERROR(VLOOKUP(O36,AS!$A:$H,8,FALSE)),\"\",VLOOKUP(O36,AS!$A:$H,8,FALSE))","v":""},null,null,null,null,{"$f":"IF(ISERROR(VLOOKUP(U36,AS!$A:$H,7,FALSE)),\"\",VLOOKUP(U36,AS!$A:$H,7,FALSE))","v":""},{"$f":"IF(ISERROR(VLOOKUP(U36,AS!$A:$H,8,FALSE)),\"\",VLOOKUP(U36,AS!$A:$H,8,FALSE))","v":""},null,null,null,null,{"$f":"IF(ISERROR(VLOOKUP(AA36,AS!$A:$H,7,FALSE)),\"\",VLOOKUP(AA36,AS!$A:$H,7,FALSE))","v":""},{"$f":"IF(ISERROR(VLOOKUP(AA36,AS!$A:$H,8,FALSE)),\"\",VLOOKUP(AA36,AS!$A:$H,8,FALSE))","v":""},null,null,null,"",null,{"$f":"IF(AI36=\"\",\"\",IF(OFFSET('Fiche score'!$A$2,VLOOKUP(RIGHT(AI36,2),Feuil1!A:C,2,FALSE),VLOOKUP(RIGHT(AI36,2),Feuil1!A:C,3,FALSE))=A36 & CHAR(10) & C36,2,IF(OFFSET('Fiche score'!$A$2,VLOOKUP(RIGHT(AI36,2),Feuil1!A:C,2,FALSE)+1,VLOOKUP(RIGHT(AI36,2),Feuil1!A:C,3,FALSE))=A36 & CHAR(10) & C36,2,IF(OFFSET('Fiche score'!$A$2,VLOOKUP(RIGHT(AI36,2),Feuil1!A:C,2,FALSE)-1,VLOOKUP(RIGHT(AI36,2),Feuil1!A:C,3,FALSE))=A36 & CHAR(10) & C36,1,IF(OFFSET('Fiche score'!$A$2,VLOOKUP(RIGHT(AI36,2),Feuil1!A:C,2,FALSE)-2,VLOOKUP(RIGHT(AI36,2),Feuil1!A:C,3,FALSE))=A36 & CHAR(10) & C36,1,\"0\")))))","v":""},{"$f":"IF(ISERROR(VLOOKUP(A36 & CHAR(10) &C36,'Fiche tirage dirigé'!I:I,1,FALSE)),0,1)","v":0},{"$f":"IF(ISERROR(VLOOKUP(A36& CHAR(10) &C36,Cadrage!H:H,1,FALSE)),0,1)","v":0},{"$f":"IF(ISERROR(VLOOKUP(A36 & CHAR(10) &C36,'Tableau final'!V:V,1,FALSE)),0,1)","v":0},{"$f":"IF(ISERROR(VLOOKUP(A36 & CHAR(10) &C36,'Tableau final'!W:W,1,FALSE)),0,1)","v":0},{"$f":"IF(ISERROR(VLOOKUP(A36 & CHAR(10) &C36,'Tableau final'!X:X,1,FALSE)),0,1)","v":0},{"$f":"IF(ISERROR(VLOOKUP(A36 & CHAR(10) &C36,'Tableau final'!Y:Y,1,FALSE)),0,1)","v":0},{"$f":"IF(ISERROR(VLOOKUP(A36 & CHAR(10) &C36,'Tableau final'!Z:Z,1,FALSE)),0,1)","v":0},{"$f":"IF('Tableau final'!$A$1<>\"\",IF('Tableau final'!$B$5=\"Qualifiés\",IF(ISERROR(VLOOKUP(A36 & CHAR(10) &C36,'Tableau final'!C:F,1,FALSE)),\"\",IF(AND(VLOOKUP(A36 & CHAR(10) &C36,'Tableau final'!C:F,3,FALSE)<>\"\",VLOOKUP(A36 & CHAR(10) &C36,'Tableau final'!C:F,4,FALSE)=\"x\"),1,\"\")),IF('Tableau final'!$G$5=\"Qualifiés\",IF(ISERROR(VLOOKUP(A36 & CHAR(10) &C36,'Tableau final'!H:K,1,FALSE)),\"\",IF(AND(VLOOKUP(A36 & CHAR(10) &C36,'Tableau final'!H:K,3,FALSE)<>\"\",VLOOKUP(A36 & CHAR(10) &C36,'Tableau final'!H:K,4,FALSE)=\"x\"),1,\"\")),IF('Tableau final'!$L$5=\"Qualifiés\",IF(ISERROR(VLOOKUP(A36 & CHAR(10) &C36,'Tableau final'!M:P,1,FALSE)),\"\",IF(AND(VLOOKUP(A36 & CHAR(10) &C36,'Tableau final'!M:P,3,FALSE)<>\"\",VLOOKUP(A36 & CHAR(10) &C36,'Tableau final'!M:P,4,FALSE)=\"x\"),1,\"\")),\"\"))),\"\")","v":""},"0",{"$f":"IF(ISERROR(VLOOKUP(AI36,Tirage!A:J,1,FALSE)),\"\",IF(VLOOKUP(AI36,Tirage!A:J,1,FALSE)=\"Office \",3,4))","v":""},{"$f":"IF(AJ36=\"0\",4,IF(AJ36=1,3,IF(AJ36=2,IF(OFFSET('Fiche score'!$A$2,VLOOKUP(RIGHT(AI36,2),Feuil1!A:C,2,FALSE),VLOOKUP(RIGHT(AI36,2),Feuil1!A:C,3,FALSE))=A36 & CHAR(10) & C36,1,2),\"\")))","v":""}]
[null,null,null,null,{"$f":"IF(ISERROR(VLOOKUP(C37,AS!$A:$H,7,FALSE)),\"\",VLOOKUP(C37,AS!$A:$H,7,FALSE))","v":""},{"$f":"IF(ISERROR(VLOOKUP(C37,AS!$A:$H,8,FALSE)),\"\",VLOOKUP(C37,AS!$A:$H,8,FALSE))","v":""},null,null,null,null,{"$f":"IF(ISERROR(VLOOKUP(I37,AS!$A:$H,7,FALSE)),\"\",VLOOKUP(I37,AS!$A:$H,7,FALSE))","v":""},{"$f":"IF(ISERROR(VLOOKUP(I37,AS!$A:$H,8,FALSE)),\"\",VLOOKUP(I37,AS!$A:$H,8,FALSE))","v":""},null,null,null,null,{"$f":"IF(ISERROR(VLOOKUP(O37,AS!$A:$H,7,FALSE)),\"\",VLOOKUP(O37,AS!$A:$H,7,FALSE))","v":""},{"$f":"IF(ISERROR(VLOOKUP(O37,AS!$A:$H,8,FALSE)),\"\",VLOOKUP(O37,AS!$A:$H,8,FALSE))","v":""},null,null,null,null,{"$f":"IF(ISERROR(VLOOKUP(U37,AS!$A:$H,7,FALSE)),\"\",VLOOKUP(U37,AS!$A:$H,7,FALSE))","v":""},{"$f":"IF(ISERROR(VLOOKUP(U37,AS!$A:$H,8,FALSE)),\"\",VLOOKUP(U37,AS!$A:$H,8,FALSE))","v":""},null,null,null,null,{"$f":"IF(ISERROR(VLOOKUP(AA37,AS!$A:$H,7,FALSE)),\"\",VLOOKUP(AA37,AS!$A:$H,7,FALSE))","v":""},{"$f":"IF(ISERROR(VLOOKUP(AA37,AS!$A:$H,8,FALSE)),\"\",VLOOKUP(AA37,AS!$A:$H,8,FALSE))","v":""},null,null,null,"",null,{"$f":"IF(AI37=\"\",\"\",IF(OFFSET('Fiche score'!$A$2,VLOOKUP(RIGHT(AI37,2),Feuil1!A:C,2,FALSE),VLOOKUP(RIGHT(AI37,2),Feuil1!A:C,3,FALSE))=A37 & CHAR(10) & C37,2,IF(OFFSET('Fiche score'!$A$2,VLOOKUP(RIGHT(AI37,2),Feuil1!A:C,2,FALSE)+1,VLOOKUP(RIGHT(AI37,2),Feuil1!A:C,3,FALSE))=A37 & CHAR(10) & C37,2,IF(OFFSET('Fiche score'!$A$2,VLOOKUP(RIGHT(AI37,2),Feuil1!A:C,2,FALSE)-1,VLOOKUP(RIGHT(AI37,2),Feuil1!A:C,3,FALSE))=A37 & CHAR(10) & C37,1,IF(OFFSET('Fiche score'!$A$2,VLOOKUP(RIGHT(AI37,2),Feuil1!A:C,2,FALSE)-2,VLOOKUP(RIGHT(AI37,2),Feuil1!A:C,3,FALSE))=A37 & CHAR(10) & C37,1,\"0\")))))","v":""},{"$f":"IF(ISERROR(VLOOKUP(A37 & CHAR(10) &C37,'Fiche tirage dirigé'!I:I,1,FALSE)),0,1)","v":0},{"$f":"IF(ISERROR(VLOOKUP(A37& CHAR(10) &C37,Cadrage!H:H,1,FALSE)),0,1)","v":0},{"$f":"IF(ISERROR(VLOOKUP(A37 & CHAR(10) &C37,'Tableau final'!V:V,1,FALSE)),0,1)","v":0},{"$f":"IF(ISERROR(VLOOKUP(A37 & CHAR(10) &C37,'Tableau final'!W:W,1,FALSE)),0,1)","v":0},{"$f":"IF(ISERROR(VLOOKUP(A37 & CHAR(10) &C37,'Tableau final'!X:X,1,FALSE)),0,1)","v":0},{"$f":"IF(ISERROR(VLOOKUP(A37 & CHAR(10) &C37,'Tableau final'!Y:Y,1,FALSE)),0,1)","v":0},{"$f":"IF(ISERROR(VLOOKUP(A37 & CHAR(10) &C37,'Tableau final'!Z:Z,1,FALSE)),0,1)","v":0},{"$f":"IF('Tableau final'!$A$1<>\"\",IF('Tableau final'!$B$5=\"Qualifiés\",IF(ISERROR(VLOOKUP(A37 & CHAR(10) &C37,'Tableau final'!C:F,1,FALSE)),\"\",IF(AND(VLOOKUP(A37 & CHAR(10) &C37,'Tableau final'!C:F,3,FALSE)<>\"\",VLOOKUP(A37 & CHAR(10) &C37,'Tableau final'!C:F,4,FALSE)=\"x\"),1,\"\")),IF('Tableau final'!$G$5=\"Qualifiés\",IF(ISERROR(VLOOKUP(A37 & CHAR(10) &C37,'Tableau final'!H:K,1,FALSE)),\"\",IF(AND(VLOOKUP(A37 & CHAR(10) &C37,'Tableau final'!H:K,3,FALSE)<>\"\",VLOOKUP(A37 & CHAR(10) &C37,'Tableau final'!H:K,4,FALSE)=\"x\"),1,\"\")),IF('Tableau final'!$L$5=\"Qualifiés\",IF(ISERROR(VLOOKUP(A37 & CHAR(10) &C37,'Tableau final'!M:P,1,FALSE)),\"\",IF(AND(VLOOKUP(A37 & CHAR(10) &C37,'Tableau final'!M:P,3,FALSE)<>\"\",VLOOKUP(A37 & CHAR(10) &C37,'Tableau final'!M:P,4,FALSE)=\"x\"),1,\"\")),\"\"))),\"\")","v":""},"0",{"$f":"IF(ISERROR(VLOOKUP(AI37,Tirage!A:J,1,FALSE)),\"\",IF(VLOOKUP(AI37,Tirage!A:J,1,FALSE)=\"Office \",3,4))","v":""},{"$f":"IF(AJ37=\"0\",4,IF(AJ37=1,3,IF(AJ37=2,IF(OFFSET('Fiche score'!$A$2,VLOOKUP(RIGHT(AI37,2),Feuil1!A:C,2,FALSE),VLOOKUP(RIGHT(AI37,2),Feuil1!A:C,3,FALSE))=A37 & CHAR(10) & C37,1,2),\"\")))","v":""}]
[null,null,null,null,{"$f":"IF(ISERROR(VLOOKUP(C38,AS!$A:$H,7,FALSE)),\"\",VLOOKUP(C38,AS!$A:$H,7,FALSE))","v":""},{"$f":"IF(ISERROR(VLOOKUP(C38,AS!$A:$H,8,FALSE)),\"\",VLOOKUP(C38,AS!$A:$H,8,FALSE))","v":""},null,null,null,null,{"$f":"IF(ISERROR(VLOOKUP(I38,AS!$A:$H,7,FALSE)),\"\",VLOOKUP(I38,AS!$A:$H,7,FALSE))","v":""},{"$f":"IF(ISERROR(VLOOKUP(I38,AS!$A:$H,8,FALSE)),\"\",VLOOKUP(I38,AS!$A:$H,8,FALSE))","v":""},null,null,null,null,{"$f":"IF(ISERROR(VLOOKUP(O38,AS!$A:$H,7,FALSE)),\"\",VLOOKUP(O38,AS!$A:$H,7,FALSE))","v":""},{"$f":"IF(ISERROR(VLOOKUP(O38,AS!$A:$H,8,FALSE)),\"\",VLOOKUP(O38,AS!$A:$H,8,FALSE))","v":""},null,null,null,null,{"$f":"IF(ISERROR(VLOOKUP(U38,AS!$A:$H,7,FALSE)),\"\",VLOOKUP(U38,AS!$A:$H,7,FALSE))","v":""},{"$f":"IF(ISERROR(VLOOKUP(U38,AS!$A:$H,8,FALSE)),\"\",VLOOKUP(U38,AS!$A:$H,8,FALSE))","v":""},null,null,null,null,{"$f":"IF(ISERROR(VLOOKUP(AA38,AS!$A:$H,7,FALSE)),\"\",VLOOKUP(AA38,AS!$A:$H,7,FALSE))","v":""},{"$f":"IF(ISERROR(VLOOKUP(AA38,AS!$A:$H,8,FALSE)),\"\",VLOOKUP(AA38,AS!$A:$H,8,FALSE))","v":""},null,null,null,"",null,{"$f":"IF(AI38=\"\",\"\",IF(OFFSET('Fiche score'!$A$2,VLOOKUP(RIGHT(AI38,2),Feuil1!A:C,2,FALSE),VLOOKUP(RIGHT(AI38,2),Feuil1!A:C,3,FALSE))=A38 & CHAR(10) & C38,2,IF(OFFSET('Fiche score'!$A$2,VLOOKUP(RIGHT(AI38,2),Feuil1!A:C,2,FALSE)+1,VLOOKUP(RIGHT(AI38,2),Feuil1!A:C,3,FALSE))=A38 & CHAR(10) & C38,2,IF(OFFSET('Fiche score'!$A$2,VLOOKUP(RIGHT(AI38,2),Feuil1!A:C,2,FALSE)-1,VLOOKUP(RIGHT(AI38,2),Feuil1!A:C,3,FALSE))=A38 & CHAR(10) & C38,1,IF(OFFSET('Fiche score'!$A$2,VLOOKUP(RIGHT(AI38,2),Feuil1!A:C,2,FALSE)-2,VLOOKUP(RIGHT(AI38,2),Feuil1!A:C,3,FALSE))=A38 & CHAR(10) & C38,1,\"0\")))))","v":""},{"$f":"IF(ISERROR(VLOOKUP(A38 & CHAR(10) &C38,'Fiche tirage dirigé'!I:I,1,FALSE)),0,1)","v":0},{"$f":"IF(ISERROR(VLOOKUP(A38& CHAR(10) &C38,Cadrage!H:H,1,FALSE)),0,1)","v":0},{"$f":"IF(ISERROR(VLOOKUP(A38 & CHAR(10) &C38,'Tableau final'!V:V,1,FALSE)),0,1)","v":0},{"$f":"IF(ISERROR(VLOOKUP(A38 & CHAR(10) &C38,'Tableau final'!W:W,1,FALSE)),0,1)","v":0},{"$f":"IF(ISERROR(VLOOKUP(A38 & CHAR(10) &C38,'Tableau final'!X:X,1,FALSE)),0,1)","v":0},{"$f":"IF(ISERROR(VLOOKUP(A38 & CHAR(10) &C38,'Tableau final'!Y:Y,1,FALSE)),0,1)","v":0},{"$f":"IF(ISERROR(VLOOKUP(A38 & CHAR(10) &C38,'Tableau final'!Z:Z,1,FALSE)),0,1)","v":0},{"$f":"IF('Tableau final'!$A$1<>\"\",IF('Tableau final'!$B$5=\"Qualifiés\",IF(ISERROR(VLOOKUP(A38 & CHAR(10) &C38,'Tableau final'!C:F,1,FALSE)),\"\",IF(AND(VLOOKUP(A38 & CHAR(10) &C38,'Tableau final'!C:F,3,FALSE)<>\"\",VLOOKUP(A38 & CHAR(10) &C38,'Tableau final'!C:F,4,FALSE)=\"x\"),1,\"\")),IF('Tableau final'!$G$5=\"Qualifiés\",IF(ISERROR(VLOOKUP(A38 & CHAR(10) &C38,'Tableau final'!H:K,1,FALSE)),\"\",IF(AND(VLOOKUP(A38 & CHAR(10) &C38,'Tableau final'!H:K,3,FALSE)<>\"\",VLOOKUP(A38 & CHAR(10) &C38,'Tableau final'!H:K,4,FALSE)=\"x\"),1,\"\")),IF('Tableau final'!$L$5=\"Qualifiés\",IF(ISERROR(VLOOKUP(A38 & CHAR(10) &C38,'Tableau final'!M:P,1,FALSE)),\"\",IF(AND(VLOOKUP(A38 & CHAR(10) &C38,'Tableau final'!M:P,3,FALSE)<>\"\",VLOOKUP(A38 & CHAR(10) &C38,'Tableau final'!M:P,4,FALSE)=\"x\"),1,\"\")),\"\"))),\"\")","v":""},"0",{"$f":"IF(ISERROR(VLOOKUP(AI38,Tirage!A:J,1,FALSE)),\"\",IF(VLOOKUP(AI38,Tirage!A:J,1,FALSE)=\"Office \",3,4))","v":""},{"$f":"IF(AJ38=\"0\",4,IF(AJ38=1,3,IF(AJ38=2,IF(OFFSET('Fiche score'!$A$2,VLOOKUP(RIGHT(AI38,2),Feuil1!A:C,2,FALSE),VLOOKUP(RIGHT(AI38,2),Feuil1!A:C,3,FALSE))=A38 & CHAR(10) & C38,1,2),\"\")))","v":""}]
[null,null,null,null,{"$f":"IF(ISERROR(VLOOKUP(C39,AS!$A:$H,7,FALSE)),\"\",VLOOKUP(C39,AS!$A:$H,7,FALSE))","v":""},{"$f":"IF(ISERROR(VLOOKUP(C39,AS!$A:$H,8,FALSE)),\"\",VLOOKUP(C39,AS!$A:$H,8,FALSE))","v":""},null,null,null,null,{"$f":"IF(ISERROR(VLOOKUP(I39,AS!$A:$H,7,FALSE)),\"\",VLOOKUP(I39,AS!$A:$H,7,FALSE))","v":""},{"$f":"IF(ISERROR(VLOOKUP(I39,AS!$A:$H,8,FALSE)),\"\",VLOOKUP(I39,AS!$A:$H,8,FALSE))","v":""},null,null,null,null,{"$f":"IF(ISERROR(VLOOKUP(O39,AS!$A:$H,7,FALSE)),\"\",VLOOKUP(O39,AS!$A:$H,7,FALSE))","v":""},{"$f":"IF(ISERROR(VLOOKUP(O39,AS!$A:$H,8,FALSE)),\"\",VLOOKUP(O39,AS!$A:$H,8,FALSE))","v":""},null,null,null,null,{"$f":"IF(ISERROR(VLOOKUP(U39,AS!$A:$H,7,FALSE)),\"\",VLOOKUP(U39,AS!$A:$H,7,FALSE))","v":""},{"$f":"IF(ISERROR(VLOOKUP(U39,AS!$A:$H,8,FALSE)),\"\",VLOOKUP(U39,AS!$A:$H,8,FALSE))","v":""},null,null,null,null,{"$f":"IF(ISERROR(VLOOKUP(AA39,AS!$A:$H,7,FALSE)),\"\",VLOOKUP(AA39,AS!$A:$H,7,FALSE))","v":""},{"$f":"IF(ISERROR(VLOOKUP(AA39,AS!$A:$H,8,FALSE)),\"\",VLOOKUP(AA39,AS!$A:$H,8,FALSE))","v":""},null,null,null,"",null,{"$f":"IF(AI39=\"\",\"\",IF(OFFSET('Fiche score'!$A$2,VLOOKUP(RIGHT(AI39,2),Feuil1!A:C,2,FALSE),VLOOKUP(RIGHT(AI39,2),Feuil1!A:C,3,FALSE))=A39 & CHAR(10) & C39,2,IF(OFFSET('Fiche score'!$A$2,VLOOKUP(RIGHT(AI39,2),Feuil1!A:C,2,FALSE)+1,VLOOKUP(RIGHT(AI39,2),Feuil1!A:C,3,FALSE))=A39 & CHAR(10) & C39,2,IF(OFFSET('Fiche score'!$A$2,VLOOKUP(RIGHT(AI39,2),Feuil1!A:C,2,FALSE)-1,VLOOKUP(RIGHT(AI39,2),Feuil1!A:C,3,FALSE))=A39 & CHAR(10) & C39,1,IF(OFFSET('Fiche score'!$A$2,VLOOKUP(RIGHT(AI39,2),Feuil1!A:C,2,FALSE)-2,VLOOKUP(RIGHT(AI39,2),Feuil1!A:C,3,FALSE))=A39 & CHAR(10) & C39,1,\"0\")))))","v":""},{"$f":"IF(ISERROR(VLOOKUP(A39 & CHAR(10) &C39,'Fiche tirage dirigé'!I:I,1,FALSE)),0,1)","v":0},{"$f":"IF(ISERROR(VLOOKUP(A39& CHAR(10) &C39,Cadrage!H:H,1,FALSE)),0,1)","v":0},{"$f":"IF(ISERROR(VLOOKUP(A39 & CHAR(10) &C39,'Tableau final'!V:V,1,FALSE)),0,1)","v":0},{"$f":"IF(ISERROR(VLOOKUP(A39 & CHAR(10) &C39,'Tableau final'!W:W,1,FALSE)),0,1)","v":0},{"$f":"IF(ISERROR(VLOOKUP(A39 & CHAR(10) &C39,'Tableau final'!X:X,1,FALSE)),0,1)","v":0},{"$f":"IF(ISERROR(VLOOKUP(A39 & CHAR(10) &C39,'Tableau final'!Y:Y,1,FALSE)),0,1)","v":0},{"$f":"IF(ISERROR(VLOOKUP(A39 & CHAR(10) &C39,'Tableau final'!Z:Z,1,FALSE)),0,1)","v":0},{"$f":"IF('Tableau final'!$A$1<>\"\",IF('Tableau final'!$B$5=\"Qualifiés\",IF(ISERROR(VLOOKUP(A39 & CHAR(10) &C39,'Tableau final'!C:F,1,FALSE)),\"\",IF(AND(VLOOKUP(A39 & CHAR(10) &C39,'Tableau final'!C:F,3,FALSE)<>\"\",VLOOKUP(A39 & CHAR(10) &C39,'Tableau final'!C:F,4,FALSE)=\"x\"),1,\"\")),IF('Tableau final'!$G$5=\"Qualifiés\",IF(ISERROR(VLOOKUP(A39 & CHAR(10) &C39,'Tableau final'!H:K,1,FALSE)),\"\",IF(AND(VLOOKUP(A39 & CHAR(10) &C39,'Tableau final'!H:K,3,FALSE)<>\"\",VLOOKUP(A39 & CHAR(10) &C39,'Tableau final'!H:K,4,FALSE)=\"x\"),1,\"\")),IF('Tableau final'!$L$5=\"Qualifiés\",IF(ISERROR(VLOOKUP(A39 & CHAR(10) &C39,'Tableau final'!M:P,1,FALSE)),\"\",IF(AND(VLOOKUP(A39 & CHAR(10) &C39,'Tableau final'!M:P,3,FALSE)<>\"\",VLOOKUP(A39 & CHAR(10) &C39,'Tableau final'!M:P,4,FALSE)=\"x\"),1,\"\")),\"\"))),\"\")","v":""},"0",{"$f":"IF(ISERROR(VLOOKUP(AI39,Tirage!A:J,1,FALSE)),\"\",IF(VLOOKUP(AI39,Tirage!A:J,1,FALSE)=\"Office \",3,4))","v":""},{"$f":"IF(AJ39=\"0\",4,IF(AJ39=1,3,IF(AJ39=2,IF(OFFSET('Fiche score'!$A$2,VLOOKUP(RIGHT(AI39,2),Feuil1!A:C,2,FALSE),VLOOKUP(RIGHT(AI39,2),Feuil1!A:C,3,FALSE))=A39 & CHAR(10) & C39,1,2),\"\")))","v":""}]
[null,null,null,null,{"$f":"IF(ISERROR(VLOOKUP(C40,AS!$A:$H,7,FALSE)),\"\",VLOOKUP(C40,AS!$A:$H,7,FALSE))","v":""},{"$f":"IF(ISERROR(VLOOKUP(C40,AS!$A:$H,8,FALSE)),\"\",VLOOKUP(C40,AS!$A:$H,8,FALSE))","v":""},null,null,null,null,{"$f":"IF(ISERROR(VLOOKUP(I40,AS!$A:$H,7,FALSE)),\"\",VLOOKUP(I40,AS!$A:$H,7,FALSE))","v":""},{"$f":"IF(ISERROR(VLOOKUP(I40,AS!$A:$H,8,FALSE)),\"\",VLOOKUP(I40,AS!$A:$H,8,FALSE))","v":""},null,null,null,null,{"$f":"IF(ISERROR(VLOOKUP(O40,AS!$A:$H,7,FALSE)),\"\",VLOOKUP(O40,AS!$A:$H,7,FALSE))","v":""},{"$f":"IF(ISERROR(VLOOKUP(O40,AS!$A:$H,8,FALSE)),\"\",VLOOKUP(O40,AS!$A:$H,8,FALSE))","v":""},null,null,null,null,{"$f":"IF(ISERROR(VLOOKUP(U40,AS!$A:$H,7,FALSE)),\"\",VLOOKUP(U40,AS!$A:$H,7,FALSE))","v":""},{"$f":"IF(ISERROR(VLOOKUP(U40,AS!$A:$H,8,FALSE)),\"\",VLOOKUP(U40,AS!$A:$H,8,FALSE))","v":""},null,null,null,null,{"$f":"IF(ISERROR(VLOOKUP(AA40,AS!$A:$H,7,FALSE)),\"\",VLOOKUP(AA40,AS!$A:$H,7,FALSE))","v":""},{"$f":"IF(ISERROR(VLOOKUP(AA40,AS!$A:$H,8,FALSE)),\"\",VLOOKUP(AA40,AS!$A:$H,8,FALSE))","v":""},null,null,null,"",null,{"$f":"IF(AI40=\"\",\"\",IF(OFFSET('Fiche score'!$A$2,VLOOKUP(RIGHT(AI40,2),Feuil1!A:C,2,FALSE),VLOOKUP(RIGHT(AI40,2),Feuil1!A:C,3,FALSE))=A40 & CHAR(10) & C40,2,IF(OFFSET('Fiche score'!$A$2,VLOOKUP(RIGHT(AI40,2),Feuil1!A:C,2,FALSE)+1,VLOOKUP(RIGHT(AI40,2),Feuil1!A:C,3,FALSE))=A40 & CHAR(10) & C40,2,IF(OFFSET('Fiche score'!$A$2,VLOOKUP(RIGHT(AI40,2),Feuil1!A:C,2,FALSE)-1,VLOOKUP(RIGHT(AI40,2),Feuil1!A:C,3,FALSE))=A40 & CHAR(10) & C40,1,IF(OFFSET('Fiche score'!$A$2,VLOOKUP(RIGHT(AI40,2),Feuil1!A:C,2,FALSE)-2,VLOOKUP(RIGHT(AI40,2),Feuil1!A:C,3,FALSE))=A40 & CHAR(10) & C40,1,\"0\")))))","v":""},{"$f":"IF(ISERROR(VLOOKUP(A40 & CHAR(10) &C40,'Fiche tirage dirigé'!I:I,1,FALSE)),0,1)","v":0},{"$f":"IF(ISERROR(VLOOKUP(A40& CHAR(10) &C40,Cadrage!H:H,1,FALSE)),0,1)","v":0},{"$f":"IF(ISERROR(VLOOKUP(A40 & CHAR(10) &C40,'Tableau final'!V:V,1,FALSE)),0,1)","v":0},{"$f":"IF(ISERROR(VLOOKUP(A40 & CHAR(10) &C40,'Tableau final'!W:W,1,FALSE)),0,1)","v":0},{"$f":"IF(ISERROR(VLOOKUP(A40 & CHAR(10) &C40,'Tableau final'!X:X,1,FALSE)),0,1)","v":0},{"$f":"IF(ISERROR(VLOOKUP(A40 & CHAR(10) &C40,'Tableau final'!Y:Y,1,FALSE)),0,1)","v":0},{"$f":"IF(ISERROR(VLOOKUP(A40 & CHAR(10) &C40,'Tableau final'!Z:Z,1,FALSE)),0,1)","v":0},{"$f":"IF('Tableau final'!$A$1<>\"\",IF('Tableau final'!$B$5=\"Qualifiés\",IF(ISERROR(VLOOKUP(A40 & CHAR(10) &C40,'Tableau final'!C:F,1,FALSE)),\"\",IF(AND(VLOOKUP(A40 & CHAR(10) &C40,'Tableau final'!C:F,3,FALSE)<>\"\",VLOOKUP(A40 & CHAR(10) &C40,'Tableau final'!C:F,4,FALSE)=\"x\"),1,\"\")),IF('Tableau final'!$G$5=\"Qualifiés\",IF(ISERROR(VLOOKUP(A40 & CHAR(10) &C40,'Tableau final'!H:K,1,FALSE)),\"\",IF(AND(VLOOKUP(A40 & CHAR(10) &C40,'Tableau final'!H:K,3,FALSE)<>\"\",VLOOKUP(A40 & CHAR(10) &C40,'Tableau final'!H:K,4,FALSE)=\"x\"),1,\"\")),IF('Tableau final'!$L$5=\"Qualifiés\",IF(ISERROR(VLOOKUP(A40 & CHAR(10) &C40,'Tableau final'!M:P,1,FALSE)),\"\",IF(AND(VLOOKUP(A40 & CHAR(10) &C40,'Tableau final'!M:P,3,FALSE)<>\"\",VLOOKUP(A40 & CHAR(10) &C40,'Tableau final'!M:P,4,FALSE)=\"x\"),1,\"\")),\"\"))),\"\")","v":""},"0",{"$f":"IF(ISERROR(VLOOKUP(AI40,Tirage!A:J,1,FALSE)),\"\",IF(VLOOKUP(AI40,Tirage!A:J,1,FALSE)=\"Office \",3,4))","v":""},{"$f":"IF(AJ40=\"0\",4,IF(AJ40=1,3,IF(AJ40=2,IF(OFFSET('Fiche score'!$A$2,VLOOKUP(RIGHT(AI40,2),Feuil1!A:C,2,FALSE),VLOOKUP(RIGHT(AI40,2),Feuil1!A:C,3,FALSE))=A40 & CHAR(10) & C40,1,2),\"\")))","v":""}]
[null,null,null,null,{"$f":"IF(ISERROR(VLOOKUP(C41,AS!$A:$H,7,FALSE)),\"\",VLOOKUP(C41,AS!$A:$H,7,FALSE))","v":""},{"$f":"IF(ISERROR(VLOOKUP(C41,AS!$A:$H,8,FALSE)),\"\",VLOOKUP(C41,AS!$A:$H,8,FALSE))","v":""},null,null,null,null,{"$f":"IF(ISERROR(VLOOKUP(I41,AS!$A:$H,7,FALSE)),\"\",VLOOKUP(I41,AS!$A:$H,7,FALSE))","v":""},{"$f":"IF(ISERROR(VLOOKUP(I41,AS!$A:$H,8,FALSE)),\"\",VLOOKUP(I41,AS!$A:$H,8,FALSE))","v":""},null,null,null,null,{"$f":"IF(ISERROR(VLOOKUP(O41,AS!$A:$H,7,FALSE)),\"\",VLOOKUP(O41,AS!$A:$H,7,FALSE))","v":""},{"$f":"IF(ISERROR(VLOOKUP(O41,AS!$A:$H,8,FALSE)),\"\",VLOOKUP(O41,AS!$A:$H,8,FALSE))","v":""},null,null,null,null,{"$f":"IF(ISERROR(VLOOKUP(U41,AS!$A:$H,7,FALSE)),\"\",VLOOKUP(U41,AS!$A:$H,7,FALSE))","v":""},{"$f":"IF(ISERROR(VLOOKUP(U41,AS!$A:$H,8,FALSE)),\"\",VLOOKUP(U41,AS!$A:$H,8,FALSE))","v":""},null,null,null,null,{"$f":"IF(ISERROR(VLOOKUP(AA41,AS!$A:$H,7,FALSE)),\"\",VLOOKUP(AA41,AS!$A:$H,7,FALSE))","v":""},{"$f":"IF(ISERROR(VLOOKUP(AA41,AS!$A:$H,8,FALSE)),\"\",VLOOKUP(AA41,AS!$A:$H,8,FALSE))","v":""},null,null,null,"",null,{"$f":"IF(AI41=\"\",\"\",IF(OFFSET('Fiche score'!$A$2,VLOOKUP(RIGHT(AI41,2),Feuil1!A:C,2,FALSE),VLOOKUP(RIGHT(AI41,2),Feuil1!A:C,3,FALSE))=A41 & CHAR(10) & C41,2,IF(OFFSET('Fiche score'!$A$2,VLOOKUP(RIGHT(AI41,2),Feuil1!A:C,2,FALSE)+1,VLOOKUP(RIGHT(AI41,2),Feuil1!A:C,3,FALSE))=A41 & CHAR(10) & C41,2,IF(OFFSET('Fiche score'!$A$2,VLOOKUP(RIGHT(AI41,2),Feuil1!A:C,2,FALSE)-1,VLOOKUP(RIGHT(AI41,2),Feuil1!A:C,3,FALSE))=A41 & CHAR(10) & C41,1,IF(OFFSET('Fiche score'!$A$2,VLOOKUP(RIGHT(AI41,2),Feuil1!A:C,2,FALSE)-2,VLOOKUP(RIGHT(AI41,2),Feuil1!A:C,3,FALSE))=A41 & CHAR(10) & C41,1,\"0\")))))","v":""},{"$f":"IF(ISERROR(VLOOKUP(A41 & CHAR(10) &C41,'Fiche tirage dirigé'!I:I,1,FALSE)),0,1)","v":0},{"$f":"IF(ISERROR(VLOOKUP(A41& CHAR(10) &C41,Cadrage!H:H,1,FALSE)),0,1)","v":0},{"$f":"IF(ISERROR(VLOOKUP(A41 & CHAR(10) &C41,'Tableau final'!V:V,1,FALSE)),0,1)","v":0},{"$f":"IF(ISERROR(VLOOKUP(A41 & CHAR(10) &C41,'Tableau final'!W:W,1,FALSE)),0,1)","v":0},{"$f":"IF(ISERROR(VLOOKUP(A41 & CHAR(10) &C41,'Tableau final'!X:X,1,FALSE)),0,1)","v":0},{"$f":"IF(ISERROR(VLOOKUP(A41 & CHAR(10) &C41,'Tableau final'!Y:Y,1,FALSE)),0,1)","v":0},{"$f":"IF(ISERROR(VLOOKUP(A41 & CHAR(10) &C41,'Tableau final'!Z:Z,1,FALSE)),0,1)","v":0},{"$f":"IF('Tableau final'!$A$1<>\"\",IF('Tableau final'!$B$5=\"Qualifiés\",IF(ISERROR(VLOOKUP(A41 & CHAR(10) &C41,'Tableau final'!C:F,1,FALSE)),\"\",IF(AND(VLOOKUP(A41 & CHAR(10) &C41,'Tableau final'!C:F,3,FALSE)<>\"\",VLOOKUP(A41 & CHAR(10) &C41,'Tableau final'!C:F,4,FALSE)=\"x\"),1,\"\")),IF('Tableau final'!$G$5=\"Qualifiés\",IF(ISERROR(VLOOKUP(A41 & CHAR(10) &C41,'Tableau final'!H:K,1,FALSE)),\"\",IF(AND(VLOOKUP(A41 & CHAR(10) &C41,'Tableau final'!H:K,3,FALSE)<>\"\",VLOOKUP(A41 & CHAR(10) &C41,'Tableau final'!H:K,4,FALSE)=\"x\"),1,\"\")),IF('Tableau final'!$L$5=\"Qualifiés\",IF(ISERROR(VLOOKUP(A41 & CHAR(10) &C41,'Tableau final'!M:P,1,FALSE)),\"\",IF(AND(VLOOKUP(A41 & CHAR(10) &C41,'Tableau final'!M:P,3,FALSE)<>\"\",VLOOKUP(A41 & CHAR(10) &C41,'Tableau final'!M:P,4,FALSE)=\"x\"),1,\"\")),\"\"))),\"\")","v":""},"0",{"$f":"IF(ISERROR(VLOOKUP(AI41,Tirage!A:J,1,FALSE)),\"\",IF(VLOOKUP(AI41,Tirage!A:J,1,FALSE)=\"Office \",3,4))","v":""},{"$f":"IF(AJ41=\"0\",4,IF(AJ41=1,3,IF(AJ41=2,IF(OFFSET('Fiche score'!$A$2,VLOOKUP(RIGHT(AI41,2),Feuil1!A:C,2,FALSE),VLOOKUP(RIGHT(AI41,2),Feuil1!A:C,3,FALSE))=A41 & CHAR(10) & C41,1,2),\"\")))","v":""}]
[null,null,null,null,{"$f":"IF(ISERROR(VLOOKUP(C42,AS!$A:$H,7,FALSE)),\"\",VLOOKUP(C42,AS!$A:$H,7,FALSE))","v":""},{"$f":"IF(ISERROR(VLOOKUP(C42,AS!$A:$H,8,FALSE)),\"\",VLOOKUP(C42,AS!$A:$H,8,FALSE))","v":""},null,null,null,null,{"$f":"IF(ISERROR(VLOOKUP(I42,AS!$A:$H,7,FALSE)),\"\",VLOOKUP(I42,AS!$A:$H,7,FALSE))","v":""},{"$f":"IF(ISERROR(VLOOKUP(I42,AS!$A:$H,8,FALSE)),\"\",VLOOKUP(I42,AS!$A:$H,8,FALSE))","v":""},null,null,null,null,{"$f":"IF(ISERROR(VLOOKUP(O42,AS!$A:$H,7,FALSE)),\"\",VLOOKUP(O42,AS!$A:$H,7,FALSE))","v":""},{"$f":"IF(ISERROR(VLOOKUP(O42,AS!$A:$H,8,FALSE)),\"\",VLOOKUP(O42,AS!$A:$H,8,FALSE))","v":""},null,null,null,null,{"$f":"IF(ISERROR(VLOOKUP(U42,AS!$A:$H,7,FALSE)),\"\",VLOOKUP(U42,AS!$A:$H,7,FALSE))","v":""},{"$f":"IF(ISERROR(VLOOKUP(U42,AS!$A:$H,8,FALSE)),\"\",VLOOKUP(U42,AS!$A:$H,8,FALSE))","v":""},null,null,null,null,{"$f":"IF(ISERROR(VLOOKUP(AA42,AS!$A:$H,7,FALSE)),\"\",VLOOKUP(AA42,AS!$A:$H,7,FALSE))","v":""},{"$f":"IF(ISERROR(VLOOKUP(AA42,AS!$A:$H,8,FALSE)),\"\",VLOOKUP(AA42,AS!$A:$H,8,FALSE))","v":""},null,null,null,"",null,{"$f":"IF(AI42=\"\",\"\",IF(OFFSET('Fiche score'!$A$2,VLOOKUP(RIGHT(AI42,2),Feuil1!A:C,2,FALSE),VLOOKUP(RIGHT(AI42,2),Feuil1!A:C,3,FALSE))=A42 & CHAR(10) & C42,2,IF(OFFSET('Fiche score'!$A$2,VLOOKUP(RIGHT(AI42,2),Feuil1!A:C,2,FALSE)+1,VLOOKUP(RIGHT(AI42,2),Feuil1!A:C,3,FALSE))=A42 & CHAR(10) & C42,2,IF(OFFSET('Fiche score'!$A$2,VLOOKUP(RIGHT(AI42,2),Feuil1!A:C,2,FALSE)-1,VLOOKUP(RIGHT(AI42,2),Feuil1!A:C,3,FALSE))=A42 & CHAR(10) & C42,1,IF(OFFSET('Fiche score'!$A$2,VLOOKUP(RIGHT(AI42,2),Feuil1!A:C,2,FALSE)-2,VLOOKUP(RIGHT(AI42,2),Feuil1!A:C,3,FALSE))=A42 & CHAR(10) & C42,1,\"0\")))))","v":""},{"$f":"IF(ISERROR(VLOOKUP(A42 & CHAR(10) &C42,'Fiche tirage dirigé'!I:I,1,FALSE)),0,1)","v":0},{"$f":"IF(ISERROR(VLOOKUP(A42& CHAR(10) &C42,Cadrage!H:H,1,FALSE)),0,1)","v":0},{"$f":"IF(ISERROR(VLOOKUP(A42 & CHAR(10) &C42,'Tableau final'!V:V,1,FALSE)),0,1)","v":0},{"$f":"IF(ISERROR(VLOOKUP(A42 & CHAR(10) &C42,'Tableau final'!W:W,1,FALSE)),0,1)","v":0},{"$f":"IF(ISERROR(VLOOKUP(A42 & CHAR(10) &C42,'Tableau final'!X:X,1,FALSE)),0,1)","v":0},{"$f":"IF(ISERROR(VLOOKUP(A42 & CHAR(10) &C42,'Tableau final'!Y:Y,1,FALSE)),0,1)","v":0},{"$f":"IF(ISERROR(VLOOKUP(A42 & CHAR(10) &C42,'Tableau final'!Z:Z,1,FALSE)),0,1)","v":0},{"$f":"IF('Tableau final'!$A$1<>\"\",IF('Tableau final'!$B$5=\"Qualifiés\",IF(ISERROR(VLOOKUP(A42 & CHAR(10) &C42,'Tableau final'!C:F,1,FALSE)),\"\",IF(AND(VLOOKUP(A42 & CHAR(10) &C42,'Tableau final'!C:F,3,FALSE)<>\"\",VLOOKUP(A42 & CHAR(10) &C42,'Tableau final'!C:F,4,FALSE)=\"x\"),1,\"\")),IF('Tableau final'!$G$5=\"Qualifiés\",IF(ISERROR(VLOOKUP(A42 & CHAR(10) &C42,'Tableau final'!H:K,1,FALSE)),\"\",IF(AND(VLOOKUP(A42 & CHAR(10) &C42,'Tableau final'!H:K,3,FALSE)<>\"\",VLOOKUP(A42 & CHAR(10) &C42,'Tableau final'!H:K,4,FALSE)=\"x\"),1,\"\")),IF('Tableau final'!$L$5=\"Qualifiés\",IF(ISERROR(VLOOKUP(A42 & CHAR(10) &C42,'Tableau final'!M:P,1,FALSE)),\"\",IF(AND(VLOOKUP(A42 & CHAR(10) &C42,'Tableau final'!M:P,3,FALSE)<>\"\",VLOOKUP(A42 & CHAR(10) &C42,'Tableau final'!M:P,4,FALSE)=\"x\"),1,\"\")),\"\"))),\"\")","v":""},"0",{"$f":"IF(ISERROR(VLOOKUP(AI42,Tirage!A:J,1,FALSE)),\"\",IF(VLOOKUP(AI42,Tirage!A:J,1,FALSE)=\"Office \",3,4))","v":""},{"$f":"IF(AJ42=\"0\",4,IF(AJ42=1,3,IF(AJ42=2,IF(OFFSET('Fiche score'!$A$2,VLOOKUP(RIGHT(AI42,2),Feuil1!A:C,2,FALSE),VLOOKUP(RIGHT(AI42,2),Feuil1!A:C,3,FALSE))=A42 & CHAR(10) & C42,1,2),\"\")))","v":""}]
[null,null,null,null,{"$f":"IF(ISERROR(VLOOKUP(C43,AS!$A:$H,7,FALSE)),\"\",VLOOKUP(C43,AS!$A:$H,7,FALSE))","v":""},{"$f":"IF(ISERROR(VLOOKUP(C43,AS!$A:$H,8,FALSE)),\"\",VLOOKUP(C43,AS!$A:$H,8,FALSE))","v":""},null,null,null,null,{"$f":"IF(ISERROR(VLOOKUP(I43,AS!$A:$H,7,FALSE)),\"\",VLOOKUP(I43,AS!$A:$H,7,FALSE))","v":""},{"$f":"IF(ISERROR(VLOOKUP(I43,AS!$A:$H,8,FALSE)),\"\",VLOOKUP(I43,AS!$A:$H,8,FALSE))","v":""},null,null,null,null,{"$f":"IF(ISERROR(VLOOKUP(O43,AS!$A:$H,7,FALSE)),\"\",VLOOKUP(O43,AS!$A:$H,7,FALSE))","v":""},{"$f":"IF(ISERROR(VLOOKUP(O43,AS!$A:$H,8,FALSE)),\"\",VLOOKUP(O43,AS!$A:$H,8,FALSE))","v":""},null,null,null,null,{"$f":"IF(ISERROR(VLOOKUP(U43,AS!$A:$H,7,FALSE)),\"\",VLOOKUP(U43,AS!$A:$H,7,FALSE))","v":""},{"$f":"IF(ISERROR(VLOOKUP(U43,AS!$A:$H,8,FALSE)),\"\",VLOOKUP(U43,AS!$A:$H,8,FALSE))","v":""},null,null,null,null,{"$f":"IF(ISERROR(VLOOKUP(AA43,AS!$A:$H,7,FALSE)),\"\",VLOOKUP(AA43,AS!$A:$H,7,FALSE))","v":""},{"$f":"IF(ISERROR(VLOOKUP(AA43,AS!$A:$H,8,FALSE)),\"\",VLOOKUP(AA43,AS!$A:$H,8,FALSE))","v":""},null,null,null,"",null,{"$f":"IF(AI43=\"\",\"\",IF(OFFSET('Fiche score'!$A$2,VLOOKUP(RIGHT(AI43,2),Feuil1!A:C,2,FALSE),VLOOKUP(RIGHT(AI43,2),Feuil1!A:C,3,FALSE))=A43 & CHAR(10) & C43,2,IF(OFFSET('Fiche score'!$A$2,VLOOKUP(RIGHT(AI43,2),Feuil1!A:C,2,FALSE)+1,VLOOKUP(RIGHT(AI43,2),Feuil1!A:C,3,FALSE))=A43 & CHAR(10) & C43,2,IF(OFFSET('Fiche score'!$A$2,VLOOKUP(RIGHT(AI43,2),Feuil1!A:C,2,FALSE)-1,VLOOKUP(RIGHT(AI43,2),Feuil1!A:C,3,FALSE))=A43 & CHAR(10) & C43,1,IF(OFFSET('Fiche score'!$A$2,VLOOKUP(RIGHT(AI43,2),Feuil1!A:C,2,FALSE)-2,VLOOKUP(RIGHT(AI43,2),Feuil1!A:C,3,FALSE))=A43 & CHAR(10) & C43,1,\"0\")))))","v":""},{"$f":"IF(ISERROR(VLOOKUP(A43 & CHAR(10) &C43,'Fiche tirage dirigé'!I:I,1,FALSE)),0,1)","v":0},{"$f":"IF(ISERROR(VLOOKUP(A43& CHAR(10) &C43,Cadrage!H:H,1,FALSE)),0,1)","v":0},{"$f":"IF(ISERROR(VLOOKUP(A43 & CHAR(10) &C43,'Tableau final'!V:V,1,FALSE)),0,1)","v":0},{"$f":"IF(ISERROR(VLOOKUP(A43 & CHAR(10) &C43,'Tableau final'!W:W,1,FALSE)),0,1)","v":0},{"$f":"IF(ISERROR(VLOOKUP(A43 & CHAR(10) &C43,'Tableau final'!X:X,1,FALSE)),0,1)","v":0},{"$f":"IF(ISERROR(VLOOKUP(A43 & CHAR(10) &C43,'Tableau final'!Y:Y,1,FALSE)),0,1)","v":0},{"$f":"IF(ISERROR(VLOOKUP(A43 & CHAR(10) &C43,'Tableau final'!Z:Z,1,FALSE)),0,1)","v":0},{"$f":"IF('Tableau final'!$A$1<>\"\",IF('Tableau final'!$B$5=\"Qualifiés\",IF(ISERROR(VLOOKUP(A43 & CHAR(10) &C43,'Tableau final'!C:F,1,FALSE)),\"\",IF(AND(VLOOKUP(A43 & CHAR(10) &C43,'Tableau final'!C:F,3,FALSE)<>\"\",VLOOKUP(A43 & CHAR(10) &C43,'Tableau final'!C:F,4,FALSE)=\"x\"),1,\"\")),IF('Tableau final'!$G$5=\"Qualifiés\",IF(ISERROR(VLOOKUP(A43 & CHAR(10) &C43,'Tableau final'!H:K,1,FALSE)),\"\",IF(AND(VLOOKUP(A43 & CHAR(10) &C43,'Tableau final'!H:K,3,FALSE)<>\"\",VLOOKUP(A43 & CHAR(10) &C43,'Tableau final'!H:K,4,FALSE)=\"x\"),1,\"\")),IF('Tableau final'!$L$5=\"Qualifiés\",IF(ISERROR(VLOOKUP(A43 & CHAR(10) &C43,'Tableau final'!M:P,1,FALSE)),\"\",IF(AND(VLOOKUP(A43 & CHAR(10) &C43,'Tableau final'!M:P,3,FALSE)<>\"\",VLOOKUP(A43 & CHAR(10) &C43,'Tableau final'!M:P,4,FALSE)=\"x\"),1,\"\")),\"\"))),\"\")","v":""},"0",{"$f":"IF(ISERROR(VLOOKUP(AI43,Tirage!A:J,1,FALSE)),\"\",IF(VLOOKUP(AI43,Tirage!A:J,1,FALSE)=\"Office \",3,4))","v":""},{"$f":"IF(AJ43=\"0\",4,IF(AJ43=1,3,IF(AJ43=2,IF(OFFSET('Fiche score'!$A$2,VLOOKUP(RIGHT(AI43,2),Feuil1!A:C,2,FALSE),VLOOKUP(RIGHT(AI43,2),Feuil1!A:C,3,FALSE))=A43 & CHAR(10) & C43,1,2),\"\")))","v":""}]
[null,null,null,null,{"$f":"IF(ISERROR(VLOOKUP(C44,AS!$A:$H,7,FALSE)),\"\",VLOOKUP(C44,AS!$A:$H,7,FALSE))","v":""},{"$f":"IF(ISERROR(VLOOKUP(C44,AS!$A:$H,8,FALSE)),\"\",VLOOKUP(C44,AS!$A:$H,8,FALSE))","v":""},null,null,null,null,{"$f":"IF(ISERROR(VLOOKUP(I44,AS!$A:$H,7,FALSE)),\"\",VLOOKUP(I44,AS!$A:$H,7,FALSE))","v":""},{"$f":"IF(ISERROR(VLOOKUP(I44,AS!$A:$H,8,FALSE)),\"\",VLOOKUP(I44,AS!$A:$H,8,FALSE))","v":""},null,null,null,null,{"$f":"IF(ISERROR(VLOOKUP(O44,AS!$A:$H,7,FALSE)),\"\",VLOOKUP(O44,AS!$A:$H,7,FALSE))","v":""},{"$f":"IF(ISERROR(VLOOKUP(O44,AS!$A:$H,8,FALSE)),\"\",VLOOKUP(O44,AS!$A:$H,8,FALSE))","v":""},null,null,null,null,{"$f":"IF(ISERROR(VLOOKUP(U44,AS!$A:$H,7,FALSE)),\"\",VLOOKUP(U44,AS!$A:$H,7,FALSE))","v":""},{"$f":"IF(ISERROR(VLOOKUP(U44,AS!$A:$H,8,FALSE)),\"\",VLOOKUP(U44,AS!$A:$H,8,FALSE))","v":""},null,null,null,null,{"$f":"IF(ISERROR(VLOOKUP(AA44,AS!$A:$H,7,FALSE)),\"\",VLOOKUP(AA44,AS!$A:$H,7,FALSE))","v":""},{"$f":"IF(ISERROR(VLOOKUP(AA44,AS!$A:$H,8,FALSE)),\"\",VLOOKUP(AA44,AS!$A:$H,8,FALSE))","v":""},null,null,null,"",null,{"$f":"IF(AI44=\"\",\"\",IF(OFFSET('Fiche score'!$A$2,VLOOKUP(RIGHT(AI44,2),Feuil1!A:C,2,FALSE),VLOOKUP(RIGHT(AI44,2),Feuil1!A:C,3,FALSE))=A44 & CHAR(10) & C44,2,IF(OFFSET('Fiche score'!$A$2,VLOOKUP(RIGHT(AI44,2),Feuil1!A:C,2,FALSE)+1,VLOOKUP(RIGHT(AI44,2),Feuil1!A:C,3,FALSE))=A44 & CHAR(10) & C44,2,IF(OFFSET('Fiche score'!$A$2,VLOOKUP(RIGHT(AI44,2),Feuil1!A:C,2,FALSE)-1,VLOOKUP(RIGHT(AI44,2),Feuil1!A:C,3,FALSE))=A44 & CHAR(10) & C44,1,IF(OFFSET('Fiche score'!$A$2,VLOOKUP(RIGHT(AI44,2),Feuil1!A:C,2,FALSE)-2,VLOOKUP(RIGHT(AI44,2),Feuil1!A:C,3,FALSE))=A44 & CHAR(10) & C44,1,\"0\")))))","v":""},{"$f":"IF(ISERROR(VLOOKUP(A44 & CHAR(10) &C44,'Fiche tirage dirigé'!I:I,1,FALSE)),0,1)","v":0},{"$f":"IF(ISERROR(VLOOKUP(A44& CHAR(10) &C44,Cadrage!H:H,1,FALSE)),0,1)","v":0},{"$f":"IF(ISERROR(VLOOKUP(A44 & CHAR(10) &C44,'Tableau final'!V:V,1,FALSE)),0,1)","v":0},{"$f":"IF(ISERROR(VLOOKUP(A44 & CHAR(10) &C44,'Tableau final'!W:W,1,FALSE)),0,1)","v":0},{"$f":"IF(ISERROR(VLOOKUP(A44 & CHAR(10) &C44,'Tableau final'!X:X,1,FALSE)),0,1)","v":0},{"$f":"IF(ISERROR(VLOOKUP(A44 & CHAR(10) &C44,'Tableau final'!Y:Y,1,FALSE)),0,1)","v":0},{"$f":"IF(ISERROR(VLOOKUP(A44 & CHAR(10) &C44,'Tableau final'!Z:Z,1,FALSE)),0,1)","v":0},{"$f":"IF('Tableau final'!$A$1<>\"\",IF('Tableau final'!$B$5=\"Qualifiés\",IF(ISERROR(VLOOKUP(A44 & CHAR(10) &C44,'Tableau final'!C:F,1,FALSE)),\"\",IF(AND(VLOOKUP(A44 & CHAR(10) &C44,'Tableau final'!C:F,3,FALSE)<>\"\",VLOOKUP(A44 & CHAR(10) &C44,'Tableau final'!C:F,4,FALSE)=\"x\"),1,\"\")),IF('Tableau final'!$G$5=\"Qualifiés\",IF(ISERROR(VLOOKUP(A44 & CHAR(10) &C44,'Tableau final'!H:K,1,FALSE)),\"\",IF(AND(VLOOKUP(A44 & CHAR(10) &C44,'Tableau final'!H:K,3,FALSE)<>\"\",VLOOKUP(A44 & CHAR(10) &C44,'Tableau final'!H:K,4,FALSE)=\"x\"),1,\"\")),IF('Tableau final'!$L$5=\"Qualifiés\",IF(ISERROR(VLOOKUP(A44 & CHAR(10) &C44,'Tableau final'!M:P,1,FALSE)),\"\",IF(AND(VLOOKUP(A44 & CHAR(10) &C44,'Tableau final'!M:P,3,FALSE)<>\"\",VLOOKUP(A44 & CHAR(10) &C44,'Tableau final'!M:P,4,FALSE)=\"x\"),1,\"\")),\"\"))),\"\")","v":""},"0",{"$f":"IF(ISERROR(VLOOKUP(AI44,Tirage!A:J,1,FALSE)),\"\",IF(VLOOKUP(AI44,Tirage!A:J,1,FALSE)=\"Office \",3,4))","v":""},{"$f":"IF(AJ44=\"0\",4,IF(AJ44=1,3,IF(AJ44=2,IF(OFFSET('Fiche score'!$A$2,VLOOKUP(RIGHT(AI44,2),Feuil1!A:C,2,FALSE),VLOOKUP(RIGHT(AI44,2),Feuil1!A:C,3,FALSE))=A44 & CHAR(10) & C44,1,2),\"\")))","v":""}]
[null,null,null,null,{"$f":"IF(ISERROR(VLOOKUP(C45,AS!$A:$H,7,FALSE)),\"\",VLOOKUP(C45,AS!$A:$H,7,FALSE))","v":""},{"$f":"IF(ISERROR(VLOOKUP(C45,AS!$A:$H,8,FALSE)),\"\",VLOOKUP(C45,AS!$A:$H,8,FALSE))","v":""},null,null,null,null,{"$f":"IF(ISERROR(VLOOKUP(I45,AS!$A:$H,7,FALSE)),\"\",VLOOKUP(I45,AS!$A:$H,7,FALSE))","v":""},{"$f":"IF(ISERROR(VLOOKUP(I45,AS!$A:$H,8,FALSE)),\"\",VLOOKUP(I45,AS!$A:$H,8,FALSE))","v":""},null,null,null,null,{"$f":"IF(ISERROR(VLOOKUP(O45,AS!$A:$H,7,FALSE)),\"\",VLOOKUP(O45,AS!$A:$H,7,FALSE))","v":""},{"$f":"IF(ISERROR(VLOOKUP(O45,AS!$A:$H,8,FALSE)),\"\",VLOOKUP(O45,AS!$A:$H,8,FALSE))","v":""},null,null,null,null,{"$f":"IF(ISERROR(VLOOKUP(U45,AS!$A:$H,7,FALSE)),\"\",VLOOKUP(U45,AS!$A:$H,7,FALSE))","v":""},{"$f":"IF(ISERROR(VLOOKUP(U45,AS!$A:$H,8,FALSE)),\"\",VLOOKUP(U45,AS!$A:$H,8,FALSE))","v":""},null,null,null,null,{"$f":"IF(ISERROR(VLOOKUP(AA45,AS!$A:$H,7,FALSE)),\"\",VLOOKUP(AA45,AS!$A:$H,7,FALSE))","v":""},{"$f":"IF(ISERROR(VLOOKUP(AA45,AS!$A:$H,8,FALSE)),\"\",VLOOKUP(AA45,AS!$A:$H,8,FALSE))","v":""},null,null,null,"",null,{"$f":"IF(AI45=\"\",\"\",IF(OFFSET('Fiche score'!$A$2,VLOOKUP(RIGHT(AI45,2),Feuil1!A:C,2,FALSE),VLOOKUP(RIGHT(AI45,2),Feuil1!A:C,3,FALSE))=A45 & CHAR(10) & C45,2,IF(OFFSET('Fiche score'!$A$2,VLOOKUP(RIGHT(AI45,2),Feuil1!A:C,2,FALSE)+1,VLOOKUP(RIGHT(AI45,2),Feuil1!A:C,3,FALSE))=A45 & CHAR(10) & C45,2,IF(OFFSET('Fiche score'!$A$2,VLOOKUP(RIGHT(AI45,2),Feuil1!A:C,2,FALSE)-1,VLOOKUP(RIGHT(AI45,2),Feuil1!A:C,3,FALSE))=A45 & CHAR(10) & C45,1,IF(OFFSET('Fiche score'!$A$2,VLOOKUP(RIGHT(AI45,2),Feuil1!A:C,2,FALSE)-2,VLOOKUP(RIGHT(AI45,2),Feuil1!A:C,3,FALSE))=A45 & CHAR(10) & C45,1,\"0\")))))","v":""},{"$f":"IF(ISERROR(VLOOKUP(A45 & CHAR(10) &C45,'Fiche tirage dirigé'!I:I,1,FALSE)),0,1)","v":0},{"$f":"IF(ISERROR(VLOOKUP(A45& CHAR(10) &C45,Cadrage!H:H,1,FALSE)),0,1)","v":0},{"$f":"IF(ISERROR(VLOOKUP(A45 & CHAR(10) &C45,'Tableau final'!V:V,1,FALSE)),0,1)","v":0},{"$f":"IF(ISERROR(VLOOKUP(A45 & CHAR(10) &C45,'Tableau final'!W:W,1,FALSE)),0,1)","v":0},{"$f":"IF(ISERROR(VLOOKUP(A45 & CHAR(10) &C45,'Tableau final'!X:X,1,FALSE)),0,1)","v":0},{"$f":"IF(ISERROR(VLOOKUP(A45 & CHAR(10) &C45,'Tableau final'!Y:Y,1,FALSE)),0,1)","v":0},{"$f":"IF(ISERROR(VLOOKUP(A45 & CHAR(10) &C45,'Tableau final'!Z:Z,1,FALSE)),0,1)","v":0},{"$f":"IF('Tableau final'!$A$1<>\"\",IF('Tableau final'!$B$5=\"Qualifiés\",IF(ISERROR(VLOOKUP(A45 & CHAR(10) &C45,'Tableau final'!C:F,1,FALSE)),\"\",IF(AND(VLOOKUP(A45 & CHAR(10) &C45,'Tableau final'!C:F,3,FALSE)<>\"\",VLOOKUP(A45 & CHAR(10) &C45,'Tableau final'!C:F,4,FALSE)=\"x\"),1,\"\")),IF('Tableau final'!$G$5=\"Qualifiés\",IF(ISERROR(VLOOKUP(A45 & CHAR(10) &C45,'Tableau final'!H:K,1,FALSE)),\"\",IF(AND(VLOOKUP(A45 & CHAR(10) &C45,'Tableau final'!H:K,3,FALSE)<>\"\",VLOOKUP(A45 & CHAR(10) &C45,'Tableau final'!H:K,4,FALSE)=\"x\"),1,\"\")),IF('Tableau final'!$L$5=\"Qualifiés\",IF(ISERROR(VLOOKUP(A45 & CHAR(10) &C45,'Tableau final'!M:P,1,FALSE)),\"\",IF(AND(VLOOKUP(A45 & CHAR(10) &C45,'Tableau final'!M:P,3,FALSE)<>\"\",VLOOKUP(A45 & CHAR(10) &C45,'Tableau final'!M:P,4,FALSE)=\"x\"),1,\"\")),\"\"))),\"\")","v":""},"0",{"$f":"IF(ISERROR(VLOOKUP(AI45,Tirage!A:J,1,FALSE)),\"\",IF(VLOOKUP(AI45,Tirage!A:J,1,FALSE)=\"Office \",3,4))","v":""},{"$f":"IF(AJ45=\"0\",4,IF(AJ45=1,3,IF(AJ45=2,IF(OFFSET('Fiche score'!$A$2,VLOOKUP(RIGHT(AI45,2),Feuil1!A:C,2,FALSE),VLOOKUP(RIGHT(AI45,2),Feuil1!A:C,3,FALSE))=A45 & CHAR(10) & C45,1,2),\"\")))","v":""}]
[null,null,null,null,{"$f":"IF(ISERROR(VLOOKUP(C46,AS!$A:$H,7,FALSE)),\"\",VLOOKUP(C46,AS!$A:$H,7,FALSE))","v":""},{"$f":"IF(ISERROR(VLOOKUP(C46,AS!$A:$H,8,FALSE)),\"\",VLOOKUP(C46,AS!$A:$H,8,FALSE))","v":""},null,null,null,null,{"$f":"IF(ISERROR(VLOOKUP(I46,AS!$A:$H,7,FALSE)),\"\",VLOOKUP(I46,AS!$A:$H,7,FALSE))","v":""},{"$f":"IF(ISERROR(VLOOKUP(I46,AS!$A:$H,8,FALSE)),\"\",VLOOKUP(I46,AS!$A:$H,8,FALSE))","v":""},null,null,null,null,{"$f":"IF(ISERROR(VLOOKUP(O46,AS!$A:$H,7,FALSE)),\"\",VLOOKUP(O46,AS!$A:$H,7,FALSE))","v":""},{"$f":"IF(ISERROR(VLOOKUP(O46,AS!$A:$H,8,FALSE)),\"\",VLOOKUP(O46,AS!$A:$H,8,FALSE))","v":""},null,null,null,null,{"$f":"IF(ISERROR(VLOOKUP(U46,AS!$A:$H,7,FALSE)),\"\",VLOOKUP(U46,AS!$A:$H,7,FALSE))","v":""},{"$f":"IF(ISERROR(VLOOKUP(U46,AS!$A:$H,8,FALSE)),\"\",VLOOKUP(U46,AS!$A:$H,8,FALSE))","v":""},null,null,null,null,{"$f":"IF(ISERROR(VLOOKUP(AA46,AS!$A:$H,7,FALSE)),\"\",VLOOKUP(AA46,AS!$A:$H,7,FALSE))","v":""},{"$f":"IF(ISERROR(VLOOKUP(AA46,AS!$A:$H,8,FALSE)),\"\",VLOOKUP(AA46,AS!$A:$H,8,FALSE))","v":""},null,null,null,"",null,{"$f":"IF(AI46=\"\",\"\",IF(OFFSET('Fiche score'!$A$2,VLOOKUP(RIGHT(AI46,2),Feuil1!A:C,2,FALSE),VLOOKUP(RIGHT(AI46,2),Feuil1!A:C,3,FALSE))=A46 & CHAR(10) & C46,2,IF(OFFSET('Fiche score'!$A$2,VLOOKUP(RIGHT(AI46,2),Feuil1!A:C,2,FALSE)+1,VLOOKUP(RIGHT(AI46,2),Feuil1!A:C,3,FALSE))=A46 & CHAR(10) & C46,2,IF(OFFSET('Fiche score'!$A$2,VLOOKUP(RIGHT(AI46,2),Feuil1!A:C,2,FALSE)-1,VLOOKUP(RIGHT(AI46,2),Feuil1!A:C,3,FALSE))=A46 & CHAR(10) & C46,1,IF(OFFSET('Fiche score'!$A$2,VLOOKUP(RIGHT(AI46,2),Feuil1!A:C,2,FALSE)-2,VLOOKUP(RIGHT(AI46,2),Feuil1!A:C,3,FALSE))=A46 & CHAR(10) & C46,1,\"0\")))))","v":""},{"$f":"IF(ISERROR(VLOOKUP(A46 & CHAR(10) &C46,'Fiche tirage dirigé'!I:I,1,FALSE)),0,1)","v":0},{"$f":"IF(ISERROR(VLOOKUP(A46& CHAR(10) &C46,Cadrage!H:H,1,FALSE)),0,1)","v":0},{"$f":"IF(ISERROR(VLOOKUP(A46 & CHAR(10) &C46,'Tableau final'!V:V,1,FALSE)),0,1)","v":0},{"$f":"IF(ISERROR(VLOOKUP(A46 & CHAR(10) &C46,'Tableau final'!W:W,1,FALSE)),0,1)","v":0},{"$f":"IF(ISERROR(VLOOKUP(A46 & CHAR(10) &C46,'Tableau final'!X:X,1,FALSE)),0,1)","v":0},{"$f":"IF(ISERROR(VLOOKUP(A46 & CHAR(10) &C46,'Tableau final'!Y:Y,1,FALSE)),0,1)","v":0},{"$f":"IF(ISERROR(VLOOKUP(A46 & CHAR(10) &C46,'Tableau final'!Z:Z,1,FALSE)),0,1)","v":0},{"$f":"IF('Tableau final'!$A$1<>\"\",IF('Tableau final'!$B$5=\"Qualifiés\",IF(ISERROR(VLOOKUP(A46 & CHAR(10) &C46,'Tableau final'!C:F,1,FALSE)),\"\",IF(AND(VLOOKUP(A46 & CHAR(10) &C46,'Tableau final'!C:F,3,FALSE)<>\"\",VLOOKUP(A46 & CHAR(10) &C46,'Tableau final'!C:F,4,FALSE)=\"x\"),1,\"\")),IF('Tableau final'!$G$5=\"Qualifiés\",IF(ISERROR(VLOOKUP(A46 & CHAR(10) &C46,'Tableau final'!H:K,1,FALSE)),\"\",IF(AND(VLOOKUP(A46 & CHAR(10) &C46,'Tableau final'!H:K,3,FALSE)<>\"\",VLOOKUP(A46 & CHAR(10) &C46,'Tableau final'!H:K,4,FALSE)=\"x\"),1,\"\")),IF('Tableau final'!$L$5=\"Qualifiés\",IF(ISERROR(VLOOKUP(A46 & CHAR(10) &C46,'Tableau final'!M:P,1,FALSE)),\"\",IF(AND(VLOOKUP(A46 & CHAR(10) &C46,'Tableau final'!M:P,3,FALSE)<>\"\",VLOOKUP(A46 & CHAR(10) &C46,'Tableau final'!M:P,4,FALSE)=\"x\"),1,\"\")),\"\"))),\"\")","v":""},"0",{"$f":"IF(ISERROR(VLOOKUP(AI46,Tirage!A:J,1,FALSE)),\"\",IF(VLOOKUP(AI46,Tirage!A:J,1,FALSE)=\"Office \",3,4))","v":""},{"$f":"IF(AJ46=\"0\",4,IF(AJ46=1,3,IF(AJ46=2,IF(OFFSET('Fiche score'!$A$2,VLOOKUP(RIGHT(AI46,2),Feuil1!A:C,2,FALSE),VLOOKUP(RIGHT(AI46,2),Feuil1!A:C,3,FALSE))=A46 & CHAR(10) & C46,1,2),\"\")))","v":""}]
[null,null,null,null,{"$f":"IF(ISERROR(VLOOKUP(C47,AS!$A:$H,7,FALSE)),\"\",VLOOKUP(C47,AS!$A:$H,7,FALSE))","v":""},{"$f":"IF(ISERROR(VLOOKUP(C47,AS!$A:$H,8,FALSE)),\"\",VLOOKUP(C47,AS!$A:$H,8,FALSE))","v":""},null,null,null,null,{"$f":"IF(ISERROR(VLOOKUP(I47,AS!$A:$H,7,FALSE)),\"\",VLOOKUP(I47,AS!$A:$H,7,FALSE))","v":""},{"$f":"IF(ISERROR(VLOOKUP(I47,AS!$A:$H,8,FALSE)),\"\",VLOOKUP(I47,AS!$A:$H,8,FALSE))","v":""},null,null,null,null,{"$f":"IF(ISERROR(VLOOKUP(O47,AS!$A:$H,7,FALSE)),\"\",VLOOKUP(O47,AS!$A:$H,7,FALSE))","v":""},{"$f":"IF(ISERROR(VLOOKUP(O47,AS!$A:$H,8,FALSE)),\"\",VLOOKUP(O47,AS!$A:$H,8,FALSE))","v":""},null,null,null,null,{"$f":"IF(ISERROR(VLOOKUP(U47,AS!$A:$H,7,FALSE)),\"\",VLOOKUP(U47,AS!$A:$H,7,FALSE))","v":""},{"$f":"IF(ISERROR(VLOOKUP(U47,AS!$A:$H,8,FALSE)),\"\",VLOOKUP(U47,AS!$A:$H,8,FALSE))","v":""},null,null,null,null,{"$f":"IF(ISERROR(VLOOKUP(AA47,AS!$A:$H,7,FALSE)),\"\",VLOOKUP(AA47,AS!$A:$H,7,FALSE))","v":""},{"$f":"IF(ISERROR(VLOOKUP(AA47,AS!$A:$H,8,FALSE)),\"\",VLOOKUP(AA47,AS!$A:$H,8,FALSE))","v":""},null,null,null,"",null,{"$f":"IF(AI47=\"\",\"\",IF(OFFSET('Fiche score'!$A$2,VLOOKUP(RIGHT(AI47,2),Feuil1!A:C,2,FALSE),VLOOKUP(RIGHT(AI47,2),Feuil1!A:C,3,FALSE))=A47 & CHAR(10) & C47,2,IF(OFFSET('Fiche score'!$A$2,VLOOKUP(RIGHT(AI47,2),Feuil1!A:C,2,FALSE)+1,VLOOKUP(RIGHT(AI47,2),Feuil1!A:C,3,FALSE))=A47 & CHAR(10) & C47,2,IF(OFFSET('Fiche score'!$A$2,VLOOKUP(RIGHT(AI47,2),Feuil1!A:C,2,FALSE)-1,VLOOKUP(RIGHT(AI47,2),Feuil1!A:C,3,FALSE))=A47 & CHAR(10) & C47,1,IF(OFFSET('Fiche score'!$A$2,VLOOKUP(RIGHT(AI47,2),Feuil1!A:C,2,FALSE)-2,VLOOKUP(RIGHT(AI47,2),Feuil1!A:C,3,FALSE))=A47 & CHAR(10) & C47,1,\"0\")))))","v":""},{"$f":"IF(ISERROR(VLOOKUP(A47 & CHAR(10) &C47,'Fiche tirage dirigé'!I:I,1,FALSE)),0,1)","v":0},{"$f":"IF(ISERROR(VLOOKUP(A47& CHAR(10) &C47,Cadrage!H:H,1,FALSE)),0,1)","v":0},{"$f":"IF(ISERROR(VLOOKUP(A47 & CHAR(10) &C47,'Tableau final'!V:V,1,FALSE)),0,1)","v":0},{"$f":"IF(ISERROR(VLOOKUP(A47 & CHAR(10) &C47,'Tableau final'!W:W,1,FALSE)),0,1)","v":0},{"$f":"IF(ISERROR(VLOOKUP(A47 & CHAR(10) &C47,'Tableau final'!X:X,1,FALSE)),0,1)","v":0},{"$f":"IF(ISERROR(VLOOKUP(A47 & CHAR(10) &C47,'Tableau final'!Y:Y,1,FALSE)),0,1)","v":0},{"$f":"IF(ISERROR(VLOOKUP(A47 & CHAR(10) &C47,'Tableau final'!Z:Z,1,FALSE)),0,1)","v":0},{"$f":"IF('Tableau final'!$A$1<>\"\",IF('Tableau final'!$B$5=\"Qualifiés\",IF(ISERROR(VLOOKUP(A47 & CHAR(10) &C47,'Tableau final'!C:F,1,FALSE)),\"\",IF(AND(VLOOKUP(A47 & CHAR(10) &C47,'Tableau final'!C:F,3,FALSE)<>\"\",VLOOKUP(A47 & CHAR(10) &C47,'Tableau final'!C:F,4,FALSE)=\"x\"),1,\"\")),IF('Tableau final'!$G$5=\"Qualifiés\",IF(ISERROR(VLOOKUP(A47 & CHAR(10) &C47,'Tableau final'!H:K,1,FALSE)),\"\",IF(AND(VLOOKUP(A47 & CHAR(10) &C47,'Tableau final'!H:K,3,FALSE)<>\"\",VLOOKUP(A47 & CHAR(10) &C47,'Tableau final'!H:K,4,FALSE)=\"x\"),1,\"\")),IF('Tableau final'!$L$5=\"Qualifiés\",IF(ISERROR(VLOOKUP(A47 & CHAR(10) &C47,'Tableau final'!M:P,1,FALSE)),\"\",IF(AND(VLOOKUP(A47 & CHAR(10) &C47,'Tableau final'!M:P,3,FALSE)<>\"\",VLOOKUP(A47 & CHAR(10) &C47,'Tableau final'!M:P,4,FALSE)=\"x\"),1,\"\")),\"\"))),\"\")","v":""},"0",{"$f":"IF(ISERROR(VLOOKUP(AI47,Tirage!A:J,1,FALSE)),\"\",IF(VLOOKUP(AI47,Tirage!A:J,1,FALSE)=\"Office \",3,4))","v":""},{"$f":"IF(AJ47=\"0\",4,IF(AJ47=1,3,IF(AJ47=2,IF(OFFSET('Fiche score'!$A$2,VLOOKUP(RIGHT(AI47,2),Feuil1!A:C,2,FALSE),VLOOKUP(RIGHT(AI47,2),Feuil1!A:C,3,FALSE))=A47 & CHAR(10) & C47,1,2),\"\")))","v":""}]
[null,null,null,null,{"$f":"IF(ISERROR(VLOOKUP(C48,AS!$A:$H,7,FALSE)),\"\",VLOOKUP(C48,AS!$A:$H,7,FALSE))","v":""},{"$f":"IF(ISERROR(VLOOKUP(C48,AS!$A:$H,8,FALSE)),\"\",VLOOKUP(C48,AS!$A:$H,8,FALSE))","v":""},null,null,null,null,{"$f":"IF(ISERROR(VLOOKUP(I48,AS!$A:$H,7,FALSE)),\"\",VLOOKUP(I48,AS!$A:$H,7,FALSE))","v":""},{"$f":"IF(ISERROR(VLOOKUP(I48,AS!$A:$H,8,FALSE)),\"\",VLOOKUP(I48,AS!$A:$H,8,FALSE))","v":""},null,null,null,null,{"$f":"IF(ISERROR(VLOOKUP(O48,AS!$A:$H,7,FALSE)),\"\",VLOOKUP(O48,AS!$A:$H,7,FALSE))","v":""},{"$f":"IF(ISERROR(VLOOKUP(O48,AS!$A:$H,8,FALSE)),\"\",VLOOKUP(O48,AS!$A:$H,8,FALSE))","v":""},null,null,null,null,{"$f":"IF(ISERROR(VLOOKUP(U48,AS!$A:$H,7,FALSE)),\"\",VLOOKUP(U48,AS!$A:$H,7,FALSE))","v":""},{"$f":"IF(ISERROR(VLOOKUP(U48,AS!$A:$H,8,FALSE)),\"\",VLOOKUP(U48,AS!$A:$H,8,FALSE))","v":""},null,null,null,null,{"$f":"IF(ISERROR(VLOOKUP(AA48,AS!$A:$H,7,FALSE)),\"\",VLOOKUP(AA48,AS!$A:$H,7,FALSE))","v":""},{"$f":"IF(ISERROR(VLOOKUP(AA48,AS!$A:$H,8,FALSE)),\"\",VLOOKUP(AA48,AS!$A:$H,8,FALSE))","v":""},null,null,null,"",null,{"$f":"IF(AI48=\"\",\"\",IF(OFFSET('Fiche score'!$A$2,VLOOKUP(RIGHT(AI48,2),Feuil1!A:C,2,FALSE),VLOOKUP(RIGHT(AI48,2),Feuil1!A:C,3,FALSE))=A48 & CHAR(10) & C48,2,IF(OFFSET('Fiche score'!$A$2,VLOOKUP(RIGHT(AI48,2),Feuil1!A:C,2,FALSE)+1,VLOOKUP(RIGHT(AI48,2),Feuil1!A:C,3,FALSE))=A48 & CHAR(10) & C48,2,IF(OFFSET('Fiche score'!$A$2,VLOOKUP(RIGHT(AI48,2),Feuil1!A:C,2,FALSE)-1,VLOOKUP(RIGHT(AI48,2),Feuil1!A:C,3,FALSE))=A48 & CHAR(10) & C48,1,IF(OFFSET('Fiche score'!$A$2,VLOOKUP(RIGHT(AI48,2),Feuil1!A:C,2,FALSE)-2,VLOOKUP(RIGHT(AI48,2),Feuil1!A:C,3,FALSE))=A48 & CHAR(10) & C48,1,\"0\")))))","v":""},{"$f":"IF(ISERROR(VLOOKUP(A48 & CHAR(10) &C48,'Fiche tirage dirigé'!I:I,1,FALSE)),0,1)","v":0},{"$f":"IF(ISERROR(VLOOKUP(A48& CHAR(10) &C48,Cadrage!H:H,1,FALSE)),0,1)","v":0},{"$f":"IF(ISERROR(VLOOKUP(A48 & CHAR(10) &C48,'Tableau final'!V:V,1,FALSE)),0,1)","v":0},{"$f":"IF(ISERROR(VLOOKUP(A48 & CHAR(10) &C48,'Tableau final'!W:W,1,FALSE)),0,1)","v":0},{"$f":"IF(ISERROR(VLOOKUP(A48 & CHAR(10) &C48,'Tableau final'!X:X,1,FALSE)),0,1)","v":0},{"$f":"IF(ISERROR(VLOOKUP(A48 & CHAR(10) &C48,'Tableau final'!Y:Y,1,FALSE)),0,1)","v":0},{"$f":"IF(ISERROR(VLOOKUP(A48 & CHAR(10) &C48,'Tableau final'!Z:Z,1,FALSE)),0,1)","v":0},{"$f":"IF('Tableau final'!$A$1<>\"\",IF('Tableau final'!$B$5=\"Qualifiés\",IF(ISERROR(VLOOKUP(A48 & CHAR(10) &C48,'Tableau final'!C:F,1,FALSE)),\"\",IF(AND(VLOOKUP(A48 & CHAR(10) &C48,'Tableau final'!C:F,3,FALSE)<>\"\",VLOOKUP(A48 & CHAR(10) &C48,'Tableau final'!C:F,4,FALSE)=\"x\"),1,\"\")),IF('Tableau final'!$G$5=\"Qualifiés\",IF(ISERROR(VLOOKUP(A48 & CHAR(10) &C48,'Tableau final'!H:K,1,FALSE)),\"\",IF(AND(VLOOKUP(A48 & CHAR(10) &C48,'Tableau final'!H:K,3,FALSE)<>\"\",VLOOKUP(A48 & CHAR(10) &C48,'Tableau final'!H:K,4,FALSE)=\"x\"),1,\"\")),IF('Tableau final'!$L$5=\"Qualifiés\",IF(ISERROR(VLOOKUP(A48 & CHAR(10) &C48,'Tableau final'!M:P,1,FALSE)),\"\",IF(AND(VLOOKUP(A48 & CHAR(10) &C48,'Tableau final'!M:P,3,FALSE)<>\"\",VLOOKUP(A48 & CHAR(10) &C48,'Tableau final'!M:P,4,FALSE)=\"x\"),1,\"\")),\"\"))),\"\")","v":""},"0",{"$f":"IF(ISERROR(VLOOKUP(AI48,Tirage!A:J,1,FALSE)),\"\",IF(VLOOKUP(AI48,Tirage!A:J,1,FALSE)=\"Office \",3,4))","v":""},{"$f":"IF(AJ48=\"0\",4,IF(AJ48=1,3,IF(AJ48=2,IF(OFFSET('Fiche score'!$A$2,VLOOKUP(RIGHT(AI48,2),Feuil1!A:C,2,FALSE),VLOOKUP(RIGHT(AI48,2),Feuil1!A:C,3,FALSE))=A48 & CHAR(10) & C48,1,2),\"\")))","v":""}]
[null,null,null,null,{"$f":"IF(ISERROR(VLOOKUP(C49,AS!$A:$H,7,FALSE)),\"\",VLOOKUP(C49,AS!$A:$H,7,FALSE))","v":""},{"$f":"IF(ISERROR(VLOOKUP(C49,AS!$A:$H,8,FALSE)),\"\",VLOOKUP(C49,AS!$A:$H,8,FALSE))","v":""},null,null,null,null,{"$f":"IF(ISERROR(VLOOKUP(I49,AS!$A:$H,7,FALSE)),\"\",VLOOKUP(I49,AS!$A:$H,7,FALSE))","v":""},{"$f":"IF(ISERROR(VLOOKUP(I49,AS!$A:$H,8,FALSE)),\"\",VLOOKUP(I49,AS!$A:$H,8,FALSE))","v":""},null,null,null,null,{"$f":"IF(ISERROR(VLOOKUP(O49,AS!$A:$H,7,FALSE)),\"\",VLOOKUP(O49,AS!$A:$H,7,FALSE))","v":""},{"$f":"IF(ISERROR(VLOOKUP(O49,AS!$A:$H,8,FALSE)),\"\",VLOOKUP(O49,AS!$A:$H,8,FALSE))","v":""},null,null,null,null,{"$f":"IF(ISERROR(VLOOKUP(U49,AS!$A:$H,7,FALSE)),\"\",VLOOKUP(U49,AS!$A:$H,7,FALSE))","v":""},{"$f":"IF(ISERROR(VLOOKUP(U49,AS!$A:$H,8,FALSE)),\"\",VLOOKUP(U49,AS!$A:$H,8,FALSE))","v":""},null,null,null,null,{"$f":"IF(ISERROR(VLOOKUP(AA49,AS!$A:$H,7,FALSE)),\"\",VLOOKUP(AA49,AS!$A:$H,7,FALSE))","v":""},{"$f":"IF(ISERROR(VLOOKUP(AA49,AS!$A:$H,8,FALSE)),\"\",VLOOKUP(AA49,AS!$A:$H,8,FALSE))","v":""},null,null,null,"",null,{"$f":"IF(AI49=\"\",\"\",IF(OFFSET('Fiche score'!$A$2,VLOOKUP(RIGHT(AI49,2),Feuil1!A:C,2,FALSE),VLOOKUP(RIGHT(AI49,2),Feuil1!A:C,3,FALSE))=A49 & CHAR(10) & C49,2,IF(OFFSET('Fiche score'!$A$2,VLOOKUP(RIGHT(AI49,2),Feuil1!A:C,2,FALSE)+1,VLOOKUP(RIGHT(AI49,2),Feuil1!A:C,3,FALSE))=A49 & CHAR(10) & C49,2,IF(OFFSET('Fiche score'!$A$2,VLOOKUP(RIGHT(AI49,2),Feuil1!A:C,2,FALSE)-1,VLOOKUP(RIGHT(AI49,2),Feuil1!A:C,3,FALSE))=A49 & CHAR(10) & C49,1,IF(OFFSET('Fiche score'!$A$2,VLOOKUP(RIGHT(AI49,2),Feuil1!A:C,2,FALSE)-2,VLOOKUP(RIGHT(AI49,2),Feuil1!A:C,3,FALSE))=A49 & CHAR(10) & C49,1,\"0\")))))","v":""},{"$f":"IF(ISERROR(VLOOKUP(A49 & CHAR(10) &C49,'Fiche tirage dirigé'!I:I,1,FALSE)),0,1)","v":0},{"$f":"IF(ISERROR(VLOOKUP(A49& CHAR(10) &C49,Cadrage!H:H,1,FALSE)),0,1)","v":0},{"$f":"IF(ISERROR(VLOOKUP(A49 & CHAR(10) &C49,'Tableau final'!V:V,1,FALSE)),0,1)","v":0},{"$f":"IF(ISERROR(VLOOKUP(A49 & CHAR(10) &C49,'Tableau final'!W:W,1,FALSE)),0,1)","v":0},{"$f":"IF(ISERROR(VLOOKUP(A49 & CHAR(10) &C49,'Tableau final'!X:X,1,FALSE)),0,1)","v":0},{"$f":"IF(ISERROR(VLOOKUP(A49 & CHAR(10) &C49,'Tableau final'!Y:Y,1,FALSE)),0,1)","v":0},{"$f":"IF(ISERROR(VLOOKUP(A49 & CHAR(10) &C49,'Tableau final'!Z:Z,1,FALSE)),0,1)","v":0},{"$f":"IF('Tableau final'!$A$1<>\"\",IF('Tableau final'!$B$5=\"Qualifiés\",IF(ISERROR(VLOOKUP(A49 & CHAR(10) &C49,'Tableau final'!C:F,1,FALSE)),\"\",IF(AND(VLOOKUP(A49 & CHAR(10) &C49,'Tableau final'!C:F,3,FALSE)<>\"\",VLOOKUP(A49 & CHAR(10) &C49,'Tableau final'!C:F,4,FALSE)=\"x\"),1,\"\")),IF('Tableau final'!$G$5=\"Qualifiés\",IF(ISERROR(VLOOKUP(A49 & CHAR(10) &C49,'Tableau final'!H:K,1,FALSE)),\"\",IF(AND(VLOOKUP(A49 & CHAR(10) &C49,'Tableau final'!H:K,3,FALSE)<>\"\",VLOOKUP(A49 & CHAR(10) &C49,'Tableau final'!H:K,4,FALSE)=\"x\"),1,\"\")),IF('Tableau final'!$L$5=\"Qualifiés\",IF(ISERROR(VLOOKUP(A49 & CHAR(10) &C49,'Tableau final'!M:P,1,FALSE)),\"\",IF(AND(VLOOKUP(A49 & CHAR(10) &C49,'Tableau final'!M:P,3,FALSE)<>\"\",VLOOKUP(A49 & CHAR(10) &C49,'Tableau final'!M:P,4,FALSE)=\"x\"),1,\"\")),\"\"))),\"\")","v":""},"0",{"$f":"IF(ISERROR(VLOOKUP(AI49,Tirage!A:J,1,FALSE)),\"\",IF(VLOOKUP(AI49,Tirage!A:J,1,FALSE)=\"Office \",3,4))","v":""},{"$f":"IF(AJ49=\"0\",4,IF(AJ49=1,3,IF(AJ49=2,IF(OFFSET('Fiche score'!$A$2,VLOOKUP(RIGHT(AI49,2),Feuil1!A:C,2,FALSE),VLOOKUP(RIGHT(AI49,2),Feuil1!A:C,3,FALSE))=A49 & CHAR(10) & C49,1,2),\"\")))","v":""}]
[null,null,null,null,{"$f":"IF(ISERROR(VLOOKUP(C50,AS!$A:$H,7,FALSE)),\"\",VLOOKUP(C50,AS!$A:$H,7,FALSE))","v":""},{"$f":"IF(ISERROR(VLOOKUP(C50,AS!$A:$H,8,FALSE)),\"\",VLOOKUP(C50,AS!$A:$H,8,FALSE))","v":""},null,null,null,null,{"$f":"IF(ISERROR(VLOOKUP(I50,AS!$A:$H,7,FALSE)),\"\",VLOOKUP(I50,AS!$A:$H,7,FALSE))","v":""},{"$f":"IF(ISERROR(VLOOKUP(I50,AS!$A:$H,8,FALSE)),\"\",VLOOKUP(I50,AS!$A:$H,8,FALSE))","v":""},null,null,null,null,{"$f":"IF(ISERROR(VLOOKUP(O50,AS!$A:$H,7,FALSE)),\"\",VLOOKUP(O50,AS!$A:$H,7,FALSE))","v":""},{"$f":"IF(ISERROR(VLOOKUP(O50,AS!$A:$H,8,FALSE)),\"\",VLOOKUP(O50,AS!$A:$H,8,FALSE))","v":""},null,null,null,null,{"$f":"IF(ISERROR(VLOOKUP(U50,AS!$A:$H,7,FALSE)),\"\",VLOOKUP(U50,AS!$A:$H,7,FALSE))","v":""},{"$f":"IF(ISERROR(VLOOKUP(U50,AS!$A:$H,8,FALSE)),\"\",VLOOKUP(U50,AS!$A:$H,8,FALSE))","v":""},null,null,null,null,{"$f":"IF(ISERROR(VLOOKUP(AA50,AS!$A:$H,7,FALSE)),\"\",VLOOKUP(AA50,AS!$A:$H,7,FALSE))","v":""},{"$f":"IF(ISERROR(VLOOKUP(AA50,AS!$A:$H,8,FALSE)),\"\",VLOOKUP(AA50,AS!$A:$H,8,FALSE))","v":""},null,null,null,"",null,{"$f":"IF(AI50=\"\",\"\",IF(OFFSET('Fiche score'!$A$2,VLOOKUP(RIGHT(AI50,2),Feuil1!A:C,2,FALSE),VLOOKUP(RIGHT(AI50,2),Feuil1!A:C,3,FALSE))=A50 & CHAR(10) & C50,2,IF(OFFSET('Fiche score'!$A$2,VLOOKUP(RIGHT(AI50,2),Feuil1!A:C,2,FALSE)+1,VLOOKUP(RIGHT(AI50,2),Feuil1!A:C,3,FALSE))=A50 & CHAR(10) & C50,2,IF(OFFSET('Fiche score'!$A$2,VLOOKUP(RIGHT(AI50,2),Feuil1!A:C,2,FALSE)-1,VLOOKUP(RIGHT(AI50,2),Feuil1!A:C,3,FALSE))=A50 & CHAR(10) & C50,1,IF(OFFSET('Fiche score'!$A$2,VLOOKUP(RIGHT(AI50,2),Feuil1!A:C,2,FALSE)-2,VLOOKUP(RIGHT(AI50,2),Feuil1!A:C,3,FALSE))=A50 & CHAR(10) & C50,1,\"0\")))))","v":""},{"$f":"IF(ISERROR(VLOOKUP(A50 & CHAR(10) &C50,'Fiche tirage dirigé'!I:I,1,FALSE)),0,1)","v":0},{"$f":"IF(ISERROR(VLOOKUP(A50& CHAR(10) &C50,Cadrage!H:H,1,FALSE)),0,1)","v":0},{"$f":"IF(ISERROR(VLOOKUP(A50 & CHAR(10) &C50,'Tableau final'!V:V,1,FALSE)),0,1)","v":0},{"$f":"IF(ISERROR(VLOOKUP(A50 & CHAR(10) &C50,'Tableau final'!W:W,1,FALSE)),0,1)","v":0},{"$f":"IF(ISERROR(VLOOKUP(A50 & CHAR(10) &C50,'Tableau final'!X:X,1,FALSE)),0,1)","v":0},{"$f":"IF(ISERROR(VLOOKUP(A50 & CHAR(10) &C50,'Tableau final'!Y:Y,1,FALSE)),0,1)","v":0},{"$f":"IF(ISERROR(VLOOKUP(A50 & CHAR(10) &C50,'Tableau final'!Z:Z,1,FALSE)),0,1)","v":0},{"$f":"IF('Tableau final'!$A$1<>\"\",IF('Tableau final'!$B$5=\"Qualifiés\",IF(ISERROR(VLOOKUP(A50 & CHAR(10) &C50,'Tableau final'!C:F,1,FALSE)),\"\",IF(AND(VLOOKUP(A50 & CHAR(10) &C50,'Tableau final'!C:F,3,FALSE)<>\"\",VLOOKUP(A50 & CHAR(10) &C50,'Tableau final'!C:F,4,FALSE)=\"x\"),1,\"\")),IF('Tableau final'!$G$5=\"Qualifiés\",IF(ISERROR(VLOOKUP(A50 & CHAR(10) &C50,'Tableau final'!H:K,1,FALSE)),\"\",IF(AND(VLOOKUP(A50 & CHAR(10) &C50,'Tableau final'!H:K,3,FALSE)<>\"\",VLOOKUP(A50 & CHAR(10) &C50,'Tableau final'!H:K,4,FALSE)=\"x\"),1,\"\")),IF('Tableau final'!$L$5=\"Qualifiés\",IF(ISERROR(VLOOKUP(A50 & CHAR(10) &C50,'Tableau final'!M:P,1,FALSE)),\"\",IF(AND(VLOOKUP(A50 & CHAR(10) &C50,'Tableau final'!M:P,3,FALSE)<>\"\",VLOOKUP(A50 & CHAR(10) &C50,'Tableau final'!M:P,4,FALSE)=\"x\"),1,\"\")),\"\"))),\"\")","v":""},"0",{"$f":"IF(ISERROR(VLOOKUP(AI50,Tirage!A:J,1,FALSE)),\"\",IF(VLOOKUP(AI50,Tirage!A:J,1,FALSE)=\"Office \",3,4))","v":""},{"$f":"IF(AJ50=\"0\",4,IF(AJ50=1,3,IF(AJ50=2,IF(OFFSET('Fiche score'!$A$2,VLOOKUP(RIGHT(AI50,2),Feuil1!A:C,2,FALSE),VLOOKUP(RIGHT(AI50,2),Feuil1!A:C,3,FALSE))=A50 & CHAR(10) & C50,1,2),\"\")))","v":""}]
[null,null,null,null,{"$f":"IF(ISERROR(VLOOKUP(C51,AS!$A:$H,7,FALSE)),\"\",VLOOKUP(C51,AS!$A:$H,7,FALSE))","v":""},{"$f":"IF(ISERROR(VLOOKUP(C51,AS!$A:$H,8,FALSE)),\"\",VLOOKUP(C51,AS!$A:$H,8,FALSE))","v":""},null,null,null,null,{"$f":"IF(ISERROR(VLOOKUP(I51,AS!$A:$H,7,FALSE)),\"\",VLOOKUP(I51,AS!$A:$H,7,FALSE))","v":""},{"$f":"IF(ISERROR(VLOOKUP(I51,AS!$A:$H,8,FALSE)),\"\",VLOOKUP(I51,AS!$A:$H,8,FALSE))","v":""},null,null,null,null,{"$f":"IF(ISERROR(VLOOKUP(O51,AS!$A:$H,7,FALSE)),\"\",VLOOKUP(O51,AS!$A:$H,7,FALSE))","v":""},{"$f":"IF(ISERROR(VLOOKUP(O51,AS!$A:$H,8,FALSE)),\"\",VLOOKUP(O51,AS!$A:$H,8,FALSE))","v":""},null,null,null,null,{"$f":"IF(ISERROR(VLOOKUP(U51,AS!$A:$H,7,FALSE)),\"\",VLOOKUP(U51,AS!$A:$H,7,FALSE))","v":""},{"$f":"IF(ISERROR(VLOOKUP(U51,AS!$A:$H,8,FALSE)),\"\",VLOOKUP(U51,AS!$A:$H,8,FALSE))","v":""},null,null,null,null,{"$f":"IF(ISERROR(VLOOKUP(AA51,AS!$A:$H,7,FALSE)),\"\",VLOOKUP(AA51,AS!$A:$H,7,FALSE))","v":""},{"$f":"IF(ISERROR(VLOOKUP(AA51,AS!$A:$H,8,FALSE)),\"\",VLOOKUP(AA51,AS!$A:$H,8,FALSE))","v":""},null,null,null,"",null,{"$f":"IF(AI51=\"\",\"\",IF(OFFSET('Fiche score'!$A$2,VLOOKUP(RIGHT(AI51,2),Feuil1!A:C,2,FALSE),VLOOKUP(RIGHT(AI51,2),Feuil1!A:C,3,FALSE))=A51 & CHAR(10) & C51,2,IF(OFFSET('Fiche score'!$A$2,VLOOKUP(RIGHT(AI51,2),Feuil1!A:C,2,FALSE)+1,VLOOKUP(RIGHT(AI51,2),Feuil1!A:C,3,FALSE))=A51 & CHAR(10) & C51,2,IF(OFFSET('Fiche score'!$A$2,VLOOKUP(RIGHT(AI51,2),Feuil1!A:C,2,FALSE)-1,VLOOKUP(RIGHT(AI51,2),Feuil1!A:C,3,FALSE))=A51 & CHAR(10) & C51,1,IF(OFFSET('Fiche score'!$A$2,VLOOKUP(RIGHT(AI51,2),Feuil1!A:C,2,FALSE)-2,VLOOKUP(RIGHT(AI51,2),Feuil1!A:C,3,FALSE))=A51 & CHAR(10) & C51,1,\"0\")))))","v":""},{"$f":"IF(ISERROR(VLOOKUP(A51 & CHAR(10) &C51,'Fiche tirage dirigé'!I:I,1,FALSE)),0,1)","v":0},{"$f":"IF(ISERROR(VLOOKUP(A51& CHAR(10) &C51,Cadrage!H:H,1,FALSE)),0,1)","v":0},{"$f":"IF(ISERROR(VLOOKUP(A51 & CHAR(10) &C51,'Tableau final'!V:V,1,FALSE)),0,1)","v":0},{"$f":"IF(ISERROR(VLOOKUP(A51 & CHAR(10) &C51,'Tableau final'!W:W,1,FALSE)),0,1)","v":0},{"$f":"IF(ISERROR(VLOOKUP(A51 & CHAR(10) &C51,'Tableau final'!X:X,1,FALSE)),0,1)","v":0},{"$f":"IF(ISERROR(VLOOKUP(A51 & CHAR(10) &C51,'Tableau final'!Y:Y,1,FALSE)),0,1)","v":0},{"$f":"IF(ISERROR(VLOOKUP(A51 & CHAR(10) &C51,'Tableau final'!Z:Z,1,FALSE)),0,1)","v":0},{"$f":"IF('Tableau final'!$A$1<>\"\",IF('Tableau final'!$B$5=\"Qualifiés\",IF(ISERROR(VLOOKUP(A51 & CHAR(10) &C51,'Tableau final'!C:F,1,FALSE)),\"\",IF(AND(VLOOKUP(A51 & CHAR(10) &C51,'Tableau final'!C:F,3,FALSE)<>\"\",VLOOKUP(A51 & CHAR(10) &C51,'Tableau final'!C:F,4,FALSE)=\"x\"),1,\"\")),IF('Tableau final'!$G$5=\"Qualifiés\",IF(ISERROR(VLOOKUP(A51 & CHAR(10) &C51,'Tableau final'!H:K,1,FALSE)),\"\",IF(AND(VLOOKUP(A51 & CHAR(10) &C51,'Tableau final'!H:K,3,FALSE)<>\"\",VLOOKUP(A51 & CHAR(10) &C51,'Tableau final'!H:K,4,FALSE)=\"x\"),1,\"\")),IF('Tableau final'!$L$5=\"Qualifiés\",IF(ISERROR(VLOOKUP(A51 & CHAR(10) &C51,'Tableau final'!M:P,1,FALSE)),\"\",IF(AND(VLOOKUP(A51 & CHAR(10) &C51,'Tableau final'!M:P,3,FALSE)<>\"\",VLOOKUP(A51 & CHAR(10) &C51,'Tableau final'!M:P,4,FALSE)=\"x\"),1,\"\")),\"\"))),\"\")","v":""},"0",{"$f":"IF(ISERROR(VLOOKUP(AI51,Tirage!A:J,1,FALSE)),\"\",IF(VLOOKUP(AI51,Tirage!A:J,1,FALSE)=\"Office \",3,4))","v":""},{"$f":"IF(AJ51=\"0\",4,IF(AJ51=1,3,IF(AJ51=2,IF(OFFSET('Fiche score'!$A$2,VLOOKUP(RIGHT(AI51,2),Feuil1!A:C,2,FALSE),VLOOKUP(RIGHT(AI51,2),Feuil1!A:C,3,FALSE))=A51 & CHAR(10) & C51,1,2),\"\")))","v":""}]
[null,null,null,null,{"$f":"IF(ISERROR(VLOOKUP(C52,AS!$A:$H,7,FALSE)),\"\",VLOOKUP(C52,AS!$A:$H,7,FALSE))","v":""},{"$f":"IF(ISERROR(VLOOKUP(C52,AS!$A:$H,8,FALSE)),\"\",VLOOKUP(C52,AS!$A:$H,8,FALSE))","v":""},null,null,null,null,{"$f":"IF(ISERROR(VLOOKUP(I52,AS!$A:$H,7,FALSE)),\"\",VLOOKUP(I52,AS!$A:$H,7,FALSE))","v":""},{"$f":"IF(ISERROR(VLOOKUP(I52,AS!$A:$H,8,FALSE)),\"\",VLOOKUP(I52,AS!$A:$H,8,FALSE))","v":""},null,null,null,null,{"$f":"IF(ISERROR(VLOOKUP(O52,AS!$A:$H,7,FALSE)),\"\",VLOOKUP(O52,AS!$A:$H,7,FALSE))","v":""},{"$f":"IF(ISERROR(VLOOKUP(O52,AS!$A:$H,8,FALSE)),\"\",VLOOKUP(O52,AS!$A:$H,8,FALSE))","v":""},null,null,null,null,{"$f":"IF(ISERROR(VLOOKUP(U52,AS!$A:$H,7,FALSE)),\"\",VLOOKUP(U52,AS!$A:$H,7,FALSE))","v":""},{"$f":"IF(ISERROR(VLOOKUP(U52,AS!$A:$H,8,FALSE)),\"\",VLOOKUP(U52,AS!$A:$H,8,FALSE))","v":""},null,null,null,null,{"$f":"IF(ISERROR(VLOOKUP(AA52,AS!$A:$H,7,FALSE)),\"\",VLOOKUP(AA52,AS!$A:$H,7,FALSE))","v":""},{"$f":"IF(ISERROR(VLOOKUP(AA52,AS!$A:$H,8,FALSE)),\"\",VLOOKUP(AA52,AS!$A:$H,8,FALSE))","v":""},null,null,null,"",null,{"$f":"IF(AI52=\"\",\"\",IF(OFFSET('Fiche score'!$A$2,VLOOKUP(RIGHT(AI52,2),Feuil1!A:C,2,FALSE),VLOOKUP(RIGHT(AI52,2),Feuil1!A:C,3,FALSE))=A52 & CHAR(10) & C52,2,IF(OFFSET('Fiche score'!$A$2,VLOOKUP(RIGHT(AI52,2),Feuil1!A:C,2,FALSE)+1,VLOOKUP(RIGHT(AI52,2),Feuil1!A:C,3,FALSE))=A52 & CHAR(10) & C52,2,IF(OFFSET('Fiche score'!$A$2,VLOOKUP(RIGHT(AI52,2),Feuil1!A:C,2,FALSE)-1,VLOOKUP(RIGHT(AI52,2),Feuil1!A:C,3,FALSE))=A52 & CHAR(10) & C52,1,IF(OFFSET('Fiche score'!$A$2,VLOOKUP(RIGHT(AI52,2),Feuil1!A:C,2,FALSE)-2,VLOOKUP(RIGHT(AI52,2),Feuil1!A:C,3,FALSE))=A52 & CHAR(10) & C52,1,\"0\")))))","v":""},{"$f":"IF(ISERROR(VLOOKUP(A52 & CHAR(10) &C52,'Fiche tirage dirigé'!I:I,1,FALSE)),0,1)","v":0},{"$f":"IF(ISERROR(VLOOKUP(A52& CHAR(10) &C52,Cadrage!H:H,1,FALSE)),0,1)","v":0},{"$f":"IF(ISERROR(VLOOKUP(A52 & CHAR(10) &C52,'Tableau final'!V:V,1,FALSE)),0,1)","v":0},{"$f":"IF(ISERROR(VLOOKUP(A52 & CHAR(10) &C52,'Tableau final'!W:W,1,FALSE)),0,1)","v":0},{"$f":"IF(ISERROR(VLOOKUP(A52 & CHAR(10) &C52,'Tableau final'!X:X,1,FALSE)),0,1)","v":0},{"$f":"IF(ISERROR(VLOOKUP(A52 & CHAR(10) &C52,'Tableau final'!Y:Y,1,FALSE)),0,1)","v":0},{"$f":"IF(ISERROR(VLOOKUP(A52 & CHAR(10) &C52,'Tableau final'!Z:Z,1,FALSE)),0,1)","v":0},{"$f":"IF('Tableau final'!$A$1<>\"\",IF('Tableau final'!$B$5=\"Qualifiés\",IF(ISERROR(VLOOKUP(A52 & CHAR(10) &C52,'Tableau final'!C:F,1,FALSE)),\"\",IF(AND(VLOOKUP(A52 & CHAR(10) &C52,'Tableau final'!C:F,3,FALSE)<>\"\",VLOOKUP(A52 & CHAR(10) &C52,'Tableau final'!C:F,4,FALSE)=\"x\"),1,\"\")),IF('Tableau final'!$G$5=\"Qualifiés\",IF(ISERROR(VLOOKUP(A52 & CHAR(10) &C52,'Tableau final'!H:K,1,FALSE)),\"\",IF(AND(VLOOKUP(A52 & CHAR(10) &C52,'Tableau final'!H:K,3,FALSE)<>\"\",VLOOKUP(A52 & CHAR(10) &C52,'Tableau final'!H:K,4,FALSE)=\"x\"),1,\"\")),IF('Tableau final'!$L$5=\"Qualifiés\",IF(ISERROR(VLOOKUP(A52 & CHAR(10) &C52,'Tableau final'!M:P,1,FALSE)),\"\",IF(AND(VLOOKUP(A52 & CHAR(10) &C52,'Tableau final'!M:P,3,FALSE)<>\"\",VLOOKUP(A52 & CHAR(10) &C52,'Tableau final'!M:P,4,FALSE)=\"x\"),1,\"\")),\"\"))),\"\")","v":""},"0",{"$f":"IF(ISERROR(VLOOKUP(AI52,Tirage!A:J,1,FALSE)),\"\",IF(VLOOKUP(AI52,Tirage!A:J,1,FALSE)=\"Office \",3,4))","v":""},{"$f":"IF(AJ52=\"0\",4,IF(AJ52=1,3,IF(AJ52=2,IF(OFFSET('Fiche score'!$A$2,VLOOKUP(RIGHT(AI52,2),Feuil1!A:C,2,FALSE),VLOOKUP(RIGHT(AI52,2),Feuil1!A:C,3,FALSE))=A52 & CHAR(10) & C52,1,2),\"\")))","v":""}]
[null,null,null,null,{"$f":"IF(ISERROR(VLOOKUP(C53,AS!$A:$H,7,FALSE)),\"\",VLOOKUP(C53,AS!$A:$H,7,FALSE))","v":""},{"$f":"IF(ISERROR(VLOOKUP(C53,AS!$A:$H,8,FALSE)),\"\",VLOOKUP(C53,AS!$A:$H,8,FALSE))","v":""},null,null,null,null,{"$f":"IF(ISERROR(VLOOKUP(I53,AS!$A:$H,7,FALSE)),\"\",VLOOKUP(I53,AS!$A:$H,7,FALSE))","v":""},{"$f":"IF(ISERROR(VLOOKUP(I53,AS!$A:$H,8,FALSE)),\"\",VLOOKUP(I53,AS!$A:$H,8,FALSE))","v":""},null,null,null,null,{"$f":"IF(ISERROR(VLOOKUP(O53,AS!$A:$H,7,FALSE)),\"\",VLOOKUP(O53,AS!$A:$H,7,FALSE))","v":""},{"$f":"IF(ISERROR(VLOOKUP(O53,AS!$A:$H,8,FALSE)),\"\",VLOOKUP(O53,AS!$A:$H,8,FALSE))","v":""},null,null,null,null,{"$f":"IF(ISERROR(VLOOKUP(U53,AS!$A:$H,7,FALSE)),\"\",VLOOKUP(U53,AS!$A:$H,7,FALSE))","v":""},{"$f":"IF(ISERROR(VLOOKUP(U53,AS!$A:$H,8,FALSE)),\"\",VLOOKUP(U53,AS!$A:$H,8,FALSE))","v":""},null,null,null,"BOURG J.L.",{"$f":"IF(ISERROR(VLOOKUP(AA53,AS!$A:$H,7,FALSE)),\"\",VLOOKUP(AA53,AS!$A:$H,7,FALSE))","v":""},{"$f":"IF(ISERROR(VLOOKUP(AA53,AS!$A:$H,8,FALSE)),\"\",VLOOKUP(AA53,AS!$A:$H,8,FALSE))","v":""},null,null,null,"",null,{"$f":"IF(AI53=\"\",\"\",IF(OFFSET('Fiche score'!$A$2,VLOOKUP(RIGHT(AI53,2),Feuil1!A:C,2,FALSE),VLOOKUP(RIGHT(AI53,2),Feuil1!A:C,3,FALSE))=A53 & CHAR(10) & C53,2,IF(OFFSET('Fiche score'!$A$2,VLOOKUP(RIGHT(AI53,2),Feuil1!A:C,2,FALSE)+1,VLOOKUP(RIGHT(AI53,2),Feuil1!A:C,3,FALSE))=A53 & CHAR(10) & C53,2,IF(OFFSET('Fiche score'!$A$2,VLOOKUP(RIGHT(AI53,2),Feuil1!A:C,2,FALSE)-1,VLOOKUP(RIGHT(AI53,2),Feuil1!A:C,3,FALSE))=A53 & CHAR(10) & C53,1,IF(OFFSET('Fiche score'!$A$2,VLOOKUP(RIGHT(AI53,2),Feuil1!A:C,2,FALSE)-2,VLOOKUP(RIGHT(AI53,2),Feuil1!A:C,3,FALSE))=A53 & CHAR(10) & C53,1,\"0\")))))","v":""},{"$f":"IF(ISERROR(VLOOKUP(A53 & CHAR(10) &C53,'Fiche tirage dirigé'!I:I,1,FALSE)),0,1)","v":0},{"$f":"IF(ISERROR(VLOOKUP(A53& CHAR(10) &C53,Cadrage!H:H,1,FALSE)),0,1)","v":0},{"$f":"IF(ISERROR(VLOOKUP(A53 & CHAR(10) &C53,'Tableau final'!V:V,1,FALSE)),0,1)","v":0},{"$f":"IF(ISERROR(VLOOKUP(A53 & CHAR(10) &C53,'Tableau final'!W:W,1,FALSE)),0,1)","v":0},{"$f":"IF(ISERROR(VLOOKUP(A53 & CHAR(10) &C53,'Tableau final'!X:X,1,FALSE)),0,1)","v":0},{"$f":"IF(ISERROR(VLOOKUP(A53 & CHAR(10) &C53,'Tableau final'!Y:Y,1,FALSE)),0,1)","v":0},{"$f":"IF(ISERROR(VLOOKUP(A53 & CHAR(10) &C53,'Tableau final'!Z:Z,1,FALSE)),0,1)","v":0},{"$f":"IF('Tableau final'!$A$1<>\"\",IF('Tableau final'!$B$5=\"Qualifiés\",IF(ISERROR(VLOOKUP(A53 & CHAR(10) &C53,'Tableau final'!C:F,1,FALSE)),\"\",IF(AND(VLOOKUP(A53 & CHAR(10) &C53,'Tableau final'!C:F,3,FALSE)<>\"\",VLOOKUP(A53 & CHAR(10) &C53,'Tableau final'!C:F,4,FALSE)=\"x\"),1,\"\")),IF('Tableau final'!$G$5=\"Qualifiés\",IF(ISERROR(VLOOKUP(A53 & CHAR(10) &C53,'Tableau final'!H:K,1,FALSE)),\"\",IF(AND(VLOOKUP(A53 & CHAR(10) &C53,'Tableau final'!H:K,3,FALSE)<>\"\",VLOOKUP(A53 & CHAR(10) &C53,'Tableau final'!H:K,4,FALSE)=\"x\"),1,\"\")),IF('Tableau final'!$L$5=\"Qualifiés\",IF(ISERROR(VLOOKUP(A53 & CHAR(10) &C53,'Tableau final'!M:P,1,FALSE)),\"\",IF(AND(VLOOKUP(A53 & CHAR(10) &C53,'Tableau final'!M:P,3,FALSE)<>\"\",VLOOKUP(A53 & CHAR(10) &C53,'Tableau final'!M:P,4,FALSE)=\"x\"),1,\"\")),\"\"))),\"\")","v":""},"0",{"$f":"IF(ISERROR(VLOOKUP(AI53,Tirage!A:J,1,FALSE)),\"\",IF(VLOOKUP(AI53,Tirage!A:J,1,FALSE)=\"Office \",3,4))","v":""},{"$f":"IF(AJ53=\"0\",4,IF(AJ53=1,3,IF(AJ53=2,IF(OFFSET('Fiche score'!$A$2,VLOOKUP(RIGHT(AI53,2),Feuil1!A:C,2,FALSE),VLOOKUP(RIGHT(AI53,2),Feuil1!A:C,3,FALSE))=A53 & CHAR(10) & C53,1,2),\"\")))","v":""}]
[null,null,null,null,{"$f":"IF(ISERROR(VLOOKUP(C54,AS!$A:$H,7,FALSE)),\"\",VLOOKUP(C54,AS!$A:$H,7,FALSE))","v":""},{"$f":"IF(ISERROR(VLOOKUP(C54,AS!$A:$H,8,FALSE)),\"\",VLOOKUP(C54,AS!$A:$H,8,FALSE))","v":""},null,null,null,null,{"$f":"IF(ISERROR(VLOOKUP(I54,AS!$A:$H,7,FALSE)),\"\",VLOOKUP(I54,AS!$A:$H,7,FALSE))","v":""},{"$f":"IF(ISERROR(VLOOKUP(I54,AS!$A:$H,8,FALSE)),\"\",VLOOKUP(I54,AS!$A:$H,8,FALSE))","v":""},null,null,null,null,{"$f":"IF(ISERROR(VLOOKUP(O54,AS!$A:$H,7,FALSE)),\"\",VLOOKUP(O54,AS!$A:$H,7,FALSE))","v":""},{"$f":"IF(ISERROR(VLOOKUP(O54,AS!$A:$H,8,FALSE)),\"\",VLOOKUP(O54,AS!$A:$H,8,FALSE))","v":""},null,null,null,null,{"$f":"IF(ISERROR(VLOOKUP(U54,AS!$A:$H,7,FALSE)),\"\",VLOOKUP(U54,AS!$A:$H,7,FALSE))","v":""},{"$f":"IF(ISERROR(VLOOKUP(U54,AS!$A:$H,8,FALSE)),\"\",VLOOKUP(U54,AS!$A:$H,8,FALSE))","v":""},null,null,null,null,{"$f":"IF(ISERROR(VLOOKUP(AA54,AS!$A:$H,7,FALSE)),\"\",VLOOKUP(AA54,AS!$A:$H,7,FALSE))","v":""},{"$f":"IF(ISERROR(VLOOKUP(AA54,AS!$A:$H,8,FALSE)),\"\",VLOOKUP(AA54,AS!$A:$H,8,FALSE))","v":""},null,null,null,"",null,{"$f":"IF(AI54=\"\",\"\",IF(OFFSET('Fiche score'!$A$2,VLOOKUP(RIGHT(AI54,2),Feuil1!A:C,2,FALSE),VLOOKUP(RIGHT(AI54,2),Feuil1!A:C,3,FALSE))=A54 & CHAR(10) & C54,2,IF(OFFSET('Fiche score'!$A$2,VLOOKUP(RIGHT(AI54,2),Feuil1!A:C,2,FALSE)+1,VLOOKUP(RIGHT(AI54,2),Feuil1!A:C,3,FALSE))=A54 & CHAR(10) & C54,2,IF(OFFSET('Fiche score'!$A$2,VLOOKUP(RIGHT(AI54,2),Feuil1!A:C,2,FALSE)-1,VLOOKUP(RIGHT(AI54,2),Feuil1!A:C,3,FALSE))=A54 & CHAR(10) & C54,1,IF(OFFSET('Fiche score'!$A$2,VLOOKUP(RIGHT(AI54,2),Feuil1!A:C,2,FALSE)-2,VLOOKUP(RIGHT(AI54,2),Feuil1!A:C,3,FALSE))=A54 & CHAR(10) & C54,1,\"0\")))))","v":""},{"$f":"IF(ISERROR(VLOOKUP(A54 & CHAR(10) &C54,'Fiche tirage dirigé'!I:I,1,FALSE)),0,1)","v":0},{"$f":"IF(ISERROR(VLOOKUP(A54& CHAR(10) &C54,Cadrage!H:H,1,FALSE)),0,1)","v":0},{"$f":"IF(ISERROR(VLOOKUP(A54 & CHAR(10) &C54,'Tableau final'!V:V,1,FALSE)),0,1)","v":0},{"$f":"IF(ISERROR(VLOOKUP(A54 & CHAR(10) &C54,'Tableau final'!W:W,1,FALSE)),0,1)","v":0},{"$f":"IF(ISERROR(VLOOKUP(A54 & CHAR(10) &C54,'Tableau final'!X:X,1,FALSE)),0,1)","v":0},{"$f":"IF(ISERROR(VLOOKUP(A54 & CHAR(10) &C54,'Tableau final'!Y:Y,1,FALSE)),0,1)","v":0},{"$f":"IF(ISERROR(VLOOKUP(A54 & CHAR(10) &C54,'Tableau final'!Z:Z,1,FALSE)),0,1)","v":0},{"$f":"IF('Tableau final'!$A$1<>\"\",IF('Tableau final'!$B$5=\"Qualifiés\",IF(ISERROR(VLOOKUP(A54 & CHAR(10) &C54,'Tableau final'!C:F,1,FALSE)),\"\",IF(AND(VLOOKUP(A54 & CHAR(10) &C54,'Tableau final'!C:F,3,FALSE)<>\"\",VLOOKUP(A54 & CHAR(10) &C54,'Tableau final'!C:F,4,FALSE)=\"x\"),1,\"\")),IF('Tableau final'!$G$5=\"Qualifiés\",IF(ISERROR(VLOOKUP(A54 & CHAR(10) &C54,'Tableau final'!H:K,1,FALSE)),\"\",IF(AND(VLOOKUP(A54 & CHAR(10) &C54,'Tableau final'!H:K,3,FALSE)<>\"\",VLOOKUP(A54 & CHAR(10) &C54,'Tableau final'!H:K,4,FALSE)=\"x\"),1,\"\")),IF('Tableau final'!$L$5=\"Qualifiés\",IF(ISERROR(VLOOKUP(A54 & CHAR(10) &C54,'Tableau final'!M:P,1,FALSE)),\"\",IF(AND(VLOOKUP(A54 & CHAR(10) &C54,'Tableau final'!M:P,3,FALSE)<>\"\",VLOOKUP(A54 & CHAR(10) &C54,'Tableau final'!M:P,4,FALSE)=\"x\"),1,\"\")),\"\"))),\"\")","v":""},"0",{"$f":"IF(ISERROR(VLOOKUP(AI54,Tirage!A:J,1,FALSE)),\"\",IF(VLOOKUP(AI54,Tirage!A:J,1,FALSE)=\"Office \",3,4))","v":""},{"$f":"IF(AJ54=\"0\",4,IF(AJ54=1,3,IF(AJ54=2,IF(OFFSET('Fiche score'!$A$2,VLOOKUP(RIGHT(AI54,2),Feuil1!A:C,2,FALSE),VLOOKUP(RIGHT(AI54,2),Feuil1!A:C,3,FALSE))=A54 & CHAR(10) & C54,1,2),\"\")))","v":""}]
[null,null,null,null,{"$f":"IF(ISERROR(VLOOKUP(C55,AS!$A:$H,7,FALSE)),\"\",VLOOKUP(C55,AS!$A:$H,7,FALSE))","v":""},{"$f":"IF(ISERROR(VLOOKUP(C55,AS!$A:$H,8,FALSE)),\"\",VLOOKUP(C55,AS!$A:$H,8,FALSE))","v":""},null,null,null,null,{"$f":"IF(ISERROR(VLOOKUP(I55,AS!$A:$H,7,FALSE)),\"\",VLOOKUP(I55,AS!$A:$H,7,FALSE))","v":""},{"$f":"IF(ISERROR(VLOOKUP(I55,AS!$A:$H,8,FALSE)),\"\",VLOOKUP(I55,AS!$A:$H,8,FALSE))","v":""},null,null,null,null,{"$f":"IF(ISERROR(VLOOKUP(O55,AS!$A:$H,7,FALSE)),\"\",VLOOKUP(O55,AS!$A:$H,7,FALSE))","v":""},{"$f":"IF(ISERROR(VLOOKUP(O55,AS!$A:$H,8,FALSE)),\"\",VLOOKUP(O55,AS!$A:$H,8,FALSE))","v":""},null,null,null,null,{"$f":"IF(ISERROR(VLOOKUP(U55,AS!$A:$H,7,FALSE)),\"\",VLOOKUP(U55,AS!$A:$H,7,FALSE))","v":""},{"$f":"IF(ISERROR(VLOOKUP(U55,AS!$A:$H,8,FALSE)),\"\",VLOOKUP(U55,AS!$A:$H,8,FALSE))","v":""},null,null,null,"ST JUST",{"$f":"IF(ISERROR(VLOOKUP(AA55,AS!$A:$H,7,FALSE)),\"\",VLOOKUP(AA55,AS!$A:$H,7,FALSE))","v":""},{"$f":"IF(ISERROR(VLOOKUP(AA55,AS!$A:$H,8,FALSE)),\"\",VLOOKUP(AA55,AS!$A:$H,8,FALSE))","v":""},null,null,null,"",null,{"$f":"IF(AI55=\"\",\"\",IF(OFFSET('Fiche score'!$A$2,VLOOKUP(RIGHT(AI55,2),Feuil1!A:C,2,FALSE),VLOOKUP(RIGHT(AI55,2),Feuil1!A:C,3,FALSE))=A55 & CHAR(10) & C55,2,IF(OFFSET('Fiche score'!$A$2,VLOOKUP(RIGHT(AI55,2),Feuil1!A:C,2,FALSE)+1,VLOOKUP(RIGHT(AI55,2),Feuil1!A:C,3,FALSE))=A55 & CHAR(10) & C55,2,IF(OFFSET('Fiche score'!$A$2,VLOOKUP(RIGHT(AI55,2),Feuil1!A:C,2,FALSE)-1,VLOOKUP(RIGHT(AI55,2),Feuil1!A:C,3,FALSE))=A55 & CHAR(10) & C55,1,IF(OFFSET('Fiche score'!$A$2,VLOOKUP(RIGHT(AI55,2),Feuil1!A:C,2,FALSE)-2,VLOOKUP(RIGHT(AI55,2),Feuil1!A:C,3,FALSE))=A55 & CHAR(10) & C55,1,\"0\")))))","v":""},{"$f":"IF(ISERROR(VLOOKUP(A55 & CHAR(10) &C55,'Fiche tirage dirigé'!I:I,1,FALSE)),0,1)","v":0},{"$f":"IF(ISERROR(VLOOKUP(A55& CHAR(10) &C55,Cadrage!H:H,1,FALSE)),0,1)","v":0},{"$f":"IF(ISERROR(VLOOKUP(A55 & CHAR(10) &C55,'Tableau final'!V:V,1,FALSE)),0,1)","v":0},{"$f":"IF(ISERROR(VLOOKUP(A55 & CHAR(10) &C55,'Tableau final'!W:W,1,FALSE)),0,1)","v":0},{"$f":"IF(ISERROR(VLOOKUP(A55 & CHAR(10) &C55,'Tableau final'!X:X,1,FALSE)),0,1)","v":0},{"$f":"IF(ISERROR(VLOOKUP(A55 & CHAR(10) &C55,'Tableau final'!Y:Y,1,FALSE)),0,1)","v":0},{"$f":"IF(ISERROR(VLOOKUP(A55 & CHAR(10) &C55,'Tableau final'!Z:Z,1,FALSE)),0,1)","v":0},{"$f":"IF('Tableau final'!$A$1<>\"\",IF('Tableau final'!$B$5=\"Qualifiés\",IF(ISERROR(VLOOKUP(A55 & CHAR(10) &C55,'Tableau final'!C:F,1,FALSE)),\"\",IF(AND(VLOOKUP(A55 & CHAR(10) &C55,'Tableau final'!C:F,3,FALSE)<>\"\",VLOOKUP(A55 & CHAR(10) &C55,'Tableau final'!C:F,4,FALSE)=\"x\"),1,\"\")),IF('Tableau final'!$G$5=\"Qualifiés\",IF(ISERROR(VLOOKUP(A55 & CHAR(10) &C55,'Tableau final'!H:K,1,FALSE)),\"\",IF(AND(VLOOKUP(A55 & CHAR(10) &C55,'Tableau final'!H:K,3,FALSE)<>\"\",VLOOKUP(A55 & CHAR(10) &C55,'Tableau final'!H:K,4,FALSE)=\"x\"),1,\"\")),IF('Tableau final'!$L$5=\"Qualifiés\",IF(ISERROR(VLOOKUP(A55 & CHAR(10) &C55,'Tableau final'!M:P,1,FALSE)),\"\",IF(AND(VLOOKUP(A55 & CHAR(10) &C55,'Tableau final'!M:P,3,FALSE)<>\"\",VLOOKUP(A55 & CHAR(10) &C55,'Tableau final'!M:P,4,FALSE)=\"x\"),1,\"\")),\"\"))),\"\")","v":""},"0",{"$f":"IF(ISERROR(VLOOKUP(AI55,Tirage!A:J,1,FALSE)),\"\",IF(VLOOKUP(AI55,Tirage!A:J,1,FALSE)=\"Office \",3,4))","v":""},{"$f":"IF(AJ55=\"0\",4,IF(AJ55=1,3,IF(AJ55=2,IF(OFFSET('Fiche score'!$A$2,VLOOKUP(RIGHT(AI55,2),Feuil1!A:C,2,FALSE),VLOOKUP(RIGHT(AI55,2),Feuil1!A:C,3,FALSE))=A55 & CHAR(10) & C55,1,2),\"\")))","v":""}]
[null,null,null,null,{"$f":"IF(ISERROR(VLOOKUP(C56,AS!$A:$H,7,FALSE)),\"\",VLOOKUP(C56,AS!$A:$H,7,FALSE))","v":""},{"$f":"IF(ISERROR(VLOOKUP(C56,AS!$A:$H,8,FALSE)),\"\",VLOOKUP(C56,AS!$A:$H,8,FALSE))","v":""},null,null,null,null,{"$f":"IF(ISERROR(VLOOKUP(I56,AS!$A:$H,7,FALSE)),\"\",VLOOKUP(I56,AS!$A:$H,7,FALSE))","v":""},{"$f":"IF(ISERROR(VLOOKUP(I56,AS!$A:$H,8,FALSE)),\"\",VLOOKUP(I56,AS!$A:$H,8,FALSE))","v":""},null,null,null,null,{"$f":"IF(ISERROR(VLOOKUP(O56,AS!$A:$H,7,FALSE)),\"\",VLOOKUP(O56,AS!$A:$H,7,FALSE))","v":""},{"$f":"IF(ISERROR(VLOOKUP(O56,AS!$A:$H,8,FALSE)),\"\",VLOOKUP(O56,AS!$A:$H,8,FALSE))","v":""},null,null,null,null,{"$f":"IF(ISERROR(VLOOKUP(U56,AS!$A:$H,7,FALSE)),\"\",VLOOKUP(U56,AS!$A:$H,7,FALSE))","v":""},{"$f":"IF(ISERROR(VLOOKUP(U56,AS!$A:$H,8,FALSE)),\"\",VLOOKUP(U56,AS!$A:$H,8,FALSE))","v":""},null,null,null,"CERTINES",{"$f":"IF(ISERROR(VLOOKUP(AA56,AS!$A:$H,7,FALSE)),\"\",VLOOKUP(AA56,AS!$A:$H,7,FALSE))","v":""},{"$f":"IF(ISERROR(VLOOKUP(AA56,AS!$A:$H,8,FALSE)),\"\",VLOOKUP(AA56,AS!$A:$H,8,FALSE))","v":""},null,null,null,"",null,{"$f":"IF(AI56=\"\",\"\",IF(OFFSET('Fiche score'!$A$2,VLOOKUP(RIGHT(AI56,2),Feuil1!A:C,2,FALSE),VLOOKUP(RIGHT(AI56,2),Feuil1!A:C,3,FALSE))=A56 & CHAR(10) & C56,2,IF(OFFSET('Fiche score'!$A$2,VLOOKUP(RIGHT(AI56,2),Feuil1!A:C,2,FALSE)+1,VLOOKUP(RIGHT(AI56,2),Feuil1!A:C,3,FALSE))=A56 & CHAR(10) & C56,2,IF(OFFSET('Fiche score'!$A$2,VLOOKUP(RIGHT(AI56,2),Feuil1!A:C,2,FALSE)-1,VLOOKUP(RIGHT(AI56,2),Feuil1!A:C,3,FALSE))=A56 & CHAR(10) & C56,1,IF(OFFSET('Fiche score'!$A$2,VLOOKUP(RIGHT(AI56,2),Feuil1!A:C,2,FALSE)-2,VLOOKUP(RIGHT(AI56,2),Feuil1!A:C,3,FALSE))=A56 & CHAR(10) & C56,1,\"0\")))))","v":""},{"$f":"IF(ISERROR(VLOOKUP(A56 & CHAR(10) &C56,'Fiche tirage dirigé'!I:I,1,FALSE)),0,1)","v":0},{"$f":"IF(ISERROR(VLOOKUP(A56& CHAR(10) &C56,Cadrage!H:H,1,FALSE)),0,1)","v":0},{"$f":"IF(ISERROR(VLOOKUP(A56 & CHAR(10) &C56,'Tableau final'!V:V,1,FALSE)),0,1)","v":0},{"$f":"IF(ISERROR(VLOOKUP(A56 & CHAR(10) &C56,'Tableau final'!W:W,1,FALSE)),0,1)","v":0},{"$f":"IF(ISERROR(VLOOKUP(A56 & CHAR(10) &C56,'Tableau final'!X:X,1,FALSE)),0,1)","v":0},{"$f":"IF(ISERROR(VLOOKUP(A56 & CHAR(10) &C56,'Tableau final'!Y:Y,1,FALSE)),0,1)","v":0},{"$f":"IF(ISERROR(VLOOKUP(A56 & CHAR(10) &C56,'Tableau final'!Z:Z,1,FALSE)),0,1)","v":0},{"$f":"IF('Tableau final'!$A$1<>\"\",IF('Tableau final'!$B$5=\"Qualifiés\",IF(ISERROR(VLOOKUP(A56 & CHAR(10) &C56,'Tableau final'!C:F,1,FALSE)),\"\",IF(AND(VLOOKUP(A56 & CHAR(10) &C56,'Tableau final'!C:F,3,FALSE)<>\"\",VLOOKUP(A56 & CHAR(10) &C56,'Tableau final'!C:F,4,FALSE)=\"x\"),1,\"\")),IF('Tableau final'!$G$5=\"Qualifiés\",IF(ISERROR(VLOOKUP(A56 & CHAR(10) &C56,'Tableau final'!H:K,1,FALSE)),\"\",IF(AND(VLOOKUP(A56 & CHAR(10) &C56,'Tableau final'!H:K,3,FALSE)<>\"\",VLOOKUP(A56 & CHAR(10) &C56,'Tableau final'!H:K,4,FALSE)=\"x\"),1,\"\")),IF('Tableau final'!$L$5=\"Qualifiés\",IF(ISERROR(VLOOKUP(A56 & CHAR(10) &C56,'Tableau final'!M:P,1,FALSE)),\"\",IF(AND(VLOOKUP(A56 & CHAR(10) &C56,'Tableau final'!M:P,3,FALSE)<>\"\",VLOOKUP(A56 & CHAR(10) &C56,'Tableau final'!M:P,4,FALSE)=\"x\"),1,\"\")),\"\"))),\"\")","v":""},"0",{"$f":"IF(ISERROR(VLOOKUP(AI56,Tirage!A:J,1,FALSE)),\"\",IF(VLOOKUP(AI56,Tirage!A:J,1,FALSE)=\"Office \",3,4))","v":""},{"$f":"IF(AJ56=\"0\",4,IF(AJ56=1,3,IF(AJ56=2,IF(OFFSET('Fiche score'!$A$2,VLOOKUP(RIGHT(AI56,2),Feuil1!A:C,2,FALSE),VLOOKUP(RIGHT(AI56,2),Feuil1!A:C,3,FALSE))=A56 & CHAR(10) & C56,1,2),\"\")))","v":""}]
[null,null,null,null,{"$f":"IF(ISERROR(VLOOKUP(C57,AS!$A:$H,7,FALSE)),\"\",VLOOKUP(C57,AS!$A:$H,7,FALSE))","v":""},{"$f":"IF(ISERROR(VLOOKUP(C57,AS!$A:$H,8,FALSE)),\"\",VLOOKUP(C57,AS!$A:$H,8,FALSE))","v":""},null,null,null,null,{"$f":"IF(ISERROR(VLOOKUP(I57,AS!$A:$H,7,FALSE)),\"\",VLOOKUP(I57,AS!$A:$H,7,FALSE))","v":""},{"$f":"IF(ISERROR(VLOOKUP(I57,AS!$A:$H,8,FALSE)),\"\",VLOOKUP(I57,AS!$A:$H,8,FALSE))","v":""},null,null,null,null,{"$f":"IF(ISERROR(VLOOKUP(O57,AS!$A:$H,7,FALSE)),\"\",VLOOKUP(O57,AS!$A:$H,7,FALSE))","v":""},{"$f":"IF(ISERROR(VLOOKUP(O57,AS!$A:$H,8,FALSE)),\"\",VLOOKUP(O57,AS!$A:$H,8,FALSE))","v":""},null,null,null,null,{"$f":"IF(ISERROR(VLOOKUP(U57,AS!$A:$H,7,FALSE)),\"\",VLOOKUP(U57,AS!$A:$H,7,FALSE))","v":""},{"$f":"IF(ISERROR(VLOOKUP(U57,AS!$A:$H,8,FALSE)),\"\",VLOOKUP(U57,AS!$A:$H,8,FALSE))","v":""},null,null,null,null,{"$f":"IF(ISERROR(VLOOKUP(AA57,AS!$A:$H,7,FALSE)),\"\",VLOOKUP(AA57,AS!$A:$H,7,FALSE))","v":""},{"$f":"IF(ISERROR(VLOOKUP(AA57,AS!$A:$H,8,FALSE)),\"\",VLOOKUP(AA57,AS!$A:$H,8,FALSE))","v":""},null,null,null,"",null,{"$f":"IF(AI57=\"\",\"\",IF(OFFSET('Fiche score'!$A$2,VLOOKUP(RIGHT(AI57,2),Feuil1!A:C,2,FALSE),VLOOKUP(RIGHT(AI57,2),Feuil1!A:C,3,FALSE))=A57 & CHAR(10) & C57,2,IF(OFFSET('Fiche score'!$A$2,VLOOKUP(RIGHT(AI57,2),Feuil1!A:C,2,FALSE)+1,VLOOKUP(RIGHT(AI57,2),Feuil1!A:C,3,FALSE))=A57 & CHAR(10) & C57,2,IF(OFFSET('Fiche score'!$A$2,VLOOKUP(RIGHT(AI57,2),Feuil1!A:C,2,FALSE)-1,VLOOKUP(RIGHT(AI57,2),Feuil1!A:C,3,FALSE))=A57 & CHAR(10) & C57,1,IF(OFFSET('Fiche score'!$A$2,VLOOKUP(RIGHT(AI57,2),Feuil1!A:C,2,FALSE)-2,VLOOKUP(RIGHT(AI57,2),Feuil1!A:C,3,FALSE))=A57 & CHAR(10) & C57,1,\"0\")))))","v":""},{"$f":"IF(ISERROR(VLOOKUP(A57 & CHAR(10) &C57,'Fiche tirage dirigé'!I:I,1,FALSE)),0,1)","v":0},{"$f":"IF(ISERROR(VLOOKUP(A57& CHAR(10) &C57,Cadrage!H:H,1,FALSE)),0,1)","v":0},{"$f":"IF(ISERROR(VLOOKUP(A57 & CHAR(10) &C57,'Tableau final'!V:V,1,FALSE)),0,1)","v":0},{"$f":"IF(ISERROR(VLOOKUP(A57 & CHAR(10) &C57,'Tableau final'!W:W,1,FALSE)),0,1)","v":0},{"$f":"IF(ISERROR(VLOOKUP(A57 & CHAR(10) &C57,'Tableau final'!X:X,1,FALSE)),0,1)","v":0},{"$f":"IF(ISERROR(VLOOKUP(A57 & CHAR(10) &C57,'Tableau final'!Y:Y,1,FALSE)),0,1)","v":0},{"$f":"IF(ISERROR(VLOOKUP(A57 & CHAR(10) &C57,'Tableau final'!Z:Z,1,FALSE)),0,1)","v":0},{"$f":"IF('Tableau final'!$A$1<>\"\",IF('Tableau final'!$B$5=\"Qualifiés\",IF(ISERROR(VLOOKUP(A57 & CHAR(10) &C57,'Tableau final'!C:F,1,FALSE)),\"\",IF(AND(VLOOKUP(A57 & CHAR(10) &C57,'Tableau final'!C:F,3,FALSE)<>\"\",VLOOKUP(A57 & CHAR(10) &C57,'Tableau final'!C:F,4,FALSE)=\"x\"),1,\"\")),IF('Tableau final'!$G$5=\"Qualifiés\",IF(ISERROR(VLOOKUP(A57 & CHAR(10) &C57,'Tableau final'!H:K,1,FALSE)),\"\",IF(AND(VLOOKUP(A57 & CHAR(10) &C57,'Tableau final'!H:K,3,FALSE)<>\"\",VLOOKUP(A57 & CHAR(10) &C57,'Tableau final'!H:K,4,FALSE)=\"x\"),1,\"\")),IF('Tableau final'!$L$5=\"Qualifiés\",IF(ISERROR(VLOOKUP(A57 & CHAR(10) &C57,'Tableau final'!M:P,1,FALSE)),\"\",IF(AND(VLOOKUP(A57 & CHAR(10) &C57,'Tableau final'!M:P,3,FALSE)<>\"\",VLOOKUP(A57 & CHAR(10) &C57,'Tableau final'!M:P,4,FALSE)=\"x\"),1,\"\")),\"\"))),\"\")","v":""},"0",{"$f":"IF(ISERROR(VLOOKUP(AI57,Tirage!A:J,1,FALSE)),\"\",IF(VLOOKUP(AI57,Tirage!A:J,1,FALSE)=\"Office \",3,4))","v":""},{"$f":"IF(AJ57=\"0\",4,IF(AJ57=1,3,IF(AJ57=2,IF(OFFSET('Fiche score'!$A$2,VLOOKUP(RIGHT(AI57,2),Feuil1!A:C,2,FALSE),VLOOKUP(RIGHT(AI57,2),Feuil1!A:C,3,FALSE))=A57 & CHAR(10) & C57,1,2),\"\")))","v":""}]
[null,null,null,null,{"$f":"IF(ISERROR(VLOOKUP(C58,AS!$A:$H,7,FALSE)),\"\",VLOOKUP(C58,AS!$A:$H,7,FALSE))","v":""},{"$f":"IF(ISERROR(VLOOKUP(C58,AS!$A:$H,8,FALSE)),\"\",VLOOKUP(C58,AS!$A:$H,8,FALSE))","v":""},null,null,null,null,{"$f":"IF(ISERROR(VLOOKUP(I58,AS!$A:$H,7,FALSE)),\"\",VLOOKUP(I58,AS!$A:$H,7,FALSE))","v":""},{"$f":"IF(ISERROR(VLOOKUP(I58,AS!$A:$H,8,FALSE)),\"\",VLOOKUP(I58,AS!$A:$H,8,FALSE))","v":""},null,null,null,null,{"$f":"IF(ISERROR(VLOOKUP(O58,AS!$A:$H,7,FALSE)),\"\",VLOOKUP(O58,AS!$A:$H,7,FALSE))","v":""},{"$f":"IF(ISERROR(VLOOKUP(O58,AS!$A:$H,8,FALSE)),\"\",VLOOKUP(O58,AS!$A:$H,8,FALSE))","v":""},null,null,null,null,{"$f":"IF(ISERROR(VLOOKUP(U58,AS!$A:$H,7,FALSE)),\"\",VLOOKUP(U58,AS!$A:$H,7,FALSE))","v":""},{"$f":"IF(ISERROR(VLOOKUP(U58,AS!$A:$H,8,FALSE)),\"\",VLOOKUP(U58,AS!$A:$H,8,FALSE))","v":""},null,null,null,null,{"$f":"IF(ISERROR(VLOOKUP(AA58,AS!$A:$H,7,FALSE)),\"\",VLOOKUP(AA58,AS!$A:$H,7,FALSE))","v":""},{"$f":"IF(ISERROR(VLOOKUP(AA58,AS!$A:$H,8,FALSE)),\"\",VLOOKUP(AA58,AS!$A:$H,8,FALSE))","v":""},null,null,null,"",null,{"$f":"IF(AI58=\"\",\"\",IF(OFFSET('Fiche score'!$A$2,VLOOKUP(RIGHT(AI58,2),Feuil1!A:C,2,FALSE),VLOOKUP(RIGHT(AI58,2),Feuil1!A:C,3,FALSE))=A58 & CHAR(10) & C58,2,IF(OFFSET('Fiche score'!$A$2,VLOOKUP(RIGHT(AI58,2),Feuil1!A:C,2,FALSE)+1,VLOOKUP(RIGHT(AI58,2),Feuil1!A:C,3,FALSE))=A58 & CHAR(10) & C58,2,IF(OFFSET('Fiche score'!$A$2,VLOOKUP(RIGHT(AI58,2),Feuil1!A:C,2,FALSE)-1,VLOOKUP(RIGHT(AI58,2),Feuil1!A:C,3,FALSE))=A58 & CHAR(10) & C58,1,IF(OFFSET('Fiche score'!$A$2,VLOOKUP(RIGHT(AI58,2),Feuil1!A:C,2,FALSE)-2,VLOOKUP(RIGHT(AI58,2),Feuil1!A:C,3,FALSE))=A58 & CHAR(10) & C58,1,\"0\")))))","v":""},{"$f":"IF(ISERROR(VLOOKUP(A58 & CHAR(10) &C58,'Fiche tirage dirigé'!I:I,1,FALSE)),0,1)","v":0},{"$f":"IF(ISERROR(VLOOKUP(A58& CHAR(10) &C58,Cadrage!H:H,1,FALSE)),0,1)","v":0},{"$f":"IF(ISERROR(VLOOKUP(A58 & CHAR(10) &C58,'Tableau final'!V:V,1,FALSE)),0,1)","v":0},{"$f":"IF(ISERROR(VLOOKUP(A58 & CHAR(10) &C58,'Tableau final'!W:W,1,FALSE)),0,1)","v":0},{"$f":"IF(ISERROR(VLOOKUP(A58 & CHAR(10) &C58,'Tableau final'!X:X,1,FALSE)),0,1)","v":0},{"$f":"IF(ISERROR(VLOOKUP(A58 & CHAR(10) &C58,'Tableau final'!Y:Y,1,FALSE)),0,1)","v":0},{"$f":"IF(ISERROR(VLOOKUP(A58 & CHAR(10) &C58,'Tableau final'!Z:Z,1,FALSE)),0,1)","v":0},{"$f":"IF('Tableau final'!$A$1<>\"\",IF('Tableau final'!$B$5=\"Qualifiés\",IF(ISERROR(VLOOKUP(A58 & CHAR(10) &C58,'Tableau final'!C:F,1,FALSE)),\"\",IF(AND(VLOOKUP(A58 & CHAR(10) &C58,'Tableau final'!C:F,3,FALSE)<>\"\",VLOOKUP(A58 & CHAR(10) &C58,'Tableau final'!C:F,4,FALSE)=\"x\"),1,\"\")),IF('Tableau final'!$G$5=\"Qualifiés\",IF(ISERROR(VLOOKUP(A58 & CHAR(10) &C58,'Tableau final'!H:K,1,FALSE)),\"\",IF(AND(VLOOKUP(A58 & CHAR(10) &C58,'Tableau final'!H:K,3,FALSE)<>\"\",VLOOKUP(A58 & CHAR(10) &C58,'Tableau final'!H:K,4,FALSE)=\"x\"),1,\"\")),IF('Tableau final'!$L$5=\"Qualifiés\",IF(ISERROR(VLOOKUP(A58 & CHAR(10) &C58,'Tableau final'!M:P,1,FALSE)),\"\",IF(AND(VLOOKUP(A58 & CHAR(10) &C58,'Tableau final'!M:P,3,FALSE)<>\"\",VLOOKUP(A58 & CHAR(10) &C58,'Tableau final'!M:P,4,FALSE)=\"x\"),1,\"\")),\"\"))),\"\")","v":""},"0",{"$f":"IF(ISERROR(VLOOKUP(AI58,Tirage!A:J,1,FALSE)),\"\",IF(VLOOKUP(AI58,Tirage!A:J,1,FALSE)=\"Office \",3,4))","v":""},{"$f":"IF(AJ58=\"0\",4,IF(AJ58=1,3,IF(AJ58=2,IF(OFFSET('Fiche score'!$A$2,VLOOKUP(RIGHT(AI58,2),Feuil1!A:C,2,FALSE),VLOOKUP(RIGHT(AI58,2),Feuil1!A:C,3,FALSE))=A58 & CHAR(10) & C58,1,2),\"\")))","v":""}]
[null,null,null,null,{"$f":"IF(ISERROR(VLOOKUP(C59,AS!$A:$H,7,FALSE)),\"\",VLOOKUP(C59,AS!$A:$H,7,FALSE))","v":""},{"$f":"IF(ISERROR(VLOOKUP(C59,AS!$A:$H,8,FALSE)),\"\",VLOOKUP(C59,AS!$A:$H,8,FALSE))","v":""},null,null,null,null,{"$f":"IF(ISERROR(VLOOKUP(I59,AS!$A:$H,7,FALSE)),\"\",VLOOKUP(I59,AS!$A:$H,7,FALSE))","v":""},{"$f":"IF(ISERROR(VLOOKUP(I59,AS!$A:$H,8,FALSE)),\"\",VLOOKUP(I59,AS!$A:$H,8,FALSE))","v":""},null,null,null,null,{"$f":"IF(ISERROR(VLOOKUP(O59,AS!$A:$H,7,FALSE)),\"\",VLOOKUP(O59,AS!$A:$H,7,FALSE))","v":""},{"$f":"IF(ISERROR(VLOOKUP(O59,AS!$A:$H,8,FALSE)),\"\",VLOOKUP(O59,AS!$A:$H,8,FALSE))","v":""},null,null,null,null,{"$f":"IF(ISERROR(VLOOKUP(U59,AS!$A:$H,7,FALSE)),\"\",VLOOKUP(U59,AS!$A:$H,7,FALSE))","v":""},{"$f":"IF(ISERROR(VLOOKUP(U59,AS!$A:$H,8,FALSE)),\"\",VLOOKUP(U59,AS!$A:$H,8,FALSE))","v":""},null,null,null,null,{"$f":"IF(ISERROR(VLOOKUP(AA59,AS!$A:$H,7,FALSE)),\"\",VLOOKUP(AA59,AS!$A:$H,7,FALSE))","v":""},{"$f":"IF(ISERROR(VLOOKUP(AA59,AS!$A:$H,8,FALSE)),\"\",VLOOKUP(AA59,AS!$A:$H,8,FALSE))","v":""},null,null,null,"",null,{"$f":"IF(AI59=\"\",\"\",IF(OFFSET('Fiche score'!$A$2,VLOOKUP(RIGHT(AI59,2),Feuil1!A:C,2,FALSE),VLOOKUP(RIGHT(AI59,2),Feuil1!A:C,3,FALSE))=A59 & CHAR(10) & C59,2,IF(OFFSET('Fiche score'!$A$2,VLOOKUP(RIGHT(AI59,2),Feuil1!A:C,2,FALSE)+1,VLOOKUP(RIGHT(AI59,2),Feuil1!A:C,3,FALSE))=A59 & CHAR(10) & C59,2,IF(OFFSET('Fiche score'!$A$2,VLOOKUP(RIGHT(AI59,2),Feuil1!A:C,2,FALSE)-1,VLOOKUP(RIGHT(AI59,2),Feuil1!A:C,3,FALSE))=A59 & CHAR(10) & C59,1,IF(OFFSET('Fiche score'!$A$2,VLOOKUP(RIGHT(AI59,2),Feuil1!A:C,2,FALSE)-2,VLOOKUP(RIGHT(AI59,2),Feuil1!A:C,3,FALSE))=A59 & CHAR(10) & C59,1,\"0\")))))","v":""},{"$f":"IF(ISERROR(VLOOKUP(A59 & CHAR(10) &C59,'Fiche tirage dirigé'!I:I,1,FALSE)),0,1)","v":0},{"$f":"IF(ISERROR(VLOOKUP(A59& CHAR(10) &C59,Cadrage!H:H,1,FALSE)),0,1)","v":0},{"$f":"IF(ISERROR(VLOOKUP(A59 & CHAR(10) &C59,'Tableau final'!V:V,1,FALSE)),0,1)","v":0},{"$f":"IF(ISERROR(VLOOKUP(A59 & CHAR(10) &C59,'Tableau final'!W:W,1,FALSE)),0,1)","v":0},{"$f":"IF(ISERROR(VLOOKUP(A59 & CHAR(10) &C59,'Tableau final'!X:X,1,FALSE)),0,1)","v":0},{"$f":"IF(ISERROR(VLOOKUP(A59 & CHAR(10) &C59,'Tableau final'!Y:Y,1,FALSE)),0,1)","v":0},{"$f":"IF(ISERROR(VLOOKUP(A59 & CHAR(10) &C59,'Tableau final'!Z:Z,1,FALSE)),0,1)","v":0},{"$f":"IF('Tableau final'!$A$1<>\"\",IF('Tableau final'!$B$5=\"Qualifiés\",IF(ISERROR(VLOOKUP(A59 & CHAR(10) &C59,'Tableau final'!C:F,1,FALSE)),\"\",IF(AND(VLOOKUP(A59 & CHAR(10) &C59,'Tableau final'!C:F,3,FALSE)<>\"\",VLOOKUP(A59 & CHAR(10) &C59,'Tableau final'!C:F,4,FALSE)=\"x\"),1,\"\")),IF('Tableau final'!$G$5=\"Qualifiés\",IF(ISERROR(VLOOKUP(A59 & CHAR(10) &C59,'Tableau final'!H:K,1,FALSE)),\"\",IF(AND(VLOOKUP(A59 & CHAR(10) &C59,'Tableau final'!H:K,3,FALSE)<>\"\",VLOOKUP(A59 & CHAR(10) &C59,'Tableau final'!H:K,4,FALSE)=\"x\"),1,\"\")),IF('Tableau final'!$L$5=\"Qualifiés\",IF(ISERROR(VLOOKUP(A59 & CHAR(10) &C59,'Tableau final'!M:P,1,FALSE)),\"\",IF(AND(VLOOKUP(A59 & CHAR(10) &C59,'Tableau final'!M:P,3,FALSE)<>\"\",VLOOKUP(A59 & CHAR(10) &C59,'Tableau final'!M:P,4,FALSE)=\"x\"),1,\"\")),\"\"))),\"\")","v":""},"0",{"$f":"IF(ISERROR(VLOOKUP(AI59,Tirage!A:J,1,FALSE)),\"\",IF(VLOOKUP(AI59,Tirage!A:J,1,FALSE)=\"Office \",3,4))","v":""},{"$f":"IF(AJ59=\"0\",4,IF(AJ59=1,3,IF(AJ59=2,IF(OFFSET('Fiche score'!$A$2,VLOOKUP(RIGHT(AI59,2),Feuil1!A:C,2,FALSE),VLOOKUP(RIGHT(AI59,2),Feuil1!A:C,3,FALSE))=A59 & CHAR(10) & C59,1,2),\"\")))","v":""}]
[null,null,null,null,{"$f":"IF(ISERROR(VLOOKUP(C60,AS!$A:$H,7,FALSE)),\"\",VLOOKUP(C60,AS!$A:$H,7,FALSE))","v":""},{"$f":"IF(ISERROR(VLOOKUP(C60,AS!$A:$H,8,FALSE)),\"\",VLOOKUP(C60,AS!$A:$H,8,FALSE))","v":""},null,null,null,null,{"$f":"IF(ISERROR(VLOOKUP(I60,AS!$A:$H,7,FALSE)),\"\",VLOOKUP(I60,AS!$A:$H,7,FALSE))","v":""},{"$f":"IF(ISERROR(VLOOKUP(I60,AS!$A:$H,8,FALSE)),\"\",VLOOKUP(I60,AS!$A:$H,8,FALSE))","v":""},null,null,null,null,{"$f":"IF(ISERROR(VLOOKUP(O60,AS!$A:$H,7,FALSE)),\"\",VLOOKUP(O60,AS!$A:$H,7,FALSE))","v":""},{"$f":"IF(ISERROR(VLOOKUP(O60,AS!$A:$H,8,FALSE)),\"\",VLOOKUP(O60,AS!$A:$H,8,FALSE))","v":""},null,null,null,null,{"$f":"IF(ISERROR(VLOOKUP(U60,AS!$A:$H,7,FALSE)),\"\",VLOOKUP(U60,AS!$A:$H,7,FALSE))","v":""},{"$f":"IF(ISERROR(VLOOKUP(U60,AS!$A:$H,8,FALSE)),\"\",VLOOKUP(U60,AS!$A:$H,8,FALSE))","v":""},null,null,null,null,{"$f":"IF(ISERROR(VLOOKUP(AA60,AS!$A:$H,7,FALSE)),\"\",VLOOKUP(AA60,AS!$A:$H,7,FALSE))","v":""},{"$f":"IF(ISERROR(VLOOKUP(AA60,AS!$A:$H,8,FALSE)),\"\",VLOOKUP(AA60,AS!$A:$H,8,FALSE))","v":""},null,null,null,"",null,{"$f":"IF(AI60=\"\",\"\",IF(OFFSET('Fiche score'!$A$2,VLOOKUP(RIGHT(AI60,2),Feuil1!A:C,2,FALSE),VLOOKUP(RIGHT(AI60,2),Feuil1!A:C,3,FALSE))=A60 & CHAR(10) & C60,2,IF(OFFSET('Fiche score'!$A$2,VLOOKUP(RIGHT(AI60,2),Feuil1!A:C,2,FALSE)+1,VLOOKUP(RIGHT(AI60,2),Feuil1!A:C,3,FALSE))=A60 & CHAR(10) & C60,2,IF(OFFSET('Fiche score'!$A$2,VLOOKUP(RIGHT(AI60,2),Feuil1!A:C,2,FALSE)-1,VLOOKUP(RIGHT(AI60,2),Feuil1!A:C,3,FALSE))=A60 & CHAR(10) & C60,1,IF(OFFSET('Fiche score'!$A$2,VLOOKUP(RIGHT(AI60,2),Feuil1!A:C,2,FALSE)-2,VLOOKUP(RIGHT(AI60,2),Feuil1!A:C,3,FALSE))=A60 & CHAR(10) & C60,1,\"0\")))))","v":""},{"$f":"IF(ISERROR(VLOOKUP(A60 & CHAR(10) &C60,'Fiche tirage dirigé'!I:I,1,FALSE)),0,1)","v":0},{"$f":"IF(ISERROR(VLOOKUP(A60& CHAR(10) &C60,Cadrage!H:H,1,FALSE)),0,1)","v":0},{"$f":"IF(ISERROR(VLOOKUP(A60 & CHAR(10) &C60,'Tableau final'!V:V,1,FALSE)),0,1)","v":0},{"$f":"IF(ISERROR(VLOOKUP(A60 & CHAR(10) &C60,'Tableau final'!W:W,1,FALSE)),0,1)","v":0},{"$f":"IF(ISERROR(VLOOKUP(A60 & CHAR(10) &C60,'Tableau final'!X:X,1,FALSE)),0,1)","v":0},{"$f":"IF(ISERROR(VLOOKUP(A60 & CHAR(10) &C60,'Tableau final'!Y:Y,1,FALSE)),0,1)","v":0},{"$f":"IF(ISERROR(VLOOKUP(A60 & CHAR(10) &C60,'Tableau final'!Z:Z,1,FALSE)),0,1)","v":0},{"$f":"IF('Tableau final'!$A$1<>\"\",IF('Tableau final'!$B$5=\"Qualifiés\",IF(ISERROR(VLOOKUP(A60 & CHAR(10) &C60,'Tableau final'!C:F,1,FALSE)),\"\",IF(AND(VLOOKUP(A60 & CHAR(10) &C60,'Tableau final'!C:F,3,FALSE)<>\"\",VLOOKUP(A60 & CHAR(10) &C60,'Tableau final'!C:F,4,FALSE)=\"x\"),1,\"\")),IF('Tableau final'!$G$5=\"Qualifiés\",IF(ISERROR(VLOOKUP(A60 & CHAR(10) &C60,'Tableau final'!H:K,1,FALSE)),\"\",IF(AND(VLOOKUP(A60 & CHAR(10) &C60,'Tableau final'!H:K,3,FALSE)<>\"\",VLOOKUP(A60 & CHAR(10) &C60,'Tableau final'!H:K,4,FALSE)=\"x\"),1,\"\")),IF('Tableau final'!$L$5=\"Qualifiés\",IF(ISERROR(VLOOKUP(A60 & CHAR(10) &C60,'Tableau final'!M:P,1,FALSE)),\"\",IF(AND(VLOOKUP(A60 & CHAR(10) &C60,'Tableau final'!M:P,3,FALSE)<>\"\",VLOOKUP(A60 & CHAR(10) &C60,'Tableau final'!M:P,4,FALSE)=\"x\"),1,\"\")),\"\"))),\"\")","v":""},"0",{"$f":"IF(ISERROR(VLOOKUP(AI60,Tirage!A:J,1,FALSE)),\"\",IF(VLOOKUP(AI60,Tirage!A:J,1,FALSE)=\"Office \",3,4))","v":""},{"$f":"IF(AJ60=\"0\",4,IF(AJ60=1,3,IF(AJ60=2,IF(OFFSET('Fiche score'!$A$2,VLOOKUP(RIGHT(AI60,2),Feuil1!A:C,2,FALSE),VLOOKUP(RIGHT(AI60,2),Feuil1!A:C,3,FALSE))=A60 & CHAR(10) & C60,1,2),\"\")))","v":""}]
[null,null,null,null,{"$f":"IF(ISERROR(VLOOKUP(C61,AS!$A:$H,7,FALSE)),\"\",VLOOKUP(C61,AS!$A:$H,7,FALSE))","v":""},{"$f":"IF(ISERROR(VLOOKUP(C61,AS!$A:$H,8,FALSE)),\"\",VLOOKUP(C61,AS!$A:$H,8,FALSE))","v":""},null,null,null,null,{"$f":"IF(ISERROR(VLOOKUP(I61,AS!$A:$H,7,FALSE)),\"\",VLOOKUP(I61,AS!$A:$H,7,FALSE))","v":""},{"$f":"IF(ISERROR(VLOOKUP(I61,AS!$A:$H,8,FALSE)),\"\",VLOOKUP(I61,AS!$A:$H,8,FALSE))","v":""},null,null,null,null,{"$f":"IF(ISERROR(VLOOKUP(O61,AS!$A:$H,7,FALSE)),\"\",VLOOKUP(O61,AS!$A:$H,7,FALSE))","v":""},{"$f":"IF(ISERROR(VLOOKUP(O61,AS!$A:$H,8,FALSE)),\"\",VLOOKUP(O61,AS!$A:$H,8,FALSE))","v":""},null,null,null,null,{"$f":"IF(ISERROR(VLOOKUP(U61,AS!$A:$H,7,FALSE)),\"\",VLOOKUP(U61,AS!$A:$H,7,FALSE))","v":""},{"$f":"IF(ISERROR(VLOOKUP(U61,AS!$A:$H,8,FALSE)),\"\",VLOOKUP(U61,AS!$A:$H,8,FALSE))","v":""},null,null,null,null,{"$f":"IF(ISERROR(VLOOKUP(AA61,AS!$A:$H,7,FALSE)),\"\",VLOOKUP(AA61,AS!$A:$H,7,FALSE))","v":""},{"$f":"IF(ISERROR(VLOOKUP(AA61,AS!$A:$H,8,FALSE)),\"\",VLOOKUP(AA61,AS!$A:$H,8,FALSE))","v":""},null,null,null,"",null,{"$f":"IF(AI61=\"\",\"\",IF(OFFSET('Fiche score'!$A$2,VLOOKUP(RIGHT(AI61,2),Feuil1!A:C,2,FALSE),VLOOKUP(RIGHT(AI61,2),Feuil1!A:C,3,FALSE))=A61 & CHAR(10) & C61,2,IF(OFFSET('Fiche score'!$A$2,VLOOKUP(RIGHT(AI61,2),Feuil1!A:C,2,FALSE)+1,VLOOKUP(RIGHT(AI61,2),Feuil1!A:C,3,FALSE))=A61 & CHAR(10) & C61,2,IF(OFFSET('Fiche score'!$A$2,VLOOKUP(RIGHT(AI61,2),Feuil1!A:C,2,FALSE)-1,VLOOKUP(RIGHT(AI61,2),Feuil1!A:C,3,FALSE))=A61 & CHAR(10) & C61,1,IF(OFFSET('Fiche score'!$A$2,VLOOKUP(RIGHT(AI61,2),Feuil1!A:C,2,FALSE)-2,VLOOKUP(RIGHT(AI61,2),Feuil1!A:C,3,FALSE))=A61 & CHAR(10) & C61,1,\"0\")))))","v":""},{"$f":"IF(ISERROR(VLOOKUP(A61 & CHAR(10) &C61,'Fiche tirage dirigé'!I:I,1,FALSE)),0,1)","v":0},{"$f":"IF(ISERROR(VLOOKUP(A61& CHAR(10) &C61,Cadrage!H:H,1,FALSE)),0,1)","v":0},{"$f":"IF(ISERROR(VLOOKUP(A61 & CHAR(10) &C61,'Tableau final'!V:V,1,FALSE)),0,1)","v":0},{"$f":"IF(ISERROR(VLOOKUP(A61 & CHAR(10) &C61,'Tableau final'!W:W,1,FALSE)),0,1)","v":0},{"$f":"IF(ISERROR(VLOOKUP(A61 & CHAR(10) &C61,'Tableau final'!X:X,1,FALSE)),0,1)","v":0},{"$f":"IF(ISERROR(VLOOKUP(A61 & CHAR(10) &C61,'Tableau final'!Y:Y,1,FALSE)),0,1)","v":0},{"$f":"IF(ISERROR(VLOOKUP(A61 & CHAR(10) &C61,'Tableau final'!Z:Z,1,FALSE)),0,1)","v":0},{"$f":"IF('Tableau final'!$A$1<>\"\",IF('Tableau final'!$B$5=\"Qualifiés\",IF(ISERROR(VLOOKUP(A61 & CHAR(10) &C61,'Tableau final'!C:F,1,FALSE)),\"\",IF(AND(VLOOKUP(A61 & CHAR(10) &C61,'Tableau final'!C:F,3,FALSE)<>\"\",VLOOKUP(A61 & CHAR(10) &C61,'Tableau final'!C:F,4,FALSE)=\"x\"),1,\"\")),IF('Tableau final'!$G$5=\"Qualifiés\",IF(ISERROR(VLOOKUP(A61 & CHAR(10) &C61,'Tableau final'!H:K,1,FALSE)),\"\",IF(AND(VLOOKUP(A61 & CHAR(10) &C61,'Tableau final'!H:K,3,FALSE)<>\"\",VLOOKUP(A61 & CHAR(10) &C61,'Tableau final'!H:K,4,FALSE)=\"x\"),1,\"\")),IF('Tableau final'!$L$5=\"Qualifiés\",IF(ISERROR(VLOOKUP(A61 & CHAR(10) &C61,'Tableau final'!M:P,1,FALSE)),\"\",IF(AND(VLOOKUP(A61 & CHAR(10) &C61,'Tableau final'!M:P,3,FALSE)<>\"\",VLOOKUP(A61 & CHAR(10) &C61,'Tableau final'!M:P,4,FALSE)=\"x\"),1,\"\")),\"\"))),\"\")","v":""},"0",{"$f":"IF(ISERROR(VLOOKUP(AI61,Tirage!A:J,1,FALSE)),\"\",IF(VLOOKUP(AI61,Tirage!A:J,1,FALSE)=\"Office \",3,4))","v":""},{"$f":"IF(AJ61=\"0\",4,IF(AJ61=1,3,IF(AJ61=2,IF(OFFSET('Fiche score'!$A$2,VLOOKUP(RIGHT(AI61,2),Feuil1!A:C,2,FALSE),VLOOKUP(RIGHT(AI61,2),Feuil1!A:C,3,FALSE))=A61 & CHAR(10) & C61,1,2),\"\")))","v":""}]
[null,null,null,null,{"$f":"IF(ISERROR(VLOOKUP(C62,AS!$A:$H,7,FALSE)),\"\",VLOOKUP(C62,AS!$A:$H,7,FALSE))","v":""},{"$f":"IF(ISERROR(VLOOKUP(C62,AS!$A:$H,8,FALSE)),\"\",VLOOKUP(C62,AS!$A:$H,8,FALSE))","v":""},null,null,null,null,{"$f":"IF(ISERROR(VLOOKUP(I62,AS!$A:$H,7,FALSE)),\"\",VLOOKUP(I62,AS!$A:$H,7,FALSE))","v":""},{"$f":"IF(ISERROR(VLOOKUP(I62,AS!$A:$H,8,FALSE)),\"\",VLOOKUP(I62,AS!$A:$H,8,FALSE))","v":""},null,null,null,null,{"$f":"IF(ISERROR(VLOOKUP(O62,AS!$A:$H,7,FALSE)),\"\",VLOOKUP(O62,AS!$A:$H,7,FALSE))","v":""},{"$f":"IF(ISERROR(VLOOKUP(O62,AS!$A:$H,8,FALSE)),\"\",VLOOKUP(O62,AS!$A:$H,8,FALSE))","v":""},null,null,null,null,{"$f":"IF(ISERROR(VLOOKUP(U62,AS!$A:$H,7,FALSE)),\"\",VLOOKUP(U62,AS!$A:$H,7,FALSE))","v":""},{"$f":"IF(ISERROR(VLOOKUP(U62,AS!$A:$H,8,FALSE)),\"\",VLOOKUP(U62,AS!$A:$H,8,FALSE))","v":""},null,null,null,null,{"$f":"IF(ISERROR(VLOOKUP(AA62,AS!$A:$H,7,FALSE)),\"\",VLOOKUP(AA62,AS!$A:$H,7,FALSE))","v":""},{"$f":"IF(ISERROR(VLOOKUP(AA62,AS!$A:$H,8,FALSE)),\"\",VLOOKUP(AA62,AS!$A:$H,8,FALSE))","v":""},null,null,null,"",null,{"$f":"IF(AI62=\"\",\"\",IF(OFFSET('Fiche score'!$A$2,VLOOKUP(RIGHT(AI62,2),Feuil1!A:C,2,FALSE),VLOOKUP(RIGHT(AI62,2),Feuil1!A:C,3,FALSE))=A62 & CHAR(10) & C62,2,IF(OFFSET('Fiche score'!$A$2,VLOOKUP(RIGHT(AI62,2),Feuil1!A:C,2,FALSE)+1,VLOOKUP(RIGHT(AI62,2),Feuil1!A:C,3,FALSE))=A62 & CHAR(10) & C62,2,IF(OFFSET('Fiche score'!$A$2,VLOOKUP(RIGHT(AI62,2),Feuil1!A:C,2,FALSE)-1,VLOOKUP(RIGHT(AI62,2),Feuil1!A:C,3,FALSE))=A62 & CHAR(10) & C62,1,IF(OFFSET('Fiche score'!$A$2,VLOOKUP(RIGHT(AI62,2),Feuil1!A:C,2,FALSE)-2,VLOOKUP(RIGHT(AI62,2),Feuil1!A:C,3,FALSE))=A62 & CHAR(10) & C62,1,\"0\")))))","v":""},{"$f":"IF(ISERROR(VLOOKUP(A62 & CHAR(10) &C62,'Fiche tirage dirigé'!I:I,1,FALSE)),0,1)","v":0},{"$f":"IF(ISERROR(VLOOKUP(A62& CHAR(10) &C62,Cadrage!H:H,1,FALSE)),0,1)","v":0},{"$f":"IF(ISERROR(VLOOKUP(A62 & CHAR(10) &C62,'Tableau final'!V:V,1,FALSE)),0,1)","v":0},{"$f":"IF(ISERROR(VLOOKUP(A62 & CHAR(10) &C62,'Tableau final'!W:W,1,FALSE)),0,1)","v":0},{"$f":"IF(ISERROR(VLOOKUP(A62 & CHAR(10) &C62,'Tableau final'!X:X,1,FALSE)),0,1)","v":0},{"$f":"IF(ISERROR(VLOOKUP(A62 & CHAR(10) &C62,'Tableau final'!Y:Y,1,FALSE)),0,1)","v":0},{"$f":"IF(ISERROR(VLOOKUP(A62 & CHAR(10) &C62,'Tableau final'!Z:Z,1,FALSE)),0,1)","v":0},{"$f":"IF('Tableau final'!$A$1<>\"\",IF('Tableau final'!$B$5=\"Qualifiés\",IF(ISERROR(VLOOKUP(A62 & CHAR(10) &C62,'Tableau final'!C:F,1,FALSE)),\"\",IF(AND(VLOOKUP(A62 & CHAR(10) &C62,'Tableau final'!C:F,3,FALSE)<>\"\",VLOOKUP(A62 & CHAR(10) &C62,'Tableau final'!C:F,4,FALSE)=\"x\"),1,\"\")),IF('Tableau final'!$G$5=\"Qualifiés\",IF(ISERROR(VLOOKUP(A62 & CHAR(10) &C62,'Tableau final'!H:K,1,FALSE)),\"\",IF(AND(VLOOKUP(A62 & CHAR(10) &C62,'Tableau final'!H:K,3,FALSE)<>\"\",VLOOKUP(A62 & CHAR(10) &C62,'Tableau final'!H:K,4,FALSE)=\"x\"),1,\"\")),IF('Tableau final'!$L$5=\"Qualifiés\",IF(ISERROR(VLOOKUP(A62 & CHAR(10) &C62,'Tableau final'!M:P,1,FALSE)),\"\",IF(AND(VLOOKUP(A62 & CHAR(10) &C62,'Tableau final'!M:P,3,FALSE)<>\"\",VLOOKUP(A62 & CHAR(10) &C62,'Tableau final'!M:P,4,FALSE)=\"x\"),1,\"\")),\"\"))),\"\")","v":""},"0",{"$f":"IF(ISERROR(VLOOKUP(AI62,Tirage!A:J,1,FALSE)),\"\",IF(VLOOKUP(AI62,Tirage!A:J,1,FALSE)=\"Office \",3,4))","v":""},{"$f":"IF(AJ62=\"0\",4,IF(AJ62=1,3,IF(AJ62=2,IF(OFFSET('Fiche score'!$A$2,VLOOKUP(RIGHT(AI62,2),Feuil1!A:C,2,FALSE),VLOOKUP(RIGHT(AI62,2),Feuil1!A:C,3,FALSE))=A62 & CHAR(10) & C62,1,2),\"\")))","v":""}]
[null,null,null,null,{"$f":"IF(ISERROR(VLOOKUP(C63,AS!$A:$H,7,FALSE)),\"\",VLOOKUP(C63,AS!$A:$H,7,FALSE))","v":""},{"$f":"IF(ISERROR(VLOOKUP(C63,AS!$A:$H,8,FALSE)),\"\",VLOOKUP(C63,AS!$A:$H,8,FALSE))","v":""},null,null,null,null,{"$f":"IF(ISERROR(VLOOKUP(I63,AS!$A:$H,7,FALSE)),\"\",VLOOKUP(I63,AS!$A:$H,7,FALSE))","v":""},{"$f":"IF(ISERROR(VLOOKUP(I63,AS!$A:$H,8,FALSE)),\"\",VLOOKUP(I63,AS!$A:$H,8,FALSE))","v":""},null,null,null,null,{"$f":"IF(ISERROR(VLOOKUP(O63,AS!$A:$H,7,FALSE)),\"\",VLOOKUP(O63,AS!$A:$H,7,FALSE))","v":""},{"$f":"IF(ISERROR(VLOOKUP(O63,AS!$A:$H,8,FALSE)),\"\",VLOOKUP(O63,AS!$A:$H,8,FALSE))","v":""},null,null,null,null,{"$f":"IF(ISERROR(VLOOKUP(U63,AS!$A:$H,7,FALSE)),\"\",VLOOKUP(U63,AS!$A:$H,7,FALSE))","v":""},{"$f":"IF(ISERROR(VLOOKUP(U63,AS!$A:$H,8,FALSE)),\"\",VLOOKUP(U63,AS!$A:$H,8,FALSE))","v":""},null,null,null,null,{"$f":"IF(ISERROR(VLOOKUP(AA63,AS!$A:$H,7,FALSE)),\"\",VLOOKUP(AA63,AS!$A:$H,7,FALSE))","v":""},{"$f":"IF(ISERROR(VLOOKUP(AA63,AS!$A:$H,8,FALSE)),\"\",VLOOKUP(AA63,AS!$A:$H,8,FALSE))","v":""},null,null,null,"",null,{"$f":"IF(AI63=\"\",\"\",IF(OFFSET('Fiche score'!$A$2,VLOOKUP(RIGHT(AI63,2),Feuil1!A:C,2,FALSE),VLOOKUP(RIGHT(AI63,2),Feuil1!A:C,3,FALSE))=A63 & CHAR(10) & C63,2,IF(OFFSET('Fiche score'!$A$2,VLOOKUP(RIGHT(AI63,2),Feuil1!A:C,2,FALSE)+1,VLOOKUP(RIGHT(AI63,2),Feuil1!A:C,3,FALSE))=A63 & CHAR(10) & C63,2,IF(OFFSET('Fiche score'!$A$2,VLOOKUP(RIGHT(AI63,2),Feuil1!A:C,2,FALSE)-1,VLOOKUP(RIGHT(AI63,2),Feuil1!A:C,3,FALSE))=A63 & CHAR(10) & C63,1,IF(OFFSET('Fiche score'!$A$2,VLOOKUP(RIGHT(AI63,2),Feuil1!A:C,2,FALSE)-2,VLOOKUP(RIGHT(AI63,2),Feuil1!A:C,3,FALSE))=A63 & CHAR(10) & C63,1,\"0\")))))","v":""},{"$f":"IF(ISERROR(VLOOKUP(A63 & CHAR(10) &C63,'Fiche tirage dirigé'!I:I,1,FALSE)),0,1)","v":0},{"$f":"IF(ISERROR(VLOOKUP(A63& CHAR(10) &C63,Cadrage!H:H,1,FALSE)),0,1)","v":0},{"$f":"IF(ISERROR(VLOOKUP(A63 & CHAR(10) &C63,'Tableau final'!V:V,1,FALSE)),0,1)","v":0},{"$f":"IF(ISERROR(VLOOKUP(A63 & CHAR(10) &C63,'Tableau final'!W:W,1,FALSE)),0,1)","v":0},{"$f":"IF(ISERROR(VLOOKUP(A63 & CHAR(10) &C63,'Tableau final'!X:X,1,FALSE)),0,1)","v":0},{"$f":"IF(ISERROR(VLOOKUP(A63 & CHAR(10) &C63,'Tableau final'!Y:Y,1,FALSE)),0,1)","v":0},{"$f":"IF(ISERROR(VLOOKUP(A63 & CHAR(10) &C63,'Tableau final'!Z:Z,1,FALSE)),0,1)","v":0},{"$f":"IF('Tableau final'!$A$1<>\"\",IF('Tableau final'!$B$5=\"Qualifiés\",IF(ISERROR(VLOOKUP(A63 & CHAR(10) &C63,'Tableau final'!C:F,1,FALSE)),\"\",IF(AND(VLOOKUP(A63 & CHAR(10) &C63,'Tableau final'!C:F,3,FALSE)<>\"\",VLOOKUP(A63 & CHAR(10) &C63,'Tableau final'!C:F,4,FALSE)=\"x\"),1,\"\")),IF('Tableau final'!$G$5=\"Qualifiés\",IF(ISERROR(VLOOKUP(A63 & CHAR(10) &C63,'Tableau final'!H:K,1,FALSE)),\"\",IF(AND(VLOOKUP(A63 & CHAR(10) &C63,'Tableau final'!H:K,3,FALSE)<>\"\",VLOOKUP(A63 & CHAR(10) &C63,'Tableau final'!H:K,4,FALSE)=\"x\"),1,\"\")),IF('Tableau final'!$L$5=\"Qualifiés\",IF(ISERROR(VLOOKUP(A63 & CHAR(10) &C63,'Tableau final'!M:P,1,FALSE)),\"\",IF(AND(VLOOKUP(A63 & CHAR(10) &C63,'Tableau final'!M:P,3,FALSE)<>\"\",VLOOKUP(A63 & CHAR(10) &C63,'Tableau final'!M:P,4,FALSE)=\"x\"),1,\"\")),\"\"))),\"\")","v":""},"0",{"$f":"IF(ISERROR(VLOOKUP(AI63,Tirage!A:J,1,FALSE)),\"\",IF(VLOOKUP(AI63,Tirage!A:J,1,FALSE)=\"Office \",3,4))","v":""},{"$f":"IF(AJ63=\"0\",4,IF(AJ63=1,3,IF(AJ63=2,IF(OFFSET('Fiche score'!$A$2,VLOOKUP(RIGHT(AI63,2),Feuil1!A:C,2,FALSE),VLOOKUP(RIGHT(AI63,2),Feuil1!A:C,3,FALSE))=A63 & CHAR(10) & C63,1,2),\"\")))","v":""}]
[null,null,null,null,{"$f":"IF(ISERROR(VLOOKUP(C64,AS!$A:$H,7,FALSE)),\"\",VLOOKUP(C64,AS!$A:$H,7,FALSE))","v":""},{"$f":"IF(ISERROR(VLOOKUP(C64,AS!$A:$H,8,FALSE)),\"\",VLOOKUP(C64,AS!$A:$H,8,FALSE))","v":""},null,null,null,null,{"$f":"IF(ISERROR(VLOOKUP(I64,AS!$A:$H,7,FALSE)),\"\",VLOOKUP(I64,AS!$A:$H,7,FALSE))","v":""},{"$f":"IF(ISERROR(VLOOKUP(I64,AS!$A:$H,8,FALSE)),\"\",VLOOKUP(I64,AS!$A:$H,8,FALSE))","v":""},null,null,null,null,{"$f":"IF(ISERROR(VLOOKUP(O64,AS!$A:$H,7,FALSE)),\"\",VLOOKUP(O64,AS!$A:$H,7,FALSE))","v":""},{"$f":"IF(ISERROR(VLOOKUP(O64,AS!$A:$H,8,FALSE)),\"\",VLOOKUP(O64,AS!$A:$H,8,FALSE))","v":""},null,null,null,null,{"$f":"IF(ISERROR(VLOOKUP(U64,AS!$A:$H,7,FALSE)),\"\",VLOOKUP(U64,AS!$A:$H,7,FALSE))","v":""},{"$f":"IF(ISERROR(VLOOKUP(U64,AS!$A:$H,8,FALSE)),\"\",VLOOKUP(U64,AS!$A:$H,8,FALSE))","v":""},null,null,null,null,{"$f":"IF(ISERROR(VLOOKUP(AA64,AS!$A:$H,7,FALSE)),\"\",VLOOKUP(AA64,AS!$A:$H,7,FALSE))","v":""},{"$f":"IF(ISERROR(VLOOKUP(AA64,AS!$A:$H,8,FALSE)),\"\",VLOOKUP(AA64,AS!$A:$H,8,FALSE))","v":""},null,null,null,"",null,{"$f":"IF(AI64=\"\",\"\",IF(OFFSET('Fiche score'!$A$2,VLOOKUP(RIGHT(AI64,2),Feuil1!A:C,2,FALSE),VLOOKUP(RIGHT(AI64,2),Feuil1!A:C,3,FALSE))=A64 & CHAR(10) & C64,2,IF(OFFSET('Fiche score'!$A$2,VLOOKUP(RIGHT(AI64,2),Feuil1!A:C,2,FALSE)+1,VLOOKUP(RIGHT(AI64,2),Feuil1!A:C,3,FALSE))=A64 & CHAR(10) & C64,2,IF(OFFSET('Fiche score'!$A$2,VLOOKUP(RIGHT(AI64,2),Feuil1!A:C,2,FALSE)-1,VLOOKUP(RIGHT(AI64,2),Feuil1!A:C,3,FALSE))=A64 & CHAR(10) & C64,1,IF(OFFSET('Fiche score'!$A$2,VLOOKUP(RIGHT(AI64,2),Feuil1!A:C,2,FALSE)-2,VLOOKUP(RIGHT(AI64,2),Feuil1!A:C,3,FALSE))=A64 & CHAR(10) & C64,1,\"0\")))))","v":""},{"$f":"IF(ISERROR(VLOOKUP(A64 & CHAR(10) &C64,'Fiche tirage dirigé'!I:I,1,FALSE)),0,1)","v":0},{"$f":"IF(ISERROR(VLOOKUP(A64& CHAR(10) &C64,Cadrage!H:H,1,FALSE)),0,1)","v":0},{"$f":"IF(ISERROR(VLOOKUP(A64 & CHAR(10) &C64,'Tableau final'!V:V,1,FALSE)),0,1)","v":0},{"$f":"IF(ISERROR(VLOOKUP(A64 & CHAR(10) &C64,'Tableau final'!W:W,1,FALSE)),0,1)","v":0},{"$f":"IF(ISERROR(VLOOKUP(A64 & CHAR(10) &C64,'Tableau final'!X:X,1,FALSE)),0,1)","v":0},{"$f":"IF(ISERROR(VLOOKUP(A64 & CHAR(10) &C64,'Tableau final'!Y:Y,1,FALSE)),0,1)","v":0},{"$f":"IF(ISERROR(VLOOKUP(A64 & CHAR(10) &C64,'Tableau final'!Z:Z,1,FALSE)),0,1)","v":0},{"$f":"IF('Tableau final'!$A$1<>\"\",IF('Tableau final'!$B$5=\"Qualifiés\",IF(ISERROR(VLOOKUP(A64 & CHAR(10) &C64,'Tableau final'!C:F,1,FALSE)),\"\",IF(AND(VLOOKUP(A64 & CHAR(10) &C64,'Tableau final'!C:F,3,FALSE)<>\"\",VLOOKUP(A64 & CHAR(10) &C64,'Tableau final'!C:F,4,FALSE)=\"x\"),1,\"\")),IF('Tableau final'!$G$5=\"Qualifiés\",IF(ISERROR(VLOOKUP(A64 & CHAR(10) &C64,'Tableau final'!H:K,1,FALSE)),\"\",IF(AND(VLOOKUP(A64 & CHAR(10) &C64,'Tableau final'!H:K,3,FALSE)<>\"\",VLOOKUP(A64 & CHAR(10) &C64,'Tableau final'!H:K,4,FALSE)=\"x\"),1,\"\")),IF('Tableau final'!$L$5=\"Qualifiés\",IF(ISERROR(VLOOKUP(A64 & CHAR(10) &C64,'Tableau final'!M:P,1,FALSE)),\"\",IF(AND(VLOOKUP(A64 & CHAR(10) &C64,'Tableau final'!M:P,3,FALSE)<>\"\",VLOOKUP(A64 & CHAR(10) &C64,'Tableau final'!M:P,4,FALSE)=\"x\"),1,\"\")),\"\"))),\"\")","v":""},"0",{"$f":"IF(ISERROR(VLOOKUP(AI64,Tirage!A:J,1,FALSE)),\"\",IF(VLOOKUP(AI64,Tirage!A:J,1,FALSE)=\"Office \",3,4))","v":""},{"$f":"IF(AJ64=\"0\",4,IF(AJ64=1,3,IF(AJ64=2,IF(OFFSET('Fiche score'!$A$2,VLOOKUP(RIGHT(AI64,2),Feuil1!A:C,2,FALSE),VLOOKUP(RIGHT(AI64,2),Feuil1!A:C,3,FALSE))=A64 & CHAR(10) & C64,1,2),\"\")))","v":""}]
[null,null,null,null,{"$f":"IF(ISERROR(VLOOKUP(C65,AS!$A:$H,7,FALSE)),\"\",VLOOKUP(C65,AS!$A:$H,7,FALSE))","v":""},{"$f":"IF(ISERROR(VLOOKUP(C65,AS!$A:$H,8,FALSE)),\"\",VLOOKUP(C65,AS!$A:$H,8,FALSE))","v":""},null,null,null,null,{"$f":"IF(ISERROR(VLOOKUP(I65,AS!$A:$H,7,FALSE)),\"\",VLOOKUP(I65,AS!$A:$H,7,FALSE))","v":""},{"$f":"IF(ISERROR(VLOOKUP(I65,AS!$A:$H,8,FALSE)),\"\",VLOOKUP(I65,AS!$A:$H,8,FALSE))","v":""},null,null,null,null,{"$f":"IF(ISERROR(VLOOKUP(O65,AS!$A:$H,7,FALSE)),\"\",VLOOKUP(O65,AS!$A:$H,7,FALSE))","v":""},{"$f":"IF(ISERROR(VLOOKUP(O65,AS!$A:$H,8,FALSE)),\"\",VLOOKUP(O65,AS!$A:$H,8,FALSE))","v":""},null,null,null,null,{"$f":"IF(ISERROR(VLOOKUP(U65,AS!$A:$H,7,FALSE)),\"\",VLOOKUP(U65,AS!$A:$H,7,FALSE))","v":""},{"$f":"IF(ISERROR(VLOOKUP(U65,AS!$A:$H,8,FALSE)),\"\",VLOOKUP(U65,AS!$A:$H,8,FALSE))","v":""},null,null,null,null,{"$f":"IF(ISERROR(VLOOKUP(AA65,AS!$A:$H,7,FALSE)),\"\",VLOOKUP(AA65,AS!$A:$H,7,FALSE))","v":""},{"$f":"IF(ISERROR(VLOOKUP(AA65,AS!$A:$H,8,FALSE)),\"\",VLOOKUP(AA65,AS!$A:$H,8,FALSE))","v":""},null,null,null,"",null,{"$f":"IF(AI65=\"\",\"\",IF(OFFSET('Fiche score'!$A$2,VLOOKUP(RIGHT(AI65,2),Feuil1!A:C,2,FALSE),VLOOKUP(RIGHT(AI65,2),Feuil1!A:C,3,FALSE))=A65 & CHAR(10) & C65,2,IF(OFFSET('Fiche score'!$A$2,VLOOKUP(RIGHT(AI65,2),Feuil1!A:C,2,FALSE)+1,VLOOKUP(RIGHT(AI65,2),Feuil1!A:C,3,FALSE))=A65 & CHAR(10) & C65,2,IF(OFFSET('Fiche score'!$A$2,VLOOKUP(RIGHT(AI65,2),Feuil1!A:C,2,FALSE)-1,VLOOKUP(RIGHT(AI65,2),Feuil1!A:C,3,FALSE))=A65 & CHAR(10) & C65,1,IF(OFFSET('Fiche score'!$A$2,VLOOKUP(RIGHT(AI65,2),Feuil1!A:C,2,FALSE)-2,VLOOKUP(RIGHT(AI65,2),Feuil1!A:C,3,FALSE))=A65 & CHAR(10) & C65,1,\"0\")))))","v":""},{"$f":"IF(ISERROR(VLOOKUP(A65 & CHAR(10) &C65,'Fiche tirage dirigé'!I:I,1,FALSE)),0,1)","v":0},{"$f":"IF(ISERROR(VLOOKUP(A65& CHAR(10) &C65,Cadrage!H:H,1,FALSE)),0,1)","v":0},{"$f":"IF(ISERROR(VLOOKUP(A65 & CHAR(10) &C65,'Tableau final'!V:V,1,FALSE)),0,1)","v":0},{"$f":"IF(ISERROR(VLOOKUP(A65 & CHAR(10) &C65,'Tableau final'!W:W,1,FALSE)),0,1)","v":0},{"$f":"IF(ISERROR(VLOOKUP(A65 & CHAR(10) &C65,'Tableau final'!X:X,1,FALSE)),0,1)","v":0},{"$f":"IF(ISERROR(VLOOKUP(A65 & CHAR(10) &C65,'Tableau final'!Y:Y,1,FALSE)),0,1)","v":0},{"$f":"IF(ISERROR(VLOOKUP(A65 & CHAR(10) &C65,'Tableau final'!Z:Z,1,FALSE)),0,1)","v":0},{"$f":"IF('Tableau final'!$A$1<>\"\",IF('Tableau final'!$B$5=\"Qualifiés\",IF(ISERROR(VLOOKUP(A65 & CHAR(10) &C65,'Tableau final'!C:F,1,FALSE)),\"\",IF(AND(VLOOKUP(A65 & CHAR(10) &C65,'Tableau final'!C:F,3,FALSE)<>\"\",VLOOKUP(A65 & CHAR(10) &C65,'Tableau final'!C:F,4,FALSE)=\"x\"),1,\"\")),IF('Tableau final'!$G$5=\"Qualifiés\",IF(ISERROR(VLOOKUP(A65 & CHAR(10) &C65,'Tableau final'!H:K,1,FALSE)),\"\",IF(AND(VLOOKUP(A65 & CHAR(10) &C65,'Tableau final'!H:K,3,FALSE)<>\"\",VLOOKUP(A65 & CHAR(10) &C65,'Tableau final'!H:K,4,FALSE)=\"x\"),1,\"\")),IF('Tableau final'!$L$5=\"Qualifiés\",IF(ISERROR(VLOOKUP(A65 & CHAR(10) &C65,'Tableau final'!M:P,1,FALSE)),\"\",IF(AND(VLOOKUP(A65 & CHAR(10) &C65,'Tableau final'!M:P,3,FALSE)<>\"\",VLOOKUP(A65 & CHAR(10) &C65,'Tableau final'!M:P,4,FALSE)=\"x\"),1,\"\")),\"\"))),\"\")","v":""},"0",{"$f":"IF(ISERROR(VLOOKUP(AI65,Tirage!A:J,1,FALSE)),\"\",IF(VLOOKUP(AI65,Tirage!A:J,1,FALSE)=\"Office \",3,4))","v":""},{"$f":"IF(AJ65=\"0\",4,IF(AJ65=1,3,IF(AJ65=2,IF(OFFSET('Fiche score'!$A$2,VLOOKUP(RIGHT(AI65,2),Feuil1!A:C,2,FALSE),VLOOKUP(RIGHT(AI65,2),Feuil1!A:C,3,FALSE))=A65 & CHAR(10) & C65,1,2),\"\")))","v":""}]
[null,null,null,null,{"$f":"IF(ISERROR(VLOOKUP(C66,AS!$A:$H,7,FALSE)),\"\",VLOOKUP(C66,AS!$A:$H,7,FALSE))","v":""},{"$f":"IF(ISERROR(VLOOKUP(C66,AS!$A:$H,8,FALSE)),\"\",VLOOKUP(C66,AS!$A:$H,8,FALSE))","v":""},null,null,null,null,{"$f":"IF(ISERROR(VLOOKUP(I66,AS!$A:$H,7,FALSE)),\"\",VLOOKUP(I66,AS!$A:$H,7,FALSE))","v":""},{"$f":"IF(ISERROR(VLOOKUP(I66,AS!$A:$H,8,FALSE)),\"\",VLOOKUP(I66,AS!$A:$H,8,FALSE))","v":""},null,null,null,null,{"$f":"IF(ISERROR(VLOOKUP(O66,AS!$A:$H,7,FALSE)),\"\",VLOOKUP(O66,AS!$A:$H,7,FALSE))","v":""},{"$f":"IF(ISERROR(VLOOKUP(O66,AS!$A:$H,8,FALSE)),\"\",VLOOKUP(O66,AS!$A:$H,8,FALSE))","v":""},null,null,null,null,{"$f":"IF(ISERROR(VLOOKUP(U66,AS!$A:$H,7,FALSE)),\"\",VLOOKUP(U66,AS!$A:$H,7,FALSE))","v":""},{"$f":"IF(ISERROR(VLOOKUP(U66,AS!$A:$H,8,FALSE)),\"\",VLOOKUP(U66,AS!$A:$H,8,FALSE))","v":""},null,null,null,null,{"$f":"IF(ISERROR(VLOOKUP(AA66,AS!$A:$H,7,FALSE)),\"\",VLOOKUP(AA66,AS!$A:$H,7,FALSE))","v":""},{"$f":"IF(ISERROR(VLOOKUP(AA66,AS!$A:$H,8,FALSE)),\"\",VLOOKUP(AA66,AS!$A:$H,8,FALSE))","v":""},null,null,null,"",null,{"$f":"IF(AI66=\"\",\"\",IF(OFFSET('Fiche score'!$A$2,VLOOKUP(RIGHT(AI66,2),Feuil1!A:C,2,FALSE),VLOOKUP(RIGHT(AI66,2),Feuil1!A:C,3,FALSE))=A66 & CHAR(10) & C66,2,IF(OFFSET('Fiche score'!$A$2,VLOOKUP(RIGHT(AI66,2),Feuil1!A:C,2,FALSE)+1,VLOOKUP(RIGHT(AI66,2),Feuil1!A:C,3,FALSE))=A66 & CHAR(10) & C66,2,IF(OFFSET('Fiche score'!$A$2,VLOOKUP(RIGHT(AI66,2),Feuil1!A:C,2,FALSE)-1,VLOOKUP(RIGHT(AI66,2),Feuil1!A:C,3,FALSE))=A66 & CHAR(10) & C66,1,IF(OFFSET('Fiche score'!$A$2,VLOOKUP(RIGHT(AI66,2),Feuil1!A:C,2,FALSE)-2,VLOOKUP(RIGHT(AI66,2),Feuil1!A:C,3,FALSE))=A66 & CHAR(10) & C66,1,\"0\")))))","v":""},{"$f":"IF(ISERROR(VLOOKUP(A66 & CHAR(10) &C66,'Fiche tirage dirigé'!I:I,1,FALSE)),0,1)","v":0},{"$f":"IF(ISERROR(VLOOKUP(A66& CHAR(10) &C66,Cadrage!H:H,1,FALSE)),0,1)","v":0},{"$f":"IF(ISERROR(VLOOKUP(A66 & CHAR(10) &C66,'Tableau final'!V:V,1,FALSE)),0,1)","v":0},{"$f":"IF(ISERROR(VLOOKUP(A66 & CHAR(10) &C66,'Tableau final'!W:W,1,FALSE)),0,1)","v":0},{"$f":"IF(ISERROR(VLOOKUP(A66 & CHAR(10) &C66,'Tableau final'!X:X,1,FALSE)),0,1)","v":0},{"$f":"IF(ISERROR(VLOOKUP(A66 & CHAR(10) &C66,'Tableau final'!Y:Y,1,FALSE)),0,1)","v":0},{"$f":"IF(ISERROR(VLOOKUP(A66 & CHAR(10) &C66,'Tableau final'!Z:Z,1,FALSE)),0,1)","v":0},{"$f":"IF('Tableau final'!$A$1<>\"\",IF('Tableau final'!$B$5=\"Qualifiés\",IF(ISERROR(VLOOKUP(A66 & CHAR(10) &C66,'Tableau final'!C:F,1,FALSE)),\"\",IF(AND(VLOOKUP(A66 & CHAR(10) &C66,'Tableau final'!C:F,3,FALSE)<>\"\",VLOOKUP(A66 & CHAR(10) &C66,'Tableau final'!C:F,4,FALSE)=\"x\"),1,\"\")),IF('Tableau final'!$G$5=\"Qualifiés\",IF(ISERROR(VLOOKUP(A66 & CHAR(10) &C66,'Tableau final'!H:K,1,FALSE)),\"\",IF(AND(VLOOKUP(A66 & CHAR(10) &C66,'Tableau final'!H:K,3,FALSE)<>\"\",VLOOKUP(A66 & CHAR(10) &C66,'Tableau final'!H:K,4,FALSE)=\"x\"),1,\"\")),IF('Tableau final'!$L$5=\"Qualifiés\",IF(ISERROR(VLOOKUP(A66 & CHAR(10) &C66,'Tableau final'!M:P,1,FALSE)),\"\",IF(AND(VLOOKUP(A66 & CHAR(10) &C66,'Tableau final'!M:P,3,FALSE)<>\"\",VLOOKUP(A66 & CHAR(10) &C66,'Tableau final'!M:P,4,FALSE)=\"x\"),1,\"\")),\"\"))),\"\")","v":""},"0",{"$f":"IF(ISERROR(VLOOKUP(AI66,Tirage!A:J,1,FALSE)),\"\",IF(VLOOKUP(AI66,Tirage!A:J,1,FALSE)=\"Office \",3,4))","v":""},{"$f":"IF(AJ66=\"0\",4,IF(AJ66=1,3,IF(AJ66=2,IF(OFFSET('Fiche score'!$A$2,VLOOKUP(RIGHT(AI66,2),Feuil1!A:C,2,FALSE),VLOOKUP(RIGHT(AI66,2),Feuil1!A:C,3,FALSE))=A66 & CHAR(10) & C66,1,2),\"\")))","v":""}]
[null,null,null,null,{"$f":"IF(ISERROR(VLOOKUP(C67,AS!$A:$H,7,FALSE)),\"\",VLOOKUP(C67,AS!$A:$H,7,FALSE))","v":""},{"$f":"IF(ISERROR(VLOOKUP(C67,AS!$A:$H,8,FALSE)),\"\",VLOOKUP(C67,AS!$A:$H,8,FALSE))","v":""},null,null,null,null,{"$f":"IF(ISERROR(VLOOKUP(I67,AS!$A:$H,7,FALSE)),\"\",VLOOKUP(I67,AS!$A:$H,7,FALSE))","v":""},{"$f":"IF(ISERROR(VLOOKUP(I67,AS!$A:$H,8,FALSE)),\"\",VLOOKUP(I67,AS!$A:$H,8,FALSE))","v":""},null,null,null,null,{"$f":"IF(ISERROR(VLOOKUP(O67,AS!$A:$H,7,FALSE)),\"\",VLOOKUP(O67,AS!$A:$H,7,FALSE))","v":""},{"$f":"IF(ISERROR(VLOOKUP(O67,AS!$A:$H,8,FALSE)),\"\",VLOOKUP(O67,AS!$A:$H,8,FALSE))","v":""},null,null,null,null,{"$f":"IF(ISERROR(VLOOKUP(U67,AS!$A:$H,7,FALSE)),\"\",VLOOKUP(U67,AS!$A:$H,7,FALSE))","v":""},{"$f":"IF(ISERROR(VLOOKUP(U67,AS!$A:$H,8,FALSE)),\"\",VLOOKUP(U67,AS!$A:$H,8,FALSE))","v":""},null,null,null,null,{"$f":"IF(ISERROR(VLOOKUP(AA67,AS!$A:$H,7,FALSE)),\"\",VLOOKUP(AA67,AS!$A:$H,7,FALSE))","v":""},{"$f":"IF(ISERROR(VLOOKUP(AA67,AS!$A:$H,8,FALSE)),\"\",VLOOKUP(AA67,AS!$A:$H,8,FALSE))","v":""},null,null,null,{"$f":"A67&E67&F67","v":""},null,{"$f":"IF(AI67=\"\",\"\",IF(OFFSET('Fiche score'!$A$2,VLOOKUP(RIGHT(AI67,2),Feuil1!A:C,2,FALSE),VLOOKUP(RIGHT(AI67,2),Feuil1!A:C,3,FALSE))=A67 & CHAR(10) & C67,2,IF(OFFSET('Fiche score'!$A$2,VLOOKUP(RIGHT(AI67,2),Feuil1!A:C,2,FALSE)+1,VLOOKUP(RIGHT(AI67,2),Feuil1!A:C,3,FALSE))=A67 & CHAR(10) & C67,2,IF(OFFSET('Fiche score'!$A$2,VLOOKUP(RIGHT(AI67,2),Feuil1!A:C,2,FALSE)-1,VLOOKUP(RIGHT(AI67,2),Feuil1!A:C,3,FALSE))=A67 & CHAR(10) & C67,1,IF(OFFSET('Fiche score'!$A$2,VLOOKUP(RIGHT(AI67,2),Feuil1!A:C,2,FALSE)-2,VLOOKUP(RIGHT(AI67,2),Feuil1!A:C,3,FALSE))=A67 & CHAR(10) & C67,1,\"0\")))))","v":""},{"$f":"IF(ISERROR(VLOOKUP(A67 & CHAR(10) &C67,'Fiche tirage dirigé'!I:I,1,FALSE)),0,1)","v":0},{"$f":"IF(ISERROR(VLOOKUP(A67& CHAR(10) &C67,Cadrage!H:H,1,FALSE)),0,1)","v":0},{"$f":"IF(ISERROR(VLOOKUP(A67 & CHAR(10) &C67,'Tableau final'!V:V,1,FALSE)),0,1)","v":0},{"$f":"IF(ISERROR(VLOOKUP(A67 & CHAR(10) &C67,'Tableau final'!W:W,1,FALSE)),0,1)","v":0},{"$f":"IF(ISERROR(VLOOKUP(A67 & CHAR(10) &C67,'Tableau final'!X:X,1,FALSE)),0,1)","v":0},{"$f":"IF(ISERROR(VLOOKUP(A67 & CHAR(10) &C67,'Tableau final'!Y:Y,1,FALSE)),0,1)","v":0},{"$f":"IF(ISERROR(VLOOKUP(A67 & CHAR(10) &C67,'Tableau final'!Z:Z,1,FALSE)),0,1)","v":0},{"$f":"IF('Tableau final'!$A$1<>\"\",IF('Tableau final'!$B$5=\"Qualifiés\",IF(ISERROR(VLOOKUP(A67 & CHAR(10) &C67,'Tableau final'!C:F,1,FALSE)),\"\",IF(AND(VLOOKUP(A67 & CHAR(10) &C67,'Tableau final'!C:F,3,FALSE)<>\"\",VLOOKUP(A67 & CHAR(10) &C67,'Tableau final'!C:F,4,FALSE)=\"x\"),1,\"\")),IF('Tableau final'!$G$5=\"Qualifiés\",IF(ISERROR(VLOOKUP(A67 & CHAR(10) &C67,'Tableau final'!H:K,1,FALSE)),\"\",IF(AND(VLOOKUP(A67 & CHAR(10) &C67,'Tableau final'!H:K,3,FALSE)<>\"\",VLOOKUP(A67 & CHAR(10) &C67,'Tableau final'!H:K,4,FALSE)=\"x\"),1,\"\")),IF('Tableau final'!$L$5=\"Qualifiés\",IF(ISERROR(VLOOKUP(A67 & CHAR(10) &C67,'Tableau final'!M:P,1,FALSE)),\"\",IF(AND(VLOOKUP(A67 & CHAR(10) &C67,'Tableau final'!M:P,3,FALSE)<>\"\",VLOOKUP(A67 & CHAR(10) &C67,'Tableau final'!M:P,4,FALSE)=\"x\"),1,\"\")),\"\"))),\"\")","v":""},{"$f":"IF(SUM(AK67:AR67)=0,\"0\",SUM(AK67:AR67))","v":"0"},{"$f":"IF(ISERROR(VLOOKUP(AI67,Tirage!A:J,1,FALSE)),\"\",IF(VLOOKUP(AI67,Tirage!A:J,1,FALSE)=\"Office \",3,4))","v":""},{"$f":"IF(AJ67=\"0\",4,IF(AJ67=1,3,IF(AJ67=2,IF(OFFSET('Fiche score'!$A$2,VLOOKUP(RIGHT(AI67,2),Feuil1!A:C,2,FALSE),VLOOKUP(RIGHT(AI67,2),Feuil1!A:C,3,FALSE))=A67 & CHAR(10) & C67,1,2),\"\")))","v":""}]
[null,null,null,null,{"$f":"IF(ISERROR(VLOOKUP(C68,AS!$A:$H,7,FALSE)),\"\",VLOOKUP(C68,AS!$A:$H,7,FALSE))","v":""},{"$f":"IF(ISERROR(VLOOKUP(C68,AS!$A:$H,8,FALSE)),\"\",VLOOKUP(C68,AS!$A:$H,8,FALSE))","v":""},null,null,null,null,{"$f":"IF(ISERROR(VLOOKUP(I68,AS!$A:$H,7,FALSE)),\"\",VLOOKUP(I68,AS!$A:$H,7,FALSE))","v":""},{"$f":"IF(ISERROR(VLOOKUP(I68,AS!$A:$H,8,FALSE)),\"\",VLOOKUP(I68,AS!$A:$H,8,FALSE))","v":""},null,null,null,null,{"$f":"IF(ISERROR(VLOOKUP(O68,AS!$A:$H,7,FALSE)),\"\",VLOOKUP(O68,AS!$A:$H,7,FALSE))","v":""},{"$f":"IF(ISERROR(VLOOKUP(O68,AS!$A:$H,8,FALSE)),\"\",VLOOKUP(O68,AS!$A:$H,8,FALSE))","v":""},null,null,null,null,{"$f":"IF(ISERROR(VLOOKUP(U68,AS!$A:$H,7,FALSE)),\"\",VLOOKUP(U68,AS!$A:$H,7,FALSE))","v":""},{"$f":"IF(ISERROR(VLOOKUP(U68,AS!$A:$H,8,FALSE)),\"\",VLOOKUP(U68,AS!$A:$H,8,FALSE))","v":""},null,null,null,null,{"$f":"IF(ISERROR(VLOOKUP(AA68,AS!$A:$H,7,FALSE)),\"\",VLOOKUP(AA68,AS!$A:$H,7,FALSE))","v":""},{"$f":"IF(ISERROR(VLOOKUP(AA68,AS!$A:$H,8,FALSE)),\"\",VLOOKUP(AA68,AS!$A:$H,8,FALSE))","v":""},null,null,null,"",null,{"$f":"IF(AI68=\"\",\"\",IF(OFFSET('Fiche score'!$A$2,VLOOKUP(RIGHT(AI68,2),Feuil1!A:C,2,FALSE),VLOOKUP(RIGHT(AI68,2),Feuil1!A:C,3,FALSE))=A68 & CHAR(10) & C68,2,IF(OFFSET('Fiche score'!$A$2,VLOOKUP(RIGHT(AI68,2),Feuil1!A:C,2,FALSE)+1,VLOOKUP(RIGHT(AI68,2),Feuil1!A:C,3,FALSE))=A68 & CHAR(10) & C68,2,IF(OFFSET('Fiche score'!$A$2,VLOOKUP(RIGHT(AI68,2),Feuil1!A:C,2,FALSE)-1,VLOOKUP(RIGHT(AI68,2),Feuil1!A:C,3,FALSE))=A68 & CHAR(10) & C68,1,IF(OFFSET('Fiche score'!$A$2,VLOOKUP(RIGHT(AI68,2),Feuil1!A:C,2,FALSE)-2,VLOOKUP(RIGHT(AI68,2),Feuil1!A:C,3,FALSE))=A68 & CHAR(10) & C68,1,\"0\")))))","v":""},{"$f":"IF(ISERROR(VLOOKUP(A68 & CHAR(10) &C68,'Fiche tirage dirigé'!I:I,1,FALSE)),0,1)","v":0},{"$f":"IF(ISERROR(VLOOKUP(A68& CHAR(10) &C68,Cadrage!H:H,1,FALSE)),0,1)","v":0},{"$f":"IF(ISERROR(VLOOKUP(A68 & CHAR(10) &C68,'Tableau final'!V:V,1,FALSE)),0,1)","v":0},{"$f":"IF(ISERROR(VLOOKUP(A68 & CHAR(10) &C68,'Tableau final'!W:W,1,FALSE)),0,1)","v":0},{"$f":"IF(ISERROR(VLOOKUP(A68 & CHAR(10) &C68,'Tableau final'!X:X,1,FALSE)),0,1)","v":0},{"$f":"IF(ISERROR(VLOOKUP(A68 & CHAR(10) &C68,'Tableau final'!Y:Y,1,FALSE)),0,1)","v":0},{"$f":"IF(ISERROR(VLOOKUP(A68 & CHAR(10) &C68,'Tableau final'!Z:Z,1,FALSE)),0,1)","v":0},{"$f":"IF('Tableau final'!$A$1<>\"\",IF('Tableau final'!$B$5=\"Qualifiés\",IF(ISERROR(VLOOKUP(A68 & CHAR(10) &C68,'Tableau final'!C:F,1,FALSE)),\"\",IF(AND(VLOOKUP(A68 & CHAR(10) &C68,'Tableau final'!C:F,3,FALSE)<>\"\",VLOOKUP(A68 & CHAR(10) &C68,'Tableau final'!C:F,4,FALSE)=\"x\"),1,\"\")),IF('Tableau final'!$G$5=\"Qualifiés\",IF(ISERROR(VLOOKUP(A68 & CHAR(10) &C68,'Tableau final'!H:K,1,FALSE)),\"\",IF(AND(VLOOKUP(A68 & CHAR(10) &C68,'Tableau final'!H:K,3,FALSE)<>\"\",VLOOKUP(A68 & CHAR(10) &C68,'Tableau final'!H:K,4,FALSE)=\"x\"),1,\"\")),IF('Tableau final'!$L$5=\"Qualifiés\",IF(ISERROR(VLOOKUP(A68 & CHAR(10) &C68,'Tableau final'!M:P,1,FALSE)),\"\",IF(AND(VLOOKUP(A68 & CHAR(10) &C68,'Tableau final'!M:P,3,FALSE)<>\"\",VLOOKUP(A68 & CHAR(10) &C68,'Tableau final'!M:P,4,FALSE)=\"x\"),1,\"\")),\"\"))),\"\")","v":""},"0",{"$f":"IF(ISERROR(VLOOKUP(AI68,Tirage!A:J,1,FALSE)),\"\",IF(VLOOKUP(AI68,Tirage!A:J,1,FALSE)=\"Office \",3,4))","v":""},{"$f":"IF(AJ68=\"0\",4,IF(AJ68=1,3,IF(AJ68=2,IF(OFFSET('Fiche score'!$A$2,VLOOKUP(RIGHT(AI68,2),Feuil1!A:C,2,FALSE),VLOOKUP(RIGHT(AI68,2),Feuil1!A:C,3,FALSE))=A68 & CHAR(10) & C68,1,2),\"\")))","v":""}]
[null,null,null,null,{"$f":"IF(ISERROR(VLOOKUP(C69,AS!$A:$H,7,FALSE)),\"\",VLOOKUP(C69,AS!$A:$H,7,FALSE))","v":""},{"$f":"IF(ISERROR(VLOOKUP(C69,AS!$A:$H,8,FALSE)),\"\",VLOOKUP(C69,AS!$A:$H,8,FALSE))","v":""},null,null,null,null,{"$f":"IF(ISERROR(VLOOKUP(I69,AS!$A:$H,7,FALSE)),\"\",VLOOKUP(I69,AS!$A:$H,7,FALSE))","v":""},{"$f":"IF(ISERROR(VLOOKUP(I69,AS!$A:$H,8,FALSE)),\"\",VLOOKUP(I69,AS!$A:$H,8,FALSE))","v":""},null,null,null,null,{"$f":"IF(ISERROR(VLOOKUP(O69,AS!$A:$H,7,FALSE)),\"\",VLOOKUP(O69,AS!$A:$H,7,FALSE))","v":""},{"$f":"IF(ISERROR(VLOOKUP(O69,AS!$A:$H,8,FALSE)),\"\",VLOOKUP(O69,AS!$A:$H,8,FALSE))","v":""},null,null,null,null,{"$f":"IF(ISERROR(VLOOKUP(U69,AS!$A:$H,7,FALSE)),\"\",VLOOKUP(U69,AS!$A:$H,7,FALSE))","v":""},{"$f":"IF(ISERROR(VLOOKUP(U69,AS!$A:$H,8,FALSE)),\"\",VLOOKUP(U69,AS!$A:$H,8,FALSE))","v":""},null,null,null,null,{"$f":"IF(ISERROR(VLOOKUP(AA69,AS!$A:$H,7,FALSE)),\"\",VLOOKUP(AA69,AS!$A:$H,7,FALSE))","v":""},{"$f":"IF(ISERROR(VLOOKUP(AA69,AS!$A:$H,8,FALSE)),\"\",VLOOKUP(AA69,AS!$A:$H,8,FALSE))","v":""},null,null,null,"",null,{"$f":"IF(AI69=\"\",\"\",IF(OFFSET('Fiche score'!$A$2,VLOOKUP(RIGHT(AI69,2),Feuil1!A:C,2,FALSE),VLOOKUP(RIGHT(AI69,2),Feuil1!A:C,3,FALSE))=A69 & CHAR(10) & C69,2,IF(OFFSET('Fiche score'!$A$2,VLOOKUP(RIGHT(AI69,2),Feuil1!A:C,2,FALSE)+1,VLOOKUP(RIGHT(AI69,2),Feuil1!A:C,3,FALSE))=A69 & CHAR(10) & C69,2,IF(OFFSET('Fiche score'!$A$2,VLOOKUP(RIGHT(AI69,2),Feuil1!A:C,2,FALSE)-1,VLOOKUP(RIGHT(AI69,2),Feuil1!A:C,3,FALSE))=A69 & CHAR(10) & C69,1,IF(OFFSET('Fiche score'!$A$2,VLOOKUP(RIGHT(AI69,2),Feuil1!A:C,2,FALSE)-2,VLOOKUP(RIGHT(AI69,2),Feuil1!A:C,3,FALSE))=A69 & CHAR(10) & C69,1,\"0\")))))","v":""},{"$f":"IF(ISERROR(VLOOKUP(A69 & CHAR(10) &C69,'Fiche tirage dirigé'!I:I,1,FALSE)),0,1)","v":0},{"$f":"IF(ISERROR(VLOOKUP(A69& CHAR(10) &C69,Cadrage!H:H,1,FALSE)),0,1)","v":0},{"$f":"IF(ISERROR(VLOOKUP(A69 & CHAR(10) &C69,'Tableau final'!V:V,1,FALSE)),0,1)","v":0},{"$f":"IF(ISERROR(VLOOKUP(A69 & CHAR(10) &C69,'Tableau final'!W:W,1,FALSE)),0,1)","v":0},{"$f":"IF(ISERROR(VLOOKUP(A69 & CHAR(10) &C69,'Tableau final'!X:X,1,FALSE)),0,1)","v":0},{"$f":"IF(ISERROR(VLOOKUP(A69 & CHAR(10) &C69,'Tableau final'!Y:Y,1,FALSE)),0,1)","v":0},{"$f":"IF(ISERROR(VLOOKUP(A69 & CHAR(10) &C69,'Tableau final'!Z:Z,1,FALSE)),0,1)","v":0},{"$f":"IF('Tableau final'!$A$1<>\"\",IF('Tableau final'!$B$5=\"Qualifiés\",IF(ISERROR(VLOOKUP(A69 & CHAR(10) &C69,'Tableau final'!C:F,1,FALSE)),\"\",IF(AND(VLOOKUP(A69 & CHAR(10) &C69,'Tableau final'!C:F,3,FALSE)<>\"\",VLOOKUP(A69 & CHAR(10) &C69,'Tableau final'!C:F,4,FALSE)=\"x\"),1,\"\")),IF('Tableau final'!$G$5=\"Qualifiés\",IF(ISERROR(VLOOKUP(A69 & CHAR(10) &C69,'Tableau final'!H:K,1,FALSE)),\"\",IF(AND(VLOOKUP(A69 & CHAR(10) &C69,'Tableau final'!H:K,3,FALSE)<>\"\",VLOOKUP(A69 & CHAR(10) &C69,'Tableau final'!H:K,4,FALSE)=\"x\"),1,\"\")),IF('Tableau final'!$L$5=\"Qualifiés\",IF(ISERROR(VLOOKUP(A69 & CHAR(10) &C69,'Tableau final'!M:P,1,FALSE)),\"\",IF(AND(VLOOKUP(A69 & CHAR(10) &C69,'Tableau final'!M:P,3,FALSE)<>\"\",VLOOKUP(A69 & CHAR(10) &C69,'Tableau final'!M:P,4,FALSE)=\"x\"),1,\"\")),\"\"))),\"\")","v":""},"0",{"$f":"IF(ISERROR(VLOOKUP(AI69,Tirage!A:J,1,FALSE)),\"\",IF(VLOOKUP(AI69,Tirage!A:J,1,FALSE)=\"Office \",3,4))","v":""},{"$f":"IF(AJ69=\"0\",4,IF(AJ69=1,3,IF(AJ69=2,IF(OFFSET('Fiche score'!$A$2,VLOOKUP(RIGHT(AI69,2),Feuil1!A:C,2,FALSE),VLOOKUP(RIGHT(AI69,2),Feuil1!A:C,3,FALSE))=A69 & CHAR(10) & C69,1,2),\"\")))","v":""}]
[null,null,null,null,{"$f":"IF(ISERROR(VLOOKUP(C70,AS!$A:$H,7,FALSE)),\"\",VLOOKUP(C70,AS!$A:$H,7,FALSE))","v":""},{"$f":"IF(ISERROR(VLOOKUP(C70,AS!$A:$H,8,FALSE)),\"\",VLOOKUP(C70,AS!$A:$H,8,FALSE))","v":""},null,null,null,null,{"$f":"IF(ISERROR(VLOOKUP(I70,AS!$A:$H,7,FALSE)),\"\",VLOOKUP(I70,AS!$A:$H,7,FALSE))","v":""},{"$f":"IF(ISERROR(VLOOKUP(I70,AS!$A:$H,8,FALSE)),\"\",VLOOKUP(I70,AS!$A:$H,8,FALSE))","v":""},null,null,null,null,{"$f":"IF(ISERROR(VLOOKUP(O70,AS!$A:$H,7,FALSE)),\"\",VLOOKUP(O70,AS!$A:$H,7,FALSE))","v":""},{"$f":"IF(ISERROR(VLOOKUP(O70,AS!$A:$H,8,FALSE)),\"\",VLOOKUP(O70,AS!$A:$H,8,FALSE))","v":""},null,null,null,null,{"$f":"IF(ISERROR(VLOOKUP(U70,AS!$A:$H,7,FALSE)),\"\",VLOOKUP(U70,AS!$A:$H,7,FALSE))","v":""},{"$f":"IF(ISERROR(VLOOKUP(U70,AS!$A:$H,8,FALSE)),\"\",VLOOKUP(U70,AS!$A:$H,8,FALSE))","v":""},null,null,null,null,{"$f":"IF(ISERROR(VLOOKUP(AA70,AS!$A:$H,7,FALSE)),\"\",VLOOKUP(AA70,AS!$A:$H,7,FALSE))","v":""},{"$f":"IF(ISERROR(VLOOKUP(AA70,AS!$A:$H,8,FALSE)),\"\",VLOOKUP(AA70,AS!$A:$H,8,FALSE))","v":""},null,null,null,"",null,{"$f":"IF(AI70=\"\",\"\",IF(OFFSET('Fiche score'!$A$2,VLOOKUP(RIGHT(AI70,2),Feuil1!A:C,2,FALSE),VLOOKUP(RIGHT(AI70,2),Feuil1!A:C,3,FALSE))=A70 & CHAR(10) & C70,2,IF(OFFSET('Fiche score'!$A$2,VLOOKUP(RIGHT(AI70,2),Feuil1!A:C,2,FALSE)+1,VLOOKUP(RIGHT(AI70,2),Feuil1!A:C,3,FALSE))=A70 & CHAR(10) & C70,2,IF(OFFSET('Fiche score'!$A$2,VLOOKUP(RIGHT(AI70,2),Feuil1!A:C,2,FALSE)-1,VLOOKUP(RIGHT(AI70,2),Feuil1!A:C,3,FALSE))=A70 & CHAR(10) & C70,1,IF(OFFSET('Fiche score'!$A$2,VLOOKUP(RIGHT(AI70,2),Feuil1!A:C,2,FALSE)-2,VLOOKUP(RIGHT(AI70,2),Feuil1!A:C,3,FALSE))=A70 & CHAR(10) & C70,1,\"0\")))))","v":""},{"$f":"IF(ISERROR(VLOOKUP(A70 & CHAR(10) &C70,'Fiche tirage dirigé'!I:I,1,FALSE)),0,1)","v":0},{"$f":"IF(ISERROR(VLOOKUP(A70& CHAR(10) &C70,Cadrage!H:H,1,FALSE)),0,1)","v":0},{"$f":"IF(ISERROR(VLOOKUP(A70 & CHAR(10) &C70,'Tableau final'!V:V,1,FALSE)),0,1)","v":0},{"$f":"IF(ISERROR(VLOOKUP(A70 & CHAR(10) &C70,'Tableau final'!W:W,1,FALSE)),0,1)","v":0},{"$f":"IF(ISERROR(VLOOKUP(A70 & CHAR(10) &C70,'Tableau final'!X:X,1,FALSE)),0,1)","v":0},{"$f":"IF(ISERROR(VLOOKUP(A70 & CHAR(10) &C70,'Tableau final'!Y:Y,1,FALSE)),0,1)","v":0},{"$f":"IF(ISERROR(VLOOKUP(A70 & CHAR(10) &C70,'Tableau final'!Z:Z,1,FALSE)),0,1)","v":0},{"$f":"IF('Tableau final'!$A$1<>\"\",IF('Tableau final'!$B$5=\"Qualifiés\",IF(ISERROR(VLOOKUP(A70 & CHAR(10) &C70,'Tableau final'!C:F,1,FALSE)),\"\",IF(AND(VLOOKUP(A70 & CHAR(10) &C70,'Tableau final'!C:F,3,FALSE)<>\"\",VLOOKUP(A70 & CHAR(10) &C70,'Tableau final'!C:F,4,FALSE)=\"x\"),1,\"\")),IF('Tableau final'!$G$5=\"Qualifiés\",IF(ISERROR(VLOOKUP(A70 & CHAR(10) &C70,'Tableau final'!H:K,1,FALSE)),\"\",IF(AND(VLOOKUP(A70 & CHAR(10) &C70,'Tableau final'!H:K,3,FALSE)<>\"\",VLOOKUP(A70 & CHAR(10) &C70,'Tableau final'!H:K,4,FALSE)=\"x\"),1,\"\")),IF('Tableau final'!$L$5=\"Qualifiés\",IF(ISERROR(VLOOKUP(A70 & CHAR(10) &C70,'Tableau final'!M:P,1,FALSE)),\"\",IF(AND(VLOOKUP(A70 & CHAR(10) &C70,'Tableau final'!M:P,3,FALSE)<>\"\",VLOOKUP(A70 & CHAR(10) &C70,'Tableau final'!M:P,4,FALSE)=\"x\"),1,\"\")),\"\"))),\"\")","v":""},"0",{"$f":"IF(ISERROR(VLOOKUP(AI70,Tirage!A:J,1,FALSE)),\"\",IF(VLOOKUP(AI70,Tirage!A:J,1,FALSE)=\"Office \",3,4))","v":""},{"$f":"IF(AJ70=\"0\",4,IF(AJ70=1,3,IF(AJ70=2,IF(OFFSET('Fiche score'!$A$2,VLOOKUP(RIGHT(AI70,2),Feuil1!A:C,2,FALSE),VLOOKUP(RIGHT(AI70,2),Feuil1!A:C,3,FALSE))=A70 & CHAR(10) & C70,1,2),\"\")))","v":""}]
[null,null,null,null,{"$f":"IF(ISERROR(VLOOKUP(C71,AS!$A:$H,7,FALSE)),\"\",VLOOKUP(C71,AS!$A:$H,7,FALSE))","v":""},{"$f":"IF(ISERROR(VLOOKUP(C71,AS!$A:$H,8,FALSE)),\"\",VLOOKUP(C71,AS!$A:$H,8,FALSE))","v":""},null,null,null,null,{"$f":"IF(ISERROR(VLOOKUP(I71,AS!$A:$H,7,FALSE)),\"\",VLOOKUP(I71,AS!$A:$H,7,FALSE))","v":""},{"$f":"IF(ISERROR(VLOOKUP(I71,AS!$A:$H,8,FALSE)),\"\",VLOOKUP(I71,AS!$A:$H,8,FALSE))","v":""},null,null,null,null,{"$f":"IF(ISERROR(VLOOKUP(O71,AS!$A:$H,7,FALSE)),\"\",VLOOKUP(O71,AS!$A:$H,7,FALSE))","v":""},{"$f":"IF(ISERROR(VLOOKUP(O71,AS!$A:$H,8,FALSE)),\"\",VLOOKUP(O71,AS!$A:$H,8,FALSE))","v":""},null,null,null,null,{"$f":"IF(ISERROR(VLOOKUP(U71,AS!$A:$H,7,FALSE)),\"\",VLOOKUP(U71,AS!$A:$H,7,FALSE))","v":""},{"$f":"IF(ISERROR(VLOOKUP(U71,AS!$A:$H,8,FALSE)),\"\",VLOOKUP(U71,AS!$A:$H,8,FALSE))","v":""},null,null,null,null,{"$f":"IF(ISERROR(VLOOKUP(AA71,AS!$A:$H,7,FALSE)),\"\",VLOOKUP(AA71,AS!$A:$H,7,FALSE))","v":""},{"$f":"IF(ISERROR(VLOOKUP(AA71,AS!$A:$H,8,FALSE)),\"\",VLOOKUP(AA71,AS!$A:$H,8,FALSE))","v":""},null,null,null,"",null,{"$f":"IF(AI71=\"\",\"\",IF(OFFSET('Fiche score'!$A$2,VLOOKUP(RIGHT(AI71,2),Feuil1!A:C,2,FALSE),VLOOKUP(RIGHT(AI71,2),Feuil1!A:C,3,FALSE))=A71 & CHAR(10) & C71,2,IF(OFFSET('Fiche score'!$A$2,VLOOKUP(RIGHT(AI71,2),Feuil1!A:C,2,FALSE)+1,VLOOKUP(RIGHT(AI71,2),Feuil1!A:C,3,FALSE))=A71 & CHAR(10) & C71,2,IF(OFFSET('Fiche score'!$A$2,VLOOKUP(RIGHT(AI71,2),Feuil1!A:C,2,FALSE)-1,VLOOKUP(RIGHT(AI71,2),Feuil1!A:C,3,FALSE))=A71 & CHAR(10) & C71,1,IF(OFFSET('Fiche score'!$A$2,VLOOKUP(RIGHT(AI71,2),Feuil1!A:C,2,FALSE)-2,VLOOKUP(RIGHT(AI71,2),Feuil1!A:C,3,FALSE))=A71 & CHAR(10) & C71,1,\"0\")))))","v":""},{"$f":"IF(ISERROR(VLOOKUP(A71 & CHAR(10) &C71,'Fiche tirage dirigé'!I:I,1,FALSE)),0,1)","v":0},{"$f":"IF(ISERROR(VLOOKUP(A71& CHAR(10) &C71,Cadrage!H:H,1,FALSE)),0,1)","v":0},{"$f":"IF(ISERROR(VLOOKUP(A71 & CHAR(10) &C71,'Tableau final'!V:V,1,FALSE)),0,1)","v":0},{"$f":"IF(ISERROR(VLOOKUP(A71 & CHAR(10) &C71,'Tableau final'!W:W,1,FALSE)),0,1)","v":0},{"$f":"IF(ISERROR(VLOOKUP(A71 & CHAR(10) &C71,'Tableau final'!X:X,1,FALSE)),0,1)","v":0},{"$f":"IF(ISERROR(VLOOKUP(A71 & CHAR(10) &C71,'Tableau final'!Y:Y,1,FALSE)),0,1)","v":0},{"$f":"IF(ISERROR(VLOOKUP(A71 & CHAR(10) &C71,'Tableau final'!Z:Z,1,FALSE)),0,1)","v":0},{"$f":"IF('Tableau final'!$A$1<>\"\",IF('Tableau final'!$B$5=\"Qualifiés\",IF(ISERROR(VLOOKUP(A71 & CHAR(10) &C71,'Tableau final'!C:F,1,FALSE)),\"\",IF(AND(VLOOKUP(A71 & CHAR(10) &C71,'Tableau final'!C:F,3,FALSE)<>\"\",VLOOKUP(A71 & CHAR(10) &C71,'Tableau final'!C:F,4,FALSE)=\"x\"),1,\"\")),IF('Tableau final'!$G$5=\"Qualifiés\",IF(ISERROR(VLOOKUP(A71 & CHAR(10) &C71,'Tableau final'!H:K,1,FALSE)),\"\",IF(AND(VLOOKUP(A71 & CHAR(10) &C71,'Tableau final'!H:K,3,FALSE)<>\"\",VLOOKUP(A71 & CHAR(10) &C71,'Tableau final'!H:K,4,FALSE)=\"x\"),1,\"\")),IF('Tableau final'!$L$5=\"Qualifiés\",IF(ISERROR(VLOOKUP(A71 & CHAR(10) &C71,'Tableau final'!M:P,1,FALSE)),\"\",IF(AND(VLOOKUP(A71 & CHAR(10) &C71,'Tableau final'!M:P,3,FALSE)<>\"\",VLOOKUP(A71 & CHAR(10) &C71,'Tableau final'!M:P,4,FALSE)=\"x\"),1,\"\")),\"\"))),\"\")","v":""},"0",{"$f":"IF(ISERROR(VLOOKUP(AI71,Tirage!A:J,1,FALSE)),\"\",IF(VLOOKUP(AI71,Tirage!A:J,1,FALSE)=\"Office \",3,4))","v":""},{"$f":"IF(AJ71=\"0\",4,IF(AJ71=1,3,IF(AJ71=2,IF(OFFSET('Fiche score'!$A$2,VLOOKUP(RIGHT(AI71,2),Feuil1!A:C,2,FALSE),VLOOKUP(RIGHT(AI71,2),Feuil1!A:C,3,FALSE))=A71 & CHAR(10) & C71,1,2),\"\")))","v":""}]
[null,null,null,null,{"$f":"IF(ISERROR(VLOOKUP(C72,AS!$A:$H,7,FALSE)),\"\",VLOOKUP(C72,AS!$A:$H,7,FALSE))","v":""},{"$f":"IF(ISERROR(VLOOKUP(C72,AS!$A:$H,8,FALSE)),\"\",VLOOKUP(C72,AS!$A:$H,8,FALSE))","v":""},null,null,null,null,{"$f":"IF(ISERROR(VLOOKUP(I72,AS!$A:$H,7,FALSE)),\"\",VLOOKUP(I72,AS!$A:$H,7,FALSE))","v":""},{"$f":"IF(ISERROR(VLOOKUP(I72,AS!$A:$H,8,FALSE)),\"\",VLOOKUP(I72,AS!$A:$H,8,FALSE))","v":""},null,null,null,null,{"$f":"IF(ISERROR(VLOOKUP(O72,AS!$A:$H,7,FALSE)),\"\",VLOOKUP(O72,AS!$A:$H,7,FALSE))","v":""},{"$f":"IF(ISERROR(VLOOKUP(O72,AS!$A:$H,8,FALSE)),\"\",VLOOKUP(O72,AS!$A:$H,8,FALSE))","v":""},null,null,null,null,{"$f":"IF(ISERROR(VLOOKUP(U72,AS!$A:$H,7,FALSE)),\"\",VLOOKUP(U72,AS!$A:$H,7,FALSE))","v":""},{"$f":"IF(ISERROR(VLOOKUP(U72,AS!$A:$H,8,FALSE)),\"\",VLOOKUP(U72,AS!$A:$H,8,FALSE))","v":""},null,null,null,null,{"$f":"IF(ISERROR(VLOOKUP(AA72,AS!$A:$H,7,FALSE)),\"\",VLOOKUP(AA72,AS!$A:$H,7,FALSE))","v":""},{"$f":"IF(ISERROR(VLOOKUP(AA72,AS!$A:$H,8,FALSE)),\"\",VLOOKUP(AA72,AS!$A:$H,8,FALSE))","v":""},null,null,null,"",null,{"$f":"IF(AI72=\"\",\"\",IF(OFFSET('Fiche score'!$A$2,VLOOKUP(RIGHT(AI72,2),Feuil1!A:C,2,FALSE),VLOOKUP(RIGHT(AI72,2),Feuil1!A:C,3,FALSE))=A72 & CHAR(10) & C72,2,IF(OFFSET('Fiche score'!$A$2,VLOOKUP(RIGHT(AI72,2),Feuil1!A:C,2,FALSE)+1,VLOOKUP(RIGHT(AI72,2),Feuil1!A:C,3,FALSE))=A72 & CHAR(10) & C72,2,IF(OFFSET('Fiche score'!$A$2,VLOOKUP(RIGHT(AI72,2),Feuil1!A:C,2,FALSE)-1,VLOOKUP(RIGHT(AI72,2),Feuil1!A:C,3,FALSE))=A72 & CHAR(10) & C72,1,IF(OFFSET('Fiche score'!$A$2,VLOOKUP(RIGHT(AI72,2),Feuil1!A:C,2,FALSE)-2,VLOOKUP(RIGHT(AI72,2),Feuil1!A:C,3,FALSE))=A72 & CHAR(10) & C72,1,\"0\")))))","v":""},{"$f":"IF(ISERROR(VLOOKUP(A72 & CHAR(10) &C72,'Fiche tirage dirigé'!I:I,1,FALSE)),0,1)","v":0},{"$f":"IF(ISERROR(VLOOKUP(A72& CHAR(10) &C72,Cadrage!H:H,1,FALSE)),0,1)","v":0},{"$f":"IF(ISERROR(VLOOKUP(A72 & CHAR(10) &C72,'Tableau final'!V:V,1,FALSE)),0,1)","v":0},{"$f":"IF(ISERROR(VLOOKUP(A72 & CHAR(10) &C72,'Tableau final'!W:W,1,FALSE)),0,1)","v":0},{"$f":"IF(ISERROR(VLOOKUP(A72 & CHAR(10) &C72,'Tableau final'!X:X,1,FALSE)),0,1)","v":0},{"$f":"IF(ISERROR(VLOOKUP(A72 & CHAR(10) &C72,'Tableau final'!Y:Y,1,FALSE)),0,1)","v":0},{"$f":"IF(ISERROR(VLOOKUP(A72 & CHAR(10) &C72,'Tableau final'!Z:Z,1,FALSE)),0,1)","v":0},{"$f":"IF('Tableau final'!$A$1<>\"\",IF('Tableau final'!$B$5=\"Qualifiés\",IF(ISERROR(VLOOKUP(A72 & CHAR(10) &C72,'Tableau final'!C:F,1,FALSE)),\"\",IF(AND(VLOOKUP(A72 & CHAR(10) &C72,'Tableau final'!C:F,3,FALSE)<>\"\",VLOOKUP(A72 & CHAR(10) &C72,'Tableau final'!C:F,4,FALSE)=\"x\"),1,\"\")),IF('Tableau final'!$G$5=\"Qualifiés\",IF(ISERROR(VLOOKUP(A72 & CHAR(10) &C72,'Tableau final'!H:K,1,FALSE)),\"\",IF(AND(VLOOKUP(A72 & CHAR(10) &C72,'Tableau final'!H:K,3,FALSE)<>\"\",VLOOKUP(A72 & CHAR(10) &C72,'Tableau final'!H:K,4,FALSE)=\"x\"),1,\"\")),IF('Tableau final'!$L$5=\"Qualifiés\",IF(ISERROR(VLOOKUP(A72 & CHAR(10) &C72,'Tableau final'!M:P,1,FALSE)),\"\",IF(AND(VLOOKUP(A72 & CHAR(10) &C72,'Tableau final'!M:P,3,FALSE)<>\"\",VLOOKUP(A72 & CHAR(10) &C72,'Tableau final'!M:P,4,FALSE)=\"x\"),1,\"\")),\"\"))),\"\")","v":""},"0",{"$f":"IF(ISERROR(VLOOKUP(AI72,Tirage!A:J,1,FALSE)),\"\",IF(VLOOKUP(AI72,Tirage!A:J,1,FALSE)=\"Office \",3,4))","v":""},{"$f":"IF(AJ72=\"0\",4,IF(AJ72=1,3,IF(AJ72=2,IF(OFFSET('Fiche score'!$A$2,VLOOKUP(RIGHT(AI72,2),Feuil1!A:C,2,FALSE),VLOOKUP(RIGHT(AI72,2),Feuil1!A:C,3,FALSE))=A72 & CHAR(10) & C72,1,2),\"\")))","v":""}]
[null,null,null,null,{"$f":"IF(ISERROR(VLOOKUP(C73,AS!$A:$H,7,FALSE)),\"\",VLOOKUP(C73,AS!$A:$H,7,FALSE))","v":""},{"$f":"IF(ISERROR(VLOOKUP(C73,AS!$A:$H,8,FALSE)),\"\",VLOOKUP(C73,AS!$A:$H,8,FALSE))","v":""},null,null,null,null,{"$f":"IF(ISERROR(VLOOKUP(I73,AS!$A:$H,7,FALSE)),\"\",VLOOKUP(I73,AS!$A:$H,7,FALSE))","v":""},{"$f":"IF(ISERROR(VLOOKUP(I73,AS!$A:$H,8,FALSE)),\"\",VLOOKUP(I73,AS!$A:$H,8,FALSE))","v":""},null,null,null,null,{"$f":"IF(ISERROR(VLOOKUP(O73,AS!$A:$H,7,FALSE)),\"\",VLOOKUP(O73,AS!$A:$H,7,FALSE))","v":""},{"$f":"IF(ISERROR(VLOOKUP(O73,AS!$A:$H,8,FALSE)),\"\",VLOOKUP(O73,AS!$A:$H,8,FALSE))","v":""},null,null,null,null,{"$f":"IF(ISERROR(VLOOKUP(U73,AS!$A:$H,7,FALSE)),\"\",VLOOKUP(U73,AS!$A:$H,7,FALSE))","v":""},{"$f":"IF(ISERROR(VLOOKUP(U73,AS!$A:$H,8,FALSE)),\"\",VLOOKUP(U73,AS!$A:$H,8,FALSE))","v":""},null,null,null,null,{"$f":"IF(ISERROR(VLOOKUP(AA73,AS!$A:$H,7,FALSE)),\"\",VLOOKUP(AA73,AS!$A:$H,7,FALSE))","v":""},{"$f":"IF(ISERROR(VLOOKUP(AA73,AS!$A:$H,8,FALSE)),\"\",VLOOKUP(AA73,AS!$A:$H,8,FALSE))","v":""},null,null,null,"",null,{"$f":"IF(AI73=\"\",\"\",IF(OFFSET('Fiche score'!$A$2,VLOOKUP(RIGHT(AI73,2),Feuil1!A:C,2,FALSE),VLOOKUP(RIGHT(AI73,2),Feuil1!A:C,3,FALSE))=A73 & CHAR(10) & C73,2,IF(OFFSET('Fiche score'!$A$2,VLOOKUP(RIGHT(AI73,2),Feuil1!A:C,2,FALSE)+1,VLOOKUP(RIGHT(AI73,2),Feuil1!A:C,3,FALSE))=A73 & CHAR(10) & C73,2,IF(OFFSET('Fiche score'!$A$2,VLOOKUP(RIGHT(AI73,2),Feuil1!A:C,2,FALSE)-1,VLOOKUP(RIGHT(AI73,2),Feuil1!A:C,3,FALSE))=A73 & CHAR(10) & C73,1,IF(OFFSET('Fiche score'!$A$2,VLOOKUP(RIGHT(AI73,2),Feuil1!A:C,2,FALSE)-2,VLOOKUP(RIGHT(AI73,2),Feuil1!A:C,3,FALSE))=A73 & CHAR(10) & C73,1,\"0\")))))","v":""},{"$f":"IF(ISERROR(VLOOKUP(A73 & CHAR(10) &C73,'Fiche tirage dirigé'!I:I,1,FALSE)),0,1)","v":0},{"$f":"IF(ISERROR(VLOOKUP(A73& CHAR(10) &C73,Cadrage!H:H,1,FALSE)),0,1)","v":0},{"$f":"IF(ISERROR(VLOOKUP(A73 & CHAR(10) &C73,'Tableau final'!V:V,1,FALSE)),0,1)","v":0},{"$f":"IF(ISERROR(VLOOKUP(A73 & CHAR(10) &C73,'Tableau final'!W:W,1,FALSE)),0,1)","v":0},{"$f":"IF(ISERROR(VLOOKUP(A73 & CHAR(10) &C73,'Tableau final'!X:X,1,FALSE)),0,1)","v":0},{"$f":"IF(ISERROR(VLOOKUP(A73 & CHAR(10) &C73,'Tableau final'!Y:Y,1,FALSE)),0,1)","v":0},{"$f":"IF(ISERROR(VLOOKUP(A73 & CHAR(10) &C73,'Tableau final'!Z:Z,1,FALSE)),0,1)","v":0},{"$f":"IF('Tableau final'!$A$1<>\"\",IF('Tableau final'!$B$5=\"Qualifiés\",IF(ISERROR(VLOOKUP(A73 & CHAR(10) &C73,'Tableau final'!C:F,1,FALSE)),\"\",IF(AND(VLOOKUP(A73 & CHAR(10) &C73,'Tableau final'!C:F,3,FALSE)<>\"\",VLOOKUP(A73 & CHAR(10) &C73,'Tableau final'!C:F,4,FALSE)=\"x\"),1,\"\")),IF('Tableau final'!$G$5=\"Qualifiés\",IF(ISERROR(VLOOKUP(A73 & CHAR(10) &C73,'Tableau final'!H:K,1,FALSE)),\"\",IF(AND(VLOOKUP(A73 & CHAR(10) &C73,'Tableau final'!H:K,3,FALSE)<>\"\",VLOOKUP(A73 & CHAR(10) &C73,'Tableau final'!H:K,4,FALSE)=\"x\"),1,\"\")),IF('Tableau final'!$L$5=\"Qualifiés\",IF(ISERROR(VLOOKUP(A73 & CHAR(10) &C73,'Tableau final'!M:P,1,FALSE)),\"\",IF(AND(VLOOKUP(A73 & CHAR(10) &C73,'Tableau final'!M:P,3,FALSE)<>\"\",VLOOKUP(A73 & CHAR(10) &C73,'Tableau final'!M:P,4,FALSE)=\"x\"),1,\"\")),\"\"))),\"\")","v":""},"0",{"$f":"IF(ISERROR(VLOOKUP(AI73,Tirage!A:J,1,FALSE)),\"\",IF(VLOOKUP(AI73,Tirage!A:J,1,FALSE)=\"Office \",3,4))","v":""},{"$f":"IF(AJ73=\"0\",4,IF(AJ73=1,3,IF(AJ73=2,IF(OFFSET('Fiche score'!$A$2,VLOOKUP(RIGHT(AI73,2),Feuil1!A:C,2,FALSE),VLOOKUP(RIGHT(AI73,2),Feuil1!A:C,3,FALSE))=A73 & CHAR(10) & C73,1,2),\"\")))","v":""}]
[null,null,null,null,{"$f":"IF(ISERROR(VLOOKUP(C74,AS!$A:$H,7,FALSE)),\"\",VLOOKUP(C74,AS!$A:$H,7,FALSE))","v":""},{"$f":"IF(ISERROR(VLOOKUP(C74,AS!$A:$H,8,FALSE)),\"\",VLOOKUP(C74,AS!$A:$H,8,FALSE))","v":""},null,null,null,null,{"$f":"IF(ISERROR(VLOOKUP(I74,AS!$A:$H,7,FALSE)),\"\",VLOOKUP(I74,AS!$A:$H,7,FALSE))","v":""},{"$f":"IF(ISERROR(VLOOKUP(I74,AS!$A:$H,8,FALSE)),\"\",VLOOKUP(I74,AS!$A:$H,8,FALSE))","v":""},null,null,null,null,{"$f":"IF(ISERROR(VLOOKUP(O74,AS!$A:$H,7,FALSE)),\"\",VLOOKUP(O74,AS!$A:$H,7,FALSE))","v":""},{"$f":"IF(ISERROR(VLOOKUP(O74,AS!$A:$H,8,FALSE)),\"\",VLOOKUP(O74,AS!$A:$H,8,FALSE))","v":""},null,null,null,null,{"$f":"IF(ISERROR(VLOOKUP(U74,AS!$A:$H,7,FALSE)),\"\",VLOOKUP(U74,AS!$A:$H,7,FALSE))","v":""},{"$f":"IF(ISERROR(VLOOKUP(U74,AS!$A:$H,8,FALSE)),\"\",VLOOKUP(U74,AS!$A:$H,8,FALSE))","v":""},null,null,null,null,{"$f":"IF(ISERROR(VLOOKUP(AA74,AS!$A:$H,7,FALSE)),\"\",VLOOKUP(AA74,AS!$A:$H,7,FALSE))","v":""},{"$f":"IF(ISERROR(VLOOKUP(AA74,AS!$A:$H,8,FALSE)),\"\",VLOOKUP(AA74,AS!$A:$H,8,FALSE))","v":""},null,null,null,"",null,{"$f":"IF(AI74=\"\",\"\",IF(OFFSET('Fiche score'!$A$2,VLOOKUP(RIGHT(AI74,2),Feuil1!A:C,2,FALSE),VLOOKUP(RIGHT(AI74,2),Feuil1!A:C,3,FALSE))=A74 & CHAR(10) & C74,2,IF(OFFSET('Fiche score'!$A$2,VLOOKUP(RIGHT(AI74,2),Feuil1!A:C,2,FALSE)+1,VLOOKUP(RIGHT(AI74,2),Feuil1!A:C,3,FALSE))=A74 & CHAR(10) & C74,2,IF(OFFSET('Fiche score'!$A$2,VLOOKUP(RIGHT(AI74,2),Feuil1!A:C,2,FALSE)-1,VLOOKUP(RIGHT(AI74,2),Feuil1!A:C,3,FALSE))=A74 & CHAR(10) & C74,1,IF(OFFSET('Fiche score'!$A$2,VLOOKUP(RIGHT(AI74,2),Feuil1!A:C,2,FALSE)-2,VLOOKUP(RIGHT(AI74,2),Feuil1!A:C,3,FALSE))=A74 & CHAR(10) & C74,1,\"0\")))))","v":""},{"$f":"IF(ISERROR(VLOOKUP(A74 & CHAR(10) &C74,'Fiche tirage dirigé'!I:I,1,FALSE)),0,1)","v":0},{"$f":"IF(ISERROR(VLOOKUP(A74& CHAR(10) &C74,Cadrage!H:H,1,FALSE)),0,1)","v":0},{"$f":"IF(ISERROR(VLOOKUP(A74 & CHAR(10) &C74,'Tableau final'!V:V,1,FALSE)),0,1)","v":0},{"$f":"IF(ISERROR(VLOOKUP(A74 & CHAR(10) &C74,'Tableau final'!W:W,1,FALSE)),0,1)","v":0},{"$f":"IF(ISERROR(VLOOKUP(A74 & CHAR(10) &C74,'Tableau final'!X:X,1,FALSE)),0,1)","v":0},{"$f":"IF(ISERROR(VLOOKUP(A74 & CHAR(10) &C74,'Tableau final'!Y:Y,1,FALSE)),0,1)","v":0},{"$f":"IF(ISERROR(VLOOKUP(A74 & CHAR(10) &C74,'Tableau final'!Z:Z,1,FALSE)),0,1)","v":0},{"$f":"IF('Tableau final'!$A$1<>\"\",IF('Tableau final'!$B$5=\"Qualifiés\",IF(ISERROR(VLOOKUP(A74 & CHAR(10) &C74,'Tableau final'!C:F,1,FALSE)),\"\",IF(AND(VLOOKUP(A74 & CHAR(10) &C74,'Tableau final'!C:F,3,FALSE)<>\"\",VLOOKUP(A74 & CHAR(10) &C74,'Tableau final'!C:F,4,FALSE)=\"x\"),1,\"\")),IF('Tableau final'!$G$5=\"Qualifiés\",IF(ISERROR(VLOOKUP(A74 & CHAR(10) &C74,'Tableau final'!H:K,1,FALSE)),\"\",IF(AND(VLOOKUP(A74 & CHAR(10) &C74,'Tableau final'!H:K,3,FALSE)<>\"\",VLOOKUP(A74 & CHAR(10) &C74,'Tableau final'!H:K,4,FALSE)=\"x\"),1,\"\")),IF('Tableau final'!$L$5=\"Qualifiés\",IF(ISERROR(VLOOKUP(A74 & CHAR(10) &C74,'Tableau final'!M:P,1,FALSE)),\"\",IF(AND(VLOOKUP(A74 & CHAR(10) &C74,'Tableau final'!M:P,3,FALSE)<>\"\",VLOOKUP(A74 & CHAR(10) &C74,'Tableau final'!M:P,4,FALSE)=\"x\"),1,\"\")),\"\"))),\"\")","v":""},"0",{"$f":"IF(ISERROR(VLOOKUP(AI74,Tirage!A:J,1,FALSE)),\"\",IF(VLOOKUP(AI74,Tirage!A:J,1,FALSE)=\"Office \",3,4))","v":""},{"$f":"IF(AJ74=\"0\",4,IF(AJ74=1,3,IF(AJ74=2,IF(OFFSET('Fiche score'!$A$2,VLOOKUP(RIGHT(AI74,2),Feuil1!A:C,2,FALSE),VLOOKUP(RIGHT(AI74,2),Feuil1!A:C,3,FALSE))=A74 & CHAR(10) & C74,1,2),\"\")))","v":""}]
[null,null,null,null,{"$f":"IF(ISERROR(VLOOKUP(C75,AS!$A:$H,7,FALSE)),\"\",VLOOKUP(C75,AS!$A:$H,7,FALSE))","v":""},{"$f":"IF(ISERROR(VLOOKUP(C75,AS!$A:$H,8,FALSE)),\"\",VLOOKUP(C75,AS!$A:$H,8,FALSE))","v":""},null,null,null,null,{"$f":"IF(ISERROR(VLOOKUP(I75,AS!$A:$H,7,FALSE)),\"\",VLOOKUP(I75,AS!$A:$H,7,FALSE))","v":""},{"$f":"IF(ISERROR(VLOOKUP(I75,AS!$A:$H,8,FALSE)),\"\",VLOOKUP(I75,AS!$A:$H,8,FALSE))","v":""},null,null,null,null,{"$f":"IF(ISERROR(VLOOKUP(O75,AS!$A:$H,7,FALSE)),\"\",VLOOKUP(O75,AS!$A:$H,7,FALSE))","v":""},{"$f":"IF(ISERROR(VLOOKUP(O75,AS!$A:$H,8,FALSE)),\"\",VLOOKUP(O75,AS!$A:$H,8,FALSE))","v":""},null,null,null,null,{"$f":"IF(ISERROR(VLOOKUP(U75,AS!$A:$H,7,FALSE)),\"\",VLOOKUP(U75,AS!$A:$H,7,FALSE))","v":""},{"$f":"IF(ISERROR(VLOOKUP(U75,AS!$A:$H,8,FALSE)),\"\",VLOOKUP(U75,AS!$A:$H,8,FALSE))","v":""},null,null,null,null,{"$f":"IF(ISERROR(VLOOKUP(AA75,AS!$A:$H,7,FALSE)),\"\",VLOOKUP(AA75,AS!$A:$H,7,FALSE))","v":""},{"$f":"IF(ISERROR(VLOOKUP(AA75,AS!$A:$H,8,FALSE)),\"\",VLOOKUP(AA75,AS!$A:$H,8,FALSE))","v":""},null,null,null,"",null,{"$f":"IF(AI75=\"\",\"\",IF(OFFSET('Fiche score'!$A$2,VLOOKUP(RIGHT(AI75,2),Feuil1!A:C,2,FALSE),VLOOKUP(RIGHT(AI75,2),Feuil1!A:C,3,FALSE))=A75 & CHAR(10) & C75,2,IF(OFFSET('Fiche score'!$A$2,VLOOKUP(RIGHT(AI75,2),Feuil1!A:C,2,FALSE)+1,VLOOKUP(RIGHT(AI75,2),Feuil1!A:C,3,FALSE))=A75 & CHAR(10) & C75,2,IF(OFFSET('Fiche score'!$A$2,VLOOKUP(RIGHT(AI75,2),Feuil1!A:C,2,FALSE)-1,VLOOKUP(RIGHT(AI75,2),Feuil1!A:C,3,FALSE))=A75 & CHAR(10) & C75,1,IF(OFFSET('Fiche score'!$A$2,VLOOKUP(RIGHT(AI75,2),Feuil1!A:C,2,FALSE)-2,VLOOKUP(RIGHT(AI75,2),Feuil1!A:C,3,FALSE))=A75 & CHAR(10) & C75,1,\"0\")))))","v":""},{"$f":"IF(ISERROR(VLOOKUP(A75 & CHAR(10) &C75,'Fiche tirage dirigé'!I:I,1,FALSE)),0,1)","v":0},{"$f":"IF(ISERROR(VLOOKUP(A75& CHAR(10) &C75,Cadrage!H:H,1,FALSE)),0,1)","v":0},{"$f":"IF(ISERROR(VLOOKUP(A75 & CHAR(10) &C75,'Tableau final'!V:V,1,FALSE)),0,1)","v":0},{"$f":"IF(ISERROR(VLOOKUP(A75 & CHAR(10) &C75,'Tableau final'!W:W,1,FALSE)),0,1)","v":0},{"$f":"IF(ISERROR(VLOOKUP(A75 & CHAR(10) &C75,'Tableau final'!X:X,1,FALSE)),0,1)","v":0},{"$f":"IF(ISERROR(VLOOKUP(A75 & CHAR(10) &C75,'Tableau final'!Y:Y,1,FALSE)),0,1)","v":0},{"$f":"IF(ISERROR(VLOOKUP(A75 & CHAR(10) &C75,'Tableau final'!Z:Z,1,FALSE)),0,1)","v":0},{"$f":"IF('Tableau final'!$A$1<>\"\",IF('Tableau final'!$B$5=\"Qualifiés\",IF(ISERROR(VLOOKUP(A75 & CHAR(10) &C75,'Tableau final'!C:F,1,FALSE)),\"\",IF(AND(VLOOKUP(A75 & CHAR(10) &C75,'Tableau final'!C:F,3,FALSE)<>\"\",VLOOKUP(A75 & CHAR(10) &C75,'Tableau final'!C:F,4,FALSE)=\"x\"),1,\"\")),IF('Tableau final'!$G$5=\"Qualifiés\",IF(ISERROR(VLOOKUP(A75 & CHAR(10) &C75,'Tableau final'!H:K,1,FALSE)),\"\",IF(AND(VLOOKUP(A75 & CHAR(10) &C75,'Tableau final'!H:K,3,FALSE)<>\"\",VLOOKUP(A75 & CHAR(10) &C75,'Tableau final'!H:K,4,FALSE)=\"x\"),1,\"\")),IF('Tableau final'!$L$5=\"Qualifiés\",IF(ISERROR(VLOOKUP(A75 & CHAR(10) &C75,'Tableau final'!M:P,1,FALSE)),\"\",IF(AND(VLOOKUP(A75 & CHAR(10) &C75,'Tableau final'!M:P,3,FALSE)<>\"\",VLOOKUP(A75 & CHAR(10) &C75,'Tableau final'!M:P,4,FALSE)=\"x\"),1,\"\")),\"\"))),\"\")","v":""},"0",{"$f":"IF(ISERROR(VLOOKUP(AI75,Tirage!A:J,1,FALSE)),\"\",IF(VLOOKUP(AI75,Tirage!A:J,1,FALSE)=\"Office \",3,4))","v":""},{"$f":"IF(AJ75=\"0\",4,IF(AJ75=1,3,IF(AJ75=2,IF(OFFSET('Fiche score'!$A$2,VLOOKUP(RIGHT(AI75,2),Feuil1!A:C,2,FALSE),VLOOKUP(RIGHT(AI75,2),Feuil1!A:C,3,FALSE))=A75 & CHAR(10) & C75,1,2),\"\")))","v":""}]
[null,null,null,null,{"$f":"IF(ISERROR(VLOOKUP(C76,AS!$A:$H,7,FALSE)),\"\",VLOOKUP(C76,AS!$A:$H,7,FALSE))","v":""},{"$f":"IF(ISERROR(VLOOKUP(C76,AS!$A:$H,8,FALSE)),\"\",VLOOKUP(C76,AS!$A:$H,8,FALSE))","v":""},null,null,null,null,{"$f":"IF(ISERROR(VLOOKUP(I76,AS!$A:$H,7,FALSE)),\"\",VLOOKUP(I76,AS!$A:$H,7,FALSE))","v":""},{"$f":"IF(ISERROR(VLOOKUP(I76,AS!$A:$H,8,FALSE)),\"\",VLOOKUP(I76,AS!$A:$H,8,FALSE))","v":""},null,null,null,null,{"$f":"IF(ISERROR(VLOOKUP(O76,AS!$A:$H,7,FALSE)),\"\",VLOOKUP(O76,AS!$A:$H,7,FALSE))","v":""},{"$f":"IF(ISERROR(VLOOKUP(O76,AS!$A:$H,8,FALSE)),\"\",VLOOKUP(O76,AS!$A:$H,8,FALSE))","v":""},null,null,null,null,{"$f":"IF(ISERROR(VLOOKUP(U76,AS!$A:$H,7,FALSE)),\"\",VLOOKUP(U76,AS!$A:$H,7,FALSE))","v":""},{"$f":"IF(ISERROR(VLOOKUP(U76,AS!$A:$H,8,FALSE)),\"\",VLOOKUP(U76,AS!$A:$H,8,FALSE))","v":""},null,null,null,null,{"$f":"IF(ISERROR(VLOOKUP(AA76,AS!$A:$H,7,FALSE)),\"\",VLOOKUP(AA76,AS!$A:$H,7,FALSE))","v":""},{"$f":"IF(ISERROR(VLOOKUP(AA76,AS!$A:$H,8,FALSE)),\"\",VLOOKUP(AA76,AS!$A:$H,8,FALSE))","v":""},null,null,null,"",null,{"$f":"IF(AI76=\"\",\"\",IF(OFFSET('Fiche score'!$A$2,VLOOKUP(RIGHT(AI76,2),Feuil1!A:C,2,FALSE),VLOOKUP(RIGHT(AI76,2),Feuil1!A:C,3,FALSE))=A76 & CHAR(10) & C76,2,IF(OFFSET('Fiche score'!$A$2,VLOOKUP(RIGHT(AI76,2),Feuil1!A:C,2,FALSE)+1,VLOOKUP(RIGHT(AI76,2),Feuil1!A:C,3,FALSE))=A76 & CHAR(10) & C76,2,IF(OFFSET('Fiche score'!$A$2,VLOOKUP(RIGHT(AI76,2),Feuil1!A:C,2,FALSE)-1,VLOOKUP(RIGHT(AI76,2),Feuil1!A:C,3,FALSE))=A76 & CHAR(10) & C76,1,IF(OFFSET('Fiche score'!$A$2,VLOOKUP(RIGHT(AI76,2),Feuil1!A:C,2,FALSE)-2,VLOOKUP(RIGHT(AI76,2),Feuil1!A:C,3,FALSE))=A76 & CHAR(10) & C76,1,\"0\")))))","v":""},{"$f":"IF(ISERROR(VLOOKUP(A76 & CHAR(10) &C76,'Fiche tirage dirigé'!I:I,1,FALSE)),0,1)","v":0},{"$f":"IF(ISERROR(VLOOKUP(A76& CHAR(10) &C76,Cadrage!H:H,1,FALSE)),0,1)","v":0},{"$f":"IF(ISERROR(VLOOKUP(A76 & CHAR(10) &C76,'Tableau final'!V:V,1,FALSE)),0,1)","v":0},{"$f":"IF(ISERROR(VLOOKUP(A76 & CHAR(10) &C76,'Tableau final'!W:W,1,FALSE)),0,1)","v":0},{"$f":"IF(ISERROR(VLOOKUP(A76 & CHAR(10) &C76,'Tableau final'!X:X,1,FALSE)),0,1)","v":0},{"$f":"IF(ISERROR(VLOOKUP(A76 & CHAR(10) &C76,'Tableau final'!Y:Y,1,FALSE)),0,1)","v":0},{"$f":"IF(ISERROR(VLOOKUP(A76 & CHAR(10) &C76,'Tableau final'!Z:Z,1,FALSE)),0,1)","v":0},{"$f":"IF('Tableau final'!$A$1<>\"\",IF('Tableau final'!$B$5=\"Qualifiés\",IF(ISERROR(VLOOKUP(A76 & CHAR(10) &C76,'Tableau final'!C:F,1,FALSE)),\"\",IF(AND(VLOOKUP(A76 & CHAR(10) &C76,'Tableau final'!C:F,3,FALSE)<>\"\",VLOOKUP(A76 & CHAR(10) &C76,'Tableau final'!C:F,4,FALSE)=\"x\"),1,\"\")),IF('Tableau final'!$G$5=\"Qualifiés\",IF(ISERROR(VLOOKUP(A76 & CHAR(10) &C76,'Tableau final'!H:K,1,FALSE)),\"\",IF(AND(VLOOKUP(A76 & CHAR(10) &C76,'Tableau final'!H:K,3,FALSE)<>\"\",VLOOKUP(A76 & CHAR(10) &C76,'Tableau final'!H:K,4,FALSE)=\"x\"),1,\"\")),IF('Tableau final'!$L$5=\"Qualifiés\",IF(ISERROR(VLOOKUP(A76 & CHAR(10) &C76,'Tableau final'!M:P,1,FALSE)),\"\",IF(AND(VLOOKUP(A76 & CHAR(10) &C76,'Tableau final'!M:P,3,FALSE)<>\"\",VLOOKUP(A76 & CHAR(10) &C76,'Tableau final'!M:P,4,FALSE)=\"x\"),1,\"\")),\"\"))),\"\")","v":""},"0",{"$f":"IF(ISERROR(VLOOKUP(AI76,Tirage!A:J,1,FALSE)),\"\",IF(VLOOKUP(AI76,Tirage!A:J,1,FALSE)=\"Office \",3,4))","v":""},{"$f":"IF(AJ76=\"0\",4,IF(AJ76=1,3,IF(AJ76=2,IF(OFFSET('Fiche score'!$A$2,VLOOKUP(RIGHT(AI76,2),Feuil1!A:C,2,FALSE),VLOOKUP(RIGHT(AI76,2),Feuil1!A:C,3,FALSE))=A76 & CHAR(10) & C76,1,2),\"\")))","v":""}]
[null,null,null,null,{"$f":"IF(ISERROR(VLOOKUP(C77,AS!$A:$H,7,FALSE)),\"\",VLOOKUP(C77,AS!$A:$H,7,FALSE))","v":""},{"$f":"IF(ISERROR(VLOOKUP(C77,AS!$A:$H,8,FALSE)),\"\",VLOOKUP(C77,AS!$A:$H,8,FALSE))","v":""},null,null,null,null,{"$f":"IF(ISERROR(VLOOKUP(I77,AS!$A:$H,7,FALSE)),\"\",VLOOKUP(I77,AS!$A:$H,7,FALSE))","v":""},{"$f":"IF(ISERROR(VLOOKUP(I77,AS!$A:$H,8,FALSE)),\"\",VLOOKUP(I77,AS!$A:$H,8,FALSE))","v":""},null,null,null,null,{"$f":"IF(ISERROR(VLOOKUP(O77,AS!$A:$H,7,FALSE)),\"\",VLOOKUP(O77,AS!$A:$H,7,FALSE))","v":""},{"$f":"IF(ISERROR(VLOOKUP(O77,AS!$A:$H,8,FALSE)),\"\",VLOOKUP(O77,AS!$A:$H,8,FALSE))","v":""},null,null,null,null,{"$f":"IF(ISERROR(VLOOKUP(U77,AS!$A:$H,7,FALSE)),\"\",VLOOKUP(U77,AS!$A:$H,7,FALSE))","v":""},{"$f":"IF(ISERROR(VLOOKUP(U77,AS!$A:$H,8,FALSE)),\"\",VLOOKUP(U77,AS!$A:$H,8,FALSE))","v":""},null,null,null,null,{"$f":"IF(ISERROR(VLOOKUP(AA77,AS!$A:$H,7,FALSE)),\"\",VLOOKUP(AA77,AS!$A:$H,7,FALSE))","v":""},{"$f":"IF(ISERROR(VLOOKUP(AA77,AS!$A:$H,8,FALSE)),\"\",VLOOKUP(AA77,AS!$A:$H,8,FALSE))","v":""},null,null,null,"",null,{"$f":"IF(AI77=\"\",\"\",IF(OFFSET('Fiche score'!$A$2,VLOOKUP(RIGHT(AI77,2),Feuil1!A:C,2,FALSE),VLOOKUP(RIGHT(AI77,2),Feuil1!A:C,3,FALSE))=A77 & CHAR(10) & C77,2,IF(OFFSET('Fiche score'!$A$2,VLOOKUP(RIGHT(AI77,2),Feuil1!A:C,2,FALSE)+1,VLOOKUP(RIGHT(AI77,2),Feuil1!A:C,3,FALSE))=A77 & CHAR(10) & C77,2,IF(OFFSET('Fiche score'!$A$2,VLOOKUP(RIGHT(AI77,2),Feuil1!A:C,2,FALSE)-1,VLOOKUP(RIGHT(AI77,2),Feuil1!A:C,3,FALSE))=A77 & CHAR(10) & C77,1,IF(OFFSET('Fiche score'!$A$2,VLOOKUP(RIGHT(AI77,2),Feuil1!A:C,2,FALSE)-2,VLOOKUP(RIGHT(AI77,2),Feuil1!A:C,3,FALSE))=A77 & CHAR(10) & C77,1,\"0\")))))","v":""},{"$f":"IF(ISERROR(VLOOKUP(A77 & CHAR(10) &C77,'Fiche tirage dirigé'!I:I,1,FALSE)),0,1)","v":0},{"$f":"IF(ISERROR(VLOOKUP(A77& CHAR(10) &C77,Cadrage!H:H,1,FALSE)),0,1)","v":0},{"$f":"IF(ISERROR(VLOOKUP(A77 & CHAR(10) &C77,'Tableau final'!V:V,1,FALSE)),0,1)","v":0},{"$f":"IF(ISERROR(VLOOKUP(A77 & CHAR(10) &C77,'Tableau final'!W:W,1,FALSE)),0,1)","v":0},{"$f":"IF(ISERROR(VLOOKUP(A77 & CHAR(10) &C77,'Tableau final'!X:X,1,FALSE)),0,1)","v":0},{"$f":"IF(ISERROR(VLOOKUP(A77 & CHAR(10) &C77,'Tableau final'!Y:Y,1,FALSE)),0,1)","v":0},{"$f":"IF(ISERROR(VLOOKUP(A77 & CHAR(10) &C77,'Tableau final'!Z:Z,1,FALSE)),0,1)","v":0},{"$f":"IF('Tableau final'!$A$1<>\"\",IF('Tableau final'!$B$5=\"Qualifiés\",IF(ISERROR(VLOOKUP(A77 & CHAR(10) &C77,'Tableau final'!C:F,1,FALSE)),\"\",IF(AND(VLOOKUP(A77 & CHAR(10) &C77,'Tableau final'!C:F,3,FALSE)<>\"\",VLOOKUP(A77 & CHAR(10) &C77,'Tableau final'!C:F,4,FALSE)=\"x\"),1,\"\")),IF('Tableau final'!$G$5=\"Qualifiés\",IF(ISERROR(VLOOKUP(A77 & CHAR(10) &C77,'Tableau final'!H:K,1,FALSE)),\"\",IF(AND(VLOOKUP(A77 & CHAR(10) &C77,'Tableau final'!H:K,3,FALSE)<>\"\",VLOOKUP(A77 & CHAR(10) &C77,'Tableau final'!H:K,4,FALSE)=\"x\"),1,\"\")),IF('Tableau final'!$L$5=\"Qualifiés\",IF(ISERROR(VLOOKUP(A77 & CHAR(10) &C77,'Tableau final'!M:P,1,FALSE)),\"\",IF(AND(VLOOKUP(A77 & CHAR(10) &C77,'Tableau final'!M:P,3,FALSE)<>\"\",VLOOKUP(A77 & CHAR(10) &C77,'Tableau final'!M:P,4,FALSE)=\"x\"),1,\"\")),\"\"))),\"\")","v":""},"0",{"$f":"IF(ISERROR(VLOOKUP(AI77,Tirage!A:J,1,FALSE)),\"\",IF(VLOOKUP(AI77,Tirage!A:J,1,FALSE)=\"Office \",3,4))","v":""},{"$f":"IF(AJ77=\"0\",4,IF(AJ77=1,3,IF(AJ77=2,IF(OFFSET('Fiche score'!$A$2,VLOOKUP(RIGHT(AI77,2),Feuil1!A:C,2,FALSE),VLOOKUP(RIGHT(AI77,2),Feuil1!A:C,3,FALSE))=A77 & CHAR(10) & C77,1,2),\"\")))","v":""}]
[null,null,null,null,{"$f":"IF(ISERROR(VLOOKUP(C78,AS!$A:$H,7,FALSE)),\"\",VLOOKUP(C78,AS!$A:$H,7,FALSE))","v":""},{"$f":"IF(ISERROR(VLOOKUP(C78,AS!$A:$H,8,FALSE)),\"\",VLOOKUP(C78,AS!$A:$H,8,FALSE))","v":""},null,null,null,null,{"$f":"IF(ISERROR(VLOOKUP(I78,AS!$A:$H,7,FALSE)),\"\",VLOOKUP(I78,AS!$A:$H,7,FALSE))","v":""},{"$f":"IF(ISERROR(VLOOKUP(I78,AS!$A:$H,8,FALSE)),\"\",VLOOKUP(I78,AS!$A:$H,8,FALSE))","v":""},null,null,null,null,{"$f":"IF(ISERROR(VLOOKUP(O78,AS!$A:$H,7,FALSE)),\"\",VLOOKUP(O78,AS!$A:$H,7,FALSE))","v":""},{"$f":"IF(ISERROR(VLOOKUP(O78,AS!$A:$H,8,FALSE)),\"\",VLOOKUP(O78,AS!$A:$H,8,FALSE))","v":""},null,null,null,null,{"$f":"IF(ISERROR(VLOOKUP(U78,AS!$A:$H,7,FALSE)),\"\",VLOOKUP(U78,AS!$A:$H,7,FALSE))","v":""},{"$f":"IF(ISERROR(VLOOKUP(U78,AS!$A:$H,8,FALSE)),\"\",VLOOKUP(U78,AS!$A:$H,8,FALSE))","v":""},null,null,null,null,{"$f":"IF(ISERROR(VLOOKUP(AA78,AS!$A:$H,7,FALSE)),\"\",VLOOKUP(AA78,AS!$A:$H,7,FALSE))","v":""},{"$f":"IF(ISERROR(VLOOKUP(AA78,AS!$A:$H,8,FALSE)),\"\",VLOOKUP(AA78,AS!$A:$H,8,FALSE))","v":""},null,null,null,"",null,{"$f":"IF(AI78=\"\",\"\",IF(OFFSET('Fiche score'!$A$2,VLOOKUP(RIGHT(AI78,2),Feuil1!A:C,2,FALSE),VLOOKUP(RIGHT(AI78,2),Feuil1!A:C,3,FALSE))=A78 & CHAR(10) & C78,2,IF(OFFSET('Fiche score'!$A$2,VLOOKUP(RIGHT(AI78,2),Feuil1!A:C,2,FALSE)+1,VLOOKUP(RIGHT(AI78,2),Feuil1!A:C,3,FALSE))=A78 & CHAR(10) & C78,2,IF(OFFSET('Fiche score'!$A$2,VLOOKUP(RIGHT(AI78,2),Feuil1!A:C,2,FALSE)-1,VLOOKUP(RIGHT(AI78,2),Feuil1!A:C,3,FALSE))=A78 & CHAR(10) & C78,1,IF(OFFSET('Fiche score'!$A$2,VLOOKUP(RIGHT(AI78,2),Feuil1!A:C,2,FALSE)-2,VLOOKUP(RIGHT(AI78,2),Feuil1!A:C,3,FALSE))=A78 & CHAR(10) & C78,1,\"0\")))))","v":""},{"$f":"IF(ISERROR(VLOOKUP(A78 & CHAR(10) &C78,'Fiche tirage dirigé'!I:I,1,FALSE)),0,1)","v":0},{"$f":"IF(ISERROR(VLOOKUP(A78& CHAR(10) &C78,Cadrage!H:H,1,FALSE)),0,1)","v":0},{"$f":"IF(ISERROR(VLOOKUP(A78 & CHAR(10) &C78,'Tableau final'!V:V,1,FALSE)),0,1)","v":0},{"$f":"IF(ISERROR(VLOOKUP(A78 & CHAR(10) &C78,'Tableau final'!W:W,1,FALSE)),0,1)","v":0},{"$f":"IF(ISERROR(VLOOKUP(A78 & CHAR(10) &C78,'Tableau final'!X:X,1,FALSE)),0,1)","v":0},{"$f":"IF(ISERROR(VLOOKUP(A78 & CHAR(10) &C78,'Tableau final'!Y:Y,1,FALSE)),0,1)","v":0},{"$f":"IF(ISERROR(VLOOKUP(A78 & CHAR(10) &C78,'Tableau final'!Z:Z,1,FALSE)),0,1)","v":0},{"$f":"IF('Tableau final'!$A$1<>\"\",IF('Tableau final'!$B$5=\"Qualifiés\",IF(ISERROR(VLOOKUP(A78 & CHAR(10) &C78,'Tableau final'!C:F,1,FALSE)),\"\",IF(AND(VLOOKUP(A78 & CHAR(10) &C78,'Tableau final'!C:F,3,FALSE)<>\"\",VLOOKUP(A78 & CHAR(10) &C78,'Tableau final'!C:F,4,FALSE)=\"x\"),1,\"\")),IF('Tableau final'!$G$5=\"Qualifiés\",IF(ISERROR(VLOOKUP(A78 & CHAR(10) &C78,'Tableau final'!H:K,1,FALSE)),\"\",IF(AND(VLOOKUP(A78 & CHAR(10) &C78,'Tableau final'!H:K,3,FALSE)<>\"\",VLOOKUP(A78 & CHAR(10) &C78,'Tableau final'!H:K,4,FALSE)=\"x\"),1,\"\")),IF('Tableau final'!$L$5=\"Qualifiés\",IF(ISERROR(VLOOKUP(A78 & CHAR(10) &C78,'Tableau final'!M:P,1,FALSE)),\"\",IF(AND(VLOOKUP(A78 & CHAR(10) &C78,'Tableau final'!M:P,3,FALSE)<>\"\",VLOOKUP(A78 & CHAR(10) &C78,'Tableau final'!M:P,4,FALSE)=\"x\"),1,\"\")),\"\"))),\"\")","v":""},"0",{"$f":"IF(ISERROR(VLOOKUP(AI78,Tirage!A:J,1,FALSE)),\"\",IF(VLOOKUP(AI78,Tirage!A:J,1,FALSE)=\"Office \",3,4))","v":""},{"$f":"IF(AJ78=\"0\",4,IF(AJ78=1,3,IF(AJ78=2,IF(OFFSET('Fiche score'!$A$2,VLOOKUP(RIGHT(AI78,2),Feuil1!A:C,2,FALSE),VLOOKUP(RIGHT(AI78,2),Feuil1!A:C,3,FALSE))=A78 & CHAR(10) & C78,1,2),\"\")))","v":""}]
[null,null,null,null,{"$f":"IF(ISERROR(VLOOKUP(C79,AS!$A:$H,7,FALSE)),\"\",VLOOKUP(C79,AS!$A:$H,7,FALSE))","v":""},{"$f":"IF(ISERROR(VLOOKUP(C79,AS!$A:$H,8,FALSE)),\"\",VLOOKUP(C79,AS!$A:$H,8,FALSE))","v":""},null,null,null,null,{"$f":"IF(ISERROR(VLOOKUP(I79,AS!$A:$H,7,FALSE)),\"\",VLOOKUP(I79,AS!$A:$H,7,FALSE))","v":""},{"$f":"IF(ISERROR(VLOOKUP(I79,AS!$A:$H,8,FALSE)),\"\",VLOOKUP(I79,AS!$A:$H,8,FALSE))","v":""},null,null,null,null,{"$f":"IF(ISERROR(VLOOKUP(O79,AS!$A:$H,7,FALSE)),\"\",VLOOKUP(O79,AS!$A:$H,7,FALSE))","v":""},{"$f":"IF(ISERROR(VLOOKUP(O79,AS!$A:$H,8,FALSE)),\"\",VLOOKUP(O79,AS!$A:$H,8,FALSE))","v":""},null,null,null,null,{"$f":"IF(ISERROR(VLOOKUP(U79,AS!$A:$H,7,FALSE)),\"\",VLOOKUP(U79,AS!$A:$H,7,FALSE))","v":""},{"$f":"IF(ISERROR(VLOOKUP(U79,AS!$A:$H,8,FALSE)),\"\",VLOOKUP(U79,AS!$A:$H,8,FALSE))","v":""},null,null,null,null,{"$f":"IF(ISERROR(VLOOKUP(AA79,AS!$A:$H,7,FALSE)),\"\",VLOOKUP(AA79,AS!$A:$H,7,FALSE))","v":""},{"$f":"IF(ISERROR(VLOOKUP(AA79,AS!$A:$H,8,FALSE)),\"\",VLOOKUP(AA79,AS!$A:$H,8,FALSE))","v":""},null,null,null,"",null,{"$f":"IF(AI79=\"\",\"\",IF(OFFSET('Fiche score'!$A$2,VLOOKUP(RIGHT(AI79,2),Feuil1!A:C,2,FALSE),VLOOKUP(RIGHT(AI79,2),Feuil1!A:C,3,FALSE))=A79 & CHAR(10) & C79,2,IF(OFFSET('Fiche score'!$A$2,VLOOKUP(RIGHT(AI79,2),Feuil1!A:C,2,FALSE)+1,VLOOKUP(RIGHT(AI79,2),Feuil1!A:C,3,FALSE))=A79 & CHAR(10) & C79,2,IF(OFFSET('Fiche score'!$A$2,VLOOKUP(RIGHT(AI79,2),Feuil1!A:C,2,FALSE)-1,VLOOKUP(RIGHT(AI79,2),Feuil1!A:C,3,FALSE))=A79 & CHAR(10) & C79,1,IF(OFFSET('Fiche score'!$A$2,VLOOKUP(RIGHT(AI79,2),Feuil1!A:C,2,FALSE)-2,VLOOKUP(RIGHT(AI79,2),Feuil1!A:C,3,FALSE))=A79 & CHAR(10) & C79,1,\"0\")))))","v":""},{"$f":"IF(ISERROR(VLOOKUP(A79 & CHAR(10) &C79,'Fiche tirage dirigé'!I:I,1,FALSE)),0,1)","v":0},{"$f":"IF(ISERROR(VLOOKUP(A79& CHAR(10) &C79,Cadrage!H:H,1,FALSE)),0,1)","v":0},{"$f":"IF(ISERROR(VLOOKUP(A79 & CHAR(10) &C79,'Tableau final'!V:V,1,FALSE)),0,1)","v":0},{"$f":"IF(ISERROR(VLOOKUP(A79 & CHAR(10) &C79,'Tableau final'!W:W,1,FALSE)),0,1)","v":0},{"$f":"IF(ISERROR(VLOOKUP(A79 & CHAR(10) &C79,'Tableau final'!X:X,1,FALSE)),0,1)","v":0},{"$f":"IF(ISERROR(VLOOKUP(A79 & CHAR(10) &C79,'Tableau final'!Y:Y,1,FALSE)),0,1)","v":0},{"$f":"IF(ISERROR(VLOOKUP(A79 & CHAR(10) &C79,'Tableau final'!Z:Z,1,FALSE)),0,1)","v":0},{"$f":"IF('Tableau final'!$A$1<>\"\",IF('Tableau final'!$B$5=\"Qualifiés\",IF(ISERROR(VLOOKUP(A79 & CHAR(10) &C79,'Tableau final'!C:F,1,FALSE)),\"\",IF(AND(VLOOKUP(A79 & CHAR(10) &C79,'Tableau final'!C:F,3,FALSE)<>\"\",VLOOKUP(A79 & CHAR(10) &C79,'Tableau final'!C:F,4,FALSE)=\"x\"),1,\"\")),IF('Tableau final'!$G$5=\"Qualifiés\",IF(ISERROR(VLOOKUP(A79 & CHAR(10) &C79,'Tableau final'!H:K,1,FALSE)),\"\",IF(AND(VLOOKUP(A79 & CHAR(10) &C79,'Tableau final'!H:K,3,FALSE)<>\"\",VLOOKUP(A79 & CHAR(10) &C79,'Tableau final'!H:K,4,FALSE)=\"x\"),1,\"\")),IF('Tableau final'!$L$5=\"Qualifiés\",IF(ISERROR(VLOOKUP(A79 & CHAR(10) &C79,'Tableau final'!M:P,1,FALSE)),\"\",IF(AND(VLOOKUP(A79 & CHAR(10) &C79,'Tableau final'!M:P,3,FALSE)<>\"\",VLOOKUP(A79 & CHAR(10) &C79,'Tableau final'!M:P,4,FALSE)=\"x\"),1,\"\")),\"\"))),\"\")","v":""},"0",{"$f":"IF(ISERROR(VLOOKUP(AI79,Tirage!A:J,1,FALSE)),\"\",IF(VLOOKUP(AI79,Tirage!A:J,1,FALSE)=\"Office \",3,4))","v":""},{"$f":"IF(AJ79=\"0\",4,IF(AJ79=1,3,IF(AJ79=2,IF(OFFSET('Fiche score'!$A$2,VLOOKUP(RIGHT(AI79,2),Feuil1!A:C,2,FALSE),VLOOKUP(RIGHT(AI79,2),Feuil1!A:C,3,FALSE))=A79 & CHAR(10) & C79,1,2),\"\")))","v":""}]
[null,null,null,null,{"$f":"IF(ISERROR(VLOOKUP(C80,AS!$A:$H,7,FALSE)),\"\",VLOOKUP(C80,AS!$A:$H,7,FALSE))","v":""},{"$f":"IF(ISERROR(VLOOKUP(C80,AS!$A:$H,8,FALSE)),\"\",VLOOKUP(C80,AS!$A:$H,8,FALSE))","v":""},null,null,null,null,{"$f":"IF(ISERROR(VLOOKUP(I80,AS!$A:$H,7,FALSE)),\"\",VLOOKUP(I80,AS!$A:$H,7,FALSE))","v":""},{"$f":"IF(ISERROR(VLOOKUP(I80,AS!$A:$H,8,FALSE)),\"\",VLOOKUP(I80,AS!$A:$H,8,FALSE))","v":""},null,null,null,null,{"$f":"IF(ISERROR(VLOOKUP(O80,AS!$A:$H,7,FALSE)),\"\",VLOOKUP(O80,AS!$A:$H,7,FALSE))","v":""},{"$f":"IF(ISERROR(VLOOKUP(O80,AS!$A:$H,8,FALSE)),\"\",VLOOKUP(O80,AS!$A:$H,8,FALSE))","v":""},null,null,null,null,{"$f":"IF(ISERROR(VLOOKUP(U80,AS!$A:$H,7,FALSE)),\"\",VLOOKUP(U80,AS!$A:$H,7,FALSE))","v":""},{"$f":"IF(ISERROR(VLOOKUP(U80,AS!$A:$H,8,FALSE)),\"\",VLOOKUP(U80,AS!$A:$H,8,FALSE))","v":""},null,null,null,null,{"$f":"IF(ISERROR(VLOOKUP(AA80,AS!$A:$H,7,FALSE)),\"\",VLOOKUP(AA80,AS!$A:$H,7,FALSE))","v":""},{"$f":"IF(ISERROR(VLOOKUP(AA80,AS!$A:$H,8,FALSE)),\"\",VLOOKUP(AA80,AS!$A:$H,8,FALSE))","v":""},null,null,null,"",null,{"$f":"IF(AI80=\"\",\"\",IF(OFFSET('Fiche score'!$A$2,VLOOKUP(RIGHT(AI80,2),Feuil1!A:C,2,FALSE),VLOOKUP(RIGHT(AI80,2),Feuil1!A:C,3,FALSE))=A80 & CHAR(10) & C80,2,IF(OFFSET('Fiche score'!$A$2,VLOOKUP(RIGHT(AI80,2),Feuil1!A:C,2,FALSE)+1,VLOOKUP(RIGHT(AI80,2),Feuil1!A:C,3,FALSE))=A80 & CHAR(10) & C80,2,IF(OFFSET('Fiche score'!$A$2,VLOOKUP(RIGHT(AI80,2),Feuil1!A:C,2,FALSE)-1,VLOOKUP(RIGHT(AI80,2),Feuil1!A:C,3,FALSE))=A80 & CHAR(10) & C80,1,IF(OFFSET('Fiche score'!$A$2,VLOOKUP(RIGHT(AI80,2),Feuil1!A:C,2,FALSE)-2,VLOOKUP(RIGHT(AI80,2),Feuil1!A:C,3,FALSE))=A80 & CHAR(10) & C80,1,\"0\")))))","v":""},{"$f":"IF(ISERROR(VLOOKUP(A80 & CHAR(10) &C80,'Fiche tirage dirigé'!I:I,1,FALSE)),0,1)","v":0},{"$f":"IF(ISERROR(VLOOKUP(A80& CHAR(10) &C80,Cadrage!H:H,1,FALSE)),0,1)","v":0},{"$f":"IF(ISERROR(VLOOKUP(A80 & CHAR(10) &C80,'Tableau final'!V:V,1,FALSE)),0,1)","v":0},{"$f":"IF(ISERROR(VLOOKUP(A80 & CHAR(10) &C80,'Tableau final'!W:W,1,FALSE)),0,1)","v":0},{"$f":"IF(ISERROR(VLOOKUP(A80 & CHAR(10) &C80,'Tableau final'!X:X,1,FALSE)),0,1)","v":0},{"$f":"IF(ISERROR(VLOOKUP(A80 & CHAR(10) &C80,'Tableau final'!Y:Y,1,FALSE)),0,1)","v":0},{"$f":"IF(ISERROR(VLOOKUP(A80 & CHAR(10) &C80,'Tableau final'!Z:Z,1,FALSE)),0,1)","v":0},{"$f":"IF('Tableau final'!$A$1<>\"\",IF('Tableau final'!$B$5=\"Qualifiés\",IF(ISERROR(VLOOKUP(A80 & CHAR(10) &C80,'Tableau final'!C:F,1,FALSE)),\"\",IF(AND(VLOOKUP(A80 & CHAR(10) &C80,'Tableau final'!C:F,3,FALSE)<>\"\",VLOOKUP(A80 & CHAR(10) &C80,'Tableau final'!C:F,4,FALSE)=\"x\"),1,\"\")),IF('Tableau final'!$G$5=\"Qualifiés\",IF(ISERROR(VLOOKUP(A80 & CHAR(10) &C80,'Tableau final'!H:K,1,FALSE)),\"\",IF(AND(VLOOKUP(A80 & CHAR(10) &C80,'Tableau final'!H:K,3,FALSE)<>\"\",VLOOKUP(A80 & CHAR(10) &C80,'Tableau final'!H:K,4,FALSE)=\"x\"),1,\"\")),IF('Tableau final'!$L$5=\"Qualifiés\",IF(ISERROR(VLOOKUP(A80 & CHAR(10) &C80,'Tableau final'!M:P,1,FALSE)),\"\",IF(AND(VLOOKUP(A80 & CHAR(10) &C80,'Tableau final'!M:P,3,FALSE)<>\"\",VLOOKUP(A80 & CHAR(10) &C80,'Tableau final'!M:P,4,FALSE)=\"x\"),1,\"\")),\"\"))),\"\")","v":""},"0",{"$f":"IF(ISERROR(VLOOKUP(AI80,Tirage!A:J,1,FALSE)),\"\",IF(VLOOKUP(AI80,Tirage!A:J,1,FALSE)=\"Office \",3,4))","v":""},{"$f":"IF(AJ80=\"0\",4,IF(AJ80=1,3,IF(AJ80=2,IF(OFFSET('Fiche score'!$A$2,VLOOKUP(RIGHT(AI80,2),Feuil1!A:C,2,FALSE),VLOOKUP(RIGHT(AI80,2),Feuil1!A:C,3,FALSE))=A80 & CHAR(10) & C80,1,2),\"\")))","v":""}]
[null,null,null,null,{"$f":"IF(ISERROR(VLOOKUP(C81,AS!$A:$H,7,FALSE)),\"\",VLOOKUP(C81,AS!$A:$H,7,FALSE))","v":""},{"$f":"IF(ISERROR(VLOOKUP(C81,AS!$A:$H,8,FALSE)),\"\",VLOOKUP(C81,AS!$A:$H,8,FALSE))","v":""},null,null,null,null,{"$f":"IF(ISERROR(VLOOKUP(I81,AS!$A:$H,7,FALSE)),\"\",VLOOKUP(I81,AS!$A:$H,7,FALSE))","v":""},{"$f":"IF(ISERROR(VLOOKUP(I81,AS!$A:$H,8,FALSE)),\"\",VLOOKUP(I81,AS!$A:$H,8,FALSE))","v":""},null,null,null,null,{"$f":"IF(ISERROR(VLOOKUP(O81,AS!$A:$H,7,FALSE)),\"\",VLOOKUP(O81,AS!$A:$H,7,FALSE))","v":""},{"$f":"IF(ISERROR(VLOOKUP(O81,AS!$A:$H,8,FALSE)),\"\",VLOOKUP(O81,AS!$A:$H,8,FALSE))","v":""},null,null,null,null,{"$f":"IF(ISERROR(VLOOKUP(U81,AS!$A:$H,7,FALSE)),\"\",VLOOKUP(U81,AS!$A:$H,7,FALSE))","v":""},{"$f":"IF(ISERROR(VLOOKUP(U81,AS!$A:$H,8,FALSE)),\"\",VLOOKUP(U81,AS!$A:$H,8,FALSE))","v":""},null,null,null,null,{"$f":"IF(ISERROR(VLOOKUP(AA81,AS!$A:$H,7,FALSE)),\"\",VLOOKUP(AA81,AS!$A:$H,7,FALSE))","v":""},{"$f":"IF(ISERROR(VLOOKUP(AA81,AS!$A:$H,8,FALSE)),\"\",VLOOKUP(AA81,AS!$A:$H,8,FALSE))","v":""},null,null,null,"",null,{"$f":"IF(AI81=\"\",\"\",IF(OFFSET('Fiche score'!$A$2,VLOOKUP(RIGHT(AI81,2),Feuil1!A:C,2,FALSE),VLOOKUP(RIGHT(AI81,2),Feuil1!A:C,3,FALSE))=A81 & CHAR(10) & C81,2,IF(OFFSET('Fiche score'!$A$2,VLOOKUP(RIGHT(AI81,2),Feuil1!A:C,2,FALSE)+1,VLOOKUP(RIGHT(AI81,2),Feuil1!A:C,3,FALSE))=A81 & CHAR(10) & C81,2,IF(OFFSET('Fiche score'!$A$2,VLOOKUP(RIGHT(AI81,2),Feuil1!A:C,2,FALSE)-1,VLOOKUP(RIGHT(AI81,2),Feuil1!A:C,3,FALSE))=A81 & CHAR(10) & C81,1,IF(OFFSET('Fiche score'!$A$2,VLOOKUP(RIGHT(AI81,2),Feuil1!A:C,2,FALSE)-2,VLOOKUP(RIGHT(AI81,2),Feuil1!A:C,3,FALSE))=A81 & CHAR(10) & C81,1,\"0\")))))","v":""},{"$f":"IF(ISERROR(VLOOKUP(A81 & CHAR(10) &C81,'Fiche tirage dirigé'!I:I,1,FALSE)),0,1)","v":0},{"$f":"IF(ISERROR(VLOOKUP(A81& CHAR(10) &C81,Cadrage!H:H,1,FALSE)),0,1)","v":0},{"$f":"IF(ISERROR(VLOOKUP(A81 & CHAR(10) &C81,'Tableau final'!V:V,1,FALSE)),0,1)","v":0},{"$f":"IF(ISERROR(VLOOKUP(A81 & CHAR(10) &C81,'Tableau final'!W:W,1,FALSE)),0,1)","v":0},{"$f":"IF(ISERROR(VLOOKUP(A81 & CHAR(10) &C81,'Tableau final'!X:X,1,FALSE)),0,1)","v":0},{"$f":"IF(ISERROR(VLOOKUP(A81 & CHAR(10) &C81,'Tableau final'!Y:Y,1,FALSE)),0,1)","v":0},{"$f":"IF(ISERROR(VLOOKUP(A81 & CHAR(10) &C81,'Tableau final'!Z:Z,1,FALSE)),0,1)","v":0},{"$f":"IF('Tableau final'!$A$1<>\"\",IF('Tableau final'!$B$5=\"Qualifiés\",IF(ISERROR(VLOOKUP(A81 & CHAR(10) &C81,'Tableau final'!C:F,1,FALSE)),\"\",IF(AND(VLOOKUP(A81 & CHAR(10) &C81,'Tableau final'!C:F,3,FALSE)<>\"\",VLOOKUP(A81 & CHAR(10) &C81,'Tableau final'!C:F,4,FALSE)=\"x\"),1,\"\")),IF('Tableau final'!$G$5=\"Qualifiés\",IF(ISERROR(VLOOKUP(A81 & CHAR(10) &C81,'Tableau final'!H:K,1,FALSE)),\"\",IF(AND(VLOOKUP(A81 & CHAR(10) &C81,'Tableau final'!H:K,3,FALSE)<>\"\",VLOOKUP(A81 & CHAR(10) &C81,'Tableau final'!H:K,4,FALSE)=\"x\"),1,\"\")),IF('Tableau final'!$L$5=\"Qualifiés\",IF(ISERROR(VLOOKUP(A81 & CHAR(10) &C81,'Tableau final'!M:P,1,FALSE)),\"\",IF(AND(VLOOKUP(A81 & CHAR(10) &C81,'Tableau final'!M:P,3,FALSE)<>\"\",VLOOKUP(A81 & CHAR(10) &C81,'Tableau final'!M:P,4,FALSE)=\"x\"),1,\"\")),\"\"))),\"\")","v":""},"0",{"$f":"IF(ISERROR(VLOOKUP(AI81,Tirage!A:J,1,FALSE)),\"\",IF(VLOOKUP(AI81,Tirage!A:J,1,FALSE)=\"Office \",3,4))","v":""},{"$f":"IF(AJ81=\"0\",4,IF(AJ81=1,3,IF(AJ81=2,IF(OFFSET('Fiche score'!$A$2,VLOOKUP(RIGHT(AI81,2),Feuil1!A:C,2,FALSE),VLOOKUP(RIGHT(AI81,2),Feuil1!A:C,3,FALSE))=A81 & CHAR(10) & C81,1,2),\"\")))","v":""}]
[null,null,null,null,{"$f":"IF(ISERROR(VLOOKUP(C82,AS!$A:$H,7,FALSE)),\"\",VLOOKUP(C82,AS!$A:$H,7,FALSE))","v":""},{"$f":"IF(ISERROR(VLOOKUP(C82,AS!$A:$H,8,FALSE)),\"\",VLOOKUP(C82,AS!$A:$H,8,FALSE))","v":""},null,null,null,null,{"$f":"IF(ISERROR(VLOOKUP(I82,AS!$A:$H,7,FALSE)),\"\",VLOOKUP(I82,AS!$A:$H,7,FALSE))","v":""},{"$f":"IF(ISERROR(VLOOKUP(I82,AS!$A:$H,8,FALSE)),\"\",VLOOKUP(I82,AS!$A:$H,8,FALSE))","v":""},null,null,null,null,{"$f":"IF(ISERROR(VLOOKUP(O82,AS!$A:$H,7,FALSE)),\"\",VLOOKUP(O82,AS!$A:$H,7,FALSE))","v":""},{"$f":"IF(ISERROR(VLOOKUP(O82,AS!$A:$H,8,FALSE)),\"\",VLOOKUP(O82,AS!$A:$H,8,FALSE))","v":""},null,null,null,null,{"$f":"IF(ISERROR(VLOOKUP(U82,AS!$A:$H,7,FALSE)),\"\",VLOOKUP(U82,AS!$A:$H,7,FALSE))","v":""},{"$f":"IF(ISERROR(VLOOKUP(U82,AS!$A:$H,8,FALSE)),\"\",VLOOKUP(U82,AS!$A:$H,8,FALSE))","v":""},null,null,null,null,{"$f":"IF(ISERROR(VLOOKUP(AA82,AS!$A:$H,7,FALSE)),\"\",VLOOKUP(AA82,AS!$A:$H,7,FALSE))","v":""},{"$f":"IF(ISERROR(VLOOKUP(AA82,AS!$A:$H,8,FALSE)),\"\",VLOOKUP(AA82,AS!$A:$H,8,FALSE))","v":""},null,null,null,"",null,{"$f":"IF(AI82=\"\",\"\",IF(OFFSET('Fiche score'!$A$2,VLOOKUP(RIGHT(AI82,2),Feuil1!A:C,2,FALSE),VLOOKUP(RIGHT(AI82,2),Feuil1!A:C,3,FALSE))=A82 & CHAR(10) & C82,2,IF(OFFSET('Fiche score'!$A$2,VLOOKUP(RIGHT(AI82,2),Feuil1!A:C,2,FALSE)+1,VLOOKUP(RIGHT(AI82,2),Feuil1!A:C,3,FALSE))=A82 & CHAR(10) & C82,2,IF(OFFSET('Fiche score'!$A$2,VLOOKUP(RIGHT(AI82,2),Feuil1!A:C,2,FALSE)-1,VLOOKUP(RIGHT(AI82,2),Feuil1!A:C,3,FALSE))=A82 & CHAR(10) & C82,1,IF(OFFSET('Fiche score'!$A$2,VLOOKUP(RIGHT(AI82,2),Feuil1!A:C,2,FALSE)-2,VLOOKUP(RIGHT(AI82,2),Feuil1!A:C,3,FALSE))=A82 & CHAR(10) & C82,1,\"0\")))))","v":""},{"$f":"IF(ISERROR(VLOOKUP(A82 & CHAR(10) &C82,'Fiche tirage dirigé'!I:I,1,FALSE)),0,1)","v":0},{"$f":"IF(ISERROR(VLOOKUP(A82& CHAR(10) &C82,Cadrage!H:H,1,FALSE)),0,1)","v":0},{"$f":"IF(ISERROR(VLOOKUP(A82 & CHAR(10) &C82,'Tableau final'!V:V,1,FALSE)),0,1)","v":0},{"$f":"IF(ISERROR(VLOOKUP(A82 & CHAR(10) &C82,'Tableau final'!W:W,1,FALSE)),0,1)","v":0},{"$f":"IF(ISERROR(VLOOKUP(A82 & CHAR(10) &C82,'Tableau final'!X:X,1,FALSE)),0,1)","v":0},{"$f":"IF(ISERROR(VLOOKUP(A82 & CHAR(10) &C82,'Tableau final'!Y:Y,1,FALSE)),0,1)","v":0},{"$f":"IF(ISERROR(VLOOKUP(A82 & CHAR(10) &C82,'Tableau final'!Z:Z,1,FALSE)),0,1)","v":0},{"$f":"IF('Tableau final'!$A$1<>\"\",IF('Tableau final'!$B$5=\"Qualifiés\",IF(ISERROR(VLOOKUP(A82 & CHAR(10) &C82,'Tableau final'!C:F,1,FALSE)),\"\",IF(AND(VLOOKUP(A82 & CHAR(10) &C82,'Tableau final'!C:F,3,FALSE)<>\"\",VLOOKUP(A82 & CHAR(10) &C82,'Tableau final'!C:F,4,FALSE)=\"x\"),1,\"\")),IF('Tableau final'!$G$5=\"Qualifiés\",IF(ISERROR(VLOOKUP(A82 & CHAR(10) &C82,'Tableau final'!H:K,1,FALSE)),\"\",IF(AND(VLOOKUP(A82 & CHAR(10) &C82,'Tableau final'!H:K,3,FALSE)<>\"\",VLOOKUP(A82 & CHAR(10) &C82,'Tableau final'!H:K,4,FALSE)=\"x\"),1,\"\")),IF('Tableau final'!$L$5=\"Qualifiés\",IF(ISERROR(VLOOKUP(A82 & CHAR(10) &C82,'Tableau final'!M:P,1,FALSE)),\"\",IF(AND(VLOOKUP(A82 & CHAR(10) &C82,'Tableau final'!M:P,3,FALSE)<>\"\",VLOOKUP(A82 & CHAR(10) &C82,'Tableau final'!M:P,4,FALSE)=\"x\"),1,\"\")),\"\"))),\"\")","v":""},"0",{"$f":"IF(ISERROR(VLOOKUP(AI82,Tirage!A:J,1,FALSE)),\"\",IF(VLOOKUP(AI82,Tirage!A:J,1,FALSE)=\"Office \",3,4))","v":""},{"$f":"IF(AJ82=\"0\",4,IF(AJ82=1,3,IF(AJ82=2,IF(OFFSET('Fiche score'!$A$2,VLOOKUP(RIGHT(AI82,2),Feuil1!A:C,2,FALSE),VLOOKUP(RIGHT(AI82,2),Feuil1!A:C,3,FALSE))=A82 & CHAR(10) & C82,1,2),\"\")))","v":""}]
[null,null,null,null,{"$f":"IF(ISERROR(VLOOKUP(C83,AS!$A:$H,7,FALSE)),\"\",VLOOKUP(C83,AS!$A:$H,7,FALSE))","v":""},{"$f":"IF(ISERROR(VLOOKUP(C83,AS!$A:$H,8,FALSE)),\"\",VLOOKUP(C83,AS!$A:$H,8,FALSE))","v":""},null,null,null,null,{"$f":"IF(ISERROR(VLOOKUP(I83,AS!$A:$H,7,FALSE)),\"\",VLOOKUP(I83,AS!$A:$H,7,FALSE))","v":""},{"$f":"IF(ISERROR(VLOOKUP(I83,AS!$A:$H,8,FALSE)),\"\",VLOOKUP(I83,AS!$A:$H,8,FALSE))","v":""},null,null,null,null,{"$f":"IF(ISERROR(VLOOKUP(O83,AS!$A:$H,7,FALSE)),\"\",VLOOKUP(O83,AS!$A:$H,7,FALSE))","v":""},{"$f":"IF(ISERROR(VLOOKUP(O83,AS!$A:$H,8,FALSE)),\"\",VLOOKUP(O83,AS!$A:$H,8,FALSE))","v":""},null,null,null,null,{"$f":"IF(ISERROR(VLOOKUP(U83,AS!$A:$H,7,FALSE)),\"\",VLOOKUP(U83,AS!$A:$H,7,FALSE))","v":""},{"$f":"IF(ISERROR(VLOOKUP(U83,AS!$A:$H,8,FALSE)),\"\",VLOOKUP(U83,AS!$A:$H,8,FALSE))","v":""},null,null,null,null,{"$f":"IF(ISERROR(VLOOKUP(AA83,AS!$A:$H,7,FALSE)),\"\",VLOOKUP(AA83,AS!$A:$H,7,FALSE))","v":""},{"$f":"IF(ISERROR(VLOOKUP(AA83,AS!$A:$H,8,FALSE)),\"\",VLOOKUP(AA83,AS!$A:$H,8,FALSE))","v":""},null,null,null,"",null,{"$f":"IF(AI83=\"\",\"\",IF(OFFSET('Fiche score'!$A$2,VLOOKUP(RIGHT(AI83,2),Feuil1!A:C,2,FALSE),VLOOKUP(RIGHT(AI83,2),Feuil1!A:C,3,FALSE))=A83 & CHAR(10) & C83,2,IF(OFFSET('Fiche score'!$A$2,VLOOKUP(RIGHT(AI83,2),Feuil1!A:C,2,FALSE)+1,VLOOKUP(RIGHT(AI83,2),Feuil1!A:C,3,FALSE))=A83 & CHAR(10) & C83,2,IF(OFFSET('Fiche score'!$A$2,VLOOKUP(RIGHT(AI83,2),Feuil1!A:C,2,FALSE)-1,VLOOKUP(RIGHT(AI83,2),Feuil1!A:C,3,FALSE))=A83 & CHAR(10) & C83,1,IF(OFFSET('Fiche score'!$A$2,VLOOKUP(RIGHT(AI83,2),Feuil1!A:C,2,FALSE)-2,VLOOKUP(RIGHT(AI83,2),Feuil1!A:C,3,FALSE))=A83 & CHAR(10) & C83,1,\"0\")))))","v":""},{"$f":"IF(ISERROR(VLOOKUP(A83 & CHAR(10) &C83,'Fiche tirage dirigé'!I:I,1,FALSE)),0,1)","v":0},{"$f":"IF(ISERROR(VLOOKUP(A83& CHAR(10) &C83,Cadrage!H:H,1,FALSE)),0,1)","v":0},{"$f":"IF(ISERROR(VLOOKUP(A83 & CHAR(10) &C83,'Tableau final'!V:V,1,FALSE)),0,1)","v":0},{"$f":"IF(ISERROR(VLOOKUP(A83 & CHAR(10) &C83,'Tableau final'!W:W,1,FALSE)),0,1)","v":0},{"$f":"IF(ISERROR(VLOOKUP(A83 & CHAR(10) &C83,'Tableau final'!X:X,1,FALSE)),0,1)","v":0},{"$f":"IF(ISERROR(VLOOKUP(A83 & CHAR(10) &C83,'Tableau final'!Y:Y,1,FALSE)),0,1)","v":0},{"$f":"IF(ISERROR(VLOOKUP(A83 & CHAR(10) &C83,'Tableau final'!Z:Z,1,FALSE)),0,1)","v":0},{"$f":"IF('Tableau final'!$A$1<>\"\",IF('Tableau final'!$B$5=\"Qualifiés\",IF(ISERROR(VLOOKUP(A83 & CHAR(10) &C83,'Tableau final'!C:F,1,FALSE)),\"\",IF(AND(VLOOKUP(A83 & CHAR(10) &C83,'Tableau final'!C:F,3,FALSE)<>\"\",VLOOKUP(A83 & CHAR(10) &C83,'Tableau final'!C:F,4,FALSE)=\"x\"),1,\"\")),IF('Tableau final'!$G$5=\"Qualifiés\",IF(ISERROR(VLOOKUP(A83 & CHAR(10) &C83,'Tableau final'!H:K,1,FALSE)),\"\",IF(AND(VLOOKUP(A83 & CHAR(10) &C83,'Tableau final'!H:K,3,FALSE)<>\"\",VLOOKUP(A83 & CHAR(10) &C83,'Tableau final'!H:K,4,FALSE)=\"x\"),1,\"\")),IF('Tableau final'!$L$5=\"Qualifiés\",IF(ISERROR(VLOOKUP(A83 & CHAR(10) &C83,'Tableau final'!M:P,1,FALSE)),\"\",IF(AND(VLOOKUP(A83 & CHAR(10) &C83,'Tableau final'!M:P,3,FALSE)<>\"\",VLOOKUP(A83 & CHAR(10) &C83,'Tableau final'!M:P,4,FALSE)=\"x\"),1,\"\")),\"\"))),\"\")","v":""},"0",{"$f":"IF(ISERROR(VLOOKUP(AI83,Tirage!A:J,1,FALSE)),\"\",IF(VLOOKUP(AI83,Tirage!A:J,1,FALSE)=\"Office \",3,4))","v":""},{"$f":"IF(AJ83=\"0\",4,IF(AJ83=1,3,IF(AJ83=2,IF(OFFSET('Fiche score'!$A$2,VLOOKUP(RIGHT(AI83,2),Feuil1!A:C,2,FALSE),VLOOKUP(RIGHT(AI83,2),Feuil1!A:C,3,FALSE))=A83 & CHAR(10) & C83,1,2),\"\")))","v":""}]
[null,null,null,null,{"$f":"IF(ISERROR(VLOOKUP(C84,AS!$A:$H,7,FALSE)),\"\",VLOOKUP(C84,AS!$A:$H,7,FALSE))","v":""},{"$f":"IF(ISERROR(VLOOKUP(C84,AS!$A:$H,8,FALSE)),\"\",VLOOKUP(C84,AS!$A:$H,8,FALSE))","v":""},null,null,null,null,{"$f":"IF(ISERROR(VLOOKUP(I84,AS!$A:$H,7,FALSE)),\"\",VLOOKUP(I84,AS!$A:$H,7,FALSE))","v":""},{"$f":"IF(ISERROR(VLOOKUP(I84,AS!$A:$H,8,FALSE)),\"\",VLOOKUP(I84,AS!$A:$H,8,FALSE))","v":""},null,null,null,null,{"$f":"IF(ISERROR(VLOOKUP(O84,AS!$A:$H,7,FALSE)),\"\",VLOOKUP(O84,AS!$A:$H,7,FALSE))","v":""},{"$f":"IF(ISERROR(VLOOKUP(O84,AS!$A:$H,8,FALSE)),\"\",VLOOKUP(O84,AS!$A:$H,8,FALSE))","v":""},null,null,null,null,{"$f":"IF(ISERROR(VLOOKUP(U84,AS!$A:$H,7,FALSE)),\"\",VLOOKUP(U84,AS!$A:$H,7,FALSE))","v":""},{"$f":"IF(ISERROR(VLOOKUP(U84,AS!$A:$H,8,FALSE)),\"\",VLOOKUP(U84,AS!$A:$H,8,FALSE))","v":""},null,null,null,null,{"$f":"IF(ISERROR(VLOOKUP(AA84,AS!$A:$H,7,FALSE)),\"\",VLOOKUP(AA84,AS!$A:$H,7,FALSE))","v":""},{"$f":"IF(ISERROR(VLOOKUP(AA84,AS!$A:$H,8,FALSE)),\"\",VLOOKUP(AA84,AS!$A:$H,8,FALSE))","v":""},null,null,null,"",null,{"$f":"IF(AI84=\"\",\"\",IF(OFFSET('Fiche score'!$A$2,VLOOKUP(RIGHT(AI84,2),Feuil1!A:C,2,FALSE),VLOOKUP(RIGHT(AI84,2),Feuil1!A:C,3,FALSE))=A84 & CHAR(10) & C84,2,IF(OFFSET('Fiche score'!$A$2,VLOOKUP(RIGHT(AI84,2),Feuil1!A:C,2,FALSE)+1,VLOOKUP(RIGHT(AI84,2),Feuil1!A:C,3,FALSE))=A84 & CHAR(10) & C84,2,IF(OFFSET('Fiche score'!$A$2,VLOOKUP(RIGHT(AI84,2),Feuil1!A:C,2,FALSE)-1,VLOOKUP(RIGHT(AI84,2),Feuil1!A:C,3,FALSE))=A84 & CHAR(10) & C84,1,IF(OFFSET('Fiche score'!$A$2,VLOOKUP(RIGHT(AI84,2),Feuil1!A:C,2,FALSE)-2,VLOOKUP(RIGHT(AI84,2),Feuil1!A:C,3,FALSE))=A84 & CHAR(10) & C84,1,\"0\")))))","v":""},{"$f":"IF(ISERROR(VLOOKUP(A84 & CHAR(10) &C84,'Fiche tirage dirigé'!I:I,1,FALSE)),0,1)","v":0},{"$f":"IF(ISERROR(VLOOKUP(A84& CHAR(10) &C84,Cadrage!H:H,1,FALSE)),0,1)","v":0},{"$f":"IF(ISERROR(VLOOKUP(A84 & CHAR(10) &C84,'Tableau final'!V:V,1,FALSE)),0,1)","v":0},{"$f":"IF(ISERROR(VLOOKUP(A84 & CHAR(10) &C84,'Tableau final'!W:W,1,FALSE)),0,1)","v":0},{"$f":"IF(ISERROR(VLOOKUP(A84 & CHAR(10) &C84,'Tableau final'!X:X,1,FALSE)),0,1)","v":0},{"$f":"IF(ISERROR(VLOOKUP(A84 & CHAR(10) &C84,'Tableau final'!Y:Y,1,FALSE)),0,1)","v":0},{"$f":"IF(ISERROR(VLOOKUP(A84 & CHAR(10) &C84,'Tableau final'!Z:Z,1,FALSE)),0,1)","v":0},{"$f":"IF('Tableau final'!$A$1<>\"\",IF('Tableau final'!$B$5=\"Qualifiés\",IF(ISERROR(VLOOKUP(A84 & CHAR(10) &C84,'Tableau final'!C:F,1,FALSE)),\"\",IF(AND(VLOOKUP(A84 & CHAR(10) &C84,'Tableau final'!C:F,3,FALSE)<>\"\",VLOOKUP(A84 & CHAR(10) &C84,'Tableau final'!C:F,4,FALSE)=\"x\"),1,\"\")),IF('Tableau final'!$G$5=\"Qualifiés\",IF(ISERROR(VLOOKUP(A84 & CHAR(10) &C84,'Tableau final'!H:K,1,FALSE)),\"\",IF(AND(VLOOKUP(A84 & CHAR(10) &C84,'Tableau final'!H:K,3,FALSE)<>\"\",VLOOKUP(A84 & CHAR(10) &C84,'Tableau final'!H:K,4,FALSE)=\"x\"),1,\"\")),IF('Tableau final'!$L$5=\"Qualifiés\",IF(ISERROR(VLOOKUP(A84 & CHAR(10) &C84,'Tableau final'!M:P,1,FALSE)),\"\",IF(AND(VLOOKUP(A84 & CHAR(10) &C84,'Tableau final'!M:P,3,FALSE)<>\"\",VLOOKUP(A84 & CHAR(10) &C84,'Tableau final'!M:P,4,FALSE)=\"x\"),1,\"\")),\"\"))),\"\")","v":""},"0",{"$f":"IF(ISERROR(VLOOKUP(AI84,Tirage!A:J,1,FALSE)),\"\",IF(VLOOKUP(AI84,Tirage!A:J,1,FALSE)=\"Office \",3,4))","v":""},{"$f":"IF(AJ84=\"0\",4,IF(AJ84=1,3,IF(AJ84=2,IF(OFFSET('Fiche score'!$A$2,VLOOKUP(RIGHT(AI84,2),Feuil1!A:C,2,FALSE),VLOOKUP(RIGHT(AI84,2),Feuil1!A:C,3,FALSE))=A84 & CHAR(10) & C84,1,2),\"\")))","v":""}]
[null,null,null,null,{"$f":"IF(ISERROR(VLOOKUP(C85,AS!$A:$H,7,FALSE)),\"\",VLOOKUP(C85,AS!$A:$H,7,FALSE))","v":""},{"$f":"IF(ISERROR(VLOOKUP(C85,AS!$A:$H,8,FALSE)),\"\",VLOOKUP(C85,AS!$A:$H,8,FALSE))","v":""},null,null,null,null,{"$f":"IF(ISERROR(VLOOKUP(I85,AS!$A:$H,7,FALSE)),\"\",VLOOKUP(I85,AS!$A:$H,7,FALSE))","v":""},{"$f":"IF(ISERROR(VLOOKUP(I85,AS!$A:$H,8,FALSE)),\"\",VLOOKUP(I85,AS!$A:$H,8,FALSE))","v":""},null,null,null,null,{"$f":"IF(ISERROR(VLOOKUP(O85,AS!$A:$H,7,FALSE)),\"\",VLOOKUP(O85,AS!$A:$H,7,FALSE))","v":""},{"$f":"IF(ISERROR(VLOOKUP(O85,AS!$A:$H,8,FALSE)),\"\",VLOOKUP(O85,AS!$A:$H,8,FALSE))","v":""},null,null,null,null,{"$f":"IF(ISERROR(VLOOKUP(U85,AS!$A:$H,7,FALSE)),\"\",VLOOKUP(U85,AS!$A:$H,7,FALSE))","v":""},{"$f":"IF(ISERROR(VLOOKUP(U85,AS!$A:$H,8,FALSE)),\"\",VLOOKUP(U85,AS!$A:$H,8,FALSE))","v":""},null,null,null,null,{"$f":"IF(ISERROR(VLOOKUP(AA85,AS!$A:$H,7,FALSE)),\"\",VLOOKUP(AA85,AS!$A:$H,7,FALSE))","v":""},{"$f":"IF(ISERROR(VLOOKUP(AA85,AS!$A:$H,8,FALSE)),\"\",VLOOKUP(AA85,AS!$A:$H,8,FALSE))","v":""},null,null,null,"",null,{"$f":"IF(AI85=\"\",\"\",IF(OFFSET('Fiche score'!$A$2,VLOOKUP(RIGHT(AI85,2),Feuil1!A:C,2,FALSE),VLOOKUP(RIGHT(AI85,2),Feuil1!A:C,3,FALSE))=A85 & CHAR(10) & C85,2,IF(OFFSET('Fiche score'!$A$2,VLOOKUP(RIGHT(AI85,2),Feuil1!A:C,2,FALSE)+1,VLOOKUP(RIGHT(AI85,2),Feuil1!A:C,3,FALSE))=A85 & CHAR(10) & C85,2,IF(OFFSET('Fiche score'!$A$2,VLOOKUP(RIGHT(AI85,2),Feuil1!A:C,2,FALSE)-1,VLOOKUP(RIGHT(AI85,2),Feuil1!A:C,3,FALSE))=A85 & CHAR(10) & C85,1,IF(OFFSET('Fiche score'!$A$2,VLOOKUP(RIGHT(AI85,2),Feuil1!A:C,2,FALSE)-2,VLOOKUP(RIGHT(AI85,2),Feuil1!A:C,3,FALSE))=A85 & CHAR(10) & C85,1,\"0\")))))","v":""},{"$f":"IF(ISERROR(VLOOKUP(A85 & CHAR(10) &C85,'Fiche tirage dirigé'!I:I,1,FALSE)),0,1)","v":0},{"$f":"IF(ISERROR(VLOOKUP(A85& CHAR(10) &C85,Cadrage!H:H,1,FALSE)),0,1)","v":0},{"$f":"IF(ISERROR(VLOOKUP(A85 & CHAR(10) &C85,'Tableau final'!V:V,1,FALSE)),0,1)","v":0},{"$f":"IF(ISERROR(VLOOKUP(A85 & CHAR(10) &C85,'Tableau final'!W:W,1,FALSE)),0,1)","v":0},{"$f":"IF(ISERROR(VLOOKUP(A85 & CHAR(10) &C85,'Tableau final'!X:X,1,FALSE)),0,1)","v":0},{"$f":"IF(ISERROR(VLOOKUP(A85 & CHAR(10) &C85,'Tableau final'!Y:Y,1,FALSE)),0,1)","v":0},{"$f":"IF(ISERROR(VLOOKUP(A85 & CHAR(10) &C85,'Tableau final'!Z:Z,1,FALSE)),0,1)","v":0},{"$f":"IF('Tableau final'!$A$1<>\"\",IF('Tableau final'!$B$5=\"Qualifiés\",IF(ISERROR(VLOOKUP(A85 & CHAR(10) &C85,'Tableau final'!C:F,1,FALSE)),\"\",IF(AND(VLOOKUP(A85 & CHAR(10) &C85,'Tableau final'!C:F,3,FALSE)<>\"\",VLOOKUP(A85 & CHAR(10) &C85,'Tableau final'!C:F,4,FALSE)=\"x\"),1,\"\")),IF('Tableau final'!$G$5=\"Qualifiés\",IF(ISERROR(VLOOKUP(A85 & CHAR(10) &C85,'Tableau final'!H:K,1,FALSE)),\"\",IF(AND(VLOOKUP(A85 & CHAR(10) &C85,'Tableau final'!H:K,3,FALSE)<>\"\",VLOOKUP(A85 & CHAR(10) &C85,'Tableau final'!H:K,4,FALSE)=\"x\"),1,\"\")),IF('Tableau final'!$L$5=\"Qualifiés\",IF(ISERROR(VLOOKUP(A85 & CHAR(10) &C85,'Tableau final'!M:P,1,FALSE)),\"\",IF(AND(VLOOKUP(A85 & CHAR(10) &C85,'Tableau final'!M:P,3,FALSE)<>\"\",VLOOKUP(A85 & CHAR(10) &C85,'Tableau final'!M:P,4,FALSE)=\"x\"),1,\"\")),\"\"))),\"\")","v":""},"0",{"$f":"IF(ISERROR(VLOOKUP(AI85,Tirage!A:J,1,FALSE)),\"\",IF(VLOOKUP(AI85,Tirage!A:J,1,FALSE)=\"Office \",3,4))","v":""},{"$f":"IF(AJ85=\"0\",4,IF(AJ85=1,3,IF(AJ85=2,IF(OFFSET('Fiche score'!$A$2,VLOOKUP(RIGHT(AI85,2),Feuil1!A:C,2,FALSE),VLOOKUP(RIGHT(AI85,2),Feuil1!A:C,3,FALSE))=A85 & CHAR(10) & C85,1,2),\"\")))","v":""}]
[null,null,null,null,{"$f":"IF(ISERROR(VLOOKUP(C86,AS!$A:$H,7,FALSE)),\"\",VLOOKUP(C86,AS!$A:$H,7,FALSE))","v":""},{"$f":"IF(ISERROR(VLOOKUP(C86,AS!$A:$H,8,FALSE)),\"\",VLOOKUP(C86,AS!$A:$H,8,FALSE))","v":""},null,null,null,null,{"$f":"IF(ISERROR(VLOOKUP(I86,AS!$A:$H,7,FALSE)),\"\",VLOOKUP(I86,AS!$A:$H,7,FALSE))","v":""},{"$f":"IF(ISERROR(VLOOKUP(I86,AS!$A:$H,8,FALSE)),\"\",VLOOKUP(I86,AS!$A:$H,8,FALSE))","v":""},null,null,null,null,{"$f":"IF(ISERROR(VLOOKUP(O86,AS!$A:$H,7,FALSE)),\"\",VLOOKUP(O86,AS!$A:$H,7,FALSE))","v":""},{"$f":"IF(ISERROR(VLOOKUP(O86,AS!$A:$H,8,FALSE)),\"\",VLOOKUP(O86,AS!$A:$H,8,FALSE))","v":""},null,null,null,null,{"$f":"IF(ISERROR(VLOOKUP(U86,AS!$A:$H,7,FALSE)),\"\",VLOOKUP(U86,AS!$A:$H,7,FALSE))","v":""},{"$f":"IF(ISERROR(VLOOKUP(U86,AS!$A:$H,8,FALSE)),\"\",VLOOKUP(U86,AS!$A:$H,8,FALSE))","v":""},null,null,null,null,{"$f":"IF(ISERROR(VLOOKUP(AA86,AS!$A:$H,7,FALSE)),\"\",VLOOKUP(AA86,AS!$A:$H,7,FALSE))","v":""},{"$f":"IF(ISERROR(VLOOKUP(AA86,AS!$A:$H,8,FALSE)),\"\",VLOOKUP(AA86,AS!$A:$H,8,FALSE))","v":""},null,null,null,"",null,{"$f":"IF(AI86=\"\",\"\",IF(OFFSET('Fiche score'!$A$2,VLOOKUP(RIGHT(AI86,2),Feuil1!A:C,2,FALSE),VLOOKUP(RIGHT(AI86,2),Feuil1!A:C,3,FALSE))=A86 & CHAR(10) & C86,2,IF(OFFSET('Fiche score'!$A$2,VLOOKUP(RIGHT(AI86,2),Feuil1!A:C,2,FALSE)+1,VLOOKUP(RIGHT(AI86,2),Feuil1!A:C,3,FALSE))=A86 & CHAR(10) & C86,2,IF(OFFSET('Fiche score'!$A$2,VLOOKUP(RIGHT(AI86,2),Feuil1!A:C,2,FALSE)-1,VLOOKUP(RIGHT(AI86,2),Feuil1!A:C,3,FALSE))=A86 & CHAR(10) & C86,1,IF(OFFSET('Fiche score'!$A$2,VLOOKUP(RIGHT(AI86,2),Feuil1!A:C,2,FALSE)-2,VLOOKUP(RIGHT(AI86,2),Feuil1!A:C,3,FALSE))=A86 & CHAR(10) & C86,1,\"0\")))))","v":""},{"$f":"IF(ISERROR(VLOOKUP(A86 & CHAR(10) &C86,'Fiche tirage dirigé'!I:I,1,FALSE)),0,1)","v":0},{"$f":"IF(ISERROR(VLOOKUP(A86& CHAR(10) &C86,Cadrage!H:H,1,FALSE)),0,1)","v":0},{"$f":"IF(ISERROR(VLOOKUP(A86 & CHAR(10) &C86,'Tableau final'!V:V,1,FALSE)),0,1)","v":0},{"$f":"IF(ISERROR(VLOOKUP(A86 & CHAR(10) &C86,'Tableau final'!W:W,1,FALSE)),0,1)","v":0},{"$f":"IF(ISERROR(VLOOKUP(A86 & CHAR(10) &C86,'Tableau final'!X:X,1,FALSE)),0,1)","v":0},{"$f":"IF(ISERROR(VLOOKUP(A86 & CHAR(10) &C86,'Tableau final'!Y:Y,1,FALSE)),0,1)","v":0},{"$f":"IF(ISERROR(VLOOKUP(A86 & CHAR(10) &C86,'Tableau final'!Z:Z,1,FALSE)),0,1)","v":0},{"$f":"IF('Tableau final'!$A$1<>\"\",IF('Tableau final'!$B$5=\"Qualifiés\",IF(ISERROR(VLOOKUP(A86 & CHAR(10) &C86,'Tableau final'!C:F,1,FALSE)),\"\",IF(AND(VLOOKUP(A86 & CHAR(10) &C86,'Tableau final'!C:F,3,FALSE)<>\"\",VLOOKUP(A86 & CHAR(10) &C86,'Tableau final'!C:F,4,FALSE)=\"x\"),1,\"\")),IF('Tableau final'!$G$5=\"Qualifiés\",IF(ISERROR(VLOOKUP(A86 & CHAR(10) &C86,'Tableau final'!H:K,1,FALSE)),\"\",IF(AND(VLOOKUP(A86 & CHAR(10) &C86,'Tableau final'!H:K,3,FALSE)<>\"\",VLOOKUP(A86 & CHAR(10) &C86,'Tableau final'!H:K,4,FALSE)=\"x\"),1,\"\")),IF('Tableau final'!$L$5=\"Qualifiés\",IF(ISERROR(VLOOKUP(A86 & CHAR(10) &C86,'Tableau final'!M:P,1,FALSE)),\"\",IF(AND(VLOOKUP(A86 & CHAR(10) &C86,'Tableau final'!M:P,3,FALSE)<>\"\",VLOOKUP(A86 & CHAR(10) &C86,'Tableau final'!M:P,4,FALSE)=\"x\"),1,\"\")),\"\"))),\"\")","v":""},"0",{"$f":"IF(ISERROR(VLOOKUP(AI86,Tirage!A:J,1,FALSE)),\"\",IF(VLOOKUP(AI86,Tirage!A:J,1,FALSE)=\"Office \",3,4))","v":""},{"$f":"IF(AJ86=\"0\",4,IF(AJ86=1,3,IF(AJ86=2,IF(OFFSET('Fiche score'!$A$2,VLOOKUP(RIGHT(AI86,2),Feuil1!A:C,2,FALSE),VLOOKUP(RIGHT(AI86,2),Feuil1!A:C,3,FALSE))=A86 & CHAR(10) & C86,1,2),\"\")))","v":""}]
[null,null,null,null,{"$f":"IF(ISERROR(VLOOKUP(C87,AS!$A:$H,7,FALSE)),\"\",VLOOKUP(C87,AS!$A:$H,7,FALSE))","v":""},{"$f":"IF(ISERROR(VLOOKUP(C87,AS!$A:$H,8,FALSE)),\"\",VLOOKUP(C87,AS!$A:$H,8,FALSE))","v":""},null,null,null,null,{"$f":"IF(ISERROR(VLOOKUP(I87,AS!$A:$H,7,FALSE)),\"\",VLOOKUP(I87,AS!$A:$H,7,FALSE))","v":""},{"$f":"IF(ISERROR(VLOOKUP(I87,AS!$A:$H,8,FALSE)),\"\",VLOOKUP(I87,AS!$A:$H,8,FALSE))","v":""},null,null,null,null,{"$f":"IF(ISERROR(VLOOKUP(O87,AS!$A:$H,7,FALSE)),\"\",VLOOKUP(O87,AS!$A:$H,7,FALSE))","v":""},{"$f":"IF(ISERROR(VLOOKUP(O87,AS!$A:$H,8,FALSE)),\"\",VLOOKUP(O87,AS!$A:$H,8,FALSE))","v":""},null,null,null,null,{"$f":"IF(ISERROR(VLOOKUP(U87,AS!$A:$H,7,FALSE)),\"\",VLOOKUP(U87,AS!$A:$H,7,FALSE))","v":""},{"$f":"IF(ISERROR(VLOOKUP(U87,AS!$A:$H,8,FALSE)),\"\",VLOOKUP(U87,AS!$A:$H,8,FALSE))","v":""},null,null,null,null,{"$f":"IF(ISERROR(VLOOKUP(AA87,AS!$A:$H,7,FALSE)),\"\",VLOOKUP(AA87,AS!$A:$H,7,FALSE))","v":""},{"$f":"IF(ISERROR(VLOOKUP(AA87,AS!$A:$H,8,FALSE)),\"\",VLOOKUP(AA87,AS!$A:$H,8,FALSE))","v":""},null,null,null,"",null,{"$f":"IF(AI87=\"\",\"\",IF(OFFSET('Fiche score'!$A$2,VLOOKUP(RIGHT(AI87,2),Feuil1!A:C,2,FALSE),VLOOKUP(RIGHT(AI87,2),Feuil1!A:C,3,FALSE))=A87 & CHAR(10) & C87,2,IF(OFFSET('Fiche score'!$A$2,VLOOKUP(RIGHT(AI87,2),Feuil1!A:C,2,FALSE)+1,VLOOKUP(RIGHT(AI87,2),Feuil1!A:C,3,FALSE))=A87 & CHAR(10) & C87,2,IF(OFFSET('Fiche score'!$A$2,VLOOKUP(RIGHT(AI87,2),Feuil1!A:C,2,FALSE)-1,VLOOKUP(RIGHT(AI87,2),Feuil1!A:C,3,FALSE))=A87 & CHAR(10) & C87,1,IF(OFFSET('Fiche score'!$A$2,VLOOKUP(RIGHT(AI87,2),Feuil1!A:C,2,FALSE)-2,VLOOKUP(RIGHT(AI87,2),Feuil1!A:C,3,FALSE))=A87 & CHAR(10) & C87,1,\"0\")))))","v":""},{"$f":"IF(ISERROR(VLOOKUP(A87 & CHAR(10) &C87,'Fiche tirage dirigé'!I:I,1,FALSE)),0,1)","v":0},{"$f":"IF(ISERROR(VLOOKUP(A87& CHAR(10) &C87,Cadrage!H:H,1,FALSE)),0,1)","v":0},{"$f":"IF(ISERROR(VLOOKUP(A87 & CHAR(10) &C87,'Tableau final'!V:V,1,FALSE)),0,1)","v":0},{"$f":"IF(ISERROR(VLOOKUP(A87 & CHAR(10) &C87,'Tableau final'!W:W,1,FALSE)),0,1)","v":0},{"$f":"IF(ISERROR(VLOOKUP(A87 & CHAR(10) &C87,'Tableau final'!X:X,1,FALSE)),0,1)","v":0},{"$f":"IF(ISERROR(VLOOKUP(A87 & CHAR(10) &C87,'Tableau final'!Y:Y,1,FALSE)),0,1)","v":0},{"$f":"IF(ISERROR(VLOOKUP(A87 & CHAR(10) &C87,'Tableau final'!Z:Z,1,FALSE)),0,1)","v":0},{"$f":"IF('Tableau final'!$A$1<>\"\",IF('Tableau final'!$B$5=\"Qualifiés\",IF(ISERROR(VLOOKUP(A87 & CHAR(10) &C87,'Tableau final'!C:F,1,FALSE)),\"\",IF(AND(VLOOKUP(A87 & CHAR(10) &C87,'Tableau final'!C:F,3,FALSE)<>\"\",VLOOKUP(A87 & CHAR(10) &C87,'Tableau final'!C:F,4,FALSE)=\"x\"),1,\"\")),IF('Tableau final'!$G$5=\"Qualifiés\",IF(ISERROR(VLOOKUP(A87 & CHAR(10) &C87,'Tableau final'!H:K,1,FALSE)),\"\",IF(AND(VLOOKUP(A87 & CHAR(10) &C87,'Tableau final'!H:K,3,FALSE)<>\"\",VLOOKUP(A87 & CHAR(10) &C87,'Tableau final'!H:K,4,FALSE)=\"x\"),1,\"\")),IF('Tableau final'!$L$5=\"Qualifiés\",IF(ISERROR(VLOOKUP(A87 & CHAR(10) &C87,'Tableau final'!M:P,1,FALSE)),\"\",IF(AND(VLOOKUP(A87 & CHAR(10) &C87,'Tableau final'!M:P,3,FALSE)<>\"\",VLOOKUP(A87 & CHAR(10) &C87,'Tableau final'!M:P,4,FALSE)=\"x\"),1,\"\")),\"\"))),\"\")","v":""},"0",{"$f":"IF(ISERROR(VLOOKUP(AI87,Tirage!A:J,1,FALSE)),\"\",IF(VLOOKUP(AI87,Tirage!A:J,1,FALSE)=\"Office \",3,4))","v":""},{"$f":"IF(AJ87=\"0\",4,IF(AJ87=1,3,IF(AJ87=2,IF(OFFSET('Fiche score'!$A$2,VLOOKUP(RIGHT(AI87,2),Feuil1!A:C,2,FALSE),VLOOKUP(RIGHT(AI87,2),Feuil1!A:C,3,FALSE))=A87 & CHAR(10) & C87,1,2),\"\")))","v":""}]
[null,null,null,null,{"$f":"IF(ISERROR(VLOOKUP(C88,AS!$A:$H,7,FALSE)),\"\",VLOOKUP(C88,AS!$A:$H,7,FALSE))","v":""},{"$f":"IF(ISERROR(VLOOKUP(C88,AS!$A:$H,8,FALSE)),\"\",VLOOKUP(C88,AS!$A:$H,8,FALSE))","v":""},null,null,null,null,{"$f":"IF(ISERROR(VLOOKUP(I88,AS!$A:$H,7,FALSE)),\"\",VLOOKUP(I88,AS!$A:$H,7,FALSE))","v":""},{"$f":"IF(ISERROR(VLOOKUP(I88,AS!$A:$H,8,FALSE)),\"\",VLOOKUP(I88,AS!$A:$H,8,FALSE))","v":""},null,null,null,null,{"$f":"IF(ISERROR(VLOOKUP(O88,AS!$A:$H,7,FALSE)),\"\",VLOOKUP(O88,AS!$A:$H,7,FALSE))","v":""},{"$f":"IF(ISERROR(VLOOKUP(O88,AS!$A:$H,8,FALSE)),\"\",VLOOKUP(O88,AS!$A:$H,8,FALSE))","v":""},null,null,null,null,{"$f":"IF(ISERROR(VLOOKUP(U88,AS!$A:$H,7,FALSE)),\"\",VLOOKUP(U88,AS!$A:$H,7,FALSE))","v":""},{"$f":"IF(ISERROR(VLOOKUP(U88,AS!$A:$H,8,FALSE)),\"\",VLOOKUP(U88,AS!$A:$H,8,FALSE))","v":""},null,null,null,null,{"$f":"IF(ISERROR(VLOOKUP(AA88,AS!$A:$H,7,FALSE)),\"\",VLOOKUP(AA88,AS!$A:$H,7,FALSE))","v":""},{"$f":"IF(ISERROR(VLOOKUP(AA88,AS!$A:$H,8,FALSE)),\"\",VLOOKUP(AA88,AS!$A:$H,8,FALSE))","v":""},null,null,null,"",null,{"$f":"IF(AI88=\"\",\"\",IF(OFFSET('Fiche score'!$A$2,VLOOKUP(RIGHT(AI88,2),Feuil1!A:C,2,FALSE),VLOOKUP(RIGHT(AI88,2),Feuil1!A:C,3,FALSE))=A88 & CHAR(10) & C88,2,IF(OFFSET('Fiche score'!$A$2,VLOOKUP(RIGHT(AI88,2),Feuil1!A:C,2,FALSE)+1,VLOOKUP(RIGHT(AI88,2),Feuil1!A:C,3,FALSE))=A88 & CHAR(10) & C88,2,IF(OFFSET('Fiche score'!$A$2,VLOOKUP(RIGHT(AI88,2),Feuil1!A:C,2,FALSE)-1,VLOOKUP(RIGHT(AI88,2),Feuil1!A:C,3,FALSE))=A88 & CHAR(10) & C88,1,IF(OFFSET('Fiche score'!$A$2,VLOOKUP(RIGHT(AI88,2),Feuil1!A:C,2,FALSE)-2,VLOOKUP(RIGHT(AI88,2),Feuil1!A:C,3,FALSE))=A88 & CHAR(10) & C88,1,\"0\")))))","v":""},{"$f":"IF(ISERROR(VLOOKUP(A88 & CHAR(10) &C88,'Fiche tirage dirigé'!I:I,1,FALSE)),0,1)","v":0},{"$f":"IF(ISERROR(VLOOKUP(A88& CHAR(10) &C88,Cadrage!H:H,1,FALSE)),0,1)","v":0},{"$f":"IF(ISERROR(VLOOKUP(A88 & CHAR(10) &C88,'Tableau final'!V:V,1,FALSE)),0,1)","v":0},{"$f":"IF(ISERROR(VLOOKUP(A88 & CHAR(10) &C88,'Tableau final'!W:W,1,FALSE)),0,1)","v":0},{"$f":"IF(ISERROR(VLOOKUP(A88 & CHAR(10) &C88,'Tableau final'!X:X,1,FALSE)),0,1)","v":0},{"$f":"IF(ISERROR(VLOOKUP(A88 & CHAR(10) &C88,'Tableau final'!Y:Y,1,FALSE)),0,1)","v":0},{"$f":"IF(ISERROR(VLOOKUP(A88 & CHAR(10) &C88,'Tableau final'!Z:Z,1,FALSE)),0,1)","v":0},{"$f":"IF('Tableau final'!$A$1<>\"\",IF('Tableau final'!$B$5=\"Qualifiés\",IF(ISERROR(VLOOKUP(A88 & CHAR(10) &C88,'Tableau final'!C:F,1,FALSE)),\"\",IF(AND(VLOOKUP(A88 & CHAR(10) &C88,'Tableau final'!C:F,3,FALSE)<>\"\",VLOOKUP(A88 & CHAR(10) &C88,'Tableau final'!C:F,4,FALSE)=\"x\"),1,\"\")),IF('Tableau final'!$G$5=\"Qualifiés\",IF(ISERROR(VLOOKUP(A88 & CHAR(10) &C88,'Tableau final'!H:K,1,FALSE)),\"\",IF(AND(VLOOKUP(A88 & CHAR(10) &C88,'Tableau final'!H:K,3,FALSE)<>\"\",VLOOKUP(A88 & CHAR(10) &C88,'Tableau final'!H:K,4,FALSE)=\"x\"),1,\"\")),IF('Tableau final'!$L$5=\"Qualifiés\",IF(ISERROR(VLOOKUP(A88 & CHAR(10) &C88,'Tableau final'!M:P,1,FALSE)),\"\",IF(AND(VLOOKUP(A88 & CHAR(10) &C88,'Tableau final'!M:P,3,FALSE)<>\"\",VLOOKUP(A88 & CHAR(10) &C88,'Tableau final'!M:P,4,FALSE)=\"x\"),1,\"\")),\"\"))),\"\")","v":""},"0",{"$f":"IF(ISERROR(VLOOKUP(AI88,Tirage!A:J,1,FALSE)),\"\",IF(VLOOKUP(AI88,Tirage!A:J,1,FALSE)=\"Office \",3,4))","v":""},{"$f":"IF(AJ88=\"0\",4,IF(AJ88=1,3,IF(AJ88=2,IF(OFFSET('Fiche score'!$A$2,VLOOKUP(RIGHT(AI88,2),Feuil1!A:C,2,FALSE),VLOOKUP(RIGHT(AI88,2),Feuil1!A:C,3,FALSE))=A88 & CHAR(10) & C88,1,2),\"\")))","v":""}]
[null,null,null,null,{"$f":"IF(ISERROR(VLOOKUP(C89,AS!$A:$H,7,FALSE)),\"\",VLOOKUP(C89,AS!$A:$H,7,FALSE))","v":""},{"$f":"IF(ISERROR(VLOOKUP(C89,AS!$A:$H,8,FALSE)),\"\",VLOOKUP(C89,AS!$A:$H,8,FALSE))","v":""},null,null,null,null,{"$f":"IF(ISERROR(VLOOKUP(I89,AS!$A:$H,7,FALSE)),\"\",VLOOKUP(I89,AS!$A:$H,7,FALSE))","v":""},{"$f":"IF(ISERROR(VLOOKUP(I89,AS!$A:$H,8,FALSE)),\"\",VLOOKUP(I89,AS!$A:$H,8,FALSE))","v":""},null,null,null,null,{"$f":"IF(ISERROR(VLOOKUP(O89,AS!$A:$H,7,FALSE)),\"\",VLOOKUP(O89,AS!$A:$H,7,FALSE))","v":""},{"$f":"IF(ISERROR(VLOOKUP(O89,AS!$A:$H,8,FALSE)),\"\",VLOOKUP(O89,AS!$A:$H,8,FALSE))","v":""},null,null,null,null,{"$f":"IF(ISERROR(VLOOKUP(U89,AS!$A:$H,7,FALSE)),\"\",VLOOKUP(U89,AS!$A:$H,7,FALSE))","v":""},{"$f":"IF(ISERROR(VLOOKUP(U89,AS!$A:$H,8,FALSE)),\"\",VLOOKUP(U89,AS!$A:$H,8,FALSE))","v":""},null,null,null,null,{"$f":"IF(ISERROR(VLOOKUP(AA89,AS!$A:$H,7,FALSE)),\"\",VLOOKUP(AA89,AS!$A:$H,7,FALSE))","v":""},{"$f":"IF(ISERROR(VLOOKUP(AA89,AS!$A:$H,8,FALSE)),\"\",VLOOKUP(AA89,AS!$A:$H,8,FALSE))","v":""},null,null,null,"",null,{"$f":"IF(AI89=\"\",\"\",IF(OFFSET('Fiche score'!$A$2,VLOOKUP(RIGHT(AI89,2),Feuil1!A:C,2,FALSE),VLOOKUP(RIGHT(AI89,2),Feuil1!A:C,3,FALSE))=A89 & CHAR(10) & C89,2,IF(OFFSET('Fiche score'!$A$2,VLOOKUP(RIGHT(AI89,2),Feuil1!A:C,2,FALSE)+1,VLOOKUP(RIGHT(AI89,2),Feuil1!A:C,3,FALSE))=A89 & CHAR(10) & C89,2,IF(OFFSET('Fiche score'!$A$2,VLOOKUP(RIGHT(AI89,2),Feuil1!A:C,2,FALSE)-1,VLOOKUP(RIGHT(AI89,2),Feuil1!A:C,3,FALSE))=A89 & CHAR(10) & C89,1,IF(OFFSET('Fiche score'!$A$2,VLOOKUP(RIGHT(AI89,2),Feuil1!A:C,2,FALSE)-2,VLOOKUP(RIGHT(AI89,2),Feuil1!A:C,3,FALSE))=A89 & CHAR(10) & C89,1,\"0\")))))","v":""},{"$f":"IF(ISERROR(VLOOKUP(A89 & CHAR(10) &C89,'Fiche tirage dirigé'!I:I,1,FALSE)),0,1)","v":0},{"$f":"IF(ISERROR(VLOOKUP(A89& CHAR(10) &C89,Cadrage!H:H,1,FALSE)),0,1)","v":0},{"$f":"IF(ISERROR(VLOOKUP(A89 & CHAR(10) &C89,'Tableau final'!V:V,1,FALSE)),0,1)","v":0},{"$f":"IF(ISERROR(VLOOKUP(A89 & CHAR(10) &C89,'Tableau final'!W:W,1,FALSE)),0,1)","v":0},{"$f":"IF(ISERROR(VLOOKUP(A89 & CHAR(10) &C89,'Tableau final'!X:X,1,FALSE)),0,1)","v":0},{"$f":"IF(ISERROR(VLOOKUP(A89 & CHAR(10) &C89,'Tableau final'!Y:Y,1,FALSE)),0,1)","v":0},{"$f":"IF(ISERROR(VLOOKUP(A89 & CHAR(10) &C89,'Tableau final'!Z:Z,1,FALSE)),0,1)","v":0},{"$f":"IF('Tableau final'!$A$1<>\"\",IF('Tableau final'!$B$5=\"Qualifiés\",IF(ISERROR(VLOOKUP(A89 & CHAR(10) &C89,'Tableau final'!C:F,1,FALSE)),\"\",IF(AND(VLOOKUP(A89 & CHAR(10) &C89,'Tableau final'!C:F,3,FALSE)<>\"\",VLOOKUP(A89 & CHAR(10) &C89,'Tableau final'!C:F,4,FALSE)=\"x\"),1,\"\")),IF('Tableau final'!$G$5=\"Qualifiés\",IF(ISERROR(VLOOKUP(A89 & CHAR(10) &C89,'Tableau final'!H:K,1,FALSE)),\"\",IF(AND(VLOOKUP(A89 & CHAR(10) &C89,'Tableau final'!H:K,3,FALSE)<>\"\",VLOOKUP(A89 & CHAR(10) &C89,'Tableau final'!H:K,4,FALSE)=\"x\"),1,\"\")),IF('Tableau final'!$L$5=\"Qualifiés\",IF(ISERROR(VLOOKUP(A89 & CHAR(10) &C89,'Tableau final'!M:P,1,FALSE)),\"\",IF(AND(VLOOKUP(A89 & CHAR(10) &C89,'Tableau final'!M:P,3,FALSE)<>\"\",VLOOKUP(A89 & CHAR(10) &C89,'Tableau final'!M:P,4,FALSE)=\"x\"),1,\"\")),\"\"))),\"\")","v":""},"0",{"$f":"IF(ISERROR(VLOOKUP(AI89,Tirage!A:J,1,FALSE)),\"\",IF(VLOOKUP(AI89,Tirage!A:J,1,FALSE)=\"Office \",3,4))","v":""},{"$f":"IF(AJ89=\"0\",4,IF(AJ89=1,3,IF(AJ89=2,IF(OFFSET('Fiche score'!$A$2,VLOOKUP(RIGHT(AI89,2),Feuil1!A:C,2,FALSE),VLOOKUP(RIGHT(AI89,2),Feuil1!A:C,3,FALSE))=A89 & CHAR(10) & C89,1,2),\"\")))","v":""}]
[null,null,null,null,{"$f":"IF(ISERROR(VLOOKUP(C90,AS!$A:$H,7,FALSE)),\"\",VLOOKUP(C90,AS!$A:$H,7,FALSE))","v":""},{"$f":"IF(ISERROR(VLOOKUP(C90,AS!$A:$H,8,FALSE)),\"\",VLOOKUP(C90,AS!$A:$H,8,FALSE))","v":""},null,null,null,null,{"$f":"IF(ISERROR(VLOOKUP(I90,AS!$A:$H,7,FALSE)),\"\",VLOOKUP(I90,AS!$A:$H,7,FALSE))","v":""},{"$f":"IF(ISERROR(VLOOKUP(I90,AS!$A:$H,8,FALSE)),\"\",VLOOKUP(I90,AS!$A:$H,8,FALSE))","v":""},null,null,null,null,{"$f":"IF(ISERROR(VLOOKUP(O90,AS!$A:$H,7,FALSE)),\"\",VLOOKUP(O90,AS!$A:$H,7,FALSE))","v":""},{"$f":"IF(ISERROR(VLOOKUP(O90,AS!$A:$H,8,FALSE)),\"\",VLOOKUP(O90,AS!$A:$H,8,FALSE))","v":""},null,null,null,null,{"$f":"IF(ISERROR(VLOOKUP(U90,AS!$A:$H,7,FALSE)),\"\",VLOOKUP(U90,AS!$A:$H,7,FALSE))","v":""},{"$f":"IF(ISERROR(VLOOKUP(U90,AS!$A:$H,8,FALSE)),\"\",VLOOKUP(U90,AS!$A:$H,8,FALSE))","v":""},null,null,null,null,{"$f":"IF(ISERROR(VLOOKUP(AA90,AS!$A:$H,7,FALSE)),\"\",VLOOKUP(AA90,AS!$A:$H,7,FALSE))","v":""},{"$f":"IF(ISERROR(VLOOKUP(AA90,AS!$A:$H,8,FALSE)),\"\",VLOOKUP(AA90,AS!$A:$H,8,FALSE))","v":""},null,null,null,"",null,{"$f":"IF(AI90=\"\",\"\",IF(OFFSET('Fiche score'!$A$2,VLOOKUP(RIGHT(AI90,2),Feuil1!A:C,2,FALSE),VLOOKUP(RIGHT(AI90,2),Feuil1!A:C,3,FALSE))=A90 & CHAR(10) & C90,2,IF(OFFSET('Fiche score'!$A$2,VLOOKUP(RIGHT(AI90,2),Feuil1!A:C,2,FALSE)+1,VLOOKUP(RIGHT(AI90,2),Feuil1!A:C,3,FALSE))=A90 & CHAR(10) & C90,2,IF(OFFSET('Fiche score'!$A$2,VLOOKUP(RIGHT(AI90,2),Feuil1!A:C,2,FALSE)-1,VLOOKUP(RIGHT(AI90,2),Feuil1!A:C,3,FALSE))=A90 & CHAR(10) & C90,1,IF(OFFSET('Fiche score'!$A$2,VLOOKUP(RIGHT(AI90,2),Feuil1!A:C,2,FALSE)-2,VLOOKUP(RIGHT(AI90,2),Feuil1!A:C,3,FALSE))=A90 & CHAR(10) & C90,1,\"0\")))))","v":""},{"$f":"IF(ISERROR(VLOOKUP(A90 & CHAR(10) &C90,'Fiche tirage dirigé'!I:I,1,FALSE)),0,1)","v":0},{"$f":"IF(ISERROR(VLOOKUP(A90& CHAR(10) &C90,Cadrage!H:H,1,FALSE)),0,1)","v":0},{"$f":"IF(ISERROR(VLOOKUP(A90 & CHAR(10) &C90,'Tableau final'!V:V,1,FALSE)),0,1)","v":0},{"$f":"IF(ISERROR(VLOOKUP(A90 & CHAR(10) &C90,'Tableau final'!W:W,1,FALSE)),0,1)","v":0},{"$f":"IF(ISERROR(VLOOKUP(A90 & CHAR(10) &C90,'Tableau final'!X:X,1,FALSE)),0,1)","v":0},{"$f":"IF(ISERROR(VLOOKUP(A90 & CHAR(10) &C90,'Tableau final'!Y:Y,1,FALSE)),0,1)","v":0},{"$f":"IF(ISERROR(VLOOKUP(A90 & CHAR(10) &C90,'Tableau final'!Z:Z,1,FALSE)),0,1)","v":0},{"$f":"IF('Tableau final'!$A$1<>\"\",IF('Tableau final'!$B$5=\"Qualifiés\",IF(ISERROR(VLOOKUP(A90 & CHAR(10) &C90,'Tableau final'!C:F,1,FALSE)),\"\",IF(AND(VLOOKUP(A90 & CHAR(10) &C90,'Tableau final'!C:F,3,FALSE)<>\"\",VLOOKUP(A90 & CHAR(10) &C90,'Tableau final'!C:F,4,FALSE)=\"x\"),1,\"\")),IF('Tableau final'!$G$5=\"Qualifiés\",IF(ISERROR(VLOOKUP(A90 & CHAR(10) &C90,'Tableau final'!H:K,1,FALSE)),\"\",IF(AND(VLOOKUP(A90 & CHAR(10) &C90,'Tableau final'!H:K,3,FALSE)<>\"\",VLOOKUP(A90 & CHAR(10) &C90,'Tableau final'!H:K,4,FALSE)=\"x\"),1,\"\")),IF('Tableau final'!$L$5=\"Qualifiés\",IF(ISERROR(VLOOKUP(A90 & CHAR(10) &C90,'Tableau final'!M:P,1,FALSE)),\"\",IF(AND(VLOOKUP(A90 & CHAR(10) &C90,'Tableau final'!M:P,3,FALSE)<>\"\",VLOOKUP(A90 & CHAR(10) &C90,'Tableau final'!M:P,4,FALSE)=\"x\"),1,\"\")),\"\"))),\"\")","v":""},"0",{"$f":"IF(ISERROR(VLOOKUP(AI90,Tirage!A:J,1,FALSE)),\"\",IF(VLOOKUP(AI90,Tirage!A:J,1,FALSE)=\"Office \",3,4))","v":""},{"$f":"IF(AJ90=\"0\",4,IF(AJ90=1,3,IF(AJ90=2,IF(OFFSET('Fiche score'!$A$2,VLOOKUP(RIGHT(AI90,2),Feuil1!A:C,2,FALSE),VLOOKUP(RIGHT(AI90,2),Feuil1!A:C,3,FALSE))=A90 & CHAR(10) & C90,1,2),\"\")))","v":""}]
[null,null,null,null,{"$f":"IF(ISERROR(VLOOKUP(C91,AS!$A:$H,7,FALSE)),\"\",VLOOKUP(C91,AS!$A:$H,7,FALSE))","v":""},{"$f":"IF(ISERROR(VLOOKUP(C91,AS!$A:$H,8,FALSE)),\"\",VLOOKUP(C91,AS!$A:$H,8,FALSE))","v":""},null,null,null,null,{"$f":"IF(ISERROR(VLOOKUP(I91,AS!$A:$H,7,FALSE)),\"\",VLOOKUP(I91,AS!$A:$H,7,FALSE))","v":""},{"$f":"IF(ISERROR(VLOOKUP(I91,AS!$A:$H,8,FALSE)),\"\",VLOOKUP(I91,AS!$A:$H,8,FALSE))","v":""},null,null,null,null,{"$f":"IF(ISERROR(VLOOKUP(O91,AS!$A:$H,7,FALSE)),\"\",VLOOKUP(O91,AS!$A:$H,7,FALSE))","v":""},{"$f":"IF(ISERROR(VLOOKUP(O91,AS!$A:$H,8,FALSE)),\"\",VLOOKUP(O91,AS!$A:$H,8,FALSE))","v":""},null,null,null,null,{"$f":"IF(ISERROR(VLOOKUP(U91,AS!$A:$H,7,FALSE)),\"\",VLOOKUP(U91,AS!$A:$H,7,FALSE))","v":""},{"$f":"IF(ISERROR(VLOOKUP(U91,AS!$A:$H,8,FALSE)),\"\",VLOOKUP(U91,AS!$A:$H,8,FALSE))","v":""},null,null,null,null,{"$f":"IF(ISERROR(VLOOKUP(AA91,AS!$A:$H,7,FALSE)),\"\",VLOOKUP(AA91,AS!$A:$H,7,FALSE))","v":""},{"$f":"IF(ISERROR(VLOOKUP(AA91,AS!$A:$H,8,FALSE)),\"\",VLOOKUP(AA91,AS!$A:$H,8,FALSE))","v":""},null,null,null,"",null,{"$f":"IF(AI91=\"\",\"\",IF(OFFSET('Fiche score'!$A$2,VLOOKUP(RIGHT(AI91,2),Feuil1!A:C,2,FALSE),VLOOKUP(RIGHT(AI91,2),Feuil1!A:C,3,FALSE))=A91 & CHAR(10) & C91,2,IF(OFFSET('Fiche score'!$A$2,VLOOKUP(RIGHT(AI91,2),Feuil1!A:C,2,FALSE)+1,VLOOKUP(RIGHT(AI91,2),Feuil1!A:C,3,FALSE))=A91 & CHAR(10) & C91,2,IF(OFFSET('Fiche score'!$A$2,VLOOKUP(RIGHT(AI91,2),Feuil1!A:C,2,FALSE)-1,VLOOKUP(RIGHT(AI91,2),Feuil1!A:C,3,FALSE))=A91 & CHAR(10) & C91,1,IF(OFFSET('Fiche score'!$A$2,VLOOKUP(RIGHT(AI91,2),Feuil1!A:C,2,FALSE)-2,VLOOKUP(RIGHT(AI91,2),Feuil1!A:C,3,FALSE))=A91 & CHAR(10) & C91,1,\"0\")))))","v":""},{"$f":"IF(ISERROR(VLOOKUP(A91 & CHAR(10) &C91,'Fiche tirage dirigé'!I:I,1,FALSE)),0,1)","v":0},{"$f":"IF(ISERROR(VLOOKUP(A91& CHAR(10) &C91,Cadrage!H:H,1,FALSE)),0,1)","v":0},{"$f":"IF(ISERROR(VLOOKUP(A91 & CHAR(10) &C91,'Tableau final'!V:V,1,FALSE)),0,1)","v":0},{"$f":"IF(ISERROR(VLOOKUP(A91 & CHAR(10) &C91,'Tableau final'!W:W,1,FALSE)),0,1)","v":0},{"$f":"IF(ISERROR(VLOOKUP(A91 & CHAR(10) &C91,'Tableau final'!X:X,1,FALSE)),0,1)","v":0},{"$f":"IF(ISERROR(VLOOKUP(A91 & CHAR(10) &C91,'Tableau final'!Y:Y,1,FALSE)),0,1)","v":0},{"$f":"IF(ISERROR(VLOOKUP(A91 & CHAR(10) &C91,'Tableau final'!Z:Z,1,FALSE)),0,1)","v":0},{"$f":"IF('Tableau final'!$A$1<>\"\",IF('Tableau final'!$B$5=\"Qualifiés\",IF(ISERROR(VLOOKUP(A91 & CHAR(10) &C91,'Tableau final'!C:F,1,FALSE)),\"\",IF(AND(VLOOKUP(A91 & CHAR(10) &C91,'Tableau final'!C:F,3,FALSE)<>\"\",VLOOKUP(A91 & CHAR(10) &C91,'Tableau final'!C:F,4,FALSE)=\"x\"),1,\"\")),IF('Tableau final'!$G$5=\"Qualifiés\",IF(ISERROR(VLOOKUP(A91 & CHAR(10) &C91,'Tableau final'!H:K,1,FALSE)),\"\",IF(AND(VLOOKUP(A91 & CHAR(10) &C91,'Tableau final'!H:K,3,FALSE)<>\"\",VLOOKUP(A91 & CHAR(10) &C91,'Tableau final'!H:K,4,FALSE)=\"x\"),1,\"\")),IF('Tableau final'!$L$5=\"Qualifiés\",IF(ISERROR(VLOOKUP(A91 & CHAR(10) &C91,'Tableau final'!M:P,1,FALSE)),\"\",IF(AND(VLOOKUP(A91 & CHAR(10) &C91,'Tableau final'!M:P,3,FALSE)<>\"\",VLOOKUP(A91 & CHAR(10) &C91,'Tableau final'!M:P,4,FALSE)=\"x\"),1,\"\")),\"\"))),\"\")","v":""},"0",{"$f":"IF(ISERROR(VLOOKUP(AI91,Tirage!A:J,1,FALSE)),\"\",IF(VLOOKUP(AI91,Tirage!A:J,1,FALSE)=\"Office \",3,4))","v":""},{"$f":"IF(AJ91=\"0\",4,IF(AJ91=1,3,IF(AJ91=2,IF(OFFSET('Fiche score'!$A$2,VLOOKUP(RIGHT(AI91,2),Feuil1!A:C,2,FALSE),VLOOKUP(RIGHT(AI91,2),Feuil1!A:C,3,FALSE))=A91 & CHAR(10) & C91,1,2),\"\")))","v":""}]
[null,null,null,null,{"$f":"IF(ISERROR(VLOOKUP(C92,AS!$A:$H,7,FALSE)),\"\",VLOOKUP(C92,AS!$A:$H,7,FALSE))","v":""},{"$f":"IF(ISERROR(VLOOKUP(C92,AS!$A:$H,8,FALSE)),\"\",VLOOKUP(C92,AS!$A:$H,8,FALSE))","v":""},null,null,null,null,{"$f":"IF(ISERROR(VLOOKUP(I92,AS!$A:$H,7,FALSE)),\"\",VLOOKUP(I92,AS!$A:$H,7,FALSE))","v":""},{"$f":"IF(ISERROR(VLOOKUP(I92,AS!$A:$H,8,FALSE)),\"\",VLOOKUP(I92,AS!$A:$H,8,FALSE))","v":""},null,null,null,null,{"$f":"IF(ISERROR(VLOOKUP(O92,AS!$A:$H,7,FALSE)),\"\",VLOOKUP(O92,AS!$A:$H,7,FALSE))","v":""},{"$f":"IF(ISERROR(VLOOKUP(O92,AS!$A:$H,8,FALSE)),\"\",VLOOKUP(O92,AS!$A:$H,8,FALSE))","v":""},null,null,null,null,{"$f":"IF(ISERROR(VLOOKUP(U92,AS!$A:$H,7,FALSE)),\"\",VLOOKUP(U92,AS!$A:$H,7,FALSE))","v":""},{"$f":"IF(ISERROR(VLOOKUP(U92,AS!$A:$H,8,FALSE)),\"\",VLOOKUP(U92,AS!$A:$H,8,FALSE))","v":""},null,null,null,null,{"$f":"IF(ISERROR(VLOOKUP(AA92,AS!$A:$H,7,FALSE)),\"\",VLOOKUP(AA92,AS!$A:$H,7,FALSE))","v":""},{"$f":"IF(ISERROR(VLOOKUP(AA92,AS!$A:$H,8,FALSE)),\"\",VLOOKUP(AA92,AS!$A:$H,8,FALSE))","v":""},null,null,null,"",null,{"$f":"IF(AI92=\"\",\"\",IF(OFFSET('Fiche score'!$A$2,VLOOKUP(RIGHT(AI92,2),Feuil1!A:C,2,FALSE),VLOOKUP(RIGHT(AI92,2),Feuil1!A:C,3,FALSE))=A92 & CHAR(10) & C92,2,IF(OFFSET('Fiche score'!$A$2,VLOOKUP(RIGHT(AI92,2),Feuil1!A:C,2,FALSE)+1,VLOOKUP(RIGHT(AI92,2),Feuil1!A:C,3,FALSE))=A92 & CHAR(10) & C92,2,IF(OFFSET('Fiche score'!$A$2,VLOOKUP(RIGHT(AI92,2),Feuil1!A:C,2,FALSE)-1,VLOOKUP(RIGHT(AI92,2),Feuil1!A:C,3,FALSE))=A92 & CHAR(10) & C92,1,IF(OFFSET('Fiche score'!$A$2,VLOOKUP(RIGHT(AI92,2),Feuil1!A:C,2,FALSE)-2,VLOOKUP(RIGHT(AI92,2),Feuil1!A:C,3,FALSE))=A92 & CHAR(10) & C92,1,\"0\")))))","v":""},{"$f":"IF(ISERROR(VLOOKUP(A92 & CHAR(10) &C92,'Fiche tirage dirigé'!I:I,1,FALSE)),0,1)","v":0},{"$f":"IF(ISERROR(VLOOKUP(A92& CHAR(10) &C92,Cadrage!H:H,1,FALSE)),0,1)","v":0},{"$f":"IF(ISERROR(VLOOKUP(A92 & CHAR(10) &C92,'Tableau final'!V:V,1,FALSE)),0,1)","v":0},{"$f":"IF(ISERROR(VLOOKUP(A92 & CHAR(10) &C92,'Tableau final'!W:W,1,FALSE)),0,1)","v":0},{"$f":"IF(ISERROR(VLOOKUP(A92 & CHAR(10) &C92,'Tableau final'!X:X,1,FALSE)),0,1)","v":0},{"$f":"IF(ISERROR(VLOOKUP(A92 & CHAR(10) &C92,'Tableau final'!Y:Y,1,FALSE)),0,1)","v":0},{"$f":"IF(ISERROR(VLOOKUP(A92 & CHAR(10) &C92,'Tableau final'!Z:Z,1,FALSE)),0,1)","v":0},{"$f":"IF('Tableau final'!$A$1<>\"\",IF('Tableau final'!$B$5=\"Qualifiés\",IF(ISERROR(VLOOKUP(A92 & CHAR(10) &C92,'Tableau final'!C:F,1,FALSE)),\"\",IF(AND(VLOOKUP(A92 & CHAR(10) &C92,'Tableau final'!C:F,3,FALSE)<>\"\",VLOOKUP(A92 & CHAR(10) &C92,'Tableau final'!C:F,4,FALSE)=\"x\"),1,\"\")),IF('Tableau final'!$G$5=\"Qualifiés\",IF(ISERROR(VLOOKUP(A92 & CHAR(10) &C92,'Tableau final'!H:K,1,FALSE)),\"\",IF(AND(VLOOKUP(A92 & CHAR(10) &C92,'Tableau final'!H:K,3,FALSE)<>\"\",VLOOKUP(A92 & CHAR(10) &C92,'Tableau final'!H:K,4,FALSE)=\"x\"),1,\"\")),IF('Tableau final'!$L$5=\"Qualifiés\",IF(ISERROR(VLOOKUP(A92 & CHAR(10) &C92,'Tableau final'!M:P,1,FALSE)),\"\",IF(AND(VLOOKUP(A92 & CHAR(10) &C92,'Tableau final'!M:P,3,FALSE)<>\"\",VLOOKUP(A92 & CHAR(10) &C92,'Tableau final'!M:P,4,FALSE)=\"x\"),1,\"\")),\"\"))),\"\")","v":""},"0",{"$f":"IF(ISERROR(VLOOKUP(AI92,Tirage!A:J,1,FALSE)),\"\",IF(VLOOKUP(AI92,Tirage!A:J,1,FALSE)=\"Office \",3,4))","v":""},{"$f":"IF(AJ92=\"0\",4,IF(AJ92=1,3,IF(AJ92=2,IF(OFFSET('Fiche score'!$A$2,VLOOKUP(RIGHT(AI92,2),Feuil1!A:C,2,FALSE),VLOOKUP(RIGHT(AI92,2),Feuil1!A:C,3,FALSE))=A92 & CHAR(10) & C92,1,2),\"\")))","v":""}]
[null,null,null,null,{"$f":"IF(ISERROR(VLOOKUP(C93,AS!$A:$H,7,FALSE)),\"\",VLOOKUP(C93,AS!$A:$H,7,FALSE))","v":""},{"$f":"IF(ISERROR(VLOOKUP(C93,AS!$A:$H,8,FALSE)),\"\",VLOOKUP(C93,AS!$A:$H,8,FALSE))","v":""},null,null,null,null,{"$f":"IF(ISERROR(VLOOKUP(I93,AS!$A:$H,7,FALSE)),\"\",VLOOKUP(I93,AS!$A:$H,7,FALSE))","v":""},{"$f":"IF(ISERROR(VLOOKUP(I93,AS!$A:$H,8,FALSE)),\"\",VLOOKUP(I93,AS!$A:$H,8,FALSE))","v":""},null,null,null,null,{"$f":"IF(ISERROR(VLOOKUP(O93,AS!$A:$H,7,FALSE)),\"\",VLOOKUP(O93,AS!$A:$H,7,FALSE))","v":""},{"$f":"IF(ISERROR(VLOOKUP(O93,AS!$A:$H,8,FALSE)),\"\",VLOOKUP(O93,AS!$A:$H,8,FALSE))","v":""},null,null,null,null,{"$f":"IF(ISERROR(VLOOKUP(U93,AS!$A:$H,7,FALSE)),\"\",VLOOKUP(U93,AS!$A:$H,7,FALSE))","v":""},{"$f":"IF(ISERROR(VLOOKUP(U93,AS!$A:$H,8,FALSE)),\"\",VLOOKUP(U93,AS!$A:$H,8,FALSE))","v":""},null,null,null,null,{"$f":"IF(ISERROR(VLOOKUP(AA93,AS!$A:$H,7,FALSE)),\"\",VLOOKUP(AA93,AS!$A:$H,7,FALSE))","v":""},{"$f":"IF(ISERROR(VLOOKUP(AA93,AS!$A:$H,8,FALSE)),\"\",VLOOKUP(AA93,AS!$A:$H,8,FALSE))","v":""},null,null,null,"",null,{"$f":"IF(AI93=\"\",\"\",IF(OFFSET('Fiche score'!$A$2,VLOOKUP(RIGHT(AI93,2),Feuil1!A:C,2,FALSE),VLOOKUP(RIGHT(AI93,2),Feuil1!A:C,3,FALSE))=A93 & CHAR(10) & C93,2,IF(OFFSET('Fiche score'!$A$2,VLOOKUP(RIGHT(AI93,2),Feuil1!A:C,2,FALSE)+1,VLOOKUP(RIGHT(AI93,2),Feuil1!A:C,3,FALSE))=A93 & CHAR(10) & C93,2,IF(OFFSET('Fiche score'!$A$2,VLOOKUP(RIGHT(AI93,2),Feuil1!A:C,2,FALSE)-1,VLOOKUP(RIGHT(AI93,2),Feuil1!A:C,3,FALSE))=A93 & CHAR(10) & C93,1,IF(OFFSET('Fiche score'!$A$2,VLOOKUP(RIGHT(AI93,2),Feuil1!A:C,2,FALSE)-2,VLOOKUP(RIGHT(AI93,2),Feuil1!A:C,3,FALSE))=A93 & CHAR(10) & C93,1,\"0\")))))","v":""},{"$f":"IF(ISERROR(VLOOKUP(A93 & CHAR(10) &C93,'Fiche tirage dirigé'!I:I,1,FALSE)),0,1)","v":0},{"$f":"IF(ISERROR(VLOOKUP(A93& CHAR(10) &C93,Cadrage!H:H,1,FALSE)),0,1)","v":0},{"$f":"IF(ISERROR(VLOOKUP(A93 & CHAR(10) &C93,'Tableau final'!V:V,1,FALSE)),0,1)","v":0},{"$f":"IF(ISERROR(VLOOKUP(A93 & CHAR(10) &C93,'Tableau final'!W:W,1,FALSE)),0,1)","v":0},{"$f":"IF(ISERROR(VLOOKUP(A93 & CHAR(10) &C93,'Tableau final'!X:X,1,FALSE)),0,1)","v":0},{"$f":"IF(ISERROR(VLOOKUP(A93 & CHAR(10) &C93,'Tableau final'!Y:Y,1,FALSE)),0,1)","v":0},{"$f":"IF(ISERROR(VLOOKUP(A93 & CHAR(10) &C93,'Tableau final'!Z:Z,1,FALSE)),0,1)","v":0},{"$f":"IF('Tableau final'!$A$1<>\"\",IF('Tableau final'!$B$5=\"Qualifiés\",IF(ISERROR(VLOOKUP(A93 & CHAR(10) &C93,'Tableau final'!C:F,1,FALSE)),\"\",IF(AND(VLOOKUP(A93 & CHAR(10) &C93,'Tableau final'!C:F,3,FALSE)<>\"\",VLOOKUP(A93 & CHAR(10) &C93,'Tableau final'!C:F,4,FALSE)=\"x\"),1,\"\")),IF('Tableau final'!$G$5=\"Qualifiés\",IF(ISERROR(VLOOKUP(A93 & CHAR(10) &C93,'Tableau final'!H:K,1,FALSE)),\"\",IF(AND(VLOOKUP(A93 & CHAR(10) &C93,'Tableau final'!H:K,3,FALSE)<>\"\",VLOOKUP(A93 & CHAR(10) &C93,'Tableau final'!H:K,4,FALSE)=\"x\"),1,\"\")),IF('Tableau final'!$L$5=\"Qualifiés\",IF(ISERROR(VLOOKUP(A93 & CHAR(10) &C93,'Tableau final'!M:P,1,FALSE)),\"\",IF(AND(VLOOKUP(A93 & CHAR(10) &C93,'Tableau final'!M:P,3,FALSE)<>\"\",VLOOKUP(A93 & CHAR(10) &C93,'Tableau final'!M:P,4,FALSE)=\"x\"),1,\"\")),\"\"))),\"\")","v":""},"0",{"$f":"IF(ISERROR(VLOOKUP(AI93,Tirage!A:J,1,FALSE)),\"\",IF(VLOOKUP(AI93,Tirage!A:J,1,FALSE)=\"Office \",3,4))","v":""},{"$f":"IF(AJ93=\"0\",4,IF(AJ93=1,3,IF(AJ93=2,IF(OFFSET('Fiche score'!$A$2,VLOOKUP(RIGHT(AI93,2),Feuil1!A:C,2,FALSE),VLOOKUP(RIGHT(AI93,2),Feuil1!A:C,3,FALSE))=A93 & CHAR(10) & C93,1,2),\"\")))","v":""}]
[null,null,null,null,{"$f":"IF(ISERROR(VLOOKUP(C94,AS!$A:$H,7,FALSE)),\"\",VLOOKUP(C94,AS!$A:$H,7,FALSE))","v":""},{"$f":"IF(ISERROR(VLOOKUP(C94,AS!$A:$H,8,FALSE)),\"\",VLOOKUP(C94,AS!$A:$H,8,FALSE))","v":""},null,null,null,null,{"$f":"IF(ISERROR(VLOOKUP(I94,AS!$A:$H,7,FALSE)),\"\",VLOOKUP(I94,AS!$A:$H,7,FALSE))","v":""},{"$f":"IF(ISERROR(VLOOKUP(I94,AS!$A:$H,8,FALSE)),\"\",VLOOKUP(I94,AS!$A:$H,8,FALSE))","v":""},null,null,null,null,{"$f":"IF(ISERROR(VLOOKUP(O94,AS!$A:$H,7,FALSE)),\"\",VLOOKUP(O94,AS!$A:$H,7,FALSE))","v":""},{"$f":"IF(ISERROR(VLOOKUP(O94,AS!$A:$H,8,FALSE)),\"\",VLOOKUP(O94,AS!$A:$H,8,FALSE))","v":""},null,null,null,null,{"$f":"IF(ISERROR(VLOOKUP(U94,AS!$A:$H,7,FALSE)),\"\",VLOOKUP(U94,AS!$A:$H,7,FALSE))","v":""},{"$f":"IF(ISERROR(VLOOKUP(U94,AS!$A:$H,8,FALSE)),\"\",VLOOKUP(U94,AS!$A:$H,8,FALSE))","v":""},null,null,null,null,{"$f":"IF(ISERROR(VLOOKUP(AA94,AS!$A:$H,7,FALSE)),\"\",VLOOKUP(AA94,AS!$A:$H,7,FALSE))","v":""},{"$f":"IF(ISERROR(VLOOKUP(AA94,AS!$A:$H,8,FALSE)),\"\",VLOOKUP(AA94,AS!$A:$H,8,FALSE))","v":""},null,null,null,"",null,{"$f":"IF(AI94=\"\",\"\",IF(OFFSET('Fiche score'!$A$2,VLOOKUP(RIGHT(AI94,2),Feuil1!A:C,2,FALSE),VLOOKUP(RIGHT(AI94,2),Feuil1!A:C,3,FALSE))=A94 & CHAR(10) & C94,2,IF(OFFSET('Fiche score'!$A$2,VLOOKUP(RIGHT(AI94,2),Feuil1!A:C,2,FALSE)+1,VLOOKUP(RIGHT(AI94,2),Feuil1!A:C,3,FALSE))=A94 & CHAR(10) & C94,2,IF(OFFSET('Fiche score'!$A$2,VLOOKUP(RIGHT(AI94,2),Feuil1!A:C,2,FALSE)-1,VLOOKUP(RIGHT(AI94,2),Feuil1!A:C,3,FALSE))=A94 & CHAR(10) & C94,1,IF(OFFSET('Fiche score'!$A$2,VLOOKUP(RIGHT(AI94,2),Feuil1!A:C,2,FALSE)-2,VLOOKUP(RIGHT(AI94,2),Feuil1!A:C,3,FALSE))=A94 & CHAR(10) & C94,1,\"0\")))))","v":""},{"$f":"IF(ISERROR(VLOOKUP(A94 & CHAR(10) &C94,'Fiche tirage dirigé'!I:I,1,FALSE)),0,1)","v":0},{"$f":"IF(ISERROR(VLOOKUP(A94& CHAR(10) &C94,Cadrage!H:H,1,FALSE)),0,1)","v":0},{"$f":"IF(ISERROR(VLOOKUP(A94 & CHAR(10) &C94,'Tableau final'!V:V,1,FALSE)),0,1)","v":0},{"$f":"IF(ISERROR(VLOOKUP(A94 & CHAR(10) &C94,'Tableau final'!W:W,1,FALSE)),0,1)","v":0},{"$f":"IF(ISERROR(VLOOKUP(A94 & CHAR(10) &C94,'Tableau final'!X:X,1,FALSE)),0,1)","v":0},{"$f":"IF(ISERROR(VLOOKUP(A94 & CHAR(10) &C94,'Tableau final'!Y:Y,1,FALSE)),0,1)","v":0},{"$f":"IF(ISERROR(VLOOKUP(A94 & CHAR(10) &C94,'Tableau final'!Z:Z,1,FALSE)),0,1)","v":0},{"$f":"IF('Tableau final'!$A$1<>\"\",IF('Tableau final'!$B$5=\"Qualifiés\",IF(ISERROR(VLOOKUP(A94 & CHAR(10) &C94,'Tableau final'!C:F,1,FALSE)),\"\",IF(AND(VLOOKUP(A94 & CHAR(10) &C94,'Tableau final'!C:F,3,FALSE)<>\"\",VLOOKUP(A94 & CHAR(10) &C94,'Tableau final'!C:F,4,FALSE)=\"x\"),1,\"\")),IF('Tableau final'!$G$5=\"Qualifiés\",IF(ISERROR(VLOOKUP(A94 & CHAR(10) &C94,'Tableau final'!H:K,1,FALSE)),\"\",IF(AND(VLOOKUP(A94 & CHAR(10) &C94,'Tableau final'!H:K,3,FALSE)<>\"\",VLOOKUP(A94 & CHAR(10) &C94,'Tableau final'!H:K,4,FALSE)=\"x\"),1,\"\")),IF('Tableau final'!$L$5=\"Qualifiés\",IF(ISERROR(VLOOKUP(A94 & CHAR(10) &C94,'Tableau final'!M:P,1,FALSE)),\"\",IF(AND(VLOOKUP(A94 & CHAR(10) &C94,'Tableau final'!M:P,3,FALSE)<>\"\",VLOOKUP(A94 & CHAR(10) &C94,'Tableau final'!M:P,4,FALSE)=\"x\"),1,\"\")),\"\"))),\"\")","v":""},"0",{"$f":"IF(ISERROR(VLOOKUP(AI94,Tirage!A:J,1,FALSE)),\"\",IF(VLOOKUP(AI94,Tirage!A:J,1,FALSE)=\"Office \",3,4))","v":""},{"$f":"IF(AJ94=\"0\",4,IF(AJ94=1,3,IF(AJ94=2,IF(OFFSET('Fiche score'!$A$2,VLOOKUP(RIGHT(AI94,2),Feuil1!A:C,2,FALSE),VLOOKUP(RIGHT(AI94,2),Feuil1!A:C,3,FALSE))=A94 & CHAR(10) & C94,1,2),\"\")))","v":""}]
[null,null,null,null,{"$f":"IF(ISERROR(VLOOKUP(C95,AS!$A:$H,7,FALSE)),\"\",VLOOKUP(C95,AS!$A:$H,7,FALSE))","v":""},{"$f":"IF(ISERROR(VLOOKUP(C95,AS!$A:$H,8,FALSE)),\"\",VLOOKUP(C95,AS!$A:$H,8,FALSE))","v":""},null,null,null,null,{"$f":"IF(ISERROR(VLOOKUP(I95,AS!$A:$H,7,FALSE)),\"\",VLOOKUP(I95,AS!$A:$H,7,FALSE))","v":""},{"$f":"IF(ISERROR(VLOOKUP(I95,AS!$A:$H,8,FALSE)),\"\",VLOOKUP(I95,AS!$A:$H,8,FALSE))","v":""},null,null,null,null,{"$f":"IF(ISERROR(VLOOKUP(O95,AS!$A:$H,7,FALSE)),\"\",VLOOKUP(O95,AS!$A:$H,7,FALSE))","v":""},{"$f":"IF(ISERROR(VLOOKUP(O95,AS!$A:$H,8,FALSE)),\"\",VLOOKUP(O95,AS!$A:$H,8,FALSE))","v":""},null,null,null,null,{"$f":"IF(ISERROR(VLOOKUP(U95,AS!$A:$H,7,FALSE)),\"\",VLOOKUP(U95,AS!$A:$H,7,FALSE))","v":""},{"$f":"IF(ISERROR(VLOOKUP(U95,AS!$A:$H,8,FALSE)),\"\",VLOOKUP(U95,AS!$A:$H,8,FALSE))","v":""},null,null,null,null,{"$f":"IF(ISERROR(VLOOKUP(AA95,AS!$A:$H,7,FALSE)),\"\",VLOOKUP(AA95,AS!$A:$H,7,FALSE))","v":""},{"$f":"IF(ISERROR(VLOOKUP(AA95,AS!$A:$H,8,FALSE)),\"\",VLOOKUP(AA95,AS!$A:$H,8,FALSE))","v":""},null,null,null,"",null,{"$f":"IF(AI95=\"\",\"\",IF(OFFSET('Fiche score'!$A$2,VLOOKUP(RIGHT(AI95,2),Feuil1!A:C,2,FALSE),VLOOKUP(RIGHT(AI95,2),Feuil1!A:C,3,FALSE))=A95 & CHAR(10) & C95,2,IF(OFFSET('Fiche score'!$A$2,VLOOKUP(RIGHT(AI95,2),Feuil1!A:C,2,FALSE)+1,VLOOKUP(RIGHT(AI95,2),Feuil1!A:C,3,FALSE))=A95 & CHAR(10) & C95,2,IF(OFFSET('Fiche score'!$A$2,VLOOKUP(RIGHT(AI95,2),Feuil1!A:C,2,FALSE)-1,VLOOKUP(RIGHT(AI95,2),Feuil1!A:C,3,FALSE))=A95 & CHAR(10) & C95,1,IF(OFFSET('Fiche score'!$A$2,VLOOKUP(RIGHT(AI95,2),Feuil1!A:C,2,FALSE)-2,VLOOKUP(RIGHT(AI95,2),Feuil1!A:C,3,FALSE))=A95 & CHAR(10) & C95,1,\"0\")))))","v":""},{"$f":"IF(ISERROR(VLOOKUP(A95 & CHAR(10) &C95,'Fiche tirage dirigé'!I:I,1,FALSE)),0,1)","v":0},{"$f":"IF(ISERROR(VLOOKUP(A95& CHAR(10) &C95,Cadrage!H:H,1,FALSE)),0,1)","v":0},{"$f":"IF(ISERROR(VLOOKUP(A95 & CHAR(10) &C95,'Tableau final'!V:V,1,FALSE)),0,1)","v":0},{"$f":"IF(ISERROR(VLOOKUP(A95 & CHAR(10) &C95,'Tableau final'!W:W,1,FALSE)),0,1)","v":0},{"$f":"IF(ISERROR(VLOOKUP(A95 & CHAR(10) &C95,'Tableau final'!X:X,1,FALSE)),0,1)","v":0},{"$f":"IF(ISERROR(VLOOKUP(A95 & CHAR(10) &C95,'Tableau final'!Y:Y,1,FALSE)),0,1)","v":0},{"$f":"IF(ISERROR(VLOOKUP(A95 & CHAR(10) &C95,'Tableau final'!Z:Z,1,FALSE)),0,1)","v":0},{"$f":"IF('Tableau final'!$A$1<>\"\",IF('Tableau final'!$B$5=\"Qualifiés\",IF(ISERROR(VLOOKUP(A95 & CHAR(10) &C95,'Tableau final'!C:F,1,FALSE)),\"\",IF(AND(VLOOKUP(A95 & CHAR(10) &C95,'Tableau final'!C:F,3,FALSE)<>\"\",VLOOKUP(A95 & CHAR(10) &C95,'Tableau final'!C:F,4,FALSE)=\"x\"),1,\"\")),IF('Tableau final'!$G$5=\"Qualifiés\",IF(ISERROR(VLOOKUP(A95 & CHAR(10) &C95,'Tableau final'!H:K,1,FALSE)),\"\",IF(AND(VLOOKUP(A95 & CHAR(10) &C95,'Tableau final'!H:K,3,FALSE)<>\"\",VLOOKUP(A95 & CHAR(10) &C95,'Tableau final'!H:K,4,FALSE)=\"x\"),1,\"\")),IF('Tableau final'!$L$5=\"Qualifiés\",IF(ISERROR(VLOOKUP(A95 & CHAR(10) &C95,'Tableau final'!M:P,1,FALSE)),\"\",IF(AND(VLOOKUP(A95 & CHAR(10) &C95,'Tableau final'!M:P,3,FALSE)<>\"\",VLOOKUP(A95 & CHAR(10) &C95,'Tableau final'!M:P,4,FALSE)=\"x\"),1,\"\")),\"\"))),\"\")","v":""},"0",{"$f":"IF(ISERROR(VLOOKUP(AI95,Tirage!A:J,1,FALSE)),\"\",IF(VLOOKUP(AI95,Tirage!A:J,1,FALSE)=\"Office \",3,4))","v":""},{"$f":"IF(AJ95=\"0\",4,IF(AJ95=1,3,IF(AJ95=2,IF(OFFSET('Fiche score'!$A$2,VLOOKUP(RIGHT(AI95,2),Feuil1!A:C,2,FALSE),VLOOKUP(RIGHT(AI95,2),Feuil1!A:C,3,FALSE))=A95 & CHAR(10) & C95,1,2),\"\")))","v":""}]
[null,null,null,null,{"$f":"IF(ISERROR(VLOOKUP(C96,AS!$A:$H,7,FALSE)),\"\",VLOOKUP(C96,AS!$A:$H,7,FALSE))","v":""},{"$f":"IF(ISERROR(VLOOKUP(C96,AS!$A:$H,8,FALSE)),\"\",VLOOKUP(C96,AS!$A:$H,8,FALSE))","v":""},null,null,null,null,{"$f":"IF(ISERROR(VLOOKUP(I96,AS!$A:$H,7,FALSE)),\"\",VLOOKUP(I96,AS!$A:$H,7,FALSE))","v":""},{"$f":"IF(ISERROR(VLOOKUP(I96,AS!$A:$H,8,FALSE)),\"\",VLOOKUP(I96,AS!$A:$H,8,FALSE))","v":""},null,null,null,null,{"$f":"IF(ISERROR(VLOOKUP(O96,AS!$A:$H,7,FALSE)),\"\",VLOOKUP(O96,AS!$A:$H,7,FALSE))","v":""},{"$f":"IF(ISERROR(VLOOKUP(O96,AS!$A:$H,8,FALSE)),\"\",VLOOKUP(O96,AS!$A:$H,8,FALSE))","v":""},null,null,null,null,{"$f":"IF(ISERROR(VLOOKUP(U96,AS!$A:$H,7,FALSE)),\"\",VLOOKUP(U96,AS!$A:$H,7,FALSE))","v":""},{"$f":"IF(ISERROR(VLOOKUP(U96,AS!$A:$H,8,FALSE)),\"\",VLOOKUP(U96,AS!$A:$H,8,FALSE))","v":""},null,null,null,null,{"$f":"IF(ISERROR(VLOOKUP(AA96,AS!$A:$H,7,FALSE)),\"\",VLOOKUP(AA96,AS!$A:$H,7,FALSE))","v":""},{"$f":"IF(ISERROR(VLOOKUP(AA96,AS!$A:$H,8,FALSE)),\"\",VLOOKUP(AA96,AS!$A:$H,8,FALSE))","v":""},null,null,null,"",null,{"$f":"IF(AI96=\"\",\"\",IF(OFFSET('Fiche score'!$A$2,VLOOKUP(RIGHT(AI96,2),Feuil1!A:C,2,FALSE),VLOOKUP(RIGHT(AI96,2),Feuil1!A:C,3,FALSE))=A96 & CHAR(10) & C96,2,IF(OFFSET('Fiche score'!$A$2,VLOOKUP(RIGHT(AI96,2),Feuil1!A:C,2,FALSE)+1,VLOOKUP(RIGHT(AI96,2),Feuil1!A:C,3,FALSE))=A96 & CHAR(10) & C96,2,IF(OFFSET('Fiche score'!$A$2,VLOOKUP(RIGHT(AI96,2),Feuil1!A:C,2,FALSE)-1,VLOOKUP(RIGHT(AI96,2),Feuil1!A:C,3,FALSE))=A96 & CHAR(10) & C96,1,IF(OFFSET('Fiche score'!$A$2,VLOOKUP(RIGHT(AI96,2),Feuil1!A:C,2,FALSE)-2,VLOOKUP(RIGHT(AI96,2),Feuil1!A:C,3,FALSE))=A96 & CHAR(10) & C96,1,\"0\")))))","v":""},{"$f":"IF(ISERROR(VLOOKUP(A96 & CHAR(10) &C96,'Fiche tirage dirigé'!I:I,1,FALSE)),0,1)","v":0},{"$f":"IF(ISERROR(VLOOKUP(A96& CHAR(10) &C96,Cadrage!H:H,1,FALSE)),0,1)","v":0},{"$f":"IF(ISERROR(VLOOKUP(A96 & CHAR(10) &C96,'Tableau final'!V:V,1,FALSE)),0,1)","v":0},{"$f":"IF(ISERROR(VLOOKUP(A96 & CHAR(10) &C96,'Tableau final'!W:W,1,FALSE)),0,1)","v":0},{"$f":"IF(ISERROR(VLOOKUP(A96 & CHAR(10) &C96,'Tableau final'!X:X,1,FALSE)),0,1)","v":0},{"$f":"IF(ISERROR(VLOOKUP(A96 & CHAR(10) &C96,'Tableau final'!Y:Y,1,FALSE)),0,1)","v":0},{"$f":"IF(ISERROR(VLOOKUP(A96 & CHAR(10) &C96,'Tableau final'!Z:Z,1,FALSE)),0,1)","v":0},{"$f":"IF('Tableau final'!$A$1<>\"\",IF('Tableau final'!$B$5=\"Qualifiés\",IF(ISERROR(VLOOKUP(A96 & CHAR(10) &C96,'Tableau final'!C:F,1,FALSE)),\"\",IF(AND(VLOOKUP(A96 & CHAR(10) &C96,'Tableau final'!C:F,3,FALSE)<>\"\",VLOOKUP(A96 & CHAR(10) &C96,'Tableau final'!C:F,4,FALSE)=\"x\"),1,\"\")),IF('Tableau final'!$G$5=\"Qualifiés\",IF(ISERROR(VLOOKUP(A96 & CHAR(10) &C96,'Tableau final'!H:K,1,FALSE)),\"\",IF(AND(VLOOKUP(A96 & CHAR(10) &C96,'Tableau final'!H:K,3,FALSE)<>\"\",VLOOKUP(A96 & CHAR(10) &C96,'Tableau final'!H:K,4,FALSE)=\"x\"),1,\"\")),IF('Tableau final'!$L$5=\"Qualifiés\",IF(ISERROR(VLOOKUP(A96 & CHAR(10) &C96,'Tableau final'!M:P,1,FALSE)),\"\",IF(AND(VLOOKUP(A96 & CHAR(10) &C96,'Tableau final'!M:P,3,FALSE)<>\"\",VLOOKUP(A96 & CHAR(10) &C96,'Tableau final'!M:P,4,FALSE)=\"x\"),1,\"\")),\"\"))),\"\")","v":""},"0",{"$f":"IF(ISERROR(VLOOKUP(AI96,Tirage!A:J,1,FALSE)),\"\",IF(VLOOKUP(AI96,Tirage!A:J,1,FALSE)=\"Office \",3,4))","v":""},{"$f":"IF(AJ96=\"0\",4,IF(AJ96=1,3,IF(AJ96=2,IF(OFFSET('Fiche score'!$A$2,VLOOKUP(RIGHT(AI96,2),Feuil1!A:C,2,FALSE),VLOOKUP(RIGHT(AI96,2),Feuil1!A:C,3,FALSE))=A96 & CHAR(10) & C96,1,2),\"\")))","v":""}]
[null,null,null,null,{"$f":"IF(ISERROR(VLOOKUP(C97,AS!$A:$H,7,FALSE)),\"\",VLOOKUP(C97,AS!$A:$H,7,FALSE))","v":""},{"$f":"IF(ISERROR(VLOOKUP(C97,AS!$A:$H,8,FALSE)),\"\",VLOOKUP(C97,AS!$A:$H,8,FALSE))","v":""},null,null,null,null,{"$f":"IF(ISERROR(VLOOKUP(I97,AS!$A:$H,7,FALSE)),\"\",VLOOKUP(I97,AS!$A:$H,7,FALSE))","v":""},{"$f":"IF(ISERROR(VLOOKUP(I97,AS!$A:$H,8,FALSE)),\"\",VLOOKUP(I97,AS!$A:$H,8,FALSE))","v":""},null,null,null,null,{"$f":"IF(ISERROR(VLOOKUP(O97,AS!$A:$H,7,FALSE)),\"\",VLOOKUP(O97,AS!$A:$H,7,FALSE))","v":""},{"$f":"IF(ISERROR(VLOOKUP(O97,AS!$A:$H,8,FALSE)),\"\",VLOOKUP(O97,AS!$A:$H,8,FALSE))","v":""},null,null,null,null,{"$f":"IF(ISERROR(VLOOKUP(U97,AS!$A:$H,7,FALSE)),\"\",VLOOKUP(U97,AS!$A:$H,7,FALSE))","v":""},{"$f":"IF(ISERROR(VLOOKUP(U97,AS!$A:$H,8,FALSE)),\"\",VLOOKUP(U97,AS!$A:$H,8,FALSE))","v":""},null,null,null,null,{"$f":"IF(ISERROR(VLOOKUP(AA97,AS!$A:$H,7,FALSE)),\"\",VLOOKUP(AA97,AS!$A:$H,7,FALSE))","v":""},{"$f":"IF(ISERROR(VLOOKUP(AA97,AS!$A:$H,8,FALSE)),\"\",VLOOKUP(AA97,AS!$A:$H,8,FALSE))","v":""},null,null,null,"",null,{"$f":"IF(AI97=\"\",\"\",IF(OFFSET('Fiche score'!$A$2,VLOOKUP(RIGHT(AI97,2),Feuil1!A:C,2,FALSE),VLOOKUP(RIGHT(AI97,2),Feuil1!A:C,3,FALSE))=A97 & CHAR(10) & C97,2,IF(OFFSET('Fiche score'!$A$2,VLOOKUP(RIGHT(AI97,2),Feuil1!A:C,2,FALSE)+1,VLOOKUP(RIGHT(AI97,2),Feuil1!A:C,3,FALSE))=A97 & CHAR(10) & C97,2,IF(OFFSET('Fiche score'!$A$2,VLOOKUP(RIGHT(AI97,2),Feuil1!A:C,2,FALSE)-1,VLOOKUP(RIGHT(AI97,2),Feuil1!A:C,3,FALSE))=A97 & CHAR(10) & C97,1,IF(OFFSET('Fiche score'!$A$2,VLOOKUP(RIGHT(AI97,2),Feuil1!A:C,2,FALSE)-2,VLOOKUP(RIGHT(AI97,2),Feuil1!A:C,3,FALSE))=A97 & CHAR(10) & C97,1,\"0\")))))","v":""},{"$f":"IF(ISERROR(VLOOKUP(A97 & CHAR(10) &C97,'Fiche tirage dirigé'!I:I,1,FALSE)),0,1)","v":0},{"$f":"IF(ISERROR(VLOOKUP(A97& CHAR(10) &C97,Cadrage!H:H,1,FALSE)),0,1)","v":0},{"$f":"IF(ISERROR(VLOOKUP(A97 & CHAR(10) &C97,'Tableau final'!V:V,1,FALSE)),0,1)","v":0},{"$f":"IF(ISERROR(VLOOKUP(A97 & CHAR(10) &C97,'Tableau final'!W:W,1,FALSE)),0,1)","v":0},{"$f":"IF(ISERROR(VLOOKUP(A97 & CHAR(10) &C97,'Tableau final'!X:X,1,FALSE)),0,1)","v":0},{"$f":"IF(ISERROR(VLOOKUP(A97 & CHAR(10) &C97,'Tableau final'!Y:Y,1,FALSE)),0,1)","v":0},{"$f":"IF(ISERROR(VLOOKUP(A97 & CHAR(10) &C97,'Tableau final'!Z:Z,1,FALSE)),0,1)","v":0},{"$f":"IF('Tableau final'!$A$1<>\"\",IF('Tableau final'!$B$5=\"Qualifiés\",IF(ISERROR(VLOOKUP(A97 & CHAR(10) &C97,'Tableau final'!C:F,1,FALSE)),\"\",IF(AND(VLOOKUP(A97 & CHAR(10) &C97,'Tableau final'!C:F,3,FALSE)<>\"\",VLOOKUP(A97 & CHAR(10) &C97,'Tableau final'!C:F,4,FALSE)=\"x\"),1,\"\")),IF('Tableau final'!$G$5=\"Qualifiés\",IF(ISERROR(VLOOKUP(A97 & CHAR(10) &C97,'Tableau final'!H:K,1,FALSE)),\"\",IF(AND(VLOOKUP(A97 & CHAR(10) &C97,'Tableau final'!H:K,3,FALSE)<>\"\",VLOOKUP(A97 & CHAR(10) &C97,'Tableau final'!H:K,4,FALSE)=\"x\"),1,\"\")),IF('Tableau final'!$L$5=\"Qualifiés\",IF(ISERROR(VLOOKUP(A97 & CHAR(10) &C97,'Tableau final'!M:P,1,FALSE)),\"\",IF(AND(VLOOKUP(A97 & CHAR(10) &C97,'Tableau final'!M:P,3,FALSE)<>\"\",VLOOKUP(A97 & CHAR(10) &C97,'Tableau final'!M:P,4,FALSE)=\"x\"),1,\"\")),\"\"))),\"\")","v":""},"0",{"$f":"IF(ISERROR(VLOOKUP(AI97,Tirage!A:J,1,FALSE)),\"\",IF(VLOOKUP(AI97,Tirage!A:J,1,FALSE)=\"Office \",3,4))","v":""},{"$f":"IF(AJ97=\"0\",4,IF(AJ97=1,3,IF(AJ97=2,IF(OFFSET('Fiche score'!$A$2,VLOOKUP(RIGHT(AI97,2),Feuil1!A:C,2,FALSE),VLOOKUP(RIGHT(AI97,2),Feuil1!A:C,3,FALSE))=A97 & CHAR(10) & C97,1,2),\"\")))","v":""}]
[null,null,null,null,{"$f":"IF(ISERROR(VLOOKUP(C98,AS!$A:$H,7,FALSE)),\"\",VLOOKUP(C98,AS!$A:$H,7,FALSE))","v":""},{"$f":"IF(ISERROR(VLOOKUP(C98,AS!$A:$H,8,FALSE)),\"\",VLOOKUP(C98,AS!$A:$H,8,FALSE))","v":""},null,null,null,null,{"$f":"IF(ISERROR(VLOOKUP(I98,AS!$A:$H,7,FALSE)),\"\",VLOOKUP(I98,AS!$A:$H,7,FALSE))","v":""},{"$f":"IF(ISERROR(VLOOKUP(I98,AS!$A:$H,8,FALSE)),\"\",VLOOKUP(I98,AS!$A:$H,8,FALSE))","v":""},null,null,null,null,{"$f":"IF(ISERROR(VLOOKUP(O98,AS!$A:$H,7,FALSE)),\"\",VLOOKUP(O98,AS!$A:$H,7,FALSE))","v":""},{"$f":"IF(ISERROR(VLOOKUP(O98,AS!$A:$H,8,FALSE)),\"\",VLOOKUP(O98,AS!$A:$H,8,FALSE))","v":""},null,null,null,null,{"$f":"IF(ISERROR(VLOOKUP(U98,AS!$A:$H,7,FALSE)),\"\",VLOOKUP(U98,AS!$A:$H,7,FALSE))","v":""},{"$f":"IF(ISERROR(VLOOKUP(U98,AS!$A:$H,8,FALSE)),\"\",VLOOKUP(U98,AS!$A:$H,8,FALSE))","v":""},null,null,null,null,{"$f":"IF(ISERROR(VLOOKUP(AA98,AS!$A:$H,7,FALSE)),\"\",VLOOKUP(AA98,AS!$A:$H,7,FALSE))","v":""},{"$f":"IF(ISERROR(VLOOKUP(AA98,AS!$A:$H,8,FALSE)),\"\",VLOOKUP(AA98,AS!$A:$H,8,FALSE))","v":""},null,null,null,"",null,{"$f":"IF(AI98=\"\",\"\",IF(OFFSET('Fiche score'!$A$2,VLOOKUP(RIGHT(AI98,2),Feuil1!A:C,2,FALSE),VLOOKUP(RIGHT(AI98,2),Feuil1!A:C,3,FALSE))=A98 & CHAR(10) & C98,2,IF(OFFSET('Fiche score'!$A$2,VLOOKUP(RIGHT(AI98,2),Feuil1!A:C,2,FALSE)+1,VLOOKUP(RIGHT(AI98,2),Feuil1!A:C,3,FALSE))=A98 & CHAR(10) & C98,2,IF(OFFSET('Fiche score'!$A$2,VLOOKUP(RIGHT(AI98,2),Feuil1!A:C,2,FALSE)-1,VLOOKUP(RIGHT(AI98,2),Feuil1!A:C,3,FALSE))=A98 & CHAR(10) & C98,1,IF(OFFSET('Fiche score'!$A$2,VLOOKUP(RIGHT(AI98,2),Feuil1!A:C,2,FALSE)-2,VLOOKUP(RIGHT(AI98,2),Feuil1!A:C,3,FALSE))=A98 & CHAR(10) & C98,1,\"0\")))))","v":""},{"$f":"IF(ISERROR(VLOOKUP(A98 & CHAR(10) &C98,'Fiche tirage dirigé'!I:I,1,FALSE)),0,1)","v":0},{"$f":"IF(ISERROR(VLOOKUP(A98& CHAR(10) &C98,Cadrage!H:H,1,FALSE)),0,1)","v":0},{"$f":"IF(ISERROR(VLOOKUP(A98 & CHAR(10) &C98,'Tableau final'!V:V,1,FALSE)),0,1)","v":0},{"$f":"IF(ISERROR(VLOOKUP(A98 & CHAR(10) &C98,'Tableau final'!W:W,1,FALSE)),0,1)","v":0},{"$f":"IF(ISERROR(VLOOKUP(A98 & CHAR(10) &C98,'Tableau final'!X:X,1,FALSE)),0,1)","v":0},{"$f":"IF(ISERROR(VLOOKUP(A98 & CHAR(10) &C98,'Tableau final'!Y:Y,1,FALSE)),0,1)","v":0},{"$f":"IF(ISERROR(VLOOKUP(A98 & CHAR(10) &C98,'Tableau final'!Z:Z,1,FALSE)),0,1)","v":0},{"$f":"IF('Tableau final'!$A$1<>\"\",IF('Tableau final'!$B$5=\"Qualifiés\",IF(ISERROR(VLOOKUP(A98 & CHAR(10) &C98,'Tableau final'!C:F,1,FALSE)),\"\",IF(AND(VLOOKUP(A98 & CHAR(10) &C98,'Tableau final'!C:F,3,FALSE)<>\"\",VLOOKUP(A98 & CHAR(10) &C98,'Tableau final'!C:F,4,FALSE)=\"x\"),1,\"\")),IF('Tableau final'!$G$5=\"Qualifiés\",IF(ISERROR(VLOOKUP(A98 & CHAR(10) &C98,'Tableau final'!H:K,1,FALSE)),\"\",IF(AND(VLOOKUP(A98 & CHAR(10) &C98,'Tableau final'!H:K,3,FALSE)<>\"\",VLOOKUP(A98 & CHAR(10) &C98,'Tableau final'!H:K,4,FALSE)=\"x\"),1,\"\")),IF('Tableau final'!$L$5=\"Qualifiés\",IF(ISERROR(VLOOKUP(A98 & CHAR(10) &C98,'Tableau final'!M:P,1,FALSE)),\"\",IF(AND(VLOOKUP(A98 & CHAR(10) &C98,'Tableau final'!M:P,3,FALSE)<>\"\",VLOOKUP(A98 & CHAR(10) &C98,'Tableau final'!M:P,4,FALSE)=\"x\"),1,\"\")),\"\"))),\"\")","v":""},"0",{"$f":"IF(ISERROR(VLOOKUP(AI98,Tirage!A:J,1,FALSE)),\"\",IF(VLOOKUP(AI98,Tirage!A:J,1,FALSE)=\"Office \",3,4))","v":""},{"$f":"IF(AJ98=\"0\",4,IF(AJ98=1,3,IF(AJ98=2,IF(OFFSET('Fiche score'!$A$2,VLOOKUP(RIGHT(AI98,2),Feuil1!A:C,2,FALSE),VLOOKUP(RIGHT(AI98,2),Feuil1!A:C,3,FALSE))=A98 & CHAR(10) & C98,1,2),\"\")))","v":""}]
[null,null,null,null,{"$f":"IF(ISERROR(VLOOKUP(C99,AS!$A:$H,7,FALSE)),\"\",VLOOKUP(C99,AS!$A:$H,7,FALSE))","v":""},{"$f":"IF(ISERROR(VLOOKUP(C99,AS!$A:$H,8,FALSE)),\"\",VLOOKUP(C99,AS!$A:$H,8,FALSE))","v":""},null,null,null,null,{"$f":"IF(ISERROR(VLOOKUP(I99,AS!$A:$H,7,FALSE)),\"\",VLOOKUP(I99,AS!$A:$H,7,FALSE))","v":""},{"$f":"IF(ISERROR(VLOOKUP(I99,AS!$A:$H,8,FALSE)),\"\",VLOOKUP(I99,AS!$A:$H,8,FALSE))","v":""},null,null,null,null,{"$f":"IF(ISERROR(VLOOKUP(O99,AS!$A:$H,7,FALSE)),\"\",VLOOKUP(O99,AS!$A:$H,7,FALSE))","v":""},{"$f":"IF(ISERROR(VLOOKUP(O99,AS!$A:$H,8,FALSE)),\"\",VLOOKUP(O99,AS!$A:$H,8,FALSE))","v":""},null,null,null,null,{"$f":"IF(ISERROR(VLOOKUP(U99,AS!$A:$H,7,FALSE)),\"\",VLOOKUP(U99,AS!$A:$H,7,FALSE))","v":""},{"$f":"IF(ISERROR(VLOOKUP(U99,AS!$A:$H,8,FALSE)),\"\",VLOOKUP(U99,AS!$A:$H,8,FALSE))","v":""},null,null,null,null,{"$f":"IF(ISERROR(VLOOKUP(AA99,AS!$A:$H,7,FALSE)),\"\",VLOOKUP(AA99,AS!$A:$H,7,FALSE))","v":""},{"$f":"IF(ISERROR(VLOOKUP(AA99,AS!$A:$H,8,FALSE)),\"\",VLOOKUP(AA99,AS!$A:$H,8,FALSE))","v":""},null,null,null,"",null,{"$f":"IF(AI99=\"\",\"\",IF(OFFSET('Fiche score'!$A$2,VLOOKUP(RIGHT(AI99,2),Feuil1!A:C,2,FALSE),VLOOKUP(RIGHT(AI99,2),Feuil1!A:C,3,FALSE))=A99 & CHAR(10) & C99,2,IF(OFFSET('Fiche score'!$A$2,VLOOKUP(RIGHT(AI99,2),Feuil1!A:C,2,FALSE)+1,VLOOKUP(RIGHT(AI99,2),Feuil1!A:C,3,FALSE))=A99 & CHAR(10) & C99,2,IF(OFFSET('Fiche score'!$A$2,VLOOKUP(RIGHT(AI99,2),Feuil1!A:C,2,FALSE)-1,VLOOKUP(RIGHT(AI99,2),Feuil1!A:C,3,FALSE))=A99 & CHAR(10) & C99,1,IF(OFFSET('Fiche score'!$A$2,VLOOKUP(RIGHT(AI99,2),Feuil1!A:C,2,FALSE)-2,VLOOKUP(RIGHT(AI99,2),Feuil1!A:C,3,FALSE))=A99 & CHAR(10) & C99,1,\"0\")))))","v":""},{"$f":"IF(ISERROR(VLOOKUP(A99 & CHAR(10) &C99,'Fiche tirage dirigé'!I:I,1,FALSE)),0,1)","v":0},{"$f":"IF(ISERROR(VLOOKUP(A99& CHAR(10) &C99,Cadrage!H:H,1,FALSE)),0,1)","v":0},{"$f":"IF(ISERROR(VLOOKUP(A99 & CHAR(10) &C99,'Tableau final'!V:V,1,FALSE)),0,1)","v":0},{"$f":"IF(ISERROR(VLOOKUP(A99 & CHAR(10) &C99,'Tableau final'!W:W,1,FALSE)),0,1)","v":0},{"$f":"IF(ISERROR(VLOOKUP(A99 & CHAR(10) &C99,'Tableau final'!X:X,1,FALSE)),0,1)","v":0},{"$f":"IF(ISERROR(VLOOKUP(A99 & CHAR(10) &C99,'Tableau final'!Y:Y,1,FALSE)),0,1)","v":0},{"$f":"IF(ISERROR(VLOOKUP(A99 & CHAR(10) &C99,'Tableau final'!Z:Z,1,FALSE)),0,1)","v":0},{"$f":"IF('Tableau final'!$A$1<>\"\",IF('Tableau final'!$B$5=\"Qualifiés\",IF(ISERROR(VLOOKUP(A99 & CHAR(10) &C99,'Tableau final'!C:F,1,FALSE)),\"\",IF(AND(VLOOKUP(A99 & CHAR(10) &C99,'Tableau final'!C:F,3,FALSE)<>\"\",VLOOKUP(A99 & CHAR(10) &C99,'Tableau final'!C:F,4,FALSE)=\"x\"),1,\"\")),IF('Tableau final'!$G$5=\"Qualifiés\",IF(ISERROR(VLOOKUP(A99 & CHAR(10) &C99,'Tableau final'!H:K,1,FALSE)),\"\",IF(AND(VLOOKUP(A99 & CHAR(10) &C99,'Tableau final'!H:K,3,FALSE)<>\"\",VLOOKUP(A99 & CHAR(10) &C99,'Tableau final'!H:K,4,FALSE)=\"x\"),1,\"\")),IF('Tableau final'!$L$5=\"Qualifiés\",IF(ISERROR(VLOOKUP(A99 & CHAR(10) &C99,'Tableau final'!M:P,1,FALSE)),\"\",IF(AND(VLOOKUP(A99 & CHAR(10) &C99,'Tableau final'!M:P,3,FALSE)<>\"\",VLOOKUP(A99 & CHAR(10) &C99,'Tableau final'!M:P,4,FALSE)=\"x\"),1,\"\")),\"\"))),\"\")","v":""},"0",{"$f":"IF(ISERROR(VLOOKUP(AI99,Tirage!A:J,1,FALSE)),\"\",IF(VLOOKUP(AI99,Tirage!A:J,1,FALSE)=\"Office \",3,4))","v":""},{"$f":"IF(AJ99=\"0\",4,IF(AJ99=1,3,IF(AJ99=2,IF(OFFSET('Fiche score'!$A$2,VLOOKUP(RIGHT(AI99,2),Feuil1!A:C,2,FALSE),VLOOKUP(RIGHT(AI99,2),Feuil1!A:C,3,FALSE))=A99 & CHAR(10) & C99,1,2),\"\")))","v":""}]
[null,null,null,null,{"$f":"IF(ISERROR(VLOOKUP(C100,AS!$A:$H,7,FALSE)),\"\",VLOOKUP(C100,AS!$A:$H,7,FALSE))","v":""},{"$f":"IF(ISERROR(VLOOKUP(C100,AS!$A:$H,8,FALSE)),\"\",VLOOKUP(C100,AS!$A:$H,8,FALSE))","v":""},null,null,null,null,{"$f":"IF(ISERROR(VLOOKUP(I100,AS!$A:$H,7,FALSE)),\"\",VLOOKUP(I100,AS!$A:$H,7,FALSE))","v":""},{"$f":"IF(ISERROR(VLOOKUP(I100,AS!$A:$H,8,FALSE)),\"\",VLOOKUP(I100,AS!$A:$H,8,FALSE))","v":""},null,null,null,null,{"$f":"IF(ISERROR(VLOOKUP(O100,AS!$A:$H,7,FALSE)),\"\",VLOOKUP(O100,AS!$A:$H,7,FALSE))","v":""},{"$f":"IF(ISERROR(VLOOKUP(O100,AS!$A:$H,8,FALSE)),\"\",VLOOKUP(O100,AS!$A:$H,8,FALSE))","v":""},null,null,null,null,{"$f":"IF(ISERROR(VLOOKUP(U100,AS!$A:$H,7,FALSE)),\"\",VLOOKUP(U100,AS!$A:$H,7,FALSE))","v":""},{"$f":"IF(ISERROR(VLOOKUP(U100,AS!$A:$H,8,FALSE)),\"\",VLOOKUP(U100,AS!$A:$H,8,FALSE))","v":""},null,null,null,null,{"$f":"IF(ISERROR(VLOOKUP(AA100,AS!$A:$H,7,FALSE)),\"\",VLOOKUP(AA100,AS!$A:$H,7,FALSE))","v":""},{"$f":"IF(ISERROR(VLOOKUP(AA100,AS!$A:$H,8,FALSE)),\"\",VLOOKUP(AA100,AS!$A:$H,8,FALSE))","v":""},null,null,null,"",null,{"$f":"IF(AI100=\"\",\"\",IF(OFFSET('Fiche score'!$A$2,VLOOKUP(RIGHT(AI100,2),Feuil1!A:C,2,FALSE),VLOOKUP(RIGHT(AI100,2),Feuil1!A:C,3,FALSE))=A100 & CHAR(10) & C100,2,IF(OFFSET('Fiche score'!$A$2,VLOOKUP(RIGHT(AI100,2),Feuil1!A:C,2,FALSE)+1,VLOOKUP(RIGHT(AI100,2),Feuil1!A:C,3,FALSE))=A100 & CHAR(10) & C100,2,IF(OFFSET('Fiche score'!$A$2,VLOOKUP(RIGHT(AI100,2),Feuil1!A:C,2,FALSE)-1,VLOOKUP(RIGHT(AI100,2),Feuil1!A:C,3,FALSE))=A100 & CHAR(10) & C100,1,IF(OFFSET('Fiche score'!$A$2,VLOOKUP(RIGHT(AI100,2),Feuil1!A:C,2,FALSE)-2,VLOOKUP(RIGHT(AI100,2),Feuil1!A:C,3,FALSE))=A100 & CHAR(10) & C100,1,\"0\")))))","v":""},{"$f":"IF(ISERROR(VLOOKUP(A100 & CHAR(10) &C100,'Fiche tirage dirigé'!I:I,1,FALSE)),0,1)","v":0},{"$f":"IF(ISERROR(VLOOKUP(A100& CHAR(10) &C100,Cadrage!H:H,1,FALSE)),0,1)","v":0},{"$f":"IF(ISERROR(VLOOKUP(A100 & CHAR(10) &C100,'Tableau final'!V:V,1,FALSE)),0,1)","v":0},{"$f":"IF(ISERROR(VLOOKUP(A100 & CHAR(10) &C100,'Tableau final'!W:W,1,FALSE)),0,1)","v":0},{"$f":"IF(ISERROR(VLOOKUP(A100 & CHAR(10) &C100,'Tableau final'!X:X,1,FALSE)),0,1)","v":0},{"$f":"IF(ISERROR(VLOOKUP(A100 & CHAR(10) &C100,'Tableau final'!Y:Y,1,FALSE)),0,1)","v":0},{"$f":"IF(ISERROR(VLOOKUP(A100 & CHAR(10) &C100,'Tableau final'!Z:Z,1,FALSE)),0,1)","v":0},{"$f":"IF('Tableau final'!$A$1<>\"\",IF('Tableau final'!$B$5=\"Qualifiés\",IF(ISERROR(VLOOKUP(A100 & CHAR(10) &C100,'Tableau final'!C:F,1,FALSE)),\"\",IF(AND(VLOOKUP(A100 & CHAR(10) &C100,'Tableau final'!C:F,3,FALSE)<>\"\",VLOOKUP(A100 & CHAR(10) &C100,'Tableau final'!C:F,4,FALSE)=\"x\"),1,\"\")),IF('Tableau final'!$G$5=\"Qualifiés\",IF(ISERROR(VLOOKUP(A100 & CHAR(10) &C100,'Tableau final'!H:K,1,FALSE)),\"\",IF(AND(VLOOKUP(A100 & CHAR(10) &C100,'Tableau final'!H:K,3,FALSE)<>\"\",VLOOKUP(A100 & CHAR(10) &C100,'Tableau final'!H:K,4,FALSE)=\"x\"),1,\"\")),IF('Tableau final'!$L$5=\"Qualifiés\",IF(ISERROR(VLOOKUP(A100 & CHAR(10) &C100,'Tableau final'!M:P,1,FALSE)),\"\",IF(AND(VLOOKUP(A100 & CHAR(10) &C100,'Tableau final'!M:P,3,FALSE)<>\"\",VLOOKUP(A100 & CHAR(10) &C100,'Tableau final'!M:P,4,FALSE)=\"x\"),1,\"\")),\"\"))),\"\")","v":""},"0",{"$f":"IF(ISERROR(VLOOKUP(AI100,Tirage!A:J,1,FALSE)),\"\",IF(VLOOKUP(AI100,Tirage!A:J,1,FALSE)=\"Office \",3,4))","v":""},{"$f":"IF(AJ100=\"0\",4,IF(AJ100=1,3,IF(AJ100=2,IF(OFFSET('Fiche score'!$A$2,VLOOKUP(RIGHT(AI100,2),Feuil1!A:C,2,FALSE),VLOOKUP(RIGHT(AI100,2),Feuil1!A:C,3,FALSE))=A100 & CHAR(10) & C100,1,2),\"\")))","v":""}]
[null,null,null,null,{"$f":"IF(ISERROR(VLOOKUP(C101,AS!$A:$H,7,FALSE)),\"\",VLOOKUP(C101,AS!$A:$H,7,FALSE))","v":""},{"$f":"IF(ISERROR(VLOOKUP(C101,AS!$A:$H,8,FALSE)),\"\",VLOOKUP(C101,AS!$A:$H,8,FALSE))","v":""},null,null,null,null,{"$f":"IF(ISERROR(VLOOKUP(I101,AS!$A:$H,7,FALSE)),\"\",VLOOKUP(I101,AS!$A:$H,7,FALSE))","v":""},{"$f":"IF(ISERROR(VLOOKUP(I101,AS!$A:$H,8,FALSE)),\"\",VLOOKUP(I101,AS!$A:$H,8,FALSE))","v":""},null,null,null,null,{"$f":"IF(ISERROR(VLOOKUP(O101,AS!$A:$H,7,FALSE)),\"\",VLOOKUP(O101,AS!$A:$H,7,FALSE))","v":""},{"$f":"IF(ISERROR(VLOOKUP(O101,AS!$A:$H,8,FALSE)),\"\",VLOOKUP(O101,AS!$A:$H,8,FALSE))","v":""},null,null,null,null,{"$f":"IF(ISERROR(VLOOKUP(U101,AS!$A:$H,7,FALSE)),\"\",VLOOKUP(U101,AS!$A:$H,7,FALSE))","v":""},{"$f":"IF(ISERROR(VLOOKUP(U101,AS!$A:$H,8,FALSE)),\"\",VLOOKUP(U101,AS!$A:$H,8,FALSE))","v":""},null,null,null,null,{"$f":"IF(ISERROR(VLOOKUP(AA101,AS!$A:$H,7,FALSE)),\"\",VLOOKUP(AA101,AS!$A:$H,7,FALSE))","v":""},{"$f":"IF(ISERROR(VLOOKUP(AA101,AS!$A:$H,8,FALSE)),\"\",VLOOKUP(AA101,AS!$A:$H,8,FALSE))","v":""},null,null,null,"",null,{"$f":"IF(AI101=\"\",\"\",IF(OFFSET('Fiche score'!$A$2,VLOOKUP(RIGHT(AI101,2),Feuil1!A:C,2,FALSE),VLOOKUP(RIGHT(AI101,2),Feuil1!A:C,3,FALSE))=A101 & CHAR(10) & C101,2,IF(OFFSET('Fiche score'!$A$2,VLOOKUP(RIGHT(AI101,2),Feuil1!A:C,2,FALSE)+1,VLOOKUP(RIGHT(AI101,2),Feuil1!A:C,3,FALSE))=A101 & CHAR(10) & C101,2,IF(OFFSET('Fiche score'!$A$2,VLOOKUP(RIGHT(AI101,2),Feuil1!A:C,2,FALSE)-1,VLOOKUP(RIGHT(AI101,2),Feuil1!A:C,3,FALSE))=A101 & CHAR(10) & C101,1,IF(OFFSET('Fiche score'!$A$2,VLOOKUP(RIGHT(AI101,2),Feuil1!A:C,2,FALSE)-2,VLOOKUP(RIGHT(AI101,2),Feuil1!A:C,3,FALSE))=A101 & CHAR(10) & C101,1,\"0\")))))","v":""},{"$f":"IF(ISERROR(VLOOKUP(A101 & CHAR(10) &C101,'Fiche tirage dirigé'!I:I,1,FALSE)),0,1)","v":0},{"$f":"IF(ISERROR(VLOOKUP(A101& CHAR(10) &C101,Cadrage!H:H,1,FALSE)),0,1)","v":0},{"$f":"IF(ISERROR(VLOOKUP(A101 & CHAR(10) &C101,'Tableau final'!V:V,1,FALSE)),0,1)","v":0},{"$f":"IF(ISERROR(VLOOKUP(A101 & CHAR(10) &C101,'Tableau final'!W:W,1,FALSE)),0,1)","v":0},{"$f":"IF(ISERROR(VLOOKUP(A101 & CHAR(10) &C101,'Tableau final'!X:X,1,FALSE)),0,1)","v":0},{"$f":"IF(ISERROR(VLOOKUP(A101 & CHAR(10) &C101,'Tableau final'!Y:Y,1,FALSE)),0,1)","v":0},{"$f":"IF(ISERROR(VLOOKUP(A101 & CHAR(10) &C101,'Tableau final'!Z:Z,1,FALSE)),0,1)","v":0},{"$f":"IF('Tableau final'!$A$1<>\"\",IF('Tableau final'!$B$5=\"Qualifiés\",IF(ISERROR(VLOOKUP(A101 & CHAR(10) &C101,'Tableau final'!C:F,1,FALSE)),\"\",IF(AND(VLOOKUP(A101 & CHAR(10) &C101,'Tableau final'!C:F,3,FALSE)<>\"\",VLOOKUP(A101 & CHAR(10) &C101,'Tableau final'!C:F,4,FALSE)=\"x\"),1,\"\")),IF('Tableau final'!$G$5=\"Qualifiés\",IF(ISERROR(VLOOKUP(A101 & CHAR(10) &C101,'Tableau final'!H:K,1,FALSE)),\"\",IF(AND(VLOOKUP(A101 & CHAR(10) &C101,'Tableau final'!H:K,3,FALSE)<>\"\",VLOOKUP(A101 & CHAR(10) &C101,'Tableau final'!H:K,4,FALSE)=\"x\"),1,\"\")),IF('Tableau final'!$L$5=\"Qualifiés\",IF(ISERROR(VLOOKUP(A101 & CHAR(10) &C101,'Tableau final'!M:P,1,FALSE)),\"\",IF(AND(VLOOKUP(A101 & CHAR(10) &C101,'Tableau final'!M:P,3,FALSE)<>\"\",VLOOKUP(A101 & CHAR(10) &C101,'Tableau final'!M:P,4,FALSE)=\"x\"),1,\"\")),\"\"))),\"\")","v":""},"0",{"$f":"IF(ISERROR(VLOOKUP(AI101,Tirage!A:J,1,FALSE)),\"\",IF(VLOOKUP(AI101,Tirage!A:J,1,FALSE)=\"Office \",3,4))","v":""},{"$f":"IF(AJ101=\"0\",4,IF(AJ101=1,3,IF(AJ101=2,IF(OFFSET('Fiche score'!$A$2,VLOOKUP(RIGHT(AI101,2),Feuil1!A:C,2,FALSE),VLOOKUP(RIGHT(AI101,2),Feuil1!A:C,3,FALSE))=A101 & CHAR(10) & C101,1,2),\"\")))","v":""}]
[null,null,null,null,{"$f":"IF(ISERROR(VLOOKUP(C102,AS!$A:$H,7,FALSE)),\"\",VLOOKUP(C102,AS!$A:$H,7,FALSE))","v":""},{"$f":"IF(ISERROR(VLOOKUP(C102,AS!$A:$H,8,FALSE)),\"\",VLOOKUP(C102,AS!$A:$H,8,FALSE))","v":""},null,null,null,null,{"$f":"IF(ISERROR(VLOOKUP(I102,AS!$A:$H,7,FALSE)),\"\",VLOOKUP(I102,AS!$A:$H,7,FALSE))","v":""},{"$f":"IF(ISERROR(VLOOKUP(I102,AS!$A:$H,8,FALSE)),\"\",VLOOKUP(I102,AS!$A:$H,8,FALSE))","v":""},null,null,null,null,{"$f":"IF(ISERROR(VLOOKUP(O102,AS!$A:$H,7,FALSE)),\"\",VLOOKUP(O102,AS!$A:$H,7,FALSE))","v":""},{"$f":"IF(ISERROR(VLOOKUP(O102,AS!$A:$H,8,FALSE)),\"\",VLOOKUP(O102,AS!$A:$H,8,FALSE))","v":""},null,null,null,null,{"$f":"IF(ISERROR(VLOOKUP(U102,AS!$A:$H,7,FALSE)),\"\",VLOOKUP(U102,AS!$A:$H,7,FALSE))","v":""},{"$f":"IF(ISERROR(VLOOKUP(U102,AS!$A:$H,8,FALSE)),\"\",VLOOKUP(U102,AS!$A:$H,8,FALSE))","v":""},null,null,null,null,{"$f":"IF(ISERROR(VLOOKUP(AA102,AS!$A:$H,7,FALSE)),\"\",VLOOKUP(AA102,AS!$A:$H,7,FALSE))","v":""},{"$f":"IF(ISERROR(VLOOKUP(AA102,AS!$A:$H,8,FALSE)),\"\",VLOOKUP(AA102,AS!$A:$H,8,FALSE))","v":""},null,null,null,"",null,{"$f":"IF(AI102=\"\",\"\",IF(OFFSET('Fiche score'!$A$2,VLOOKUP(RIGHT(AI102,2),Feuil1!A:C,2,FALSE),VLOOKUP(RIGHT(AI102,2),Feuil1!A:C,3,FALSE))=A102 & CHAR(10) & C102,2,IF(OFFSET('Fiche score'!$A$2,VLOOKUP(RIGHT(AI102,2),Feuil1!A:C,2,FALSE)+1,VLOOKUP(RIGHT(AI102,2),Feuil1!A:C,3,FALSE))=A102 & CHAR(10) & C102,2,IF(OFFSET('Fiche score'!$A$2,VLOOKUP(RIGHT(AI102,2),Feuil1!A:C,2,FALSE)-1,VLOOKUP(RIGHT(AI102,2),Feuil1!A:C,3,FALSE))=A102 & CHAR(10) & C102,1,IF(OFFSET('Fiche score'!$A$2,VLOOKUP(RIGHT(AI102,2),Feuil1!A:C,2,FALSE)-2,VLOOKUP(RIGHT(AI102,2),Feuil1!A:C,3,FALSE))=A102 & CHAR(10) & C102,1,\"0\")))))","v":""},{"$f":"IF(ISERROR(VLOOKUP(A102 & CHAR(10) &C102,'Fiche tirage dirigé'!I:I,1,FALSE)),0,1)","v":0},{"$f":"IF(ISERROR(VLOOKUP(A102& CHAR(10) &C102,Cadrage!H:H,1,FALSE)),0,1)","v":0},{"$f":"IF(ISERROR(VLOOKUP(A102 & CHAR(10) &C102,'Tableau final'!V:V,1,FALSE)),0,1)","v":0},{"$f":"IF(ISERROR(VLOOKUP(A102 & CHAR(10) &C102,'Tableau final'!W:W,1,FALSE)),0,1)","v":0},{"$f":"IF(ISERROR(VLOOKUP(A102 & CHAR(10) &C102,'Tableau final'!X:X,1,FALSE)),0,1)","v":0},{"$f":"IF(ISERROR(VLOOKUP(A102 & CHAR(10) &C102,'Tableau final'!Y:Y,1,FALSE)),0,1)","v":0},{"$f":"IF(ISERROR(VLOOKUP(A102 & CHAR(10) &C102,'Tableau final'!Z:Z,1,FALSE)),0,1)","v":0},{"$f":"IF('Tableau final'!$A$1<>\"\",IF('Tableau final'!$B$5=\"Qualifiés\",IF(ISERROR(VLOOKUP(A102 & CHAR(10) &C102,'Tableau final'!C:F,1,FALSE)),\"\",IF(AND(VLOOKUP(A102 & CHAR(10) &C102,'Tableau final'!C:F,3,FALSE)<>\"\",VLOOKUP(A102 & CHAR(10) &C102,'Tableau final'!C:F,4,FALSE)=\"x\"),1,\"\")),IF('Tableau final'!$G$5=\"Qualifiés\",IF(ISERROR(VLOOKUP(A102 & CHAR(10) &C102,'Tableau final'!H:K,1,FALSE)),\"\",IF(AND(VLOOKUP(A102 & CHAR(10) &C102,'Tableau final'!H:K,3,FALSE)<>\"\",VLOOKUP(A102 & CHAR(10) &C102,'Tableau final'!H:K,4,FALSE)=\"x\"),1,\"\")),IF('Tableau final'!$L$5=\"Qualifiés\",IF(ISERROR(VLOOKUP(A102 & CHAR(10) &C102,'Tableau final'!M:P,1,FALSE)),\"\",IF(AND(VLOOKUP(A102 & CHAR(10) &C102,'Tableau final'!M:P,3,FALSE)<>\"\",VLOOKUP(A102 & CHAR(10) &C102,'Tableau final'!M:P,4,FALSE)=\"x\"),1,\"\")),\"\"))),\"\")","v":""},"0",{"$f":"IF(ISERROR(VLOOKUP(AI102,Tirage!A:J,1,FALSE)),\"\",IF(VLOOKUP(AI102,Tirage!A:J,1,FALSE)=\"Office \",3,4))","v":""},{"$f":"IF(AJ102=\"0\",4,IF(AJ102=1,3,IF(AJ102=2,IF(OFFSET('Fiche score'!$A$2,VLOOKUP(RIGHT(AI102,2),Feuil1!A:C,2,FALSE),VLOOKUP(RIGHT(AI102,2),Feuil1!A:C,3,FALSE))=A102 & CHAR(10) & C102,1,2),\"\")))","v":""}]
[null,null,null,null,{"$f":"IF(ISERROR(VLOOKUP(C103,AS!$A:$H,7,FALSE)),\"\",VLOOKUP(C103,AS!$A:$H,7,FALSE))","v":""},{"$f":"IF(ISERROR(VLOOKUP(C103,AS!$A:$H,8,FALSE)),\"\",VLOOKUP(C103,AS!$A:$H,8,FALSE))","v":""},null,null,null,null,{"$f":"IF(ISERROR(VLOOKUP(I103,AS!$A:$H,7,FALSE)),\"\",VLOOKUP(I103,AS!$A:$H,7,FALSE))","v":""},{"$f":"IF(ISERROR(VLOOKUP(I103,AS!$A:$H,8,FALSE)),\"\",VLOOKUP(I103,AS!$A:$H,8,FALSE))","v":""},null,null,null,null,{"$f":"IF(ISERROR(VLOOKUP(O103,AS!$A:$H,7,FALSE)),\"\",VLOOKUP(O103,AS!$A:$H,7,FALSE))","v":""},{"$f":"IF(ISERROR(VLOOKUP(O103,AS!$A:$H,8,FALSE)),\"\",VLOOKUP(O103,AS!$A:$H,8,FALSE))","v":""},null,null,null,null,{"$f":"IF(ISERROR(VLOOKUP(U103,AS!$A:$H,7,FALSE)),\"\",VLOOKUP(U103,AS!$A:$H,7,FALSE))","v":""},{"$f":"IF(ISERROR(VLOOKUP(U103,AS!$A:$H,8,FALSE)),\"\",VLOOKUP(U103,AS!$A:$H,8,FALSE))","v":""},null,null,null,null,{"$f":"IF(ISERROR(VLOOKUP(AA103,AS!$A:$H,7,FALSE)),\"\",VLOOKUP(AA103,AS!$A:$H,7,FALSE))","v":""},{"$f":"IF(ISERROR(VLOOKUP(AA103,AS!$A:$H,8,FALSE)),\"\",VLOOKUP(AA103,AS!$A:$H,8,FALSE))","v":""},null,null,null,"",null,{"$f":"IF(AI103=\"\",\"\",IF(OFFSET('Fiche score'!$A$2,VLOOKUP(RIGHT(AI103,2),Feuil1!A:C,2,FALSE),VLOOKUP(RIGHT(AI103,2),Feuil1!A:C,3,FALSE))=A103 & CHAR(10) & C103,2,IF(OFFSET('Fiche score'!$A$2,VLOOKUP(RIGHT(AI103,2),Feuil1!A:C,2,FALSE)+1,VLOOKUP(RIGHT(AI103,2),Feuil1!A:C,3,FALSE))=A103 & CHAR(10) & C103,2,IF(OFFSET('Fiche score'!$A$2,VLOOKUP(RIGHT(AI103,2),Feuil1!A:C,2,FALSE)-1,VLOOKUP(RIGHT(AI103,2),Feuil1!A:C,3,FALSE))=A103 & CHAR(10) & C103,1,IF(OFFSET('Fiche score'!$A$2,VLOOKUP(RIGHT(AI103,2),Feuil1!A:C,2,FALSE)-2,VLOOKUP(RIGHT(AI103,2),Feuil1!A:C,3,FALSE))=A103 & CHAR(10) & C103,1,\"0\")))))","v":""},{"$f":"IF(ISERROR(VLOOKUP(A103 & CHAR(10) &C103,'Fiche tirage dirigé'!I:I,1,FALSE)),0,1)","v":0},{"$f":"IF(ISERROR(VLOOKUP(A103& CHAR(10) &C103,Cadrage!H:H,1,FALSE)),0,1)","v":0},{"$f":"IF(ISERROR(VLOOKUP(A103 & CHAR(10) &C103,'Tableau final'!V:V,1,FALSE)),0,1)","v":0},{"$f":"IF(ISERROR(VLOOKUP(A103 & CHAR(10) &C103,'Tableau final'!W:W,1,FALSE)),0,1)","v":0},{"$f":"IF(ISERROR(VLOOKUP(A103 & CHAR(10) &C103,'Tableau final'!X:X,1,FALSE)),0,1)","v":0},{"$f":"IF(ISERROR(VLOOKUP(A103 & CHAR(10) &C103,'Tableau final'!Y:Y,1,FALSE)),0,1)","v":0},{"$f":"IF(ISERROR(VLOOKUP(A103 & CHAR(10) &C103,'Tableau final'!Z:Z,1,FALSE)),0,1)","v":0},{"$f":"IF('Tableau final'!$A$1<>\"\",IF('Tableau final'!$B$5=\"Qualifiés\",IF(ISERROR(VLOOKUP(A103 & CHAR(10) &C103,'Tableau final'!C:F,1,FALSE)),\"\",IF(AND(VLOOKUP(A103 & CHAR(10) &C103,'Tableau final'!C:F,3,FALSE)<>\"\",VLOOKUP(A103 & CHAR(10) &C103,'Tableau final'!C:F,4,FALSE)=\"x\"),1,\"\")),IF('Tableau final'!$G$5=\"Qualifiés\",IF(ISERROR(VLOOKUP(A103 & CHAR(10) &C103,'Tableau final'!H:K,1,FALSE)),\"\",IF(AND(VLOOKUP(A103 & CHAR(10) &C103,'Tableau final'!H:K,3,FALSE)<>\"\",VLOOKUP(A103 & CHAR(10) &C103,'Tableau final'!H:K,4,FALSE)=\"x\"),1,\"\")),IF('Tableau final'!$L$5=\"Qualifiés\",IF(ISERROR(VLOOKUP(A103 & CHAR(10) &C103,'Tableau final'!M:P,1,FALSE)),\"\",IF(AND(VLOOKUP(A103 & CHAR(10) &C103,'Tableau final'!M:P,3,FALSE)<>\"\",VLOOKUP(A103 & CHAR(10) &C103,'Tableau final'!M:P,4,FALSE)=\"x\"),1,\"\")),\"\"))),\"\")","v":""},"0",{"$f":"IF(ISERROR(VLOOKUP(AI103,Tirage!A:J,1,FALSE)),\"\",IF(VLOOKUP(AI103,Tirage!A:J,1,FALSE)=\"Office \",3,4))","v":""},{"$f":"IF(AJ103=\"0\",4,IF(AJ103=1,3,IF(AJ103=2,IF(OFFSET('Fiche score'!$A$2,VLOOKUP(RIGHT(AI103,2),Feuil1!A:C,2,FALSE),VLOOKUP(RIGHT(AI103,2),Feuil1!A:C,3,FALSE))=A103 & CHAR(10) & C103,1,2),\"\")))","v":""}]
[null,null,null,null,{"$f":"IF(ISERROR(VLOOKUP(C104,AS!$A:$H,7,FALSE)),\"\",VLOOKUP(C104,AS!$A:$H,7,FALSE))","v":""},{"$f":"IF(ISERROR(VLOOKUP(C104,AS!$A:$H,8,FALSE)),\"\",VLOOKUP(C104,AS!$A:$H,8,FALSE))","v":""},null,null,null,null,{"$f":"IF(ISERROR(VLOOKUP(I104,AS!$A:$H,7,FALSE)),\"\",VLOOKUP(I104,AS!$A:$H,7,FALSE))","v":""},{"$f":"IF(ISERROR(VLOOKUP(I104,AS!$A:$H,8,FALSE)),\"\",VLOOKUP(I104,AS!$A:$H,8,FALSE))","v":""},null,null,null,null,{"$f":"IF(ISERROR(VLOOKUP(O104,AS!$A:$H,7,FALSE)),\"\",VLOOKUP(O104,AS!$A:$H,7,FALSE))","v":""},{"$f":"IF(ISERROR(VLOOKUP(O104,AS!$A:$H,8,FALSE)),\"\",VLOOKUP(O104,AS!$A:$H,8,FALSE))","v":""},null,null,null,null,{"$f":"IF(ISERROR(VLOOKUP(U104,AS!$A:$H,7,FALSE)),\"\",VLOOKUP(U104,AS!$A:$H,7,FALSE))","v":""},{"$f":"IF(ISERROR(VLOOKUP(U104,AS!$A:$H,8,FALSE)),\"\",VLOOKUP(U104,AS!$A:$H,8,FALSE))","v":""},null,null,null,null,{"$f":"IF(ISERROR(VLOOKUP(AA104,AS!$A:$H,7,FALSE)),\"\",VLOOKUP(AA104,AS!$A:$H,7,FALSE))","v":""},{"$f":"IF(ISERROR(VLOOKUP(AA104,AS!$A:$H,8,FALSE)),\"\",VLOOKUP(AA104,AS!$A:$H,8,FALSE))","v":""},null,null,null,"",null,{"$f":"IF(AI104=\"\",\"\",IF(OFFSET('Fiche score'!$A$2,VLOOKUP(RIGHT(AI104,2),Feuil1!A:C,2,FALSE),VLOOKUP(RIGHT(AI104,2),Feuil1!A:C,3,FALSE))=A104 & CHAR(10) & C104,2,IF(OFFSET('Fiche score'!$A$2,VLOOKUP(RIGHT(AI104,2),Feuil1!A:C,2,FALSE)+1,VLOOKUP(RIGHT(AI104,2),Feuil1!A:C,3,FALSE))=A104 & CHAR(10) & C104,2,IF(OFFSET('Fiche score'!$A$2,VLOOKUP(RIGHT(AI104,2),Feuil1!A:C,2,FALSE)-1,VLOOKUP(RIGHT(AI104,2),Feuil1!A:C,3,FALSE))=A104 & CHAR(10) & C104,1,IF(OFFSET('Fiche score'!$A$2,VLOOKUP(RIGHT(AI104,2),Feuil1!A:C,2,FALSE)-2,VLOOKUP(RIGHT(AI104,2),Feuil1!A:C,3,FALSE))=A104 & CHAR(10) & C104,1,\"0\")))))","v":""},{"$f":"IF(ISERROR(VLOOKUP(A104 & CHAR(10) &C104,'Fiche tirage dirigé'!I:I,1,FALSE)),0,1)","v":0},{"$f":"IF(ISERROR(VLOOKUP(A104& CHAR(10) &C104,Cadrage!H:H,1,FALSE)),0,1)","v":0},{"$f":"IF(ISERROR(VLOOKUP(A104 & CHAR(10) &C104,'Tableau final'!V:V,1,FALSE)),0,1)","v":0},{"$f":"IF(ISERROR(VLOOKUP(A104 & CHAR(10) &C104,'Tableau final'!W:W,1,FALSE)),0,1)","v":0},{"$f":"IF(ISERROR(VLOOKUP(A104 & CHAR(10) &C104,'Tableau final'!X:X,1,FALSE)),0,1)","v":0},{"$f":"IF(ISERROR(VLOOKUP(A104 & CHAR(10) &C104,'Tableau final'!Y:Y,1,FALSE)),0,1)","v":0},{"$f":"IF(ISERROR(VLOOKUP(A104 & CHAR(10) &C104,'Tableau final'!Z:Z,1,FALSE)),0,1)","v":0},{"$f":"IF('Tableau final'!$A$1<>\"\",IF('Tableau final'!$B$5=\"Qualifiés\",IF(ISERROR(VLOOKUP(A104 & CHAR(10) &C104,'Tableau final'!C:F,1,FALSE)),\"\",IF(AND(VLOOKUP(A104 & CHAR(10) &C104,'Tableau final'!C:F,3,FALSE)<>\"\",VLOOKUP(A104 & CHAR(10) &C104,'Tableau final'!C:F,4,FALSE)=\"x\"),1,\"\")),IF('Tableau final'!$G$5=\"Qualifiés\",IF(ISERROR(VLOOKUP(A104 & CHAR(10) &C104,'Tableau final'!H:K,1,FALSE)),\"\",IF(AND(VLOOKUP(A104 & CHAR(10) &C104,'Tableau final'!H:K,3,FALSE)<>\"\",VLOOKUP(A104 & CHAR(10) &C104,'Tableau final'!H:K,4,FALSE)=\"x\"),1,\"\")),IF('Tableau final'!$L$5=\"Qualifiés\",IF(ISERROR(VLOOKUP(A104 & CHAR(10) &C104,'Tableau final'!M:P,1,FALSE)),\"\",IF(AND(VLOOKUP(A104 & CHAR(10) &C104,'Tableau final'!M:P,3,FALSE)<>\"\",VLOOKUP(A104 & CHAR(10) &C104,'Tableau final'!M:P,4,FALSE)=\"x\"),1,\"\")),\"\"))),\"\")","v":""},"0",{"$f":"IF(ISERROR(VLOOKUP(AI104,Tirage!A:J,1,FALSE)),\"\",IF(VLOOKUP(AI104,Tirage!A:J,1,FALSE)=\"Office \",3,4))","v":""},{"$f":"IF(AJ104=\"0\",4,IF(AJ104=1,3,IF(AJ104=2,IF(OFFSET('Fiche score'!$A$2,VLOOKUP(RIGHT(AI104,2),Feuil1!A:C,2,FALSE),VLOOKUP(RIGHT(AI104,2),Feuil1!A:C,3,FALSE))=A104 & CHAR(10) & C104,1,2),\"\")))","v":""}]
[null,null,null,null,{"$f":"IF(ISERROR(VLOOKUP(C105,AS!$A:$H,7,FALSE)),\"\",VLOOKUP(C105,AS!$A:$H,7,FALSE))","v":""},{"$f":"IF(ISERROR(VLOOKUP(C105,AS!$A:$H,8,FALSE)),\"\",VLOOKUP(C105,AS!$A:$H,8,FALSE))","v":""},null,null,null,null,{"$f":"IF(ISERROR(VLOOKUP(I105,AS!$A:$H,7,FALSE)),\"\",VLOOKUP(I105,AS!$A:$H,7,FALSE))","v":""},{"$f":"IF(ISERROR(VLOOKUP(I105,AS!$A:$H,8,FALSE)),\"\",VLOOKUP(I105,AS!$A:$H,8,FALSE))","v":""},null,null,null,null,{"$f":"IF(ISERROR(VLOOKUP(O105,AS!$A:$H,7,FALSE)),\"\",VLOOKUP(O105,AS!$A:$H,7,FALSE))","v":""},{"$f":"IF(ISERROR(VLOOKUP(O105,AS!$A:$H,8,FALSE)),\"\",VLOOKUP(O105,AS!$A:$H,8,FALSE))","v":""},null,null,null,null,{"$f":"IF(ISERROR(VLOOKUP(U105,AS!$A:$H,7,FALSE)),\"\",VLOOKUP(U105,AS!$A:$H,7,FALSE))","v":""},{"$f":"IF(ISERROR(VLOOKUP(U105,AS!$A:$H,8,FALSE)),\"\",VLOOKUP(U105,AS!$A:$H,8,FALSE))","v":""},null,null,null,null,{"$f":"IF(ISERROR(VLOOKUP(AA105,AS!$A:$H,7,FALSE)),\"\",VLOOKUP(AA105,AS!$A:$H,7,FALSE))","v":""},{"$f":"IF(ISERROR(VLOOKUP(AA105,AS!$A:$H,8,FALSE)),\"\",VLOOKUP(AA105,AS!$A:$H,8,FALSE))","v":""},null,null,null,"",null,{"$f":"IF(AI105=\"\",\"\",IF(OFFSET('Fiche score'!$A$2,VLOOKUP(RIGHT(AI105,2),Feuil1!A:C,2,FALSE),VLOOKUP(RIGHT(AI105,2),Feuil1!A:C,3,FALSE))=A105 & CHAR(10) & C105,2,IF(OFFSET('Fiche score'!$A$2,VLOOKUP(RIGHT(AI105,2),Feuil1!A:C,2,FALSE)+1,VLOOKUP(RIGHT(AI105,2),Feuil1!A:C,3,FALSE))=A105 & CHAR(10) & C105,2,IF(OFFSET('Fiche score'!$A$2,VLOOKUP(RIGHT(AI105,2),Feuil1!A:C,2,FALSE)-1,VLOOKUP(RIGHT(AI105,2),Feuil1!A:C,3,FALSE))=A105 & CHAR(10) & C105,1,IF(OFFSET('Fiche score'!$A$2,VLOOKUP(RIGHT(AI105,2),Feuil1!A:C,2,FALSE)-2,VLOOKUP(RIGHT(AI105,2),Feuil1!A:C,3,FALSE))=A105 & CHAR(10) & C105,1,\"0\")))))","v":""},{"$f":"IF(ISERROR(VLOOKUP(A105 & CHAR(10) &C105,'Fiche tirage dirigé'!I:I,1,FALSE)),0,1)","v":0},{"$f":"IF(ISERROR(VLOOKUP(A105& CHAR(10) &C105,Cadrage!H:H,1,FALSE)),0,1)","v":0},{"$f":"IF(ISERROR(VLOOKUP(A105 & CHAR(10) &C105,'Tableau final'!V:V,1,FALSE)),0,1)","v":0},{"$f":"IF(ISERROR(VLOOKUP(A105 & CHAR(10) &C105,'Tableau final'!W:W,1,FALSE)),0,1)","v":0},{"$f":"IF(ISERROR(VLOOKUP(A105 & CHAR(10) &C105,'Tableau final'!X:X,1,FALSE)),0,1)","v":0},{"$f":"IF(ISERROR(VLOOKUP(A105 & CHAR(10) &C105,'Tableau final'!Y:Y,1,FALSE)),0,1)","v":0},{"$f":"IF(ISERROR(VLOOKUP(A105 & CHAR(10) &C105,'Tableau final'!Z:Z,1,FALSE)),0,1)","v":0},{"$f":"IF('Tableau final'!$A$1<>\"\",IF('Tableau final'!$B$5=\"Qualifiés\",IF(ISERROR(VLOOKUP(A105 & CHAR(10) &C105,'Tableau final'!C:F,1,FALSE)),\"\",IF(AND(VLOOKUP(A105 & CHAR(10) &C105,'Tableau final'!C:F,3,FALSE)<>\"\",VLOOKUP(A105 & CHAR(10) &C105,'Tableau final'!C:F,4,FALSE)=\"x\"),1,\"\")),IF('Tableau final'!$G$5=\"Qualifiés\",IF(ISERROR(VLOOKUP(A105 & CHAR(10) &C105,'Tableau final'!H:K,1,FALSE)),\"\",IF(AND(VLOOKUP(A105 & CHAR(10) &C105,'Tableau final'!H:K,3,FALSE)<>\"\",VLOOKUP(A105 & CHAR(10) &C105,'Tableau final'!H:K,4,FALSE)=\"x\"),1,\"\")),IF('Tableau final'!$L$5=\"Qualifiés\",IF(ISERROR(VLOOKUP(A105 & CHAR(10) &C105,'Tableau final'!M:P,1,FALSE)),\"\",IF(AND(VLOOKUP(A105 & CHAR(10) &C105,'Tableau final'!M:P,3,FALSE)<>\"\",VLOOKUP(A105 & CHAR(10) &C105,'Tableau final'!M:P,4,FALSE)=\"x\"),1,\"\")),\"\"))),\"\")","v":""},"0",{"$f":"IF(ISERROR(VLOOKUP(AI105,Tirage!A:J,1,FALSE)),\"\",IF(VLOOKUP(AI105,Tirage!A:J,1,FALSE)=\"Office \",3,4))","v":""},{"$f":"IF(AJ105=\"0\",4,IF(AJ105=1,3,IF(AJ105=2,IF(OFFSET('Fiche score'!$A$2,VLOOKUP(RIGHT(AI105,2),Feuil1!A:C,2,FALSE),VLOOKUP(RIGHT(AI105,2),Feuil1!A:C,3,FALSE))=A105 & CHAR(10) & C105,1,2),\"\")))","v":""}]
[null,null,null,null,{"$f":"IF(ISERROR(VLOOKUP(C106,AS!$A:$H,7,FALSE)),\"\",VLOOKUP(C106,AS!$A:$H,7,FALSE))","v":""},{"$f":"IF(ISERROR(VLOOKUP(C106,AS!$A:$H,8,FALSE)),\"\",VLOOKUP(C106,AS!$A:$H,8,FALSE))","v":""},null,null,null,null,{"$f":"IF(ISERROR(VLOOKUP(I106,AS!$A:$H,7,FALSE)),\"\",VLOOKUP(I106,AS!$A:$H,7,FALSE))","v":""},{"$f":"IF(ISERROR(VLOOKUP(I106,AS!$A:$H,8,FALSE)),\"\",VLOOKUP(I106,AS!$A:$H,8,FALSE))","v":""},null,null,null,null,{"$f":"IF(ISERROR(VLOOKUP(O106,AS!$A:$H,7,FALSE)),\"\",VLOOKUP(O106,AS!$A:$H,7,FALSE))","v":""},{"$f":"IF(ISERROR(VLOOKUP(O106,AS!$A:$H,8,FALSE)),\"\",VLOOKUP(O106,AS!$A:$H,8,FALSE))","v":""},null,null,null,null,{"$f":"IF(ISERROR(VLOOKUP(U106,AS!$A:$H,7,FALSE)),\"\",VLOOKUP(U106,AS!$A:$H,7,FALSE))","v":""},{"$f":"IF(ISERROR(VLOOKUP(U106,AS!$A:$H,8,FALSE)),\"\",VLOOKUP(U106,AS!$A:$H,8,FALSE))","v":""},null,null,null,null,{"$f":"IF(ISERROR(VLOOKUP(AA106,AS!$A:$H,7,FALSE)),\"\",VLOOKUP(AA106,AS!$A:$H,7,FALSE))","v":""},{"$f":"IF(ISERROR(VLOOKUP(AA106,AS!$A:$H,8,FALSE)),\"\",VLOOKUP(AA106,AS!$A:$H,8,FALSE))","v":""},null,null,null,"",null,{"$f":"IF(AI106=\"\",\"\",IF(OFFSET('Fiche score'!$A$2,VLOOKUP(RIGHT(AI106,2),Feuil1!A:C,2,FALSE),VLOOKUP(RIGHT(AI106,2),Feuil1!A:C,3,FALSE))=A106 & CHAR(10) & C106,2,IF(OFFSET('Fiche score'!$A$2,VLOOKUP(RIGHT(AI106,2),Feuil1!A:C,2,FALSE)+1,VLOOKUP(RIGHT(AI106,2),Feuil1!A:C,3,FALSE))=A106 & CHAR(10) & C106,2,IF(OFFSET('Fiche score'!$A$2,VLOOKUP(RIGHT(AI106,2),Feuil1!A:C,2,FALSE)-1,VLOOKUP(RIGHT(AI106,2),Feuil1!A:C,3,FALSE))=A106 & CHAR(10) & C106,1,IF(OFFSET('Fiche score'!$A$2,VLOOKUP(RIGHT(AI106,2),Feuil1!A:C,2,FALSE)-2,VLOOKUP(RIGHT(AI106,2),Feuil1!A:C,3,FALSE))=A106 & CHAR(10) & C106,1,\"0\")))))","v":""},{"$f":"IF(ISERROR(VLOOKUP(A106 & CHAR(10) &C106,'Fiche tirage dirigé'!I:I,1,FALSE)),0,1)","v":0},{"$f":"IF(ISERROR(VLOOKUP(A106& CHAR(10) &C106,Cadrage!H:H,1,FALSE)),0,1)","v":0},{"$f":"IF(ISERROR(VLOOKUP(A106 & CHAR(10) &C106,'Tableau final'!V:V,1,FALSE)),0,1)","v":0},{"$f":"IF(ISERROR(VLOOKUP(A106 & CHAR(10) &C106,'Tableau final'!W:W,1,FALSE)),0,1)","v":0},{"$f":"IF(ISERROR(VLOOKUP(A106 & CHAR(10) &C106,'Tableau final'!X:X,1,FALSE)),0,1)","v":0},{"$f":"IF(ISERROR(VLOOKUP(A106 & CHAR(10) &C106,'Tableau final'!Y:Y,1,FALSE)),0,1)","v":0},{"$f":"IF(ISERROR(VLOOKUP(A106 & CHAR(10) &C106,'Tableau final'!Z:Z,1,FALSE)),0,1)","v":0},{"$f":"IF('Tableau final'!$A$1<>\"\",IF('Tableau final'!$B$5=\"Qualifiés\",IF(ISERROR(VLOOKUP(A106 & CHAR(10) &C106,'Tableau final'!C:F,1,FALSE)),\"\",IF(AND(VLOOKUP(A106 & CHAR(10) &C106,'Tableau final'!C:F,3,FALSE)<>\"\",VLOOKUP(A106 & CHAR(10) &C106,'Tableau final'!C:F,4,FALSE)=\"x\"),1,\"\")),IF('Tableau final'!$G$5=\"Qualifiés\",IF(ISERROR(VLOOKUP(A106 & CHAR(10) &C106,'Tableau final'!H:K,1,FALSE)),\"\",IF(AND(VLOOKUP(A106 & CHAR(10) &C106,'Tableau final'!H:K,3,FALSE)<>\"\",VLOOKUP(A106 & CHAR(10) &C106,'Tableau final'!H:K,4,FALSE)=\"x\"),1,\"\")),IF('Tableau final'!$L$5=\"Qualifiés\",IF(ISERROR(VLOOKUP(A106 & CHAR(10) &C106,'Tableau final'!M:P,1,FALSE)),\"\",IF(AND(VLOOKUP(A106 & CHAR(10) &C106,'Tableau final'!M:P,3,FALSE)<>\"\",VLOOKUP(A106 & CHAR(10) &C106,'Tableau final'!M:P,4,FALSE)=\"x\"),1,\"\")),\"\"))),\"\")","v":""},"0",{"$f":"IF(ISERROR(VLOOKUP(AI106,Tirage!A:J,1,FALSE)),\"\",IF(VLOOKUP(AI106,Tirage!A:J,1,FALSE)=\"Office \",3,4))","v":""},{"$f":"IF(AJ106=\"0\",4,IF(AJ106=1,3,IF(AJ106=2,IF(OFFSET('Fiche score'!$A$2,VLOOKUP(RIGHT(AI106,2),Feuil1!A:C,2,FALSE),VLOOKUP(RIGHT(AI106,2),Feuil1!A:C,3,FALSE))=A106 & CHAR(10) & C106,1,2),\"\")))","v":""}]
[null,null,null,null,{"$f":"IF(ISERROR(VLOOKUP(C107,AS!$A:$H,7,FALSE)),\"\",VLOOKUP(C107,AS!$A:$H,7,FALSE))","v":""},{"$f":"IF(ISERROR(VLOOKUP(C107,AS!$A:$H,8,FALSE)),\"\",VLOOKUP(C107,AS!$A:$H,8,FALSE))","v":""},null,null,null,null,{"$f":"IF(ISERROR(VLOOKUP(I107,AS!$A:$H,7,FALSE)),\"\",VLOOKUP(I107,AS!$A:$H,7,FALSE))","v":""},{"$f":"IF(ISERROR(VLOOKUP(I107,AS!$A:$H,8,FALSE)),\"\",VLOOKUP(I107,AS!$A:$H,8,FALSE))","v":""},null,null,null,null,{"$f":"IF(ISERROR(VLOOKUP(O107,AS!$A:$H,7,FALSE)),\"\",VLOOKUP(O107,AS!$A:$H,7,FALSE))","v":""},{"$f":"IF(ISERROR(VLOOKUP(O107,AS!$A:$H,8,FALSE)),\"\",VLOOKUP(O107,AS!$A:$H,8,FALSE))","v":""},null,null,null,null,{"$f":"IF(ISERROR(VLOOKUP(U107,AS!$A:$H,7,FALSE)),\"\",VLOOKUP(U107,AS!$A:$H,7,FALSE))","v":""},{"$f":"IF(ISERROR(VLOOKUP(U107,AS!$A:$H,8,FALSE)),\"\",VLOOKUP(U107,AS!$A:$H,8,FALSE))","v":""},null,null,null,null,{"$f":"IF(ISERROR(VLOOKUP(AA107,AS!$A:$H,7,FALSE)),\"\",VLOOKUP(AA107,AS!$A:$H,7,FALSE))","v":""},{"$f":"IF(ISERROR(VLOOKUP(AA107,AS!$A:$H,8,FALSE)),\"\",VLOOKUP(AA107,AS!$A:$H,8,FALSE))","v":""},null,null,null,"",null,{"$f":"IF(AI107=\"\",\"\",IF(OFFSET('Fiche score'!$A$2,VLOOKUP(RIGHT(AI107,2),Feuil1!A:C,2,FALSE),VLOOKUP(RIGHT(AI107,2),Feuil1!A:C,3,FALSE))=A107 & CHAR(10) & C107,2,IF(OFFSET('Fiche score'!$A$2,VLOOKUP(RIGHT(AI107,2),Feuil1!A:C,2,FALSE)+1,VLOOKUP(RIGHT(AI107,2),Feuil1!A:C,3,FALSE))=A107 & CHAR(10) & C107,2,IF(OFFSET('Fiche score'!$A$2,VLOOKUP(RIGHT(AI107,2),Feuil1!A:C,2,FALSE)-1,VLOOKUP(RIGHT(AI107,2),Feuil1!A:C,3,FALSE))=A107 & CHAR(10) & C107,1,IF(OFFSET('Fiche score'!$A$2,VLOOKUP(RIGHT(AI107,2),Feuil1!A:C,2,FALSE)-2,VLOOKUP(RIGHT(AI107,2),Feuil1!A:C,3,FALSE))=A107 & CHAR(10) & C107,1,\"0\")))))","v":""},{"$f":"IF(ISERROR(VLOOKUP(A107 & CHAR(10) &C107,'Fiche tirage dirigé'!I:I,1,FALSE)),0,1)","v":0},{"$f":"IF(ISERROR(VLOOKUP(A107& CHAR(10) &C107,Cadrage!H:H,1,FALSE)),0,1)","v":0},{"$f":"IF(ISERROR(VLOOKUP(A107 & CHAR(10) &C107,'Tableau final'!V:V,1,FALSE)),0,1)","v":0},{"$f":"IF(ISERROR(VLOOKUP(A107 & CHAR(10) &C107,'Tableau final'!W:W,1,FALSE)),0,1)","v":0},{"$f":"IF(ISERROR(VLOOKUP(A107 & CHAR(10) &C107,'Tableau final'!X:X,1,FALSE)),0,1)","v":0},{"$f":"IF(ISERROR(VLOOKUP(A107 & CHAR(10) &C107,'Tableau final'!Y:Y,1,FALSE)),0,1)","v":0},{"$f":"IF(ISERROR(VLOOKUP(A107 & CHAR(10) &C107,'Tableau final'!Z:Z,1,FALSE)),0,1)","v":0},{"$f":"IF('Tableau final'!$A$1<>\"\",IF('Tableau final'!$B$5=\"Qualifiés\",IF(ISERROR(VLOOKUP(A107 & CHAR(10) &C107,'Tableau final'!C:F,1,FALSE)),\"\",IF(AND(VLOOKUP(A107 & CHAR(10) &C107,'Tableau final'!C:F,3,FALSE)<>\"\",VLOOKUP(A107 & CHAR(10) &C107,'Tableau final'!C:F,4,FALSE)=\"x\"),1,\"\")),IF('Tableau final'!$G$5=\"Qualifiés\",IF(ISERROR(VLOOKUP(A107 & CHAR(10) &C107,'Tableau final'!H:K,1,FALSE)),\"\",IF(AND(VLOOKUP(A107 & CHAR(10) &C107,'Tableau final'!H:K,3,FALSE)<>\"\",VLOOKUP(A107 & CHAR(10) &C107,'Tableau final'!H:K,4,FALSE)=\"x\"),1,\"\")),IF('Tableau final'!$L$5=\"Qualifiés\",IF(ISERROR(VLOOKUP(A107 & CHAR(10) &C107,'Tableau final'!M:P,1,FALSE)),\"\",IF(AND(VLOOKUP(A107 & CHAR(10) &C107,'Tableau final'!M:P,3,FALSE)<>\"\",VLOOKUP(A107 & CHAR(10) &C107,'Tableau final'!M:P,4,FALSE)=\"x\"),1,\"\")),\"\"))),\"\")","v":""},"0",{"$f":"IF(ISERROR(VLOOKUP(AI107,Tirage!A:J,1,FALSE)),\"\",IF(VLOOKUP(AI107,Tirage!A:J,1,FALSE)=\"Office \",3,4))","v":""},{"$f":"IF(AJ107=\"0\",4,IF(AJ107=1,3,IF(AJ107=2,IF(OFFSET('Fiche score'!$A$2,VLOOKUP(RIGHT(AI107,2),Feuil1!A:C,2,FALSE),VLOOKUP(RIGHT(AI107,2),Feuil1!A:C,3,FALSE))=A107 & CHAR(10) & C107,1,2),\"\")))","v":""}]
[null,null,null,null,{"$f":"IF(ISERROR(VLOOKUP(C108,AS!$A:$H,7,FALSE)),\"\",VLOOKUP(C108,AS!$A:$H,7,FALSE))","v":""},{"$f":"IF(ISERROR(VLOOKUP(C108,AS!$A:$H,8,FALSE)),\"\",VLOOKUP(C108,AS!$A:$H,8,FALSE))","v":""},null,null,null,null,{"$f":"IF(ISERROR(VLOOKUP(I108,AS!$A:$H,7,FALSE)),\"\",VLOOKUP(I108,AS!$A:$H,7,FALSE))","v":""},{"$f":"IF(ISERROR(VLOOKUP(I108,AS!$A:$H,8,FALSE)),\"\",VLOOKUP(I108,AS!$A:$H,8,FALSE))","v":""},null,null,null,null,{"$f":"IF(ISERROR(VLOOKUP(O108,AS!$A:$H,7,FALSE)),\"\",VLOOKUP(O108,AS!$A:$H,7,FALSE))","v":""},{"$f":"IF(ISERROR(VLOOKUP(O108,AS!$A:$H,8,FALSE)),\"\",VLOOKUP(O108,AS!$A:$H,8,FALSE))","v":""},null,null,null,null,{"$f":"IF(ISERROR(VLOOKUP(U108,AS!$A:$H,7,FALSE)),\"\",VLOOKUP(U108,AS!$A:$H,7,FALSE))","v":""},{"$f":"IF(ISERROR(VLOOKUP(U108,AS!$A:$H,8,FALSE)),\"\",VLOOKUP(U108,AS!$A:$H,8,FALSE))","v":""},null,null,null,null,{"$f":"IF(ISERROR(VLOOKUP(AA108,AS!$A:$H,7,FALSE)),\"\",VLOOKUP(AA108,AS!$A:$H,7,FALSE))","v":""},{"$f":"IF(ISERROR(VLOOKUP(AA108,AS!$A:$H,8,FALSE)),\"\",VLOOKUP(AA108,AS!$A:$H,8,FALSE))","v":""},null,null,null,"",null,{"$f":"IF(AI108=\"\",\"\",IF(OFFSET('Fiche score'!$A$2,VLOOKUP(RIGHT(AI108,2),Feuil1!A:C,2,FALSE),VLOOKUP(RIGHT(AI108,2),Feuil1!A:C,3,FALSE))=A108 & CHAR(10) & C108,2,IF(OFFSET('Fiche score'!$A$2,VLOOKUP(RIGHT(AI108,2),Feuil1!A:C,2,FALSE)+1,VLOOKUP(RIGHT(AI108,2),Feuil1!A:C,3,FALSE))=A108 & CHAR(10) & C108,2,IF(OFFSET('Fiche score'!$A$2,VLOOKUP(RIGHT(AI108,2),Feuil1!A:C,2,FALSE)-1,VLOOKUP(RIGHT(AI108,2),Feuil1!A:C,3,FALSE))=A108 & CHAR(10) & C108,1,IF(OFFSET('Fiche score'!$A$2,VLOOKUP(RIGHT(AI108,2),Feuil1!A:C,2,FALSE)-2,VLOOKUP(RIGHT(AI108,2),Feuil1!A:C,3,FALSE))=A108 & CHAR(10) & C108,1,\"0\")))))","v":""},{"$f":"IF(ISERROR(VLOOKUP(A108 & CHAR(10) &C108,'Fiche tirage dirigé'!I:I,1,FALSE)),0,1)","v":0},{"$f":"IF(ISERROR(VLOOKUP(A108& CHAR(10) &C108,Cadrage!H:H,1,FALSE)),0,1)","v":0},{"$f":"IF(ISERROR(VLOOKUP(A108 & CHAR(10) &C108,'Tableau final'!V:V,1,FALSE)),0,1)","v":0},{"$f":"IF(ISERROR(VLOOKUP(A108 & CHAR(10) &C108,'Tableau final'!W:W,1,FALSE)),0,1)","v":0},{"$f":"IF(ISERROR(VLOOKUP(A108 & CHAR(10) &C108,'Tableau final'!X:X,1,FALSE)),0,1)","v":0},{"$f":"IF(ISERROR(VLOOKUP(A108 & CHAR(10) &C108,'Tableau final'!Y:Y,1,FALSE)),0,1)","v":0},{"$f":"IF(ISERROR(VLOOKUP(A108 & CHAR(10) &C108,'Tableau final'!Z:Z,1,FALSE)),0,1)","v":0},{"$f":"IF('Tableau final'!$A$1<>\"\",IF('Tableau final'!$B$5=\"Qualifiés\",IF(ISERROR(VLOOKUP(A108 & CHAR(10) &C108,'Tableau final'!C:F,1,FALSE)),\"\",IF(AND(VLOOKUP(A108 & CHAR(10) &C108,'Tableau final'!C:F,3,FALSE)<>\"\",VLOOKUP(A108 & CHAR(10) &C108,'Tableau final'!C:F,4,FALSE)=\"x\"),1,\"\")),IF('Tableau final'!$G$5=\"Qualifiés\",IF(ISERROR(VLOOKUP(A108 & CHAR(10) &C108,'Tableau final'!H:K,1,FALSE)),\"\",IF(AND(VLOOKUP(A108 & CHAR(10) &C108,'Tableau final'!H:K,3,FALSE)<>\"\",VLOOKUP(A108 & CHAR(10) &C108,'Tableau final'!H:K,4,FALSE)=\"x\"),1,\"\")),IF('Tableau final'!$L$5=\"Qualifiés\",IF(ISERROR(VLOOKUP(A108 & CHAR(10) &C108,'Tableau final'!M:P,1,FALSE)),\"\",IF(AND(VLOOKUP(A108 & CHAR(10) &C108,'Tableau final'!M:P,3,FALSE)<>\"\",VLOOKUP(A108 & CHAR(10) &C108,'Tableau final'!M:P,4,FALSE)=\"x\"),1,\"\")),\"\"))),\"\")","v":""},"0",{"$f":"IF(ISERROR(VLOOKUP(AI108,Tirage!A:J,1,FALSE)),\"\",IF(VLOOKUP(AI108,Tirage!A:J,1,FALSE)=\"Office \",3,4))","v":""},{"$f":"IF(AJ108=\"0\",4,IF(AJ108=1,3,IF(AJ108=2,IF(OFFSET('Fiche score'!$A$2,VLOOKUP(RIGHT(AI108,2),Feuil1!A:C,2,FALSE),VLOOKUP(RIGHT(AI108,2),Feuil1!A:C,3,FALSE))=A108 & CHAR(10) & C108,1,2),\"\")))","v":""}]
[null,null,null,null,{"$f":"IF(ISERROR(VLOOKUP(C109,AS!$A:$H,7,FALSE)),\"\",VLOOKUP(C109,AS!$A:$H,7,FALSE))","v":""},{"$f":"IF(ISERROR(VLOOKUP(C109,AS!$A:$H,8,FALSE)),\"\",VLOOKUP(C109,AS!$A:$H,8,FALSE))","v":""},null,null,null,null,{"$f":"IF(ISERROR(VLOOKUP(I109,AS!$A:$H,7,FALSE)),\"\",VLOOKUP(I109,AS!$A:$H,7,FALSE))","v":""},{"$f":"IF(ISERROR(VLOOKUP(I109,AS!$A:$H,8,FALSE)),\"\",VLOOKUP(I109,AS!$A:$H,8,FALSE))","v":""},null,null,null,null,{"$f":"IF(ISERROR(VLOOKUP(O109,AS!$A:$H,7,FALSE)),\"\",VLOOKUP(O109,AS!$A:$H,7,FALSE))","v":""},{"$f":"IF(ISERROR(VLOOKUP(O109,AS!$A:$H,8,FALSE)),\"\",VLOOKUP(O109,AS!$A:$H,8,FALSE))","v":""},null,null,null,null,{"$f":"IF(ISERROR(VLOOKUP(U109,AS!$A:$H,7,FALSE)),\"\",VLOOKUP(U109,AS!$A:$H,7,FALSE))","v":""},{"$f":"IF(ISERROR(VLOOKUP(U109,AS!$A:$H,8,FALSE)),\"\",VLOOKUP(U109,AS!$A:$H,8,FALSE))","v":""},null,null,null,null,{"$f":"IF(ISERROR(VLOOKUP(AA109,AS!$A:$H,7,FALSE)),\"\",VLOOKUP(AA109,AS!$A:$H,7,FALSE))","v":""},{"$f":"IF(ISERROR(VLOOKUP(AA109,AS!$A:$H,8,FALSE)),\"\",VLOOKUP(AA109,AS!$A:$H,8,FALSE))","v":""},null,null,null,"",null,{"$f":"IF(AI109=\"\",\"\",IF(OFFSET('Fiche score'!$A$2,VLOOKUP(RIGHT(AI109,2),Feuil1!A:C,2,FALSE),VLOOKUP(RIGHT(AI109,2),Feuil1!A:C,3,FALSE))=A109 & CHAR(10) & C109,2,IF(OFFSET('Fiche score'!$A$2,VLOOKUP(RIGHT(AI109,2),Feuil1!A:C,2,FALSE)+1,VLOOKUP(RIGHT(AI109,2),Feuil1!A:C,3,FALSE))=A109 & CHAR(10) & C109,2,IF(OFFSET('Fiche score'!$A$2,VLOOKUP(RIGHT(AI109,2),Feuil1!A:C,2,FALSE)-1,VLOOKUP(RIGHT(AI109,2),Feuil1!A:C,3,FALSE))=A109 & CHAR(10) & C109,1,IF(OFFSET('Fiche score'!$A$2,VLOOKUP(RIGHT(AI109,2),Feuil1!A:C,2,FALSE)-2,VLOOKUP(RIGHT(AI109,2),Feuil1!A:C,3,FALSE))=A109 & CHAR(10) & C109,1,\"0\")))))","v":""},{"$f":"IF(ISERROR(VLOOKUP(A109 & CHAR(10) &C109,'Fiche tirage dirigé'!I:I,1,FALSE)),0,1)","v":0},{"$f":"IF(ISERROR(VLOOKUP(A109& CHAR(10) &C109,Cadrage!H:H,1,FALSE)),0,1)","v":0},{"$f":"IF(ISERROR(VLOOKUP(A109 & CHAR(10) &C109,'Tableau final'!V:V,1,FALSE)),0,1)","v":0},{"$f":"IF(ISERROR(VLOOKUP(A109 & CHAR(10) &C109,'Tableau final'!W:W,1,FALSE)),0,1)","v":0},{"$f":"IF(ISERROR(VLOOKUP(A109 & CHAR(10) &C109,'Tableau final'!X:X,1,FALSE)),0,1)","v":0},{"$f":"IF(ISERROR(VLOOKUP(A109 & CHAR(10) &C109,'Tableau final'!Y:Y,1,FALSE)),0,1)","v":0},{"$f":"IF(ISERROR(VLOOKUP(A109 & CHAR(10) &C109,'Tableau final'!Z:Z,1,FALSE)),0,1)","v":0},{"$f":"IF('Tableau final'!$A$1<>\"\",IF('Tableau final'!$B$5=\"Qualifiés\",IF(ISERROR(VLOOKUP(A109 & CHAR(10) &C109,'Tableau final'!C:F,1,FALSE)),\"\",IF(AND(VLOOKUP(A109 & CHAR(10) &C109,'Tableau final'!C:F,3,FALSE)<>\"\",VLOOKUP(A109 & CHAR(10) &C109,'Tableau final'!C:F,4,FALSE)=\"x\"),1,\"\")),IF('Tableau final'!$G$5=\"Qualifiés\",IF(ISERROR(VLOOKUP(A109 & CHAR(10) &C109,'Tableau final'!H:K,1,FALSE)),\"\",IF(AND(VLOOKUP(A109 & CHAR(10) &C109,'Tableau final'!H:K,3,FALSE)<>\"\",VLOOKUP(A109 & CHAR(10) &C109,'Tableau final'!H:K,4,FALSE)=\"x\"),1,\"\")),IF('Tableau final'!$L$5=\"Qualifiés\",IF(ISERROR(VLOOKUP(A109 & CHAR(10) &C109,'Tableau final'!M:P,1,FALSE)),\"\",IF(AND(VLOOKUP(A109 & CHAR(10) &C109,'Tableau final'!M:P,3,FALSE)<>\"\",VLOOKUP(A109 & CHAR(10) &C109,'Tableau final'!M:P,4,FALSE)=\"x\"),1,\"\")),\"\"))),\"\")","v":""},"0",{"$f":"IF(ISERROR(VLOOKUP(AI109,Tirage!A:J,1,FALSE)),\"\",IF(VLOOKUP(AI109,Tirage!A:J,1,FALSE)=\"Office \",3,4))","v":""},{"$f":"IF(AJ109=\"0\",4,IF(AJ109=1,3,IF(AJ109=2,IF(OFFSET('Fiche score'!$A$2,VLOOKUP(RIGHT(AI109,2),Feuil1!A:C,2,FALSE),VLOOKUP(RIGHT(AI109,2),Feuil1!A:C,3,FALSE))=A109 & CHAR(10) & C109,1,2),\"\")))","v":""}]
[null,null,null,null,{"$f":"IF(ISERROR(VLOOKUP(C110,AS!$A:$H,7,FALSE)),\"\",VLOOKUP(C110,AS!$A:$H,7,FALSE))","v":""},{"$f":"IF(ISERROR(VLOOKUP(C110,AS!$A:$H,8,FALSE)),\"\",VLOOKUP(C110,AS!$A:$H,8,FALSE))","v":""},null,null,null,null,{"$f":"IF(ISERROR(VLOOKUP(I110,AS!$A:$H,7,FALSE)),\"\",VLOOKUP(I110,AS!$A:$H,7,FALSE))","v":""},{"$f":"IF(ISERROR(VLOOKUP(I110,AS!$A:$H,8,FALSE)),\"\",VLOOKUP(I110,AS!$A:$H,8,FALSE))","v":""},null,null,null,null,{"$f":"IF(ISERROR(VLOOKUP(O110,AS!$A:$H,7,FALSE)),\"\",VLOOKUP(O110,AS!$A:$H,7,FALSE))","v":""},{"$f":"IF(ISERROR(VLOOKUP(O110,AS!$A:$H,8,FALSE)),\"\",VLOOKUP(O110,AS!$A:$H,8,FALSE))","v":""},null,null,null,null,{"$f":"IF(ISERROR(VLOOKUP(U110,AS!$A:$H,7,FALSE)),\"\",VLOOKUP(U110,AS!$A:$H,7,FALSE))","v":""},{"$f":"IF(ISERROR(VLOOKUP(U110,AS!$A:$H,8,FALSE)),\"\",VLOOKUP(U110,AS!$A:$H,8,FALSE))","v":""},null,null,null,null,{"$f":"IF(ISERROR(VLOOKUP(AA110,AS!$A:$H,7,FALSE)),\"\",VLOOKUP(AA110,AS!$A:$H,7,FALSE))","v":""},{"$f":"IF(ISERROR(VLOOKUP(AA110,AS!$A:$H,8,FALSE)),\"\",VLOOKUP(AA110,AS!$A:$H,8,FALSE))","v":""},null,null,null,"",null,{"$f":"IF(AI110=\"\",\"\",IF(OFFSET('Fiche score'!$A$2,VLOOKUP(RIGHT(AI110,2),Feuil1!A:C,2,FALSE),VLOOKUP(RIGHT(AI110,2),Feuil1!A:C,3,FALSE))=A110 & CHAR(10) & C110,2,IF(OFFSET('Fiche score'!$A$2,VLOOKUP(RIGHT(AI110,2),Feuil1!A:C,2,FALSE)+1,VLOOKUP(RIGHT(AI110,2),Feuil1!A:C,3,FALSE))=A110 & CHAR(10) & C110,2,IF(OFFSET('Fiche score'!$A$2,VLOOKUP(RIGHT(AI110,2),Feuil1!A:C,2,FALSE)-1,VLOOKUP(RIGHT(AI110,2),Feuil1!A:C,3,FALSE))=A110 & CHAR(10) & C110,1,IF(OFFSET('Fiche score'!$A$2,VLOOKUP(RIGHT(AI110,2),Feuil1!A:C,2,FALSE)-2,VLOOKUP(RIGHT(AI110,2),Feuil1!A:C,3,FALSE))=A110 & CHAR(10) & C110,1,\"0\")))))","v":""},{"$f":"IF(ISERROR(VLOOKUP(A110 & CHAR(10) &C110,'Fiche tirage dirigé'!I:I,1,FALSE)),0,1)","v":0},{"$f":"IF(ISERROR(VLOOKUP(A110& CHAR(10) &C110,Cadrage!H:H,1,FALSE)),0,1)","v":0},{"$f":"IF(ISERROR(VLOOKUP(A110 & CHAR(10) &C110,'Tableau final'!V:V,1,FALSE)),0,1)","v":0},{"$f":"IF(ISERROR(VLOOKUP(A110 & CHAR(10) &C110,'Tableau final'!W:W,1,FALSE)),0,1)","v":0},{"$f":"IF(ISERROR(VLOOKUP(A110 & CHAR(10) &C110,'Tableau final'!X:X,1,FALSE)),0,1)","v":0},{"$f":"IF(ISERROR(VLOOKUP(A110 & CHAR(10) &C110,'Tableau final'!Y:Y,1,FALSE)),0,1)","v":0},{"$f":"IF(ISERROR(VLOOKUP(A110 & CHAR(10) &C110,'Tableau final'!Z:Z,1,FALSE)),0,1)","v":0},{"$f":"IF('Tableau final'!$A$1<>\"\",IF('Tableau final'!$B$5=\"Qualifiés\",IF(ISERROR(VLOOKUP(A110 & CHAR(10) &C110,'Tableau final'!C:F,1,FALSE)),\"\",IF(AND(VLOOKUP(A110 & CHAR(10) &C110,'Tableau final'!C:F,3,FALSE)<>\"\",VLOOKUP(A110 & CHAR(10) &C110,'Tableau final'!C:F,4,FALSE)=\"x\"),1,\"\")),IF('Tableau final'!$G$5=\"Qualifiés\",IF(ISERROR(VLOOKUP(A110 & CHAR(10) &C110,'Tableau final'!H:K,1,FALSE)),\"\",IF(AND(VLOOKUP(A110 & CHAR(10) &C110,'Tableau final'!H:K,3,FALSE)<>\"\",VLOOKUP(A110 & CHAR(10) &C110,'Tableau final'!H:K,4,FALSE)=\"x\"),1,\"\")),IF('Tableau final'!$L$5=\"Qualifiés\",IF(ISERROR(VLOOKUP(A110 & CHAR(10) &C110,'Tableau final'!M:P,1,FALSE)),\"\",IF(AND(VLOOKUP(A110 & CHAR(10) &C110,'Tableau final'!M:P,3,FALSE)<>\"\",VLOOKUP(A110 & CHAR(10) &C110,'Tableau final'!M:P,4,FALSE)=\"x\"),1,\"\")),\"\"))),\"\")","v":""},"0",{"$f":"IF(ISERROR(VLOOKUP(AI110,Tirage!A:J,1,FALSE)),\"\",IF(VLOOKUP(AI110,Tirage!A:J,1,FALSE)=\"Office \",3,4))","v":""},{"$f":"IF(AJ110=\"0\",4,IF(AJ110=1,3,IF(AJ110=2,IF(OFFSET('Fiche score'!$A$2,VLOOKUP(RIGHT(AI110,2),Feuil1!A:C,2,FALSE),VLOOKUP(RIGHT(AI110,2),Feuil1!A:C,3,FALSE))=A110 & CHAR(10) & C110,1,2),\"\")))","v":""}]
[null,null,null,null,{"$f":"IF(ISERROR(VLOOKUP(C111,AS!$A:$H,7,FALSE)),\"\",VLOOKUP(C111,AS!$A:$H,7,FALSE))","v":""},{"$f":"IF(ISERROR(VLOOKUP(C111,AS!$A:$H,8,FALSE)),\"\",VLOOKUP(C111,AS!$A:$H,8,FALSE))","v":""},null,null,null,null,{"$f":"IF(ISERROR(VLOOKUP(I111,AS!$A:$H,7,FALSE)),\"\",VLOOKUP(I111,AS!$A:$H,7,FALSE))","v":""},{"$f":"IF(ISERROR(VLOOKUP(I111,AS!$A:$H,8,FALSE)),\"\",VLOOKUP(I111,AS!$A:$H,8,FALSE))","v":""},null,null,null,null,{"$f":"IF(ISERROR(VLOOKUP(O111,AS!$A:$H,7,FALSE)),\"\",VLOOKUP(O111,AS!$A:$H,7,FALSE))","v":""},{"$f":"IF(ISERROR(VLOOKUP(O111,AS!$A:$H,8,FALSE)),\"\",VLOOKUP(O111,AS!$A:$H,8,FALSE))","v":""},null,null,null,null,{"$f":"IF(ISERROR(VLOOKUP(U111,AS!$A:$H,7,FALSE)),\"\",VLOOKUP(U111,AS!$A:$H,7,FALSE))","v":""},{"$f":"IF(ISERROR(VLOOKUP(U111,AS!$A:$H,8,FALSE)),\"\",VLOOKUP(U111,AS!$A:$H,8,FALSE))","v":""},null,null,null,null,{"$f":"IF(ISERROR(VLOOKUP(AA111,AS!$A:$H,7,FALSE)),\"\",VLOOKUP(AA111,AS!$A:$H,7,FALSE))","v":""},{"$f":"IF(ISERROR(VLOOKUP(AA111,AS!$A:$H,8,FALSE)),\"\",VLOOKUP(AA111,AS!$A:$H,8,FALSE))","v":""},null,null,null,"",null,{"$f":"IF(AI111=\"\",\"\",IF(OFFSET('Fiche score'!$A$2,VLOOKUP(RIGHT(AI111,2),Feuil1!A:C,2,FALSE),VLOOKUP(RIGHT(AI111,2),Feuil1!A:C,3,FALSE))=A111 & CHAR(10) & C111,2,IF(OFFSET('Fiche score'!$A$2,VLOOKUP(RIGHT(AI111,2),Feuil1!A:C,2,FALSE)+1,VLOOKUP(RIGHT(AI111,2),Feuil1!A:C,3,FALSE))=A111 & CHAR(10) & C111,2,IF(OFFSET('Fiche score'!$A$2,VLOOKUP(RIGHT(AI111,2),Feuil1!A:C,2,FALSE)-1,VLOOKUP(RIGHT(AI111,2),Feuil1!A:C,3,FALSE))=A111 & CHAR(10) & C111,1,IF(OFFSET('Fiche score'!$A$2,VLOOKUP(RIGHT(AI111,2),Feuil1!A:C,2,FALSE)-2,VLOOKUP(RIGHT(AI111,2),Feuil1!A:C,3,FALSE))=A111 & CHAR(10) & C111,1,\"0\")))))","v":""},{"$f":"IF(ISERROR(VLOOKUP(A111 & CHAR(10) &C111,'Fiche tirage dirigé'!I:I,1,FALSE)),0,1)","v":0},{"$f":"IF(ISERROR(VLOOKUP(A111& CHAR(10) &C111,Cadrage!H:H,1,FALSE)),0,1)","v":0},{"$f":"IF(ISERROR(VLOOKUP(A111 & CHAR(10) &C111,'Tableau final'!V:V,1,FALSE)),0,1)","v":0},{"$f":"IF(ISERROR(VLOOKUP(A111 & CHAR(10) &C111,'Tableau final'!W:W,1,FALSE)),0,1)","v":0},{"$f":"IF(ISERROR(VLOOKUP(A111 & CHAR(10) &C111,'Tableau final'!X:X,1,FALSE)),0,1)","v":0},{"$f":"IF(ISERROR(VLOOKUP(A111 & CHAR(10) &C111,'Tableau final'!Y:Y,1,FALSE)),0,1)","v":0},{"$f":"IF(ISERROR(VLOOKUP(A111 & CHAR(10) &C111,'Tableau final'!Z:Z,1,FALSE)),0,1)","v":0},{"$f":"IF('Tableau final'!$A$1<>\"\",IF('Tableau final'!$B$5=\"Qualifiés\",IF(ISERROR(VLOOKUP(A111 & CHAR(10) &C111,'Tableau final'!C:F,1,FALSE)),\"\",IF(AND(VLOOKUP(A111 & CHAR(10) &C111,'Tableau final'!C:F,3,FALSE)<>\"\",VLOOKUP(A111 & CHAR(10) &C111,'Tableau final'!C:F,4,FALSE)=\"x\"),1,\"\")),IF('Tableau final'!$G$5=\"Qualifiés\",IF(ISERROR(VLOOKUP(A111 & CHAR(10) &C111,'Tableau final'!H:K,1,FALSE)),\"\",IF(AND(VLOOKUP(A111 & CHAR(10) &C111,'Tableau final'!H:K,3,FALSE)<>\"\",VLOOKUP(A111 & CHAR(10) &C111,'Tableau final'!H:K,4,FALSE)=\"x\"),1,\"\")),IF('Tableau final'!$L$5=\"Qualifiés\",IF(ISERROR(VLOOKUP(A111 & CHAR(10) &C111,'Tableau final'!M:P,1,FALSE)),\"\",IF(AND(VLOOKUP(A111 & CHAR(10) &C111,'Tableau final'!M:P,3,FALSE)<>\"\",VLOOKUP(A111 & CHAR(10) &C111,'Tableau final'!M:P,4,FALSE)=\"x\"),1,\"\")),\"\"))),\"\")","v":""},"0",{"$f":"IF(ISERROR(VLOOKUP(AI111,Tirage!A:J,1,FALSE)),\"\",IF(VLOOKUP(AI111,Tirage!A:J,1,FALSE)=\"Office \",3,4))","v":""},{"$f":"IF(AJ111=\"0\",4,IF(AJ111=1,3,IF(AJ111=2,IF(OFFSET('Fiche score'!$A$2,VLOOKUP(RIGHT(AI111,2),Feuil1!A:C,2,FALSE),VLOOKUP(RIGHT(AI111,2),Feuil1!A:C,3,FALSE))=A111 & CHAR(10) & C111,1,2),\"\")))","v":""}]
[null,null,null,null,{"$f":"IF(ISERROR(VLOOKUP(C112,AS!$A:$H,7,FALSE)),\"\",VLOOKUP(C112,AS!$A:$H,7,FALSE))","v":""},{"$f":"IF(ISERROR(VLOOKUP(C112,AS!$A:$H,8,FALSE)),\"\",VLOOKUP(C112,AS!$A:$H,8,FALSE))","v":""},null,null,null,null,{"$f":"IF(ISERROR(VLOOKUP(I112,AS!$A:$H,7,FALSE)),\"\",VLOOKUP(I112,AS!$A:$H,7,FALSE))","v":""},{"$f":"IF(ISERROR(VLOOKUP(I112,AS!$A:$H,8,FALSE)),\"\",VLOOKUP(I112,AS!$A:$H,8,FALSE))","v":""},null,null,null,null,{"$f":"IF(ISERROR(VLOOKUP(O112,AS!$A:$H,7,FALSE)),\"\",VLOOKUP(O112,AS!$A:$H,7,FALSE))","v":""},{"$f":"IF(ISERROR(VLOOKUP(O112,AS!$A:$H,8,FALSE)),\"\",VLOOKUP(O112,AS!$A:$H,8,FALSE))","v":""},null,null,null,null,{"$f":"IF(ISERROR(VLOOKUP(U112,AS!$A:$H,7,FALSE)),\"\",VLOOKUP(U112,AS!$A:$H,7,FALSE))","v":""},{"$f":"IF(ISERROR(VLOOKUP(U112,AS!$A:$H,8,FALSE)),\"\",VLOOKUP(U112,AS!$A:$H,8,FALSE))","v":""},null,null,null,null,{"$f":"IF(ISERROR(VLOOKUP(AA112,AS!$A:$H,7,FALSE)),\"\",VLOOKUP(AA112,AS!$A:$H,7,FALSE))","v":""},{"$f":"IF(ISERROR(VLOOKUP(AA112,AS!$A:$H,8,FALSE)),\"\",VLOOKUP(AA112,AS!$A:$H,8,FALSE))","v":""},null,null,null,"",null,{"$f":"IF(AI112=\"\",\"\",IF(OFFSET('Fiche score'!$A$2,VLOOKUP(RIGHT(AI112,2),Feuil1!A:C,2,FALSE),VLOOKUP(RIGHT(AI112,2),Feuil1!A:C,3,FALSE))=A112 & CHAR(10) & C112,2,IF(OFFSET('Fiche score'!$A$2,VLOOKUP(RIGHT(AI112,2),Feuil1!A:C,2,FALSE)+1,VLOOKUP(RIGHT(AI112,2),Feuil1!A:C,3,FALSE))=A112 & CHAR(10) & C112,2,IF(OFFSET('Fiche score'!$A$2,VLOOKUP(RIGHT(AI112,2),Feuil1!A:C,2,FALSE)-1,VLOOKUP(RIGHT(AI112,2),Feuil1!A:C,3,FALSE))=A112 & CHAR(10) & C112,1,IF(OFFSET('Fiche score'!$A$2,VLOOKUP(RIGHT(AI112,2),Feuil1!A:C,2,FALSE)-2,VLOOKUP(RIGHT(AI112,2),Feuil1!A:C,3,FALSE))=A112 & CHAR(10) & C112,1,\"0\")))))","v":""},{"$f":"IF(ISERROR(VLOOKUP(A112 & CHAR(10) &C112,'Fiche tirage dirigé'!I:I,1,FALSE)),0,1)","v":0},{"$f":"IF(ISERROR(VLOOKUP(A112& CHAR(10) &C112,Cadrage!H:H,1,FALSE)),0,1)","v":0},{"$f":"IF(ISERROR(VLOOKUP(A112 & CHAR(10) &C112,'Tableau final'!V:V,1,FALSE)),0,1)","v":0},{"$f":"IF(ISERROR(VLOOKUP(A112 & CHAR(10) &C112,'Tableau final'!W:W,1,FALSE)),0,1)","v":0},{"$f":"IF(ISERROR(VLOOKUP(A112 & CHAR(10) &C112,'Tableau final'!X:X,1,FALSE)),0,1)","v":0},{"$f":"IF(ISERROR(VLOOKUP(A112 & CHAR(10) &C112,'Tableau final'!Y:Y,1,FALSE)),0,1)","v":0},{"$f":"IF(ISERROR(VLOOKUP(A112 & CHAR(10) &C112,'Tableau final'!Z:Z,1,FALSE)),0,1)","v":0},{"$f":"IF('Tableau final'!$A$1<>\"\",IF('Tableau final'!$B$5=\"Qualifiés\",IF(ISERROR(VLOOKUP(A112 & CHAR(10) &C112,'Tableau final'!C:F,1,FALSE)),\"\",IF(AND(VLOOKUP(A112 & CHAR(10) &C112,'Tableau final'!C:F,3,FALSE)<>\"\",VLOOKUP(A112 & CHAR(10) &C112,'Tableau final'!C:F,4,FALSE)=\"x\"),1,\"\")),IF('Tableau final'!$G$5=\"Qualifiés\",IF(ISERROR(VLOOKUP(A112 & CHAR(10) &C112,'Tableau final'!H:K,1,FALSE)),\"\",IF(AND(VLOOKUP(A112 & CHAR(10) &C112,'Tableau final'!H:K,3,FALSE)<>\"\",VLOOKUP(A112 & CHAR(10) &C112,'Tableau final'!H:K,4,FALSE)=\"x\"),1,\"\")),IF('Tableau final'!$L$5=\"Qualifiés\",IF(ISERROR(VLOOKUP(A112 & CHAR(10) &C112,'Tableau final'!M:P,1,FALSE)),\"\",IF(AND(VLOOKUP(A112 & CHAR(10) &C112,'Tableau final'!M:P,3,FALSE)<>\"\",VLOOKUP(A112 & CHAR(10) &C112,'Tableau final'!M:P,4,FALSE)=\"x\"),1,\"\")),\"\"))),\"\")","v":""},"0",{"$f":"IF(ISERROR(VLOOKUP(AI112,Tirage!A:J,1,FALSE)),\"\",IF(VLOOKUP(AI112,Tirage!A:J,1,FALSE)=\"Office \",3,4))","v":""},{"$f":"IF(AJ112=\"0\",4,IF(AJ112=1,3,IF(AJ112=2,IF(OFFSET('Fiche score'!$A$2,VLOOKUP(RIGHT(AI112,2),Feuil1!A:C,2,FALSE),VLOOKUP(RIGHT(AI112,2),Feuil1!A:C,3,FALSE))=A112 & CHAR(10) & C112,1,2),\"\")))","v":""}]
[null,null,null,null,{"$f":"IF(ISERROR(VLOOKUP(C113,AS!$A:$H,7,FALSE)),\"\",VLOOKUP(C113,AS!$A:$H,7,FALSE))","v":""},{"$f":"IF(ISERROR(VLOOKUP(C113,AS!$A:$H,8,FALSE)),\"\",VLOOKUP(C113,AS!$A:$H,8,FALSE))","v":""},null,null,null,null,{"$f":"IF(ISERROR(VLOOKUP(I113,AS!$A:$H,7,FALSE)),\"\",VLOOKUP(I113,AS!$A:$H,7,FALSE))","v":""},{"$f":"IF(ISERROR(VLOOKUP(I113,AS!$A:$H,8,FALSE)),\"\",VLOOKUP(I113,AS!$A:$H,8,FALSE))","v":""},null,null,null,null,{"$f":"IF(ISERROR(VLOOKUP(O113,AS!$A:$H,7,FALSE)),\"\",VLOOKUP(O113,AS!$A:$H,7,FALSE))","v":""},{"$f":"IF(ISERROR(VLOOKUP(O113,AS!$A:$H,8,FALSE)),\"\",VLOOKUP(O113,AS!$A:$H,8,FALSE))","v":""},null,null,null,null,{"$f":"IF(ISERROR(VLOOKUP(U113,AS!$A:$H,7,FALSE)),\"\",VLOOKUP(U113,AS!$A:$H,7,FALSE))","v":""},{"$f":"IF(ISERROR(VLOOKUP(U113,AS!$A:$H,8,FALSE)),\"\",VLOOKUP(U113,AS!$A:$H,8,FALSE))","v":""},null,null,null,null,{"$f":"IF(ISERROR(VLOOKUP(AA113,AS!$A:$H,7,FALSE)),\"\",VLOOKUP(AA113,AS!$A:$H,7,FALSE))","v":""},{"$f":"IF(ISERROR(VLOOKUP(AA113,AS!$A:$H,8,FALSE)),\"\",VLOOKUP(AA113,AS!$A:$H,8,FALSE))","v":""},null,null,null,"",null,{"$f":"IF(AI113=\"\",\"\",IF(OFFSET('Fiche score'!$A$2,VLOOKUP(RIGHT(AI113,2),Feuil1!A:C,2,FALSE),VLOOKUP(RIGHT(AI113,2),Feuil1!A:C,3,FALSE))=A113 & CHAR(10) & C113,2,IF(OFFSET('Fiche score'!$A$2,VLOOKUP(RIGHT(AI113,2),Feuil1!A:C,2,FALSE)+1,VLOOKUP(RIGHT(AI113,2),Feuil1!A:C,3,FALSE))=A113 & CHAR(10) & C113,2,IF(OFFSET('Fiche score'!$A$2,VLOOKUP(RIGHT(AI113,2),Feuil1!A:C,2,FALSE)-1,VLOOKUP(RIGHT(AI113,2),Feuil1!A:C,3,FALSE))=A113 & CHAR(10) & C113,1,IF(OFFSET('Fiche score'!$A$2,VLOOKUP(RIGHT(AI113,2),Feuil1!A:C,2,FALSE)-2,VLOOKUP(RIGHT(AI113,2),Feuil1!A:C,3,FALSE))=A113 & CHAR(10) & C113,1,\"0\")))))","v":""},{"$f":"IF(ISERROR(VLOOKUP(A113 & CHAR(10) &C113,'Fiche tirage dirigé'!I:I,1,FALSE)),0,1)","v":0},{"$f":"IF(ISERROR(VLOOKUP(A113& CHAR(10) &C113,Cadrage!H:H,1,FALSE)),0,1)","v":0},{"$f":"IF(ISERROR(VLOOKUP(A113 & CHAR(10) &C113,'Tableau final'!V:V,1,FALSE)),0,1)","v":0},{"$f":"IF(ISERROR(VLOOKUP(A113 & CHAR(10) &C113,'Tableau final'!W:W,1,FALSE)),0,1)","v":0},{"$f":"IF(ISERROR(VLOOKUP(A113 & CHAR(10) &C113,'Tableau final'!X:X,1,FALSE)),0,1)","v":0},{"$f":"IF(ISERROR(VLOOKUP(A113 & CHAR(10) &C113,'Tableau final'!Y:Y,1,FALSE)),0,1)","v":0},{"$f":"IF(ISERROR(VLOOKUP(A113 & CHAR(10) &C113,'Tableau final'!Z:Z,1,FALSE)),0,1)","v":0},{"$f":"IF('Tableau final'!$A$1<>\"\",IF('Tableau final'!$B$5=\"Qualifiés\",IF(ISERROR(VLOOKUP(A113 & CHAR(10) &C113,'Tableau final'!C:F,1,FALSE)),\"\",IF(AND(VLOOKUP(A113 & CHAR(10) &C113,'Tableau final'!C:F,3,FALSE)<>\"\",VLOOKUP(A113 & CHAR(10) &C113,'Tableau final'!C:F,4,FALSE)=\"x\"),1,\"\")),IF('Tableau final'!$G$5=\"Qualifiés\",IF(ISERROR(VLOOKUP(A113 & CHAR(10) &C113,'Tableau final'!H:K,1,FALSE)),\"\",IF(AND(VLOOKUP(A113 & CHAR(10) &C113,'Tableau final'!H:K,3,FALSE)<>\"\",VLOOKUP(A113 & CHAR(10) &C113,'Tableau final'!H:K,4,FALSE)=\"x\"),1,\"\")),IF('Tableau final'!$L$5=\"Qualifiés\",IF(ISERROR(VLOOKUP(A113 & CHAR(10) &C113,'Tableau final'!M:P,1,FALSE)),\"\",IF(AND(VLOOKUP(A113 & CHAR(10) &C113,'Tableau final'!M:P,3,FALSE)<>\"\",VLOOKUP(A113 & CHAR(10) &C113,'Tableau final'!M:P,4,FALSE)=\"x\"),1,\"\")),\"\"))),\"\")","v":""},"0",{"$f":"IF(ISERROR(VLOOKUP(AI113,Tirage!A:J,1,FALSE)),\"\",IF(VLOOKUP(AI113,Tirage!A:J,1,FALSE)=\"Office \",3,4))","v":""},{"$f":"IF(AJ113=\"0\",4,IF(AJ113=1,3,IF(AJ113=2,IF(OFFSET('Fiche score'!$A$2,VLOOKUP(RIGHT(AI113,2),Feuil1!A:C,2,FALSE),VLOOKUP(RIGHT(AI113,2),Feuil1!A:C,3,FALSE))=A113 & CHAR(10) & C113,1,2),\"\")))","v":""}]
[null,null,null,null,{"$f":"IF(ISERROR(VLOOKUP(C114,AS!$A:$H,7,FALSE)),\"\",VLOOKUP(C114,AS!$A:$H,7,FALSE))","v":""},{"$f":"IF(ISERROR(VLOOKUP(C114,AS!$A:$H,8,FALSE)),\"\",VLOOKUP(C114,AS!$A:$H,8,FALSE))","v":""},null,null,null,null,{"$f":"IF(ISERROR(VLOOKUP(I114,AS!$A:$H,7,FALSE)),\"\",VLOOKUP(I114,AS!$A:$H,7,FALSE))","v":""},{"$f":"IF(ISERROR(VLOOKUP(I114,AS!$A:$H,8,FALSE)),\"\",VLOOKUP(I114,AS!$A:$H,8,FALSE))","v":""},null,null,null,null,{"$f":"IF(ISERROR(VLOOKUP(O114,AS!$A:$H,7,FALSE)),\"\",VLOOKUP(O114,AS!$A:$H,7,FALSE))","v":""},{"$f":"IF(ISERROR(VLOOKUP(O114,AS!$A:$H,8,FALSE)),\"\",VLOOKUP(O114,AS!$A:$H,8,FALSE))","v":""},null,null,null,null,{"$f":"IF(ISERROR(VLOOKUP(U114,AS!$A:$H,7,FALSE)),\"\",VLOOKUP(U114,AS!$A:$H,7,FALSE))","v":""},{"$f":"IF(ISERROR(VLOOKUP(U114,AS!$A:$H,8,FALSE)),\"\",VLOOKUP(U114,AS!$A:$H,8,FALSE))","v":""},null,null,null,null,{"$f":"IF(ISERROR(VLOOKUP(AA114,AS!$A:$H,7,FALSE)),\"\",VLOOKUP(AA114,AS!$A:$H,7,FALSE))","v":""},{"$f":"IF(ISERROR(VLOOKUP(AA114,AS!$A:$H,8,FALSE)),\"\",VLOOKUP(AA114,AS!$A:$H,8,FALSE))","v":""},null,null,null,"",null,{"$f":"IF(AI114=\"\",\"\",IF(OFFSET('Fiche score'!$A$2,VLOOKUP(RIGHT(AI114,2),Feuil1!A:C,2,FALSE),VLOOKUP(RIGHT(AI114,2),Feuil1!A:C,3,FALSE))=A114 & CHAR(10) & C114,2,IF(OFFSET('Fiche score'!$A$2,VLOOKUP(RIGHT(AI114,2),Feuil1!A:C,2,FALSE)+1,VLOOKUP(RIGHT(AI114,2),Feuil1!A:C,3,FALSE))=A114 & CHAR(10) & C114,2,IF(OFFSET('Fiche score'!$A$2,VLOOKUP(RIGHT(AI114,2),Feuil1!A:C,2,FALSE)-1,VLOOKUP(RIGHT(AI114,2),Feuil1!A:C,3,FALSE))=A114 & CHAR(10) & C114,1,IF(OFFSET('Fiche score'!$A$2,VLOOKUP(RIGHT(AI114,2),Feuil1!A:C,2,FALSE)-2,VLOOKUP(RIGHT(AI114,2),Feuil1!A:C,3,FALSE))=A114 & CHAR(10) & C114,1,\"0\")))))","v":""},{"$f":"IF(ISERROR(VLOOKUP(A114 & CHAR(10) &C114,'Fiche tirage dirigé'!I:I,1,FALSE)),0,1)","v":0},{"$f":"IF(ISERROR(VLOOKUP(A114& CHAR(10) &C114,Cadrage!H:H,1,FALSE)),0,1)","v":0},{"$f":"IF(ISERROR(VLOOKUP(A114 & CHAR(10) &C114,'Tableau final'!V:V,1,FALSE)),0,1)","v":0},{"$f":"IF(ISERROR(VLOOKUP(A114 & CHAR(10) &C114,'Tableau final'!W:W,1,FALSE)),0,1)","v":0},{"$f":"IF(ISERROR(VLOOKUP(A114 & CHAR(10) &C114,'Tableau final'!X:X,1,FALSE)),0,1)","v":0},{"$f":"IF(ISERROR(VLOOKUP(A114 & CHAR(10) &C114,'Tableau final'!Y:Y,1,FALSE)),0,1)","v":0},{"$f":"IF(ISERROR(VLOOKUP(A114 & CHAR(10) &C114,'Tableau final'!Z:Z,1,FALSE)),0,1)","v":0},{"$f":"IF('Tableau final'!$A$1<>\"\",IF('Tableau final'!$B$5=\"Qualifiés\",IF(ISERROR(VLOOKUP(A114 & CHAR(10) &C114,'Tableau final'!C:F,1,FALSE)),\"\",IF(AND(VLOOKUP(A114 & CHAR(10) &C114,'Tableau final'!C:F,3,FALSE)<>\"\",VLOOKUP(A114 & CHAR(10) &C114,'Tableau final'!C:F,4,FALSE)=\"x\"),1,\"\")),IF('Tableau final'!$G$5=\"Qualifiés\",IF(ISERROR(VLOOKUP(A114 & CHAR(10) &C114,'Tableau final'!H:K,1,FALSE)),\"\",IF(AND(VLOOKUP(A114 & CHAR(10) &C114,'Tableau final'!H:K,3,FALSE)<>\"\",VLOOKUP(A114 & CHAR(10) &C114,'Tableau final'!H:K,4,FALSE)=\"x\"),1,\"\")),IF('Tableau final'!$L$5=\"Qualifiés\",IF(ISERROR(VLOOKUP(A114 & CHAR(10) &C114,'Tableau final'!M:P,1,FALSE)),\"\",IF(AND(VLOOKUP(A114 & CHAR(10) &C114,'Tableau final'!M:P,3,FALSE)<>\"\",VLOOKUP(A114 & CHAR(10) &C114,'Tableau final'!M:P,4,FALSE)=\"x\"),1,\"\")),\"\"))),\"\")","v":""},"0",{"$f":"IF(ISERROR(VLOOKUP(AI114,Tirage!A:J,1,FALSE)),\"\",IF(VLOOKUP(AI114,Tirage!A:J,1,FALSE)=\"Office \",3,4))","v":""},{"$f":"IF(AJ114=\"0\",4,IF(AJ114=1,3,IF(AJ114=2,IF(OFFSET('Fiche score'!$A$2,VLOOKUP(RIGHT(AI114,2),Feuil1!A:C,2,FALSE),VLOOKUP(RIGHT(AI114,2),Feuil1!A:C,3,FALSE))=A114 & CHAR(10) & C114,1,2),\"\")))","v":""}]
[null,null,null,null,{"$f":"IF(ISERROR(VLOOKUP(C115,AS!$A:$H,7,FALSE)),\"\",VLOOKUP(C115,AS!$A:$H,7,FALSE))","v":""},{"$f":"IF(ISERROR(VLOOKUP(C115,AS!$A:$H,8,FALSE)),\"\",VLOOKUP(C115,AS!$A:$H,8,FALSE))","v":""},null,null,null,null,{"$f":"IF(ISERROR(VLOOKUP(I115,AS!$A:$H,7,FALSE)),\"\",VLOOKUP(I115,AS!$A:$H,7,FALSE))","v":""},{"$f":"IF(ISERROR(VLOOKUP(I115,AS!$A:$H,8,FALSE)),\"\",VLOOKUP(I115,AS!$A:$H,8,FALSE))","v":""},null,null,null,null,{"$f":"IF(ISERROR(VLOOKUP(O115,AS!$A:$H,7,FALSE)),\"\",VLOOKUP(O115,AS!$A:$H,7,FALSE))","v":""},{"$f":"IF(ISERROR(VLOOKUP(O115,AS!$A:$H,8,FALSE)),\"\",VLOOKUP(O115,AS!$A:$H,8,FALSE))","v":""},null,null,null,null,{"$f":"IF(ISERROR(VLOOKUP(U115,AS!$A:$H,7,FALSE)),\"\",VLOOKUP(U115,AS!$A:$H,7,FALSE))","v":""},{"$f":"IF(ISERROR(VLOOKUP(U115,AS!$A:$H,8,FALSE)),\"\",VLOOKUP(U115,AS!$A:$H,8,FALSE))","v":""},null,null,null,null,{"$f":"IF(ISERROR(VLOOKUP(AA115,AS!$A:$H,7,FALSE)),\"\",VLOOKUP(AA115,AS!$A:$H,7,FALSE))","v":""},{"$f":"IF(ISERROR(VLOOKUP(AA115,AS!$A:$H,8,FALSE)),\"\",VLOOKUP(AA115,AS!$A:$H,8,FALSE))","v":""},null,null,null,"",null,{"$f":"IF(AI115=\"\",\"\",IF(OFFSET('Fiche score'!$A$2,VLOOKUP(RIGHT(AI115,2),Feuil1!A:C,2,FALSE),VLOOKUP(RIGHT(AI115,2),Feuil1!A:C,3,FALSE))=A115 & CHAR(10) & C115,2,IF(OFFSET('Fiche score'!$A$2,VLOOKUP(RIGHT(AI115,2),Feuil1!A:C,2,FALSE)+1,VLOOKUP(RIGHT(AI115,2),Feuil1!A:C,3,FALSE))=A115 & CHAR(10) & C115,2,IF(OFFSET('Fiche score'!$A$2,VLOOKUP(RIGHT(AI115,2),Feuil1!A:C,2,FALSE)-1,VLOOKUP(RIGHT(AI115,2),Feuil1!A:C,3,FALSE))=A115 & CHAR(10) & C115,1,IF(OFFSET('Fiche score'!$A$2,VLOOKUP(RIGHT(AI115,2),Feuil1!A:C,2,FALSE)-2,VLOOKUP(RIGHT(AI115,2),Feuil1!A:C,3,FALSE))=A115 & CHAR(10) & C115,1,\"0\")))))","v":""},{"$f":"IF(ISERROR(VLOOKUP(A115 & CHAR(10) &C115,'Fiche tirage dirigé'!I:I,1,FALSE)),0,1)","v":0},{"$f":"IF(ISERROR(VLOOKUP(A115& CHAR(10) &C115,Cadrage!H:H,1,FALSE)),0,1)","v":0},{"$f":"IF(ISERROR(VLOOKUP(A115 & CHAR(10) &C115,'Tableau final'!V:V,1,FALSE)),0,1)","v":0},{"$f":"IF(ISERROR(VLOOKUP(A115 & CHAR(10) &C115,'Tableau final'!W:W,1,FALSE)),0,1)","v":0},{"$f":"IF(ISERROR(VLOOKUP(A115 & CHAR(10) &C115,'Tableau final'!X:X,1,FALSE)),0,1)","v":0},{"$f":"IF(ISERROR(VLOOKUP(A115 & CHAR(10) &C115,'Tableau final'!Y:Y,1,FALSE)),0,1)","v":0},{"$f":"IF(ISERROR(VLOOKUP(A115 & CHAR(10) &C115,'Tableau final'!Z:Z,1,FALSE)),0,1)","v":0},{"$f":"IF('Tableau final'!$A$1<>\"\",IF('Tableau final'!$B$5=\"Qualifiés\",IF(ISERROR(VLOOKUP(A115 & CHAR(10) &C115,'Tableau final'!C:F,1,FALSE)),\"\",IF(AND(VLOOKUP(A115 & CHAR(10) &C115,'Tableau final'!C:F,3,FALSE)<>\"\",VLOOKUP(A115 & CHAR(10) &C115,'Tableau final'!C:F,4,FALSE)=\"x\"),1,\"\")),IF('Tableau final'!$G$5=\"Qualifiés\",IF(ISERROR(VLOOKUP(A115 & CHAR(10) &C115,'Tableau final'!H:K,1,FALSE)),\"\",IF(AND(VLOOKUP(A115 & CHAR(10) &C115,'Tableau final'!H:K,3,FALSE)<>\"\",VLOOKUP(A115 & CHAR(10) &C115,'Tableau final'!H:K,4,FALSE)=\"x\"),1,\"\")),IF('Tableau final'!$L$5=\"Qualifiés\",IF(ISERROR(VLOOKUP(A115 & CHAR(10) &C115,'Tableau final'!M:P,1,FALSE)),\"\",IF(AND(VLOOKUP(A115 & CHAR(10) &C115,'Tableau final'!M:P,3,FALSE)<>\"\",VLOOKUP(A115 & CHAR(10) &C115,'Tableau final'!M:P,4,FALSE)=\"x\"),1,\"\")),\"\"))),\"\")","v":""},"0",{"$f":"IF(ISERROR(VLOOKUP(AI115,Tirage!A:J,1,FALSE)),\"\",IF(VLOOKUP(AI115,Tirage!A:J,1,FALSE)=\"Office \",3,4))","v":""},{"$f":"IF(AJ115=\"0\",4,IF(AJ115=1,3,IF(AJ115=2,IF(OFFSET('Fiche score'!$A$2,VLOOKUP(RIGHT(AI115,2),Feuil1!A:C,2,FALSE),VLOOKUP(RIGHT(AI115,2),Feuil1!A:C,3,FALSE))=A115 & CHAR(10) & C115,1,2),\"\")))","v":""}]
[null,null,null,null,{"$f":"IF(ISERROR(VLOOKUP(C116,AS!$A:$H,7,FALSE)),\"\",VLOOKUP(C116,AS!$A:$H,7,FALSE))","v":""},{"$f":"IF(ISERROR(VLOOKUP(C116,AS!$A:$H,8,FALSE)),\"\",VLOOKUP(C116,AS!$A:$H,8,FALSE))","v":""},null,null,null,null,{"$f":"IF(ISERROR(VLOOKUP(I116,AS!$A:$H,7,FALSE)),\"\",VLOOKUP(I116,AS!$A:$H,7,FALSE))","v":""},{"$f":"IF(ISERROR(VLOOKUP(I116,AS!$A:$H,8,FALSE)),\"\",VLOOKUP(I116,AS!$A:$H,8,FALSE))","v":""},null,null,null,null,{"$f":"IF(ISERROR(VLOOKUP(O116,AS!$A:$H,7,FALSE)),\"\",VLOOKUP(O116,AS!$A:$H,7,FALSE))","v":""},{"$f":"IF(ISERROR(VLOOKUP(O116,AS!$A:$H,8,FALSE)),\"\",VLOOKUP(O116,AS!$A:$H,8,FALSE))","v":""},null,null,null,null,{"$f":"IF(ISERROR(VLOOKUP(U116,AS!$A:$H,7,FALSE)),\"\",VLOOKUP(U116,AS!$A:$H,7,FALSE))","v":""},{"$f":"IF(ISERROR(VLOOKUP(U116,AS!$A:$H,8,FALSE)),\"\",VLOOKUP(U116,AS!$A:$H,8,FALSE))","v":""},null,null,null,null,{"$f":"IF(ISERROR(VLOOKUP(AA116,AS!$A:$H,7,FALSE)),\"\",VLOOKUP(AA116,AS!$A:$H,7,FALSE))","v":""},{"$f":"IF(ISERROR(VLOOKUP(AA116,AS!$A:$H,8,FALSE)),\"\",VLOOKUP(AA116,AS!$A:$H,8,FALSE))","v":""},null,null,null,"",null,{"$f":"IF(AI116=\"\",\"\",IF(OFFSET('Fiche score'!$A$2,VLOOKUP(RIGHT(AI116,2),Feuil1!A:C,2,FALSE),VLOOKUP(RIGHT(AI116,2),Feuil1!A:C,3,FALSE))=A116 & CHAR(10) & C116,2,IF(OFFSET('Fiche score'!$A$2,VLOOKUP(RIGHT(AI116,2),Feuil1!A:C,2,FALSE)+1,VLOOKUP(RIGHT(AI116,2),Feuil1!A:C,3,FALSE))=A116 & CHAR(10) & C116,2,IF(OFFSET('Fiche score'!$A$2,VLOOKUP(RIGHT(AI116,2),Feuil1!A:C,2,FALSE)-1,VLOOKUP(RIGHT(AI116,2),Feuil1!A:C,3,FALSE))=A116 & CHAR(10) & C116,1,IF(OFFSET('Fiche score'!$A$2,VLOOKUP(RIGHT(AI116,2),Feuil1!A:C,2,FALSE)-2,VLOOKUP(RIGHT(AI116,2),Feuil1!A:C,3,FALSE))=A116 & CHAR(10) & C116,1,\"0\")))))","v":""},{"$f":"IF(ISERROR(VLOOKUP(A116 & CHAR(10) &C116,'Fiche tirage dirigé'!I:I,1,FALSE)),0,1)","v":0},{"$f":"IF(ISERROR(VLOOKUP(A116& CHAR(10) &C116,Cadrage!H:H,1,FALSE)),0,1)","v":0},{"$f":"IF(ISERROR(VLOOKUP(A116 & CHAR(10) &C116,'Tableau final'!V:V,1,FALSE)),0,1)","v":0},{"$f":"IF(ISERROR(VLOOKUP(A116 & CHAR(10) &C116,'Tableau final'!W:W,1,FALSE)),0,1)","v":0},{"$f":"IF(ISERROR(VLOOKUP(A116 & CHAR(10) &C116,'Tableau final'!X:X,1,FALSE)),0,1)","v":0},{"$f":"IF(ISERROR(VLOOKUP(A116 & CHAR(10) &C116,'Tableau final'!Y:Y,1,FALSE)),0,1)","v":0},{"$f":"IF(ISERROR(VLOOKUP(A116 & CHAR(10) &C116,'Tableau final'!Z:Z,1,FALSE)),0,1)","v":0},{"$f":"IF('Tableau final'!$A$1<>\"\",IF('Tableau final'!$B$5=\"Qualifiés\",IF(ISERROR(VLOOKUP(A116 & CHAR(10) &C116,'Tableau final'!C:F,1,FALSE)),\"\",IF(AND(VLOOKUP(A116 & CHAR(10) &C116,'Tableau final'!C:F,3,FALSE)<>\"\",VLOOKUP(A116 & CHAR(10) &C116,'Tableau final'!C:F,4,FALSE)=\"x\"),1,\"\")),IF('Tableau final'!$G$5=\"Qualifiés\",IF(ISERROR(VLOOKUP(A116 & CHAR(10) &C116,'Tableau final'!H:K,1,FALSE)),\"\",IF(AND(VLOOKUP(A116 & CHAR(10) &C116,'Tableau final'!H:K,3,FALSE)<>\"\",VLOOKUP(A116 & CHAR(10) &C116,'Tableau final'!H:K,4,FALSE)=\"x\"),1,\"\")),IF('Tableau final'!$L$5=\"Qualifiés\",IF(ISERROR(VLOOKUP(A116 & CHAR(10) &C116,'Tableau final'!M:P,1,FALSE)),\"\",IF(AND(VLOOKUP(A116 & CHAR(10) &C116,'Tableau final'!M:P,3,FALSE)<>\"\",VLOOKUP(A116 & CHAR(10) &C116,'Tableau final'!M:P,4,FALSE)=\"x\"),1,\"\")),\"\"))),\"\")","v":""},"0",{"$f":"IF(ISERROR(VLOOKUP(AI116,Tirage!A:J,1,FALSE)),\"\",IF(VLOOKUP(AI116,Tirage!A:J,1,FALSE)=\"Office \",3,4))","v":""},{"$f":"IF(AJ116=\"0\",4,IF(AJ116=1,3,IF(AJ116=2,IF(OFFSET('Fiche score'!$A$2,VLOOKUP(RIGHT(AI116,2),Feuil1!A:C,2,FALSE),VLOOKUP(RIGHT(AI116,2),Feuil1!A:C,3,FALSE))=A116 & CHAR(10) & C116,1,2),\"\")))","v":""}]
[null,null,null,null,{"$f":"IF(ISERROR(VLOOKUP(C117,AS!$A:$H,7,FALSE)),\"\",VLOOKUP(C117,AS!$A:$H,7,FALSE))","v":""},{"$f":"IF(ISERROR(VLOOKUP(C117,AS!$A:$H,8,FALSE)),\"\",VLOOKUP(C117,AS!$A:$H,8,FALSE))","v":""},null,null,null,null,{"$f":"IF(ISERROR(VLOOKUP(I117,AS!$A:$H,7,FALSE)),\"\",VLOOKUP(I117,AS!$A:$H,7,FALSE))","v":""},{"$f":"IF(ISERROR(VLOOKUP(I117,AS!$A:$H,8,FALSE)),\"\",VLOOKUP(I117,AS!$A:$H,8,FALSE))","v":""},null,null,null,null,{"$f":"IF(ISERROR(VLOOKUP(O117,AS!$A:$H,7,FALSE)),\"\",VLOOKUP(O117,AS!$A:$H,7,FALSE))","v":""},{"$f":"IF(ISERROR(VLOOKUP(O117,AS!$A:$H,8,FALSE)),\"\",VLOOKUP(O117,AS!$A:$H,8,FALSE))","v":""},null,null,null,null,{"$f":"IF(ISERROR(VLOOKUP(U117,AS!$A:$H,7,FALSE)),\"\",VLOOKUP(U117,AS!$A:$H,7,FALSE))","v":""},{"$f":"IF(ISERROR(VLOOKUP(U117,AS!$A:$H,8,FALSE)),\"\",VLOOKUP(U117,AS!$A:$H,8,FALSE))","v":""},null,null,null,null,{"$f":"IF(ISERROR(VLOOKUP(AA117,AS!$A:$H,7,FALSE)),\"\",VLOOKUP(AA117,AS!$A:$H,7,FALSE))","v":""},{"$f":"IF(ISERROR(VLOOKUP(AA117,AS!$A:$H,8,FALSE)),\"\",VLOOKUP(AA117,AS!$A:$H,8,FALSE))","v":""},null,null,null,"",null,{"$f":"IF(AI117=\"\",\"\",IF(OFFSET('Fiche score'!$A$2,VLOOKUP(RIGHT(AI117,2),Feuil1!A:C,2,FALSE),VLOOKUP(RIGHT(AI117,2),Feuil1!A:C,3,FALSE))=A117 & CHAR(10) & C117,2,IF(OFFSET('Fiche score'!$A$2,VLOOKUP(RIGHT(AI117,2),Feuil1!A:C,2,FALSE)+1,VLOOKUP(RIGHT(AI117,2),Feuil1!A:C,3,FALSE))=A117 & CHAR(10) & C117,2,IF(OFFSET('Fiche score'!$A$2,VLOOKUP(RIGHT(AI117,2),Feuil1!A:C,2,FALSE)-1,VLOOKUP(RIGHT(AI117,2),Feuil1!A:C,3,FALSE))=A117 & CHAR(10) & C117,1,IF(OFFSET('Fiche score'!$A$2,VLOOKUP(RIGHT(AI117,2),Feuil1!A:C,2,FALSE)-2,VLOOKUP(RIGHT(AI117,2),Feuil1!A:C,3,FALSE))=A117 & CHAR(10) & C117,1,\"0\")))))","v":""},{"$f":"IF(ISERROR(VLOOKUP(A117 & CHAR(10) &C117,'Fiche tirage dirigé'!I:I,1,FALSE)),0,1)","v":0},{"$f":"IF(ISERROR(VLOOKUP(A117& CHAR(10) &C117,Cadrage!H:H,1,FALSE)),0,1)","v":0},{"$f":"IF(ISERROR(VLOOKUP(A117 & CHAR(10) &C117,'Tableau final'!V:V,1,FALSE)),0,1)","v":0},{"$f":"IF(ISERROR(VLOOKUP(A117 & CHAR(10) &C117,'Tableau final'!W:W,1,FALSE)),0,1)","v":0},{"$f":"IF(ISERROR(VLOOKUP(A117 & CHAR(10) &C117,'Tableau final'!X:X,1,FALSE)),0,1)","v":0},{"$f":"IF(ISERROR(VLOOKUP(A117 & CHAR(10) &C117,'Tableau final'!Y:Y,1,FALSE)),0,1)","v":0},{"$f":"IF(ISERROR(VLOOKUP(A117 & CHAR(10) &C117,'Tableau final'!Z:Z,1,FALSE)),0,1)","v":0},{"$f":"IF('Tableau final'!$A$1<>\"\",IF('Tableau final'!$B$5=\"Qualifiés\",IF(ISERROR(VLOOKUP(A117 & CHAR(10) &C117,'Tableau final'!C:F,1,FALSE)),\"\",IF(AND(VLOOKUP(A117 & CHAR(10) &C117,'Tableau final'!C:F,3,FALSE)<>\"\",VLOOKUP(A117 & CHAR(10) &C117,'Tableau final'!C:F,4,FALSE)=\"x\"),1,\"\")),IF('Tableau final'!$G$5=\"Qualifiés\",IF(ISERROR(VLOOKUP(A117 & CHAR(10) &C117,'Tableau final'!H:K,1,FALSE)),\"\",IF(AND(VLOOKUP(A117 & CHAR(10) &C117,'Tableau final'!H:K,3,FALSE)<>\"\",VLOOKUP(A117 & CHAR(10) &C117,'Tableau final'!H:K,4,FALSE)=\"x\"),1,\"\")),IF('Tableau final'!$L$5=\"Qualifiés\",IF(ISERROR(VLOOKUP(A117 & CHAR(10) &C117,'Tableau final'!M:P,1,FALSE)),\"\",IF(AND(VLOOKUP(A117 & CHAR(10) &C117,'Tableau final'!M:P,3,FALSE)<>\"\",VLOOKUP(A117 & CHAR(10) &C117,'Tableau final'!M:P,4,FALSE)=\"x\"),1,\"\")),\"\"))),\"\")","v":""},"0",{"$f":"IF(ISERROR(VLOOKUP(AI117,Tirage!A:J,1,FALSE)),\"\",IF(VLOOKUP(AI117,Tirage!A:J,1,FALSE)=\"Office \",3,4))","v":""},{"$f":"IF(AJ117=\"0\",4,IF(AJ117=1,3,IF(AJ117=2,IF(OFFSET('Fiche score'!$A$2,VLOOKUP(RIGHT(AI117,2),Feuil1!A:C,2,FALSE),VLOOKUP(RIGHT(AI117,2),Feuil1!A:C,3,FALSE))=A117 & CHAR(10) & C117,1,2),\"\")))","v":""}]
[null,null,null,null,{"$f":"IF(ISERROR(VLOOKUP(C118,AS!$A:$H,7,FALSE)),\"\",VLOOKUP(C118,AS!$A:$H,7,FALSE))","v":""},{"$f":"IF(ISERROR(VLOOKUP(C118,AS!$A:$H,8,FALSE)),\"\",VLOOKUP(C118,AS!$A:$H,8,FALSE))","v":""},null,null,null,null,{"$f":"IF(ISERROR(VLOOKUP(I118,AS!$A:$H,7,FALSE)),\"\",VLOOKUP(I118,AS!$A:$H,7,FALSE))","v":""},{"$f":"IF(ISERROR(VLOOKUP(I118,AS!$A:$H,8,FALSE)),\"\",VLOOKUP(I118,AS!$A:$H,8,FALSE))","v":""},null,null,null,null,{"$f":"IF(ISERROR(VLOOKUP(O118,AS!$A:$H,7,FALSE)),\"\",VLOOKUP(O118,AS!$A:$H,7,FALSE))","v":""},{"$f":"IF(ISERROR(VLOOKUP(O118,AS!$A:$H,8,FALSE)),\"\",VLOOKUP(O118,AS!$A:$H,8,FALSE))","v":""},null,null,null,null,{"$f":"IF(ISERROR(VLOOKUP(U118,AS!$A:$H,7,FALSE)),\"\",VLOOKUP(U118,AS!$A:$H,7,FALSE))","v":""},{"$f":"IF(ISERROR(VLOOKUP(U118,AS!$A:$H,8,FALSE)),\"\",VLOOKUP(U118,AS!$A:$H,8,FALSE))","v":""},null,null,null,null,{"$f":"IF(ISERROR(VLOOKUP(AA118,AS!$A:$H,7,FALSE)),\"\",VLOOKUP(AA118,AS!$A:$H,7,FALSE))","v":""},{"$f":"IF(ISERROR(VLOOKUP(AA118,AS!$A:$H,8,FALSE)),\"\",VLOOKUP(AA118,AS!$A:$H,8,FALSE))","v":""},null,null,null,"",null,{"$f":"IF(AI118=\"\",\"\",IF(OFFSET('Fiche score'!$A$2,VLOOKUP(RIGHT(AI118,2),Feuil1!A:C,2,FALSE),VLOOKUP(RIGHT(AI118,2),Feuil1!A:C,3,FALSE))=A118 & CHAR(10) & C118,2,IF(OFFSET('Fiche score'!$A$2,VLOOKUP(RIGHT(AI118,2),Feuil1!A:C,2,FALSE)+1,VLOOKUP(RIGHT(AI118,2),Feuil1!A:C,3,FALSE))=A118 & CHAR(10) & C118,2,IF(OFFSET('Fiche score'!$A$2,VLOOKUP(RIGHT(AI118,2),Feuil1!A:C,2,FALSE)-1,VLOOKUP(RIGHT(AI118,2),Feuil1!A:C,3,FALSE))=A118 & CHAR(10) & C118,1,IF(OFFSET('Fiche score'!$A$2,VLOOKUP(RIGHT(AI118,2),Feuil1!A:C,2,FALSE)-2,VLOOKUP(RIGHT(AI118,2),Feuil1!A:C,3,FALSE))=A118 & CHAR(10) & C118,1,\"0\")))))","v":""},{"$f":"IF(ISERROR(VLOOKUP(A118 & CHAR(10) &C118,'Fiche tirage dirigé'!I:I,1,FALSE)),0,1)","v":0},{"$f":"IF(ISERROR(VLOOKUP(A118& CHAR(10) &C118,Cadrage!H:H,1,FALSE)),0,1)","v":0},{"$f":"IF(ISERROR(VLOOKUP(A118 & CHAR(10) &C118,'Tableau final'!V:V,1,FALSE)),0,1)","v":0},{"$f":"IF(ISERROR(VLOOKUP(A118 & CHAR(10) &C118,'Tableau final'!W:W,1,FALSE)),0,1)","v":0},{"$f":"IF(ISERROR(VLOOKUP(A118 & CHAR(10) &C118,'Tableau final'!X:X,1,FALSE)),0,1)","v":0},{"$f":"IF(ISERROR(VLOOKUP(A118 & CHAR(10) &C118,'Tableau final'!Y:Y,1,FALSE)),0,1)","v":0},{"$f":"IF(ISERROR(VLOOKUP(A118 & CHAR(10) &C118,'Tableau final'!Z:Z,1,FALSE)),0,1)","v":0},{"$f":"IF('Tableau final'!$A$1<>\"\",IF('Tableau final'!$B$5=\"Qualifiés\",IF(ISERROR(VLOOKUP(A118 & CHAR(10) &C118,'Tableau final'!C:F,1,FALSE)),\"\",IF(AND(VLOOKUP(A118 & CHAR(10) &C118,'Tableau final'!C:F,3,FALSE)<>\"\",VLOOKUP(A118 & CHAR(10) &C118,'Tableau final'!C:F,4,FALSE)=\"x\"),1,\"\")),IF('Tableau final'!$G$5=\"Qualifiés\",IF(ISERROR(VLOOKUP(A118 & CHAR(10) &C118,'Tableau final'!H:K,1,FALSE)),\"\",IF(AND(VLOOKUP(A118 & CHAR(10) &C118,'Tableau final'!H:K,3,FALSE)<>\"\",VLOOKUP(A118 & CHAR(10) &C118,'Tableau final'!H:K,4,FALSE)=\"x\"),1,\"\")),IF('Tableau final'!$L$5=\"Qualifiés\",IF(ISERROR(VLOOKUP(A118 & CHAR(10) &C118,'Tableau final'!M:P,1,FALSE)),\"\",IF(AND(VLOOKUP(A118 & CHAR(10) &C118,'Tableau final'!M:P,3,FALSE)<>\"\",VLOOKUP(A118 & CHAR(10) &C118,'Tableau final'!M:P,4,FALSE)=\"x\"),1,\"\")),\"\"))),\"\")","v":""},"0",{"$f":"IF(ISERROR(VLOOKUP(AI118,Tirage!A:J,1,FALSE)),\"\",IF(VLOOKUP(AI118,Tirage!A:J,1,FALSE)=\"Office \",3,4))","v":""},{"$f":"IF(AJ118=\"0\",4,IF(AJ118=1,3,IF(AJ118=2,IF(OFFSET('Fiche score'!$A$2,VLOOKUP(RIGHT(AI118,2),Feuil1!A:C,2,FALSE),VLOOKUP(RIGHT(AI118,2),Feuil1!A:C,3,FALSE))=A118 & CHAR(10) & C118,1,2),\"\")))","v":""}]
[null,null,null,null,{"$f":"IF(ISERROR(VLOOKUP(C119,AS!$A:$H,7,FALSE)),\"\",VLOOKUP(C119,AS!$A:$H,7,FALSE))","v":""},{"$f":"IF(ISERROR(VLOOKUP(C119,AS!$A:$H,8,FALSE)),\"\",VLOOKUP(C119,AS!$A:$H,8,FALSE))","v":""},null,null,null,null,{"$f":"IF(ISERROR(VLOOKUP(I119,AS!$A:$H,7,FALSE)),\"\",VLOOKUP(I119,AS!$A:$H,7,FALSE))","v":""},{"$f":"IF(ISERROR(VLOOKUP(I119,AS!$A:$H,8,FALSE)),\"\",VLOOKUP(I119,AS!$A:$H,8,FALSE))","v":""},null,null,null,null,{"$f":"IF(ISERROR(VLOOKUP(O119,AS!$A:$H,7,FALSE)),\"\",VLOOKUP(O119,AS!$A:$H,7,FALSE))","v":""},{"$f":"IF(ISERROR(VLOOKUP(O119,AS!$A:$H,8,FALSE)),\"\",VLOOKUP(O119,AS!$A:$H,8,FALSE))","v":""},null,null,null,null,{"$f":"IF(ISERROR(VLOOKUP(U119,AS!$A:$H,7,FALSE)),\"\",VLOOKUP(U119,AS!$A:$H,7,FALSE))","v":""},{"$f":"IF(ISERROR(VLOOKUP(U119,AS!$A:$H,8,FALSE)),\"\",VLOOKUP(U119,AS!$A:$H,8,FALSE))","v":""},null,null,null,null,{"$f":"IF(ISERROR(VLOOKUP(AA119,AS!$A:$H,7,FALSE)),\"\",VLOOKUP(AA119,AS!$A:$H,7,FALSE))","v":""},{"$f":"IF(ISERROR(VLOOKUP(AA119,AS!$A:$H,8,FALSE)),\"\",VLOOKUP(AA119,AS!$A:$H,8,FALSE))","v":""},null,null,null,"",null,{"$f":"IF(AI119=\"\",\"\",IF(OFFSET('Fiche score'!$A$2,VLOOKUP(RIGHT(AI119,2),Feuil1!A:C,2,FALSE),VLOOKUP(RIGHT(AI119,2),Feuil1!A:C,3,FALSE))=A119 & CHAR(10) & C119,2,IF(OFFSET('Fiche score'!$A$2,VLOOKUP(RIGHT(AI119,2),Feuil1!A:C,2,FALSE)+1,VLOOKUP(RIGHT(AI119,2),Feuil1!A:C,3,FALSE))=A119 & CHAR(10) & C119,2,IF(OFFSET('Fiche score'!$A$2,VLOOKUP(RIGHT(AI119,2),Feuil1!A:C,2,FALSE)-1,VLOOKUP(RIGHT(AI119,2),Feuil1!A:C,3,FALSE))=A119 & CHAR(10) & C119,1,IF(OFFSET('Fiche score'!$A$2,VLOOKUP(RIGHT(AI119,2),Feuil1!A:C,2,FALSE)-2,VLOOKUP(RIGHT(AI119,2),Feuil1!A:C,3,FALSE))=A119 & CHAR(10) & C119,1,\"0\")))))","v":""},{"$f":"IF(ISERROR(VLOOKUP(A119 & CHAR(10) &C119,'Fiche tirage dirigé'!I:I,1,FALSE)),0,1)","v":0},{"$f":"IF(ISERROR(VLOOKUP(A119& CHAR(10) &C119,Cadrage!H:H,1,FALSE)),0,1)","v":0},{"$f":"IF(ISERROR(VLOOKUP(A119 & CHAR(10) &C119,'Tableau final'!V:V,1,FALSE)),0,1)","v":0},{"$f":"IF(ISERROR(VLOOKUP(A119 & CHAR(10) &C119,'Tableau final'!W:W,1,FALSE)),0,1)","v":0},{"$f":"IF(ISERROR(VLOOKUP(A119 & CHAR(10) &C119,'Tableau final'!X:X,1,FALSE)),0,1)","v":0},{"$f":"IF(ISERROR(VLOOKUP(A119 & CHAR(10) &C119,'Tableau final'!Y:Y,1,FALSE)),0,1)","v":0},{"$f":"IF(ISERROR(VLOOKUP(A119 & CHAR(10) &C119,'Tableau final'!Z:Z,1,FALSE)),0,1)","v":0},{"$f":"IF('Tableau final'!$A$1<>\"\",IF('Tableau final'!$B$5=\"Qualifiés\",IF(ISERROR(VLOOKUP(A119 & CHAR(10) &C119,'Tableau final'!C:F,1,FALSE)),\"\",IF(AND(VLOOKUP(A119 & CHAR(10) &C119,'Tableau final'!C:F,3,FALSE)<>\"\",VLOOKUP(A119 & CHAR(10) &C119,'Tableau final'!C:F,4,FALSE)=\"x\"),1,\"\")),IF('Tableau final'!$G$5=\"Qualifiés\",IF(ISERROR(VLOOKUP(A119 & CHAR(10) &C119,'Tableau final'!H:K,1,FALSE)),\"\",IF(AND(VLOOKUP(A119 & CHAR(10) &C119,'Tableau final'!H:K,3,FALSE)<>\"\",VLOOKUP(A119 & CHAR(10) &C119,'Tableau final'!H:K,4,FALSE)=\"x\"),1,\"\")),IF('Tableau final'!$L$5=\"Qualifiés\",IF(ISERROR(VLOOKUP(A119 & CHAR(10) &C119,'Tableau final'!M:P,1,FALSE)),\"\",IF(AND(VLOOKUP(A119 & CHAR(10) &C119,'Tableau final'!M:P,3,FALSE)<>\"\",VLOOKUP(A119 & CHAR(10) &C119,'Tableau final'!M:P,4,FALSE)=\"x\"),1,\"\")),\"\"))),\"\")","v":""},"0",{"$f":"IF(ISERROR(VLOOKUP(AI119,Tirage!A:J,1,FALSE)),\"\",IF(VLOOKUP(AI119,Tirage!A:J,1,FALSE)=\"Office \",3,4))","v":""},{"$f":"IF(AJ119=\"0\",4,IF(AJ119=1,3,IF(AJ119=2,IF(OFFSET('Fiche score'!$A$2,VLOOKUP(RIGHT(AI119,2),Feuil1!A:C,2,FALSE),VLOOKUP(RIGHT(AI119,2),Feuil1!A:C,3,FALSE))=A119 & CHAR(10) & C119,1,2),\"\")))","v":""}]
[null,null,null,null,{"$f":"IF(ISERROR(VLOOKUP(C120,AS!$A:$H,7,FALSE)),\"\",VLOOKUP(C120,AS!$A:$H,7,FALSE))","v":""},{"$f":"IF(ISERROR(VLOOKUP(C120,AS!$A:$H,8,FALSE)),\"\",VLOOKUP(C120,AS!$A:$H,8,FALSE))","v":""},null,null,null,null,{"$f":"IF(ISERROR(VLOOKUP(I120,AS!$A:$H,7,FALSE)),\"\",VLOOKUP(I120,AS!$A:$H,7,FALSE))","v":""},{"$f":"IF(ISERROR(VLOOKUP(I120,AS!$A:$H,8,FALSE)),\"\",VLOOKUP(I120,AS!$A:$H,8,FALSE))","v":""},null,null,null,null,{"$f":"IF(ISERROR(VLOOKUP(O120,AS!$A:$H,7,FALSE)),\"\",VLOOKUP(O120,AS!$A:$H,7,FALSE))","v":""},{"$f":"IF(ISERROR(VLOOKUP(O120,AS!$A:$H,8,FALSE)),\"\",VLOOKUP(O120,AS!$A:$H,8,FALSE))","v":""},null,null,null,null,{"$f":"IF(ISERROR(VLOOKUP(U120,AS!$A:$H,7,FALSE)),\"\",VLOOKUP(U120,AS!$A:$H,7,FALSE))","v":""},{"$f":"IF(ISERROR(VLOOKUP(U120,AS!$A:$H,8,FALSE)),\"\",VLOOKUP(U120,AS!$A:$H,8,FALSE))","v":""},null,null,null,null,{"$f":"IF(ISERROR(VLOOKUP(AA120,AS!$A:$H,7,FALSE)),\"\",VLOOKUP(AA120,AS!$A:$H,7,FALSE))","v":""},{"$f":"IF(ISERROR(VLOOKUP(AA120,AS!$A:$H,8,FALSE)),\"\",VLOOKUP(AA120,AS!$A:$H,8,FALSE))","v":""},null,null,null,"",null,{"$f":"IF(AI120=\"\",\"\",IF(OFFSET('Fiche score'!$A$2,VLOOKUP(RIGHT(AI120,2),Feuil1!A:C,2,FALSE),VLOOKUP(RIGHT(AI120,2),Feuil1!A:C,3,FALSE))=A120 & CHAR(10) & C120,2,IF(OFFSET('Fiche score'!$A$2,VLOOKUP(RIGHT(AI120,2),Feuil1!A:C,2,FALSE)+1,VLOOKUP(RIGHT(AI120,2),Feuil1!A:C,3,FALSE))=A120 & CHAR(10) & C120,2,IF(OFFSET('Fiche score'!$A$2,VLOOKUP(RIGHT(AI120,2),Feuil1!A:C,2,FALSE)-1,VLOOKUP(RIGHT(AI120,2),Feuil1!A:C,3,FALSE))=A120 & CHAR(10) & C120,1,IF(OFFSET('Fiche score'!$A$2,VLOOKUP(RIGHT(AI120,2),Feuil1!A:C,2,FALSE)-2,VLOOKUP(RIGHT(AI120,2),Feuil1!A:C,3,FALSE))=A120 & CHAR(10) & C120,1,\"0\")))))","v":""},{"$f":"IF(ISERROR(VLOOKUP(A120 & CHAR(10) &C120,'Fiche tirage dirigé'!I:I,1,FALSE)),0,1)","v":0},{"$f":"IF(ISERROR(VLOOKUP(A120& CHAR(10) &C120,Cadrage!H:H,1,FALSE)),0,1)","v":0},{"$f":"IF(ISERROR(VLOOKUP(A120 & CHAR(10) &C120,'Tableau final'!V:V,1,FALSE)),0,1)","v":0},{"$f":"IF(ISERROR(VLOOKUP(A120 & CHAR(10) &C120,'Tableau final'!W:W,1,FALSE)),0,1)","v":0},{"$f":"IF(ISERROR(VLOOKUP(A120 & CHAR(10) &C120,'Tableau final'!X:X,1,FALSE)),0,1)","v":0},{"$f":"IF(ISERROR(VLOOKUP(A120 & CHAR(10) &C120,'Tableau final'!Y:Y,1,FALSE)),0,1)","v":0},{"$f":"IF(ISERROR(VLOOKUP(A120 & CHAR(10) &C120,'Tableau final'!Z:Z,1,FALSE)),0,1)","v":0},{"$f":"IF('Tableau final'!$A$1<>\"\",IF('Tableau final'!$B$5=\"Qualifiés\",IF(ISERROR(VLOOKUP(A120 & CHAR(10) &C120,'Tableau final'!C:F,1,FALSE)),\"\",IF(AND(VLOOKUP(A120 & CHAR(10) &C120,'Tableau final'!C:F,3,FALSE)<>\"\",VLOOKUP(A120 & CHAR(10) &C120,'Tableau final'!C:F,4,FALSE)=\"x\"),1,\"\")),IF('Tableau final'!$G$5=\"Qualifiés\",IF(ISERROR(VLOOKUP(A120 & CHAR(10) &C120,'Tableau final'!H:K,1,FALSE)),\"\",IF(AND(VLOOKUP(A120 & CHAR(10) &C120,'Tableau final'!H:K,3,FALSE)<>\"\",VLOOKUP(A120 & CHAR(10) &C120,'Tableau final'!H:K,4,FALSE)=\"x\"),1,\"\")),IF('Tableau final'!$L$5=\"Qualifiés\",IF(ISERROR(VLOOKUP(A120 & CHAR(10) &C120,'Tableau final'!M:P,1,FALSE)),\"\",IF(AND(VLOOKUP(A120 & CHAR(10) &C120,'Tableau final'!M:P,3,FALSE)<>\"\",VLOOKUP(A120 & CHAR(10) &C120,'Tableau final'!M:P,4,FALSE)=\"x\"),1,\"\")),\"\"))),\"\")","v":""},"0",{"$f":"IF(ISERROR(VLOOKUP(AI120,Tirage!A:J,1,FALSE)),\"\",IF(VLOOKUP(AI120,Tirage!A:J,1,FALSE)=\"Office \",3,4))","v":""},{"$f":"IF(AJ120=\"0\",4,IF(AJ120=1,3,IF(AJ120=2,IF(OFFSET('Fiche score'!$A$2,VLOOKUP(RIGHT(AI120,2),Feuil1!A:C,2,FALSE),VLOOKUP(RIGHT(AI120,2),Feuil1!A:C,3,FALSE))=A120 & CHAR(10) & C120,1,2),\"\")))","v":""}]
[null,null,null,null,{"$f":"IF(ISERROR(VLOOKUP(C121,AS!$A:$H,7,FALSE)),\"\",VLOOKUP(C121,AS!$A:$H,7,FALSE))","v":""},{"$f":"IF(ISERROR(VLOOKUP(C121,AS!$A:$H,8,FALSE)),\"\",VLOOKUP(C121,AS!$A:$H,8,FALSE))","v":""},null,null,null,null,{"$f":"IF(ISERROR(VLOOKUP(I121,AS!$A:$H,7,FALSE)),\"\",VLOOKUP(I121,AS!$A:$H,7,FALSE))","v":""},{"$f":"IF(ISERROR(VLOOKUP(I121,AS!$A:$H,8,FALSE)),\"\",VLOOKUP(I121,AS!$A:$H,8,FALSE))","v":""},null,null,null,null,{"$f":"IF(ISERROR(VLOOKUP(O121,AS!$A:$H,7,FALSE)),\"\",VLOOKUP(O121,AS!$A:$H,7,FALSE))","v":""},{"$f":"IF(ISERROR(VLOOKUP(O121,AS!$A:$H,8,FALSE)),\"\",VLOOKUP(O121,AS!$A:$H,8,FALSE))","v":""},null,null,null,null,{"$f":"IF(ISERROR(VLOOKUP(U121,AS!$A:$H,7,FALSE)),\"\",VLOOKUP(U121,AS!$A:$H,7,FALSE))","v":""},{"$f":"IF(ISERROR(VLOOKUP(U121,AS!$A:$H,8,FALSE)),\"\",VLOOKUP(U121,AS!$A:$H,8,FALSE))","v":""},null,null,null,null,{"$f":"IF(ISERROR(VLOOKUP(AA121,AS!$A:$H,7,FALSE)),\"\",VLOOKUP(AA121,AS!$A:$H,7,FALSE))","v":""},{"$f":"IF(ISERROR(VLOOKUP(AA121,AS!$A:$H,8,FALSE)),\"\",VLOOKUP(AA121,AS!$A:$H,8,FALSE))","v":""},null,null,null,"",null,{"$f":"IF(AI121=\"\",\"\",IF(OFFSET('Fiche score'!$A$2,VLOOKUP(RIGHT(AI121,2),Feuil1!A:C,2,FALSE),VLOOKUP(RIGHT(AI121,2),Feuil1!A:C,3,FALSE))=A121 & CHAR(10) & C121,2,IF(OFFSET('Fiche score'!$A$2,VLOOKUP(RIGHT(AI121,2),Feuil1!A:C,2,FALSE)+1,VLOOKUP(RIGHT(AI121,2),Feuil1!A:C,3,FALSE))=A121 & CHAR(10) & C121,2,IF(OFFSET('Fiche score'!$A$2,VLOOKUP(RIGHT(AI121,2),Feuil1!A:C,2,FALSE)-1,VLOOKUP(RIGHT(AI121,2),Feuil1!A:C,3,FALSE))=A121 & CHAR(10) & C121,1,IF(OFFSET('Fiche score'!$A$2,VLOOKUP(RIGHT(AI121,2),Feuil1!A:C,2,FALSE)-2,VLOOKUP(RIGHT(AI121,2),Feuil1!A:C,3,FALSE))=A121 & CHAR(10) & C121,1,\"0\")))))","v":""},{"$f":"IF(ISERROR(VLOOKUP(A121 & CHAR(10) &C121,'Fiche tirage dirigé'!I:I,1,FALSE)),0,1)","v":0},{"$f":"IF(ISERROR(VLOOKUP(A121& CHAR(10) &C121,Cadrage!H:H,1,FALSE)),0,1)","v":0},{"$f":"IF(ISERROR(VLOOKUP(A121 & CHAR(10) &C121,'Tableau final'!V:V,1,FALSE)),0,1)","v":0},{"$f":"IF(ISERROR(VLOOKUP(A121 & CHAR(10) &C121,'Tableau final'!W:W,1,FALSE)),0,1)","v":0},{"$f":"IF(ISERROR(VLOOKUP(A121 & CHAR(10) &C121,'Tableau final'!X:X,1,FALSE)),0,1)","v":0},{"$f":"IF(ISERROR(VLOOKUP(A121 & CHAR(10) &C121,'Tableau final'!Y:Y,1,FALSE)),0,1)","v":0},{"$f":"IF(ISERROR(VLOOKUP(A121 & CHAR(10) &C121,'Tableau final'!Z:Z,1,FALSE)),0,1)","v":0},{"$f":"IF('Tableau final'!$A$1<>\"\",IF('Tableau final'!$B$5=\"Qualifiés\",IF(ISERROR(VLOOKUP(A121 & CHAR(10) &C121,'Tableau final'!C:F,1,FALSE)),\"\",IF(AND(VLOOKUP(A121 & CHAR(10) &C121,'Tableau final'!C:F,3,FALSE)<>\"\",VLOOKUP(A121 & CHAR(10) &C121,'Tableau final'!C:F,4,FALSE)=\"x\"),1,\"\")),IF('Tableau final'!$G$5=\"Qualifiés\",IF(ISERROR(VLOOKUP(A121 & CHAR(10) &C121,'Tableau final'!H:K,1,FALSE)),\"\",IF(AND(VLOOKUP(A121 & CHAR(10) &C121,'Tableau final'!H:K,3,FALSE)<>\"\",VLOOKUP(A121 & CHAR(10) &C121,'Tableau final'!H:K,4,FALSE)=\"x\"),1,\"\")),IF('Tableau final'!$L$5=\"Qualifiés\",IF(ISERROR(VLOOKUP(A121 & CHAR(10) &C121,'Tableau final'!M:P,1,FALSE)),\"\",IF(AND(VLOOKUP(A121 & CHAR(10) &C121,'Tableau final'!M:P,3,FALSE)<>\"\",VLOOKUP(A121 & CHAR(10) &C121,'Tableau final'!M:P,4,FALSE)=\"x\"),1,\"\")),\"\"))),\"\")","v":""},"0",{"$f":"IF(ISERROR(VLOOKUP(AI121,Tirage!A:J,1,FALSE)),\"\",IF(VLOOKUP(AI121,Tirage!A:J,1,FALSE)=\"Office \",3,4))","v":""},{"$f":"IF(AJ121=\"0\",4,IF(AJ121=1,3,IF(AJ121=2,IF(OFFSET('Fiche score'!$A$2,VLOOKUP(RIGHT(AI121,2),Feuil1!A:C,2,FALSE),VLOOKUP(RIGHT(AI121,2),Feuil1!A:C,3,FALSE))=A121 & CHAR(10) & C121,1,2),\"\")))","v":""}]
[null,null,null,null,{"$f":"IF(ISERROR(VLOOKUP(C122,AS!$A:$H,7,FALSE)),\"\",VLOOKUP(C122,AS!$A:$H,7,FALSE))","v":""},{"$f":"IF(ISERROR(VLOOKUP(C122,AS!$A:$H,8,FALSE)),\"\",VLOOKUP(C122,AS!$A:$H,8,FALSE))","v":""},null,null,null,null,{"$f":"IF(ISERROR(VLOOKUP(I122,AS!$A:$H,7,FALSE)),\"\",VLOOKUP(I122,AS!$A:$H,7,FALSE))","v":""},{"$f":"IF(ISERROR(VLOOKUP(I122,AS!$A:$H,8,FALSE)),\"\",VLOOKUP(I122,AS!$A:$H,8,FALSE))","v":""},null,null,null,null,{"$f":"IF(ISERROR(VLOOKUP(O122,AS!$A:$H,7,FALSE)),\"\",VLOOKUP(O122,AS!$A:$H,7,FALSE))","v":""},{"$f":"IF(ISERROR(VLOOKUP(O122,AS!$A:$H,8,FALSE)),\"\",VLOOKUP(O122,AS!$A:$H,8,FALSE))","v":""},null,null,null,null,{"$f":"IF(ISERROR(VLOOKUP(U122,AS!$A:$H,7,FALSE)),\"\",VLOOKUP(U122,AS!$A:$H,7,FALSE))","v":""},{"$f":"IF(ISERROR(VLOOKUP(U122,AS!$A:$H,8,FALSE)),\"\",VLOOKUP(U122,AS!$A:$H,8,FALSE))","v":""},null,null,null,null,{"$f":"IF(ISERROR(VLOOKUP(AA122,AS!$A:$H,7,FALSE)),\"\",VLOOKUP(AA122,AS!$A:$H,7,FALSE))","v":""},{"$f":"IF(ISERROR(VLOOKUP(AA122,AS!$A:$H,8,FALSE)),\"\",VLOOKUP(AA122,AS!$A:$H,8,FALSE))","v":""},null,null,null,"",null,{"$f":"IF(AI122=\"\",\"\",IF(OFFSET('Fiche score'!$A$2,VLOOKUP(RIGHT(AI122,2),Feuil1!A:C,2,FALSE),VLOOKUP(RIGHT(AI122,2),Feuil1!A:C,3,FALSE))=A122 & CHAR(10) & C122,2,IF(OFFSET('Fiche score'!$A$2,VLOOKUP(RIGHT(AI122,2),Feuil1!A:C,2,FALSE)+1,VLOOKUP(RIGHT(AI122,2),Feuil1!A:C,3,FALSE))=A122 & CHAR(10) & C122,2,IF(OFFSET('Fiche score'!$A$2,VLOOKUP(RIGHT(AI122,2),Feuil1!A:C,2,FALSE)-1,VLOOKUP(RIGHT(AI122,2),Feuil1!A:C,3,FALSE))=A122 & CHAR(10) & C122,1,IF(OFFSET('Fiche score'!$A$2,VLOOKUP(RIGHT(AI122,2),Feuil1!A:C,2,FALSE)-2,VLOOKUP(RIGHT(AI122,2),Feuil1!A:C,3,FALSE))=A122 & CHAR(10) & C122,1,\"0\")))))","v":""},{"$f":"IF(ISERROR(VLOOKUP(A122 & CHAR(10) &C122,'Fiche tirage dirigé'!I:I,1,FALSE)),0,1)","v":0},{"$f":"IF(ISERROR(VLOOKUP(A122& CHAR(10) &C122,Cadrage!H:H,1,FALSE)),0,1)","v":0},{"$f":"IF(ISERROR(VLOOKUP(A122 & CHAR(10) &C122,'Tableau final'!V:V,1,FALSE)),0,1)","v":0},{"$f":"IF(ISERROR(VLOOKUP(A122 & CHAR(10) &C122,'Tableau final'!W:W,1,FALSE)),0,1)","v":0},{"$f":"IF(ISERROR(VLOOKUP(A122 & CHAR(10) &C122,'Tableau final'!X:X,1,FALSE)),0,1)","v":0},{"$f":"IF(ISERROR(VLOOKUP(A122 & CHAR(10) &C122,'Tableau final'!Y:Y,1,FALSE)),0,1)","v":0},{"$f":"IF(ISERROR(VLOOKUP(A122 & CHAR(10) &C122,'Tableau final'!Z:Z,1,FALSE)),0,1)","v":0},{"$f":"IF('Tableau final'!$A$1<>\"\",IF('Tableau final'!$B$5=\"Qualifiés\",IF(ISERROR(VLOOKUP(A122 & CHAR(10) &C122,'Tableau final'!C:F,1,FALSE)),\"\",IF(AND(VLOOKUP(A122 & CHAR(10) &C122,'Tableau final'!C:F,3,FALSE)<>\"\",VLOOKUP(A122 & CHAR(10) &C122,'Tableau final'!C:F,4,FALSE)=\"x\"),1,\"\")),IF('Tableau final'!$G$5=\"Qualifiés\",IF(ISERROR(VLOOKUP(A122 & CHAR(10) &C122,'Tableau final'!H:K,1,FALSE)),\"\",IF(AND(VLOOKUP(A122 & CHAR(10) &C122,'Tableau final'!H:K,3,FALSE)<>\"\",VLOOKUP(A122 & CHAR(10) &C122,'Tableau final'!H:K,4,FALSE)=\"x\"),1,\"\")),IF('Tableau final'!$L$5=\"Qualifiés\",IF(ISERROR(VLOOKUP(A122 & CHAR(10) &C122,'Tableau final'!M:P,1,FALSE)),\"\",IF(AND(VLOOKUP(A122 & CHAR(10) &C122,'Tableau final'!M:P,3,FALSE)<>\"\",VLOOKUP(A122 & CHAR(10) &C122,'Tableau final'!M:P,4,FALSE)=\"x\"),1,\"\")),\"\"))),\"\")","v":""},"0",{"$f":"IF(ISERROR(VLOOKUP(AI122,Tirage!A:J,1,FALSE)),\"\",IF(VLOOKUP(AI122,Tirage!A:J,1,FALSE)=\"Office \",3,4))","v":""},{"$f":"IF(AJ122=\"0\",4,IF(AJ122=1,3,IF(AJ122=2,IF(OFFSET('Fiche score'!$A$2,VLOOKUP(RIGHT(AI122,2),Feuil1!A:C,2,FALSE),VLOOKUP(RIGHT(AI122,2),Feuil1!A:C,3,FALSE))=A122 & CHAR(10) & C122,1,2),\"\")))","v":""}]
[null,null,null,null,{"$f":"IF(ISERROR(VLOOKUP(C123,AS!$A:$H,7,FALSE)),\"\",VLOOKUP(C123,AS!$A:$H,7,FALSE))","v":""},{"$f":"IF(ISERROR(VLOOKUP(C123,AS!$A:$H,8,FALSE)),\"\",VLOOKUP(C123,AS!$A:$H,8,FALSE))","v":""},null,null,null,null,{"$f":"IF(ISERROR(VLOOKUP(I123,AS!$A:$H,7,FALSE)),\"\",VLOOKUP(I123,AS!$A:$H,7,FALSE))","v":""},{"$f":"IF(ISERROR(VLOOKUP(I123,AS!$A:$H,8,FALSE)),\"\",VLOOKUP(I123,AS!$A:$H,8,FALSE))","v":""},null,null,null,null,{"$f":"IF(ISERROR(VLOOKUP(O123,AS!$A:$H,7,FALSE)),\"\",VLOOKUP(O123,AS!$A:$H,7,FALSE))","v":""},{"$f":"IF(ISERROR(VLOOKUP(O123,AS!$A:$H,8,FALSE)),\"\",VLOOKUP(O123,AS!$A:$H,8,FALSE))","v":""},null,null,null,null,{"$f":"IF(ISERROR(VLOOKUP(U123,AS!$A:$H,7,FALSE)),\"\",VLOOKUP(U123,AS!$A:$H,7,FALSE))","v":""},{"$f":"IF(ISERROR(VLOOKUP(U123,AS!$A:$H,8,FALSE)),\"\",VLOOKUP(U123,AS!$A:$H,8,FALSE))","v":""},null,null,null,null,{"$f":"IF(ISERROR(VLOOKUP(AA123,AS!$A:$H,7,FALSE)),\"\",VLOOKUP(AA123,AS!$A:$H,7,FALSE))","v":""},{"$f":"IF(ISERROR(VLOOKUP(AA123,AS!$A:$H,8,FALSE)),\"\",VLOOKUP(AA123,AS!$A:$H,8,FALSE))","v":""},null,null,null,"",null,{"$f":"IF(AI123=\"\",\"\",IF(OFFSET('Fiche score'!$A$2,VLOOKUP(RIGHT(AI123,2),Feuil1!A:C,2,FALSE),VLOOKUP(RIGHT(AI123,2),Feuil1!A:C,3,FALSE))=A123 & CHAR(10) & C123,2,IF(OFFSET('Fiche score'!$A$2,VLOOKUP(RIGHT(AI123,2),Feuil1!A:C,2,FALSE)+1,VLOOKUP(RIGHT(AI123,2),Feuil1!A:C,3,FALSE))=A123 & CHAR(10) & C123,2,IF(OFFSET('Fiche score'!$A$2,VLOOKUP(RIGHT(AI123,2),Feuil1!A:C,2,FALSE)-1,VLOOKUP(RIGHT(AI123,2),Feuil1!A:C,3,FALSE))=A123 & CHAR(10) & C123,1,IF(OFFSET('Fiche score'!$A$2,VLOOKUP(RIGHT(AI123,2),Feuil1!A:C,2,FALSE)-2,VLOOKUP(RIGHT(AI123,2),Feuil1!A:C,3,FALSE))=A123 & CHAR(10) & C123,1,\"0\")))))","v":""},{"$f":"IF(ISERROR(VLOOKUP(A123 & CHAR(10) &C123,'Fiche tirage dirigé'!I:I,1,FALSE)),0,1)","v":0},{"$f":"IF(ISERROR(VLOOKUP(A123& CHAR(10) &C123,Cadrage!H:H,1,FALSE)),0,1)","v":0},{"$f":"IF(ISERROR(VLOOKUP(A123 & CHAR(10) &C123,'Tableau final'!V:V,1,FALSE)),0,1)","v":0},{"$f":"IF(ISERROR(VLOOKUP(A123 & CHAR(10) &C123,'Tableau final'!W:W,1,FALSE)),0,1)","v":0},{"$f":"IF(ISERROR(VLOOKUP(A123 & CHAR(10) &C123,'Tableau final'!X:X,1,FALSE)),0,1)","v":0},{"$f":"IF(ISERROR(VLOOKUP(A123 & CHAR(10) &C123,'Tableau final'!Y:Y,1,FALSE)),0,1)","v":0},{"$f":"IF(ISERROR(VLOOKUP(A123 & CHAR(10) &C123,'Tableau final'!Z:Z,1,FALSE)),0,1)","v":0},{"$f":"IF('Tableau final'!$A$1<>\"\",IF('Tableau final'!$B$5=\"Qualifiés\",IF(ISERROR(VLOOKUP(A123 & CHAR(10) &C123,'Tableau final'!C:F,1,FALSE)),\"\",IF(AND(VLOOKUP(A123 & CHAR(10) &C123,'Tableau final'!C:F,3,FALSE)<>\"\",VLOOKUP(A123 & CHAR(10) &C123,'Tableau final'!C:F,4,FALSE)=\"x\"),1,\"\")),IF('Tableau final'!$G$5=\"Qualifiés\",IF(ISERROR(VLOOKUP(A123 & CHAR(10) &C123,'Tableau final'!H:K,1,FALSE)),\"\",IF(AND(VLOOKUP(A123 & CHAR(10) &C123,'Tableau final'!H:K,3,FALSE)<>\"\",VLOOKUP(A123 & CHAR(10) &C123,'Tableau final'!H:K,4,FALSE)=\"x\"),1,\"\")),IF('Tableau final'!$L$5=\"Qualifiés\",IF(ISERROR(VLOOKUP(A123 & CHAR(10) &C123,'Tableau final'!M:P,1,FALSE)),\"\",IF(AND(VLOOKUP(A123 & CHAR(10) &C123,'Tableau final'!M:P,3,FALSE)<>\"\",VLOOKUP(A123 & CHAR(10) &C123,'Tableau final'!M:P,4,FALSE)=\"x\"),1,\"\")),\"\"))),\"\")","v":""},"0",{"$f":"IF(ISERROR(VLOOKUP(AI123,Tirage!A:J,1,FALSE)),\"\",IF(VLOOKUP(AI123,Tirage!A:J,1,FALSE)=\"Office \",3,4))","v":""},{"$f":"IF(AJ123=\"0\",4,IF(AJ123=1,3,IF(AJ123=2,IF(OFFSET('Fiche score'!$A$2,VLOOKUP(RIGHT(AI123,2),Feuil1!A:C,2,FALSE),VLOOKUP(RIGHT(AI123,2),Feuil1!A:C,3,FALSE))=A123 & CHAR(10) & C123,1,2),\"\")))","v":""}]
[null,null,null,null,{"$f":"IF(ISERROR(VLOOKUP(C124,AS!$A:$H,7,FALSE)),\"\",VLOOKUP(C124,AS!$A:$H,7,FALSE))","v":""},{"$f":"IF(ISERROR(VLOOKUP(C124,AS!$A:$H,8,FALSE)),\"\",VLOOKUP(C124,AS!$A:$H,8,FALSE))","v":""},null,null,null,null,{"$f":"IF(ISERROR(VLOOKUP(I124,AS!$A:$H,7,FALSE)),\"\",VLOOKUP(I124,AS!$A:$H,7,FALSE))","v":""},{"$f":"IF(ISERROR(VLOOKUP(I124,AS!$A:$H,8,FALSE)),\"\",VLOOKUP(I124,AS!$A:$H,8,FALSE))","v":""},null,null,null,null,{"$f":"IF(ISERROR(VLOOKUP(O124,AS!$A:$H,7,FALSE)),\"\",VLOOKUP(O124,AS!$A:$H,7,FALSE))","v":""},{"$f":"IF(ISERROR(VLOOKUP(O124,AS!$A:$H,8,FALSE)),\"\",VLOOKUP(O124,AS!$A:$H,8,FALSE))","v":""},null,null,null,null,{"$f":"IF(ISERROR(VLOOKUP(U124,AS!$A:$H,7,FALSE)),\"\",VLOOKUP(U124,AS!$A:$H,7,FALSE))","v":""},{"$f":"IF(ISERROR(VLOOKUP(U124,AS!$A:$H,8,FALSE)),\"\",VLOOKUP(U124,AS!$A:$H,8,FALSE))","v":""},null,null,null,null,{"$f":"IF(ISERROR(VLOOKUP(AA124,AS!$A:$H,7,FALSE)),\"\",VLOOKUP(AA124,AS!$A:$H,7,FALSE))","v":""},{"$f":"IF(ISERROR(VLOOKUP(AA124,AS!$A:$H,8,FALSE)),\"\",VLOOKUP(AA124,AS!$A:$H,8,FALSE))","v":""},null,null,null,"",null,{"$f":"IF(AI124=\"\",\"\",IF(OFFSET('Fiche score'!$A$2,VLOOKUP(RIGHT(AI124,2),Feuil1!A:C,2,FALSE),VLOOKUP(RIGHT(AI124,2),Feuil1!A:C,3,FALSE))=A124 & CHAR(10) & C124,2,IF(OFFSET('Fiche score'!$A$2,VLOOKUP(RIGHT(AI124,2),Feuil1!A:C,2,FALSE)+1,VLOOKUP(RIGHT(AI124,2),Feuil1!A:C,3,FALSE))=A124 & CHAR(10) & C124,2,IF(OFFSET('Fiche score'!$A$2,VLOOKUP(RIGHT(AI124,2),Feuil1!A:C,2,FALSE)-1,VLOOKUP(RIGHT(AI124,2),Feuil1!A:C,3,FALSE))=A124 & CHAR(10) & C124,1,IF(OFFSET('Fiche score'!$A$2,VLOOKUP(RIGHT(AI124,2),Feuil1!A:C,2,FALSE)-2,VLOOKUP(RIGHT(AI124,2),Feuil1!A:C,3,FALSE))=A124 & CHAR(10) & C124,1,\"0\")))))","v":""},{"$f":"IF(ISERROR(VLOOKUP(A124 & CHAR(10) &C124,'Fiche tirage dirigé'!I:I,1,FALSE)),0,1)","v":0},{"$f":"IF(ISERROR(VLOOKUP(A124& CHAR(10) &C124,Cadrage!H:H,1,FALSE)),0,1)","v":0},{"$f":"IF(ISERROR(VLOOKUP(A124 & CHAR(10) &C124,'Tableau final'!V:V,1,FALSE)),0,1)","v":0},{"$f":"IF(ISERROR(VLOOKUP(A124 & CHAR(10) &C124,'Tableau final'!W:W,1,FALSE)),0,1)","v":0},{"$f":"IF(ISERROR(VLOOKUP(A124 & CHAR(10) &C124,'Tableau final'!X:X,1,FALSE)),0,1)","v":0},{"$f":"IF(ISERROR(VLOOKUP(A124 & CHAR(10) &C124,'Tableau final'!Y:Y,1,FALSE)),0,1)","v":0},{"$f":"IF(ISERROR(VLOOKUP(A124 & CHAR(10) &C124,'Tableau final'!Z:Z,1,FALSE)),0,1)","v":0},{"$f":"IF('Tableau final'!$A$1<>\"\",IF('Tableau final'!$B$5=\"Qualifiés\",IF(ISERROR(VLOOKUP(A124 & CHAR(10) &C124,'Tableau final'!C:F,1,FALSE)),\"\",IF(AND(VLOOKUP(A124 & CHAR(10) &C124,'Tableau final'!C:F,3,FALSE)<>\"\",VLOOKUP(A124 & CHAR(10) &C124,'Tableau final'!C:F,4,FALSE)=\"x\"),1,\"\")),IF('Tableau final'!$G$5=\"Qualifiés\",IF(ISERROR(VLOOKUP(A124 & CHAR(10) &C124,'Tableau final'!H:K,1,FALSE)),\"\",IF(AND(VLOOKUP(A124 & CHAR(10) &C124,'Tableau final'!H:K,3,FALSE)<>\"\",VLOOKUP(A124 & CHAR(10) &C124,'Tableau final'!H:K,4,FALSE)=\"x\"),1,\"\")),IF('Tableau final'!$L$5=\"Qualifiés\",IF(ISERROR(VLOOKUP(A124 & CHAR(10) &C124,'Tableau final'!M:P,1,FALSE)),\"\",IF(AND(VLOOKUP(A124 & CHAR(10) &C124,'Tableau final'!M:P,3,FALSE)<>\"\",VLOOKUP(A124 & CHAR(10) &C124,'Tableau final'!M:P,4,FALSE)=\"x\"),1,\"\")),\"\"))),\"\")","v":""},"0",{"$f":"IF(ISERROR(VLOOKUP(AI124,Tirage!A:J,1,FALSE)),\"\",IF(VLOOKUP(AI124,Tirage!A:J,1,FALSE)=\"Office \",3,4))","v":""},{"$f":"IF(AJ124=\"0\",4,IF(AJ124=1,3,IF(AJ124=2,IF(OFFSET('Fiche score'!$A$2,VLOOKUP(RIGHT(AI124,2),Feuil1!A:C,2,FALSE),VLOOKUP(RIGHT(AI124,2),Feuil1!A:C,3,FALSE))=A124 & CHAR(10) & C124,1,2),\"\")))","v":""}]
[null,null,null,null,{"$f":"IF(ISERROR(VLOOKUP(C125,AS!$A:$H,7,FALSE)),\"\",VLOOKUP(C125,AS!$A:$H,7,FALSE))","v":""},{"$f":"IF(ISERROR(VLOOKUP(C125,AS!$A:$H,8,FALSE)),\"\",VLOOKUP(C125,AS!$A:$H,8,FALSE))","v":""},null,null,null,null,{"$f":"IF(ISERROR(VLOOKUP(I125,AS!$A:$H,7,FALSE)),\"\",VLOOKUP(I125,AS!$A:$H,7,FALSE))","v":""},{"$f":"IF(ISERROR(VLOOKUP(I125,AS!$A:$H,8,FALSE)),\"\",VLOOKUP(I125,AS!$A:$H,8,FALSE))","v":""},null,null,null,null,{"$f":"IF(ISERROR(VLOOKUP(O125,AS!$A:$H,7,FALSE)),\"\",VLOOKUP(O125,AS!$A:$H,7,FALSE))","v":""},{"$f":"IF(ISERROR(VLOOKUP(O125,AS!$A:$H,8,FALSE)),\"\",VLOOKUP(O125,AS!$A:$H,8,FALSE))","v":""},null,null,null,null,{"$f":"IF(ISERROR(VLOOKUP(U125,AS!$A:$H,7,FALSE)),\"\",VLOOKUP(U125,AS!$A:$H,7,FALSE))","v":""},{"$f":"IF(ISERROR(VLOOKUP(U125,AS!$A:$H,8,FALSE)),\"\",VLOOKUP(U125,AS!$A:$H,8,FALSE))","v":""},null,null,null,null,{"$f":"IF(ISERROR(VLOOKUP(AA125,AS!$A:$H,7,FALSE)),\"\",VLOOKUP(AA125,AS!$A:$H,7,FALSE))","v":""},{"$f":"IF(ISERROR(VLOOKUP(AA125,AS!$A:$H,8,FALSE)),\"\",VLOOKUP(AA125,AS!$A:$H,8,FALSE))","v":""},null,null,null,"",null,{"$f":"IF(AI125=\"\",\"\",IF(OFFSET('Fiche score'!$A$2,VLOOKUP(RIGHT(AI125,2),Feuil1!A:C,2,FALSE),VLOOKUP(RIGHT(AI125,2),Feuil1!A:C,3,FALSE))=A125 & CHAR(10) & C125,2,IF(OFFSET('Fiche score'!$A$2,VLOOKUP(RIGHT(AI125,2),Feuil1!A:C,2,FALSE)+1,VLOOKUP(RIGHT(AI125,2),Feuil1!A:C,3,FALSE))=A125 & CHAR(10) & C125,2,IF(OFFSET('Fiche score'!$A$2,VLOOKUP(RIGHT(AI125,2),Feuil1!A:C,2,FALSE)-1,VLOOKUP(RIGHT(AI125,2),Feuil1!A:C,3,FALSE))=A125 & CHAR(10) & C125,1,IF(OFFSET('Fiche score'!$A$2,VLOOKUP(RIGHT(AI125,2),Feuil1!A:C,2,FALSE)-2,VLOOKUP(RIGHT(AI125,2),Feuil1!A:C,3,FALSE))=A125 & CHAR(10) & C125,1,\"0\")))))","v":""},{"$f":"IF(ISERROR(VLOOKUP(A125 & CHAR(10) &C125,'Fiche tirage dirigé'!I:I,1,FALSE)),0,1)","v":0},{"$f":"IF(ISERROR(VLOOKUP(A125& CHAR(10) &C125,Cadrage!H:H,1,FALSE)),0,1)","v":0},{"$f":"IF(ISERROR(VLOOKUP(A125 & CHAR(10) &C125,'Tableau final'!V:V,1,FALSE)),0,1)","v":0},{"$f":"IF(ISERROR(VLOOKUP(A125 & CHAR(10) &C125,'Tableau final'!W:W,1,FALSE)),0,1)","v":0},{"$f":"IF(ISERROR(VLOOKUP(A125 & CHAR(10) &C125,'Tableau final'!X:X,1,FALSE)),0,1)","v":0},{"$f":"IF(ISERROR(VLOOKUP(A125 & CHAR(10) &C125,'Tableau final'!Y:Y,1,FALSE)),0,1)","v":0},{"$f":"IF(ISERROR(VLOOKUP(A125 & CHAR(10) &C125,'Tableau final'!Z:Z,1,FALSE)),0,1)","v":0},{"$f":"IF('Tableau final'!$A$1<>\"\",IF('Tableau final'!$B$5=\"Qualifiés\",IF(ISERROR(VLOOKUP(A125 & CHAR(10) &C125,'Tableau final'!C:F,1,FALSE)),\"\",IF(AND(VLOOKUP(A125 & CHAR(10) &C125,'Tableau final'!C:F,3,FALSE)<>\"\",VLOOKUP(A125 & CHAR(10) &C125,'Tableau final'!C:F,4,FALSE)=\"x\"),1,\"\")),IF('Tableau final'!$G$5=\"Qualifiés\",IF(ISERROR(VLOOKUP(A125 & CHAR(10) &C125,'Tableau final'!H:K,1,FALSE)),\"\",IF(AND(VLOOKUP(A125 & CHAR(10) &C125,'Tableau final'!H:K,3,FALSE)<>\"\",VLOOKUP(A125 & CHAR(10) &C125,'Tableau final'!H:K,4,FALSE)=\"x\"),1,\"\")),IF('Tableau final'!$L$5=\"Qualifiés\",IF(ISERROR(VLOOKUP(A125 & CHAR(10) &C125,'Tableau final'!M:P,1,FALSE)),\"\",IF(AND(VLOOKUP(A125 & CHAR(10) &C125,'Tableau final'!M:P,3,FALSE)<>\"\",VLOOKUP(A125 & CHAR(10) &C125,'Tableau final'!M:P,4,FALSE)=\"x\"),1,\"\")),\"\"))),\"\")","v":""},"0",{"$f":"IF(ISERROR(VLOOKUP(AI125,Tirage!A:J,1,FALSE)),\"\",IF(VLOOKUP(AI125,Tirage!A:J,1,FALSE)=\"Office \",3,4))","v":""},{"$f":"IF(AJ125=\"0\",4,IF(AJ125=1,3,IF(AJ125=2,IF(OFFSET('Fiche score'!$A$2,VLOOKUP(RIGHT(AI125,2),Feuil1!A:C,2,FALSE),VLOOKUP(RIGHT(AI125,2),Feuil1!A:C,3,FALSE))=A125 & CHAR(10) & C125,1,2),\"\")))","v":""}]
[null,null,null,null,{"$f":"IF(ISERROR(VLOOKUP(C126,AS!$A:$H,7,FALSE)),\"\",VLOOKUP(C126,AS!$A:$H,7,FALSE))","v":""},{"$f":"IF(ISERROR(VLOOKUP(C126,AS!$A:$H,8,FALSE)),\"\",VLOOKUP(C126,AS!$A:$H,8,FALSE))","v":""},null,null,null,null,{"$f":"IF(ISERROR(VLOOKUP(I126,AS!$A:$H,7,FALSE)),\"\",VLOOKUP(I126,AS!$A:$H,7,FALSE))","v":""},{"$f":"IF(ISERROR(VLOOKUP(I126,AS!$A:$H,8,FALSE)),\"\",VLOOKUP(I126,AS!$A:$H,8,FALSE))","v":""},null,null,null,null,{"$f":"IF(ISERROR(VLOOKUP(O126,AS!$A:$H,7,FALSE)),\"\",VLOOKUP(O126,AS!$A:$H,7,FALSE))","v":""},{"$f":"IF(ISERROR(VLOOKUP(O126,AS!$A:$H,8,FALSE)),\"\",VLOOKUP(O126,AS!$A:$H,8,FALSE))","v":""},null,null,null,null,{"$f":"IF(ISERROR(VLOOKUP(U126,AS!$A:$H,7,FALSE)),\"\",VLOOKUP(U126,AS!$A:$H,7,FALSE))","v":""},{"$f":"IF(ISERROR(VLOOKUP(U126,AS!$A:$H,8,FALSE)),\"\",VLOOKUP(U126,AS!$A:$H,8,FALSE))","v":""},null,null,null,null,{"$f":"IF(ISERROR(VLOOKUP(AA126,AS!$A:$H,7,FALSE)),\"\",VLOOKUP(AA126,AS!$A:$H,7,FALSE))","v":""},{"$f":"IF(ISERROR(VLOOKUP(AA126,AS!$A:$H,8,FALSE)),\"\",VLOOKUP(AA126,AS!$A:$H,8,FALSE))","v":""},null,null,null,"",null,{"$f":"IF(AI126=\"\",\"\",IF(OFFSET('Fiche score'!$A$2,VLOOKUP(RIGHT(AI126,2),Feuil1!A:C,2,FALSE),VLOOKUP(RIGHT(AI126,2),Feuil1!A:C,3,FALSE))=A126 & CHAR(10) & C126,2,IF(OFFSET('Fiche score'!$A$2,VLOOKUP(RIGHT(AI126,2),Feuil1!A:C,2,FALSE)+1,VLOOKUP(RIGHT(AI126,2),Feuil1!A:C,3,FALSE))=A126 & CHAR(10) & C126,2,IF(OFFSET('Fiche score'!$A$2,VLOOKUP(RIGHT(AI126,2),Feuil1!A:C,2,FALSE)-1,VLOOKUP(RIGHT(AI126,2),Feuil1!A:C,3,FALSE))=A126 & CHAR(10) & C126,1,IF(OFFSET('Fiche score'!$A$2,VLOOKUP(RIGHT(AI126,2),Feuil1!A:C,2,FALSE)-2,VLOOKUP(RIGHT(AI126,2),Feuil1!A:C,3,FALSE))=A126 & CHAR(10) & C126,1,\"0\")))))","v":""},{"$f":"IF(ISERROR(VLOOKUP(A126 & CHAR(10) &C126,'Fiche tirage dirigé'!I:I,1,FALSE)),0,1)","v":0},{"$f":"IF(ISERROR(VLOOKUP(A126& CHAR(10) &C126,Cadrage!H:H,1,FALSE)),0,1)","v":0},{"$f":"IF(ISERROR(VLOOKUP(A126 & CHAR(10) &C126,'Tableau final'!V:V,1,FALSE)),0,1)","v":0},{"$f":"IF(ISERROR(VLOOKUP(A126 & CHAR(10) &C126,'Tableau final'!W:W,1,FALSE)),0,1)","v":0},{"$f":"IF(ISERROR(VLOOKUP(A126 & CHAR(10) &C126,'Tableau final'!X:X,1,FALSE)),0,1)","v":0},{"$f":"IF(ISERROR(VLOOKUP(A126 & CHAR(10) &C126,'Tableau final'!Y:Y,1,FALSE)),0,1)","v":0},{"$f":"IF(ISERROR(VLOOKUP(A126 & CHAR(10) &C126,'Tableau final'!Z:Z,1,FALSE)),0,1)","v":0},{"$f":"IF('Tableau final'!$A$1<>\"\",IF('Tableau final'!$B$5=\"Qualifiés\",IF(ISERROR(VLOOKUP(A126 & CHAR(10) &C126,'Tableau final'!C:F,1,FALSE)),\"\",IF(AND(VLOOKUP(A126 & CHAR(10) &C126,'Tableau final'!C:F,3,FALSE)<>\"\",VLOOKUP(A126 & CHAR(10) &C126,'Tableau final'!C:F,4,FALSE)=\"x\"),1,\"\")),IF('Tableau final'!$G$5=\"Qualifiés\",IF(ISERROR(VLOOKUP(A126 & CHAR(10) &C126,'Tableau final'!H:K,1,FALSE)),\"\",IF(AND(VLOOKUP(A126 & CHAR(10) &C126,'Tableau final'!H:K,3,FALSE)<>\"\",VLOOKUP(A126 & CHAR(10) &C126,'Tableau final'!H:K,4,FALSE)=\"x\"),1,\"\")),IF('Tableau final'!$L$5=\"Qualifiés\",IF(ISERROR(VLOOKUP(A126 & CHAR(10) &C126,'Tableau final'!M:P,1,FALSE)),\"\",IF(AND(VLOOKUP(A126 & CHAR(10) &C126,'Tableau final'!M:P,3,FALSE)<>\"\",VLOOKUP(A126 & CHAR(10) &C126,'Tableau final'!M:P,4,FALSE)=\"x\"),1,\"\")),\"\"))),\"\")","v":""},"0",{"$f":"IF(ISERROR(VLOOKUP(AI126,Tirage!A:J,1,FALSE)),\"\",IF(VLOOKUP(AI126,Tirage!A:J,1,FALSE)=\"Office \",3,4))","v":""},{"$f":"IF(AJ126=\"0\",4,IF(AJ126=1,3,IF(AJ126=2,IF(OFFSET('Fiche score'!$A$2,VLOOKUP(RIGHT(AI126,2),Feuil1!A:C,2,FALSE),VLOOKUP(RIGHT(AI126,2),Feuil1!A:C,3,FALSE))=A126 & CHAR(10) & C126,1,2),\"\")))","v":""}]
[null,null,null,null,{"$f":"IF(ISERROR(VLOOKUP(C127,AS!$A:$H,7,FALSE)),\"\",VLOOKUP(C127,AS!$A:$H,7,FALSE))","v":""},{"$f":"IF(ISERROR(VLOOKUP(C127,AS!$A:$H,8,FALSE)),\"\",VLOOKUP(C127,AS!$A:$H,8,FALSE))","v":""},null,null,null,null,{"$f":"IF(ISERROR(VLOOKUP(I127,AS!$A:$H,7,FALSE)),\"\",VLOOKUP(I127,AS!$A:$H,7,FALSE))","v":""},{"$f":"IF(ISERROR(VLOOKUP(I127,AS!$A:$H,8,FALSE)),\"\",VLOOKUP(I127,AS!$A:$H,8,FALSE))","v":""},null,null,null,null,{"$f":"IF(ISERROR(VLOOKUP(O127,AS!$A:$H,7,FALSE)),\"\",VLOOKUP(O127,AS!$A:$H,7,FALSE))","v":""},{"$f":"IF(ISERROR(VLOOKUP(O127,AS!$A:$H,8,FALSE)),\"\",VLOOKUP(O127,AS!$A:$H,8,FALSE))","v":""},null,null,null,null,{"$f":"IF(ISERROR(VLOOKUP(U127,AS!$A:$H,7,FALSE)),\"\",VLOOKUP(U127,AS!$A:$H,7,FALSE))","v":""},{"$f":"IF(ISERROR(VLOOKUP(U127,AS!$A:$H,8,FALSE)),\"\",VLOOKUP(U127,AS!$A:$H,8,FALSE))","v":""},null,null,null,null,{"$f":"IF(ISERROR(VLOOKUP(AA127,AS!$A:$H,7,FALSE)),\"\",VLOOKUP(AA127,AS!$A:$H,7,FALSE))","v":""},{"$f":"IF(ISERROR(VLOOKUP(AA127,AS!$A:$H,8,FALSE)),\"\",VLOOKUP(AA127,AS!$A:$H,8,FALSE))","v":""},null,null,null,"",null,{"$f":"IF(AI127=\"\",\"\",IF(OFFSET('Fiche score'!$A$2,VLOOKUP(RIGHT(AI127,2),Feuil1!A:C,2,FALSE),VLOOKUP(RIGHT(AI127,2),Feuil1!A:C,3,FALSE))=A127 & CHAR(10) & C127,2,IF(OFFSET('Fiche score'!$A$2,VLOOKUP(RIGHT(AI127,2),Feuil1!A:C,2,FALSE)+1,VLOOKUP(RIGHT(AI127,2),Feuil1!A:C,3,FALSE))=A127 & CHAR(10) & C127,2,IF(OFFSET('Fiche score'!$A$2,VLOOKUP(RIGHT(AI127,2),Feuil1!A:C,2,FALSE)-1,VLOOKUP(RIGHT(AI127,2),Feuil1!A:C,3,FALSE))=A127 & CHAR(10) & C127,1,IF(OFFSET('Fiche score'!$A$2,VLOOKUP(RIGHT(AI127,2),Feuil1!A:C,2,FALSE)-2,VLOOKUP(RIGHT(AI127,2),Feuil1!A:C,3,FALSE))=A127 & CHAR(10) & C127,1,\"0\")))))","v":""},{"$f":"IF(ISERROR(VLOOKUP(A127 & CHAR(10) &C127,'Fiche tirage dirigé'!I:I,1,FALSE)),0,1)","v":0},{"$f":"IF(ISERROR(VLOOKUP(A127& CHAR(10) &C127,Cadrage!H:H,1,FALSE)),0,1)","v":0},{"$f":"IF(ISERROR(VLOOKUP(A127 & CHAR(10) &C127,'Tableau final'!V:V,1,FALSE)),0,1)","v":0},{"$f":"IF(ISERROR(VLOOKUP(A127 & CHAR(10) &C127,'Tableau final'!W:W,1,FALSE)),0,1)","v":0},{"$f":"IF(ISERROR(VLOOKUP(A127 & CHAR(10) &C127,'Tableau final'!X:X,1,FALSE)),0,1)","v":0},{"$f":"IF(ISERROR(VLOOKUP(A127 & CHAR(10) &C127,'Tableau final'!Y:Y,1,FALSE)),0,1)","v":0},{"$f":"IF(ISERROR(VLOOKUP(A127 & CHAR(10) &C127,'Tableau final'!Z:Z,1,FALSE)),0,1)","v":0},{"$f":"IF('Tableau final'!$A$1<>\"\",IF('Tableau final'!$B$5=\"Qualifiés\",IF(ISERROR(VLOOKUP(A127 & CHAR(10) &C127,'Tableau final'!C:F,1,FALSE)),\"\",IF(AND(VLOOKUP(A127 & CHAR(10) &C127,'Tableau final'!C:F,3,FALSE)<>\"\",VLOOKUP(A127 & CHAR(10) &C127,'Tableau final'!C:F,4,FALSE)=\"x\"),1,\"\")),IF('Tableau final'!$G$5=\"Qualifiés\",IF(ISERROR(VLOOKUP(A127 & CHAR(10) &C127,'Tableau final'!H:K,1,FALSE)),\"\",IF(AND(VLOOKUP(A127 & CHAR(10) &C127,'Tableau final'!H:K,3,FALSE)<>\"\",VLOOKUP(A127 & CHAR(10) &C127,'Tableau final'!H:K,4,FALSE)=\"x\"),1,\"\")),IF('Tableau final'!$L$5=\"Qualifiés\",IF(ISERROR(VLOOKUP(A127 & CHAR(10) &C127,'Tableau final'!M:P,1,FALSE)),\"\",IF(AND(VLOOKUP(A127 & CHAR(10) &C127,'Tableau final'!M:P,3,FALSE)<>\"\",VLOOKUP(A127 & CHAR(10) &C127,'Tableau final'!M:P,4,FALSE)=\"x\"),1,\"\")),\"\"))),\"\")","v":""},"0",{"$f":"IF(ISERROR(VLOOKUP(AI127,Tirage!A:J,1,FALSE)),\"\",IF(VLOOKUP(AI127,Tirage!A:J,1,FALSE)=\"Office \",3,4))","v":""},{"$f":"IF(AJ127=\"0\",4,IF(AJ127=1,3,IF(AJ127=2,IF(OFFSET('Fiche score'!$A$2,VLOOKUP(RIGHT(AI127,2),Feuil1!A:C,2,FALSE),VLOOKUP(RIGHT(AI127,2),Feuil1!A:C,3,FALSE))=A127 & CHAR(10) & C127,1,2),\"\")))","v":""}]
[null,null,null,null,{"$f":"IF(ISERROR(VLOOKUP(C128,AS!$A:$H,7,FALSE)),\"\",VLOOKUP(C128,AS!$A:$H,7,FALSE))","v":""},{"$f":"IF(ISERROR(VLOOKUP(C128,AS!$A:$H,8,FALSE)),\"\",VLOOKUP(C128,AS!$A:$H,8,FALSE))","v":""},null,null,null,null,{"$f":"IF(ISERROR(VLOOKUP(I128,AS!$A:$H,7,FALSE)),\"\",VLOOKUP(I128,AS!$A:$H,7,FALSE))","v":""},{"$f":"IF(ISERROR(VLOOKUP(I128,AS!$A:$H,8,FALSE)),\"\",VLOOKUP(I128,AS!$A:$H,8,FALSE))","v":""},null,null,null,null,{"$f":"IF(ISERROR(VLOOKUP(O128,AS!$A:$H,7,FALSE)),\"\",VLOOKUP(O128,AS!$A:$H,7,FALSE))","v":""},{"$f":"IF(ISERROR(VLOOKUP(O128,AS!$A:$H,8,FALSE)),\"\",VLOOKUP(O128,AS!$A:$H,8,FALSE))","v":""},null,null,null,null,{"$f":"IF(ISERROR(VLOOKUP(U128,AS!$A:$H,7,FALSE)),\"\",VLOOKUP(U128,AS!$A:$H,7,FALSE))","v":""},{"$f":"IF(ISERROR(VLOOKUP(U128,AS!$A:$H,8,FALSE)),\"\",VLOOKUP(U128,AS!$A:$H,8,FALSE))","v":""},null,null,null,null,{"$f":"IF(ISERROR(VLOOKUP(AA128,AS!$A:$H,7,FALSE)),\"\",VLOOKUP(AA128,AS!$A:$H,7,FALSE))","v":""},{"$f":"IF(ISERROR(VLOOKUP(AA128,AS!$A:$H,8,FALSE)),\"\",VLOOKUP(AA128,AS!$A:$H,8,FALSE))","v":""},null,null,null,"",null,{"$f":"IF(AI128=\"\",\"\",IF(OFFSET('Fiche score'!$A$2,VLOOKUP(RIGHT(AI128,2),Feuil1!A:C,2,FALSE),VLOOKUP(RIGHT(AI128,2),Feuil1!A:C,3,FALSE))=A128 & CHAR(10) & C128,2,IF(OFFSET('Fiche score'!$A$2,VLOOKUP(RIGHT(AI128,2),Feuil1!A:C,2,FALSE)+1,VLOOKUP(RIGHT(AI128,2),Feuil1!A:C,3,FALSE))=A128 & CHAR(10) & C128,2,IF(OFFSET('Fiche score'!$A$2,VLOOKUP(RIGHT(AI128,2),Feuil1!A:C,2,FALSE)-1,VLOOKUP(RIGHT(AI128,2),Feuil1!A:C,3,FALSE))=A128 & CHAR(10) & C128,1,IF(OFFSET('Fiche score'!$A$2,VLOOKUP(RIGHT(AI128,2),Feuil1!A:C,2,FALSE)-2,VLOOKUP(RIGHT(AI128,2),Feuil1!A:C,3,FALSE))=A128 & CHAR(10) & C128,1,\"0\")))))","v":""},{"$f":"IF(ISERROR(VLOOKUP(A128 & CHAR(10) &C128,'Fiche tirage dirigé'!I:I,1,FALSE)),0,1)","v":0},{"$f":"IF(ISERROR(VLOOKUP(A128& CHAR(10) &C128,Cadrage!H:H,1,FALSE)),0,1)","v":0},{"$f":"IF(ISERROR(VLOOKUP(A128 & CHAR(10) &C128,'Tableau final'!V:V,1,FALSE)),0,1)","v":0},{"$f":"IF(ISERROR(VLOOKUP(A128 & CHAR(10) &C128,'Tableau final'!W:W,1,FALSE)),0,1)","v":0},{"$f":"IF(ISERROR(VLOOKUP(A128 & CHAR(10) &C128,'Tableau final'!X:X,1,FALSE)),0,1)","v":0},{"$f":"IF(ISERROR(VLOOKUP(A128 & CHAR(10) &C128,'Tableau final'!Y:Y,1,FALSE)),0,1)","v":0},{"$f":"IF(ISERROR(VLOOKUP(A128 & CHAR(10) &C128,'Tableau final'!Z:Z,1,FALSE)),0,1)","v":0},{"$f":"IF('Tableau final'!$A$1<>\"\",IF('Tableau final'!$B$5=\"Qualifiés\",IF(ISERROR(VLOOKUP(A128 & CHAR(10) &C128,'Tableau final'!C:F,1,FALSE)),\"\",IF(AND(VLOOKUP(A128 & CHAR(10) &C128,'Tableau final'!C:F,3,FALSE)<>\"\",VLOOKUP(A128 & CHAR(10) &C128,'Tableau final'!C:F,4,FALSE)=\"x\"),1,\"\")),IF('Tableau final'!$G$5=\"Qualifiés\",IF(ISERROR(VLOOKUP(A128 & CHAR(10) &C128,'Tableau final'!H:K,1,FALSE)),\"\",IF(AND(VLOOKUP(A128 & CHAR(10) &C128,'Tableau final'!H:K,3,FALSE)<>\"\",VLOOKUP(A128 & CHAR(10) &C128,'Tableau final'!H:K,4,FALSE)=\"x\"),1,\"\")),IF('Tableau final'!$L$5=\"Qualifiés\",IF(ISERROR(VLOOKUP(A128 & CHAR(10) &C128,'Tableau final'!M:P,1,FALSE)),\"\",IF(AND(VLOOKUP(A128 & CHAR(10) &C128,'Tableau final'!M:P,3,FALSE)<>\"\",VLOOKUP(A128 & CHAR(10) &C128,'Tableau final'!M:P,4,FALSE)=\"x\"),1,\"\")),\"\"))),\"\")","v":""},"0",{"$f":"IF(ISERROR(VLOOKUP(AI128,Tirage!A:J,1,FALSE)),\"\",IF(VLOOKUP(AI128,Tirage!A:J,1,FALSE)=\"Office \",3,4))","v":""},{"$f":"IF(AJ128=\"0\",4,IF(AJ128=1,3,IF(AJ128=2,IF(OFFSET('Fiche score'!$A$2,VLOOKUP(RIGHT(AI128,2),Feuil1!A:C,2,FALSE),VLOOKUP(RIGHT(AI128,2),Feuil1!A:C,3,FALSE))=A128 & CHAR(10) & C128,1,2),\"\")))","v":""}]
[null,null,null,null,{"$f":"IF(ISERROR(VLOOKUP(C129,AS!$A:$H,7,FALSE)),\"\",VLOOKUP(C129,AS!$A:$H,7,FALSE))","v":""},{"$f":"IF(ISERROR(VLOOKUP(C129,AS!$A:$H,8,FALSE)),\"\",VLOOKUP(C129,AS!$A:$H,8,FALSE))","v":""},null,null,null,null,{"$f":"IF(ISERROR(VLOOKUP(I129,AS!$A:$H,7,FALSE)),\"\",VLOOKUP(I129,AS!$A:$H,7,FALSE))","v":""},{"$f":"IF(ISERROR(VLOOKUP(I129,AS!$A:$H,8,FALSE)),\"\",VLOOKUP(I129,AS!$A:$H,8,FALSE))","v":""},null,null,null,null,{"$f":"IF(ISERROR(VLOOKUP(O129,AS!$A:$H,7,FALSE)),\"\",VLOOKUP(O129,AS!$A:$H,7,FALSE))","v":""},{"$f":"IF(ISERROR(VLOOKUP(O129,AS!$A:$H,8,FALSE)),\"\",VLOOKUP(O129,AS!$A:$H,8,FALSE))","v":""},null,null,null,null,{"$f":"IF(ISERROR(VLOOKUP(U129,AS!$A:$H,7,FALSE)),\"\",VLOOKUP(U129,AS!$A:$H,7,FALSE))","v":""},{"$f":"IF(ISERROR(VLOOKUP(U129,AS!$A:$H,8,FALSE)),\"\",VLOOKUP(U129,AS!$A:$H,8,FALSE))","v":""},null,null,null,null,{"$f":"IF(ISERROR(VLOOKUP(AA129,AS!$A:$H,7,FALSE)),\"\",VLOOKUP(AA129,AS!$A:$H,7,FALSE))","v":""},{"$f":"IF(ISERROR(VLOOKUP(AA129,AS!$A:$H,8,FALSE)),\"\",VLOOKUP(AA129,AS!$A:$H,8,FALSE))","v":""},null,null,null,"",null,{"$f":"IF(AI129=\"\",\"\",IF(OFFSET('Fiche score'!$A$2,VLOOKUP(RIGHT(AI129,2),Feuil1!A:C,2,FALSE),VLOOKUP(RIGHT(AI129,2),Feuil1!A:C,3,FALSE))=A129 & CHAR(10) & C129,2,IF(OFFSET('Fiche score'!$A$2,VLOOKUP(RIGHT(AI129,2),Feuil1!A:C,2,FALSE)+1,VLOOKUP(RIGHT(AI129,2),Feuil1!A:C,3,FALSE))=A129 & CHAR(10) & C129,2,IF(OFFSET('Fiche score'!$A$2,VLOOKUP(RIGHT(AI129,2),Feuil1!A:C,2,FALSE)-1,VLOOKUP(RIGHT(AI129,2),Feuil1!A:C,3,FALSE))=A129 & CHAR(10) & C129,1,IF(OFFSET('Fiche score'!$A$2,VLOOKUP(RIGHT(AI129,2),Feuil1!A:C,2,FALSE)-2,VLOOKUP(RIGHT(AI129,2),Feuil1!A:C,3,FALSE))=A129 & CHAR(10) & C129,1,\"0\")))))","v":""},{"$f":"IF(ISERROR(VLOOKUP(A129 & CHAR(10) &C129,'Fiche tirage dirigé'!I:I,1,FALSE)),0,1)","v":0},{"$f":"IF(ISERROR(VLOOKUP(A129& CHAR(10) &C129,Cadrage!H:H,1,FALSE)),0,1)","v":0},{"$f":"IF(ISERROR(VLOOKUP(A129 & CHAR(10) &C129,'Tableau final'!V:V,1,FALSE)),0,1)","v":0},{"$f":"IF(ISERROR(VLOOKUP(A129 & CHAR(10) &C129,'Tableau final'!W:W,1,FALSE)),0,1)","v":0},{"$f":"IF(ISERROR(VLOOKUP(A129 & CHAR(10) &C129,'Tableau final'!X:X,1,FALSE)),0,1)","v":0},{"$f":"IF(ISERROR(VLOOKUP(A129 & CHAR(10) &C129,'Tableau final'!Y:Y,1,FALSE)),0,1)","v":0},{"$f":"IF(ISERROR(VLOOKUP(A129 & CHAR(10) &C129,'Tableau final'!Z:Z,1,FALSE)),0,1)","v":0},{"$f":"IF('Tableau final'!$A$1<>\"\",IF('Tableau final'!$B$5=\"Qualifiés\",IF(ISERROR(VLOOKUP(A129 & CHAR(10) &C129,'Tableau final'!C:F,1,FALSE)),\"\",IF(AND(VLOOKUP(A129 & CHAR(10) &C129,'Tableau final'!C:F,3,FALSE)<>\"\",VLOOKUP(A129 & CHAR(10) &C129,'Tableau final'!C:F,4,FALSE)=\"x\"),1,\"\")),IF('Tableau final'!$G$5=\"Qualifiés\",IF(ISERROR(VLOOKUP(A129 & CHAR(10) &C129,'Tableau final'!H:K,1,FALSE)),\"\",IF(AND(VLOOKUP(A129 & CHAR(10) &C129,'Tableau final'!H:K,3,FALSE)<>\"\",VLOOKUP(A129 & CHAR(10) &C129,'Tableau final'!H:K,4,FALSE)=\"x\"),1,\"\")),IF('Tableau final'!$L$5=\"Qualifiés\",IF(ISERROR(VLOOKUP(A129 & CHAR(10) &C129,'Tableau final'!M:P,1,FALSE)),\"\",IF(AND(VLOOKUP(A129 & CHAR(10) &C129,'Tableau final'!M:P,3,FALSE)<>\"\",VLOOKUP(A129 & CHAR(10) &C129,'Tableau final'!M:P,4,FALSE)=\"x\"),1,\"\")),\"\"))),\"\")","v":""},"0",{"$f":"IF(ISERROR(VLOOKUP(AI129,Tirage!A:J,1,FALSE)),\"\",IF(VLOOKUP(AI129,Tirage!A:J,1,FALSE)=\"Office \",3,4))","v":""},{"$f":"IF(AJ129=\"0\",4,IF(AJ129=1,3,IF(AJ129=2,IF(OFFSET('Fiche score'!$A$2,VLOOKUP(RIGHT(AI129,2),Feuil1!A:C,2,FALSE),VLOOKUP(RIGHT(AI129,2),Feuil1!A:C,3,FALSE))=A129 & CHAR(10) & C129,1,2),\"\")))","v":""}]
[null,null,null,null,{"$f":"IF(ISERROR(VLOOKUP(C130,AS!$A:$H,7,FALSE)),\"\",VLOOKUP(C130,AS!$A:$H,7,FALSE))","v":""},{"$f":"IF(ISERROR(VLOOKUP(C130,AS!$A:$H,8,FALSE)),\"\",VLOOKUP(C130,AS!$A:$H,8,FALSE))","v":""},null,null,null,null,{"$f":"IF(ISERROR(VLOOKUP(I130,AS!$A:$H,7,FALSE)),\"\",VLOOKUP(I130,AS!$A:$H,7,FALSE))","v":""},{"$f":"IF(ISERROR(VLOOKUP(I130,AS!$A:$H,8,FALSE)),\"\",VLOOKUP(I130,AS!$A:$H,8,FALSE))","v":""},null,null,null,null,{"$f":"IF(ISERROR(VLOOKUP(O130,AS!$A:$H,7,FALSE)),\"\",VLOOKUP(O130,AS!$A:$H,7,FALSE))","v":""},{"$f":"IF(ISERROR(VLOOKUP(O130,AS!$A:$H,8,FALSE)),\"\",VLOOKUP(O130,AS!$A:$H,8,FALSE))","v":""},null,null,null,null,{"$f":"IF(ISERROR(VLOOKUP(U130,AS!$A:$H,7,FALSE)),\"\",VLOOKUP(U130,AS!$A:$H,7,FALSE))","v":""},{"$f":"IF(ISERROR(VLOOKUP(U130,AS!$A:$H,8,FALSE)),\"\",VLOOKUP(U130,AS!$A:$H,8,FALSE))","v":""},null,null,null,null,{"$f":"IF(ISERROR(VLOOKUP(AA130,AS!$A:$H,7,FALSE)),\"\",VLOOKUP(AA130,AS!$A:$H,7,FALSE))","v":""},{"$f":"IF(ISERROR(VLOOKUP(AA130,AS!$A:$H,8,FALSE)),\"\",VLOOKUP(AA130,AS!$A:$H,8,FALSE))","v":""},null,null,null,"",null,{"$f":"IF(AI130=\"\",\"\",IF(OFFSET('Fiche score'!$A$2,VLOOKUP(RIGHT(AI130,2),Feuil1!A:C,2,FALSE),VLOOKUP(RIGHT(AI130,2),Feuil1!A:C,3,FALSE))=A130 & CHAR(10) & C130,2,IF(OFFSET('Fiche score'!$A$2,VLOOKUP(RIGHT(AI130,2),Feuil1!A:C,2,FALSE)+1,VLOOKUP(RIGHT(AI130,2),Feuil1!A:C,3,FALSE))=A130 & CHAR(10) & C130,2,IF(OFFSET('Fiche score'!$A$2,VLOOKUP(RIGHT(AI130,2),Feuil1!A:C,2,FALSE)-1,VLOOKUP(RIGHT(AI130,2),Feuil1!A:C,3,FALSE))=A130 & CHAR(10) & C130,1,IF(OFFSET('Fiche score'!$A$2,VLOOKUP(RIGHT(AI130,2),Feuil1!A:C,2,FALSE)-2,VLOOKUP(RIGHT(AI130,2),Feuil1!A:C,3,FALSE))=A130 & CHAR(10) & C130,1,\"0\")))))","v":""},{"$f":"IF(ISERROR(VLOOKUP(A130 & CHAR(10) &C130,'Fiche tirage dirigé'!I:I,1,FALSE)),0,1)","v":0},{"$f":"IF(ISERROR(VLOOKUP(A130& CHAR(10) &C130,Cadrage!H:H,1,FALSE)),0,1)","v":0},{"$f":"IF(ISERROR(VLOOKUP(A130 & CHAR(10) &C130,'Tableau final'!V:V,1,FALSE)),0,1)","v":0},{"$f":"IF(ISERROR(VLOOKUP(A130 & CHAR(10) &C130,'Tableau final'!W:W,1,FALSE)),0,1)","v":0},{"$f":"IF(ISERROR(VLOOKUP(A130 & CHAR(10) &C130,'Tableau final'!X:X,1,FALSE)),0,1)","v":0},{"$f":"IF(ISERROR(VLOOKUP(A130 & CHAR(10) &C130,'Tableau final'!Y:Y,1,FALSE)),0,1)","v":0},{"$f":"IF(ISERROR(VLOOKUP(A130 & CHAR(10) &C130,'Tableau final'!Z:Z,1,FALSE)),0,1)","v":0},{"$f":"IF('Tableau final'!$A$1<>\"\",IF('Tableau final'!$B$5=\"Qualifiés\",IF(ISERROR(VLOOKUP(A130 & CHAR(10) &C130,'Tableau final'!C:F,1,FALSE)),\"\",IF(AND(VLOOKUP(A130 & CHAR(10) &C130,'Tableau final'!C:F,3,FALSE)<>\"\",VLOOKUP(A130 & CHAR(10) &C130,'Tableau final'!C:F,4,FALSE)=\"x\"),1,\"\")),IF('Tableau final'!$G$5=\"Qualifiés\",IF(ISERROR(VLOOKUP(A130 & CHAR(10) &C130,'Tableau final'!H:K,1,FALSE)),\"\",IF(AND(VLOOKUP(A130 & CHAR(10) &C130,'Tableau final'!H:K,3,FALSE)<>\"\",VLOOKUP(A130 & CHAR(10) &C130,'Tableau final'!H:K,4,FALSE)=\"x\"),1,\"\")),IF('Tableau final'!$L$5=\"Qualifiés\",IF(ISERROR(VLOOKUP(A130 & CHAR(10) &C130,'Tableau final'!M:P,1,FALSE)),\"\",IF(AND(VLOOKUP(A130 & CHAR(10) &C130,'Tableau final'!M:P,3,FALSE)<>\"\",VLOOKUP(A130 & CHAR(10) &C130,'Tableau final'!M:P,4,FALSE)=\"x\"),1,\"\")),\"\"))),\"\")","v":""},"0",{"$f":"IF(ISERROR(VLOOKUP(AI130,Tirage!A:J,1,FALSE)),\"\",IF(VLOOKUP(AI130,Tirage!A:J,1,FALSE)=\"Office \",3,4))","v":""},{"$f":"IF(AJ130=\"0\",4,IF(AJ130=1,3,IF(AJ130=2,IF(OFFSET('Fiche score'!$A$2,VLOOKUP(RIGHT(AI130,2),Feuil1!A:C,2,FALSE),VLOOKUP(RIGHT(AI130,2),Feuil1!A:C,3,FALSE))=A130 & CHAR(10) & C130,1,2),\"\")))","v":""}]
[null,null,null,null,{"$f":"IF(ISERROR(VLOOKUP(C131,AS!$A:$H,7,FALSE)),\"\",VLOOKUP(C131,AS!$A:$H,7,FALSE))","v":""},{"$f":"IF(ISERROR(VLOOKUP(C131,AS!$A:$H,8,FALSE)),\"\",VLOOKUP(C131,AS!$A:$H,8,FALSE))","v":""},null,null,null,null,{"$f":"IF(ISERROR(VLOOKUP(I131,AS!$A:$H,7,FALSE)),\"\",VLOOKUP(I131,AS!$A:$H,7,FALSE))","v":""},{"$f":"IF(ISERROR(VLOOKUP(I131,AS!$A:$H,8,FALSE)),\"\",VLOOKUP(I131,AS!$A:$H,8,FALSE))","v":""},null,null,null,null,{"$f":"IF(ISERROR(VLOOKUP(O131,AS!$A:$H,7,FALSE)),\"\",VLOOKUP(O131,AS!$A:$H,7,FALSE))","v":""},{"$f":"IF(ISERROR(VLOOKUP(O131,AS!$A:$H,8,FALSE)),\"\",VLOOKUP(O131,AS!$A:$H,8,FALSE))","v":""},null,null,null,null,{"$f":"IF(ISERROR(VLOOKUP(U131,AS!$A:$H,7,FALSE)),\"\",VLOOKUP(U131,AS!$A:$H,7,FALSE))","v":""},{"$f":"IF(ISERROR(VLOOKUP(U131,AS!$A:$H,8,FALSE)),\"\",VLOOKUP(U131,AS!$A:$H,8,FALSE))","v":""},null,null,null,null,{"$f":"IF(ISERROR(VLOOKUP(AA131,AS!$A:$H,7,FALSE)),\"\",VLOOKUP(AA131,AS!$A:$H,7,FALSE))","v":""},{"$f":"IF(ISERROR(VLOOKUP(AA131,AS!$A:$H,8,FALSE)),\"\",VLOOKUP(AA131,AS!$A:$H,8,FALSE))","v":""},null,null,null,{"$f":"A131&E131&F131","v":""},null,{"$f":"IF(AI131=\"\",\"\",IF(OFFSET('Fiche score'!$A$2,VLOOKUP(RIGHT(AI131,2),Feuil1!A:C,2,FALSE),VLOOKUP(RIGHT(AI131,2),Feuil1!A:C,3,FALSE))=A131 & CHAR(10) & C131,2,IF(OFFSET('Fiche score'!$A$2,VLOOKUP(RIGHT(AI131,2),Feuil1!A:C,2,FALSE)+1,VLOOKUP(RIGHT(AI131,2),Feuil1!A:C,3,FALSE))=A131 & CHAR(10) & C131,2,IF(OFFSET('Fiche score'!$A$2,VLOOKUP(RIGHT(AI131,2),Feuil1!A:C,2,FALSE)-1,VLOOKUP(RIGHT(AI131,2),Feuil1!A:C,3,FALSE))=A131 & CHAR(10) & C131,1,IF(OFFSET('Fiche score'!$A$2,VLOOKUP(RIGHT(AI131,2),Feuil1!A:C,2,FALSE)-2,VLOOKUP(RIGHT(AI131,2),Feuil1!A:C,3,FALSE))=A131 & CHAR(10) & C131,1,\"0\")))))","v":""},{"$f":"IF(ISERROR(VLOOKUP(A131 & CHAR(10) &C131,'Fiche tirage dirigé'!I:I,1,FALSE)),0,1)","v":0},{"$f":"IF(ISERROR(VLOOKUP(A131& CHAR(10) &C131,Cadrage!H:H,1,FALSE)),0,1)","v":0},{"$f":"IF(ISERROR(VLOOKUP(A131 & CHAR(10) &C131,'Tableau final'!V:V,1,FALSE)),0,1)","v":0},{"$f":"IF(ISERROR(VLOOKUP(A131 & CHAR(10) &C131,'Tableau final'!W:W,1,FALSE)),0,1)","v":0},{"$f":"IF(ISERROR(VLOOKUP(A131 & CHAR(10) &C131,'Tableau final'!X:X,1,FALSE)),0,1)","v":0},{"$f":"IF(ISERROR(VLOOKUP(A131 & CHAR(10) &C131,'Tableau final'!Y:Y,1,FALSE)),0,1)","v":0},{"$f":"IF(ISERROR(VLOOKUP(A131 & CHAR(10) &C131,'Tableau final'!Z:Z,1,FALSE)),0,1)","v":0},{"$f":"IF('Tableau final'!$A$1<>\"\",IF('Tableau final'!$B$5=\"Qualifiés\",IF(ISERROR(VLOOKUP(A131 & CHAR(10) &C131,'Tableau final'!C:F,1,FALSE)),\"\",IF(AND(VLOOKUP(A131 & CHAR(10) &C131,'Tableau final'!C:F,3,FALSE)<>\"\",VLOOKUP(A131 & CHAR(10) &C131,'Tableau final'!C:F,4,FALSE)=\"x\"),1,\"\")),IF('Tableau final'!$G$5=\"Qualifiés\",IF(ISERROR(VLOOKUP(A131 & CHAR(10) &C131,'Tableau final'!H:K,1,FALSE)),\"\",IF(AND(VLOOKUP(A131 & CHAR(10) &C131,'Tableau final'!H:K,3,FALSE)<>\"\",VLOOKUP(A131 & CHAR(10) &C131,'Tableau final'!H:K,4,FALSE)=\"x\"),1,\"\")),IF('Tableau final'!$L$5=\"Qualifiés\",IF(ISERROR(VLOOKUP(A131 & CHAR(10) &C131,'Tableau final'!M:P,1,FALSE)),\"\",IF(AND(VLOOKUP(A131 & CHAR(10) &C131,'Tableau final'!M:P,3,FALSE)<>\"\",VLOOKUP(A131 & CHAR(10) &C131,'Tableau final'!M:P,4,FALSE)=\"x\"),1,\"\")),\"\"))),\"\")","v":""},{"$f":"IF(SUM(AK131:AR131)=0,\"0\",SUM(AK131:AR131))","v":"0"},{"$f":"IF(ISERROR(VLOOKUP(AI131,Tirage!A:J,1,FALSE)),\"\",IF(VLOOKUP(AI131,Tirage!A:J,1,FALSE)=\"Office \",3,4))","v":""},{"$f":"IF(AJ131=\"0\",4,IF(AJ131=1,3,IF(AJ131=2,IF(OFFSET('Fiche score'!$A$2,VLOOKUP(RIGHT(AI131,2),Feuil1!A:C,2,FALSE),VLOOKUP(RIGHT(AI131,2),Feuil1!A:C,3,FALSE))=A131 & CHAR(10) & C131,1,2),\"\")))","v":""}]
[null,null,null,null,{"$f":"IF(ISERROR(VLOOKUP(C132,AS!$A:$H,7,FALSE)),\"\",VLOOKUP(C132,AS!$A:$H,7,FALSE))","v":""},{"$f":"IF(ISERROR(VLOOKUP(C132,AS!$A:$H,8,FALSE)),\"\",VLOOKUP(C132,AS!$A:$H,8,FALSE))","v":""},null,null,null,null,{"$f":"IF(ISERROR(VLOOKUP(I132,AS!$A:$H,7,FALSE)),\"\",VLOOKUP(I132,AS!$A:$H,7,FALSE))","v":""},{"$f":"IF(ISERROR(VLOOKUP(I132,AS!$A:$H,8,FALSE)),\"\",VLOOKUP(I132,AS!$A:$H,8,FALSE))","v":""},null,null,null,null,{"$f":"IF(ISERROR(VLOOKUP(O132,AS!$A:$H,7,FALSE)),\"\",VLOOKUP(O132,AS!$A:$H,7,FALSE))","v":""},{"$f":"IF(ISERROR(VLOOKUP(O132,AS!$A:$H,8,FALSE)),\"\",VLOOKUP(O132,AS!$A:$H,8,FALSE))","v":""},null,null,null,null,{"$f":"IF(ISERROR(VLOOKUP(U132,AS!$A:$H,7,FALSE)),\"\",VLOOKUP(U132,AS!$A:$H,7,FALSE))","v":""},{"$f":"IF(ISERROR(VLOOKUP(U132,AS!$A:$H,8,FALSE)),\"\",VLOOKUP(U132,AS!$A:$H,8,FALSE))","v":""},null,null,null,null,{"$f":"IF(ISERROR(VLOOKUP(AA132,AS!$A:$H,7,FALSE)),\"\",VLOOKUP(AA132,AS!$A:$H,7,FALSE))","v":""},{"$f":"IF(ISERROR(VLOOKUP(AA132,AS!$A:$H,8,FALSE)),\"\",VLOOKUP(AA132,AS!$A:$H,8,FALSE))","v":""},null,null,null,"",null,{"$f":"IF(AI132=\"\",\"\",IF(OFFSET('Fiche score'!$A$2,VLOOKUP(RIGHT(AI132,2),Feuil1!A:C,2,FALSE),VLOOKUP(RIGHT(AI132,2),Feuil1!A:C,3,FALSE))=A132 & CHAR(10) & C132,2,IF(OFFSET('Fiche score'!$A$2,VLOOKUP(RIGHT(AI132,2),Feuil1!A:C,2,FALSE)+1,VLOOKUP(RIGHT(AI132,2),Feuil1!A:C,3,FALSE))=A132 & CHAR(10) & C132,2,IF(OFFSET('Fiche score'!$A$2,VLOOKUP(RIGHT(AI132,2),Feuil1!A:C,2,FALSE)-1,VLOOKUP(RIGHT(AI132,2),Feuil1!A:C,3,FALSE))=A132 & CHAR(10) & C132,1,IF(OFFSET('Fiche score'!$A$2,VLOOKUP(RIGHT(AI132,2),Feuil1!A:C,2,FALSE)-2,VLOOKUP(RIGHT(AI132,2),Feuil1!A:C,3,FALSE))=A132 & CHAR(10) & C132,1,\"0\")))))","v":""},{"$f":"IF(ISERROR(VLOOKUP(A132 & CHAR(10) &C132,'Fiche tirage dirigé'!I:I,1,FALSE)),0,1)","v":0},{"$f":"IF(ISERROR(VLOOKUP(A132& CHAR(10) &C132,Cadrage!H:H,1,FALSE)),0,1)","v":0},{"$f":"IF(ISERROR(VLOOKUP(A132 & CHAR(10) &C132,'Tableau final'!V:V,1,FALSE)),0,1)","v":0},{"$f":"IF(ISERROR(VLOOKUP(A132 & CHAR(10) &C132,'Tableau final'!W:W,1,FALSE)),0,1)","v":0},{"$f":"IF(ISERROR(VLOOKUP(A132 & CHAR(10) &C132,'Tableau final'!X:X,1,FALSE)),0,1)","v":0},{"$f":"IF(ISERROR(VLOOKUP(A132 & CHAR(10) &C132,'Tableau final'!Y:Y,1,FALSE)),0,1)","v":0},{"$f":"IF(ISERROR(VLOOKUP(A132 & CHAR(10) &C132,'Tableau final'!Z:Z,1,FALSE)),0,1)","v":0},{"$f":"IF('Tableau final'!$A$1<>\"\",IF('Tableau final'!$B$5=\"Qualifiés\",IF(ISERROR(VLOOKUP(A132 & CHAR(10) &C132,'Tableau final'!C:F,1,FALSE)),\"\",IF(AND(VLOOKUP(A132 & CHAR(10) &C132,'Tableau final'!C:F,3,FALSE)<>\"\",VLOOKUP(A132 & CHAR(10) &C132,'Tableau final'!C:F,4,FALSE)=\"x\"),1,\"\")),IF('Tableau final'!$G$5=\"Qualifiés\",IF(ISERROR(VLOOKUP(A132 & CHAR(10) &C132,'Tableau final'!H:K,1,FALSE)),\"\",IF(AND(VLOOKUP(A132 & CHAR(10) &C132,'Tableau final'!H:K,3,FALSE)<>\"\",VLOOKUP(A132 & CHAR(10) &C132,'Tableau final'!H:K,4,FALSE)=\"x\"),1,\"\")),IF('Tableau final'!$L$5=\"Qualifiés\",IF(ISERROR(VLOOKUP(A132 & CHAR(10) &C132,'Tableau final'!M:P,1,FALSE)),\"\",IF(AND(VLOOKUP(A132 & CHAR(10) &C132,'Tableau final'!M:P,3,FALSE)<>\"\",VLOOKUP(A132 & CHAR(10) &C132,'Tableau final'!M:P,4,FALSE)=\"x\"),1,\"\")),\"\"))),\"\")","v":""},"0",{"$f":"IF(ISERROR(VLOOKUP(AI132,Tirage!A:J,1,FALSE)),\"\",IF(VLOOKUP(AI132,Tirage!A:J,1,FALSE)=\"Office \",3,4))","v":""},{"$f":"IF(AJ132=\"0\",4,IF(AJ132=1,3,IF(AJ132=2,IF(OFFSET('Fiche score'!$A$2,VLOOKUP(RIGHT(AI132,2),Feuil1!A:C,2,FALSE),VLOOKUP(RIGHT(AI132,2),Feuil1!A:C,3,FALSE))=A132 & CHAR(10) & C132,1,2),\"\")))","v":""}]
[null,null,null,null,{"$f":"IF(ISERROR(VLOOKUP(C133,AS!$A:$H,7,FALSE)),\"\",VLOOKUP(C133,AS!$A:$H,7,FALSE))","v":""},{"$f":"IF(ISERROR(VLOOKUP(C133,AS!$A:$H,8,FALSE)),\"\",VLOOKUP(C133,AS!$A:$H,8,FALSE))","v":""},null,null,null,null,{"$f":"IF(ISERROR(VLOOKUP(I133,AS!$A:$H,7,FALSE)),\"\",VLOOKUP(I133,AS!$A:$H,7,FALSE))","v":""},{"$f":"IF(ISERROR(VLOOKUP(I133,AS!$A:$H,8,FALSE)),\"\",VLOOKUP(I133,AS!$A:$H,8,FALSE))","v":""},null,null,null,null,{"$f":"IF(ISERROR(VLOOKUP(O133,AS!$A:$H,7,FALSE)),\"\",VLOOKUP(O133,AS!$A:$H,7,FALSE))","v":""},{"$f":"IF(ISERROR(VLOOKUP(O133,AS!$A:$H,8,FALSE)),\"\",VLOOKUP(O133,AS!$A:$H,8,FALSE))","v":""},null,null,null,null,{"$f":"IF(ISERROR(VLOOKUP(U133,AS!$A:$H,7,FALSE)),\"\",VLOOKUP(U133,AS!$A:$H,7,FALSE))","v":""},{"$f":"IF(ISERROR(VLOOKUP(U133,AS!$A:$H,8,FALSE)),\"\",VLOOKUP(U133,AS!$A:$H,8,FALSE))","v":""},null,null,null,null,{"$f":"IF(ISERROR(VLOOKUP(AA133,AS!$A:$H,7,FALSE)),\"\",VLOOKUP(AA133,AS!$A:$H,7,FALSE))","v":""},{"$f":"IF(ISERROR(VLOOKUP(AA133,AS!$A:$H,8,FALSE)),\"\",VLOOKUP(AA133,AS!$A:$H,8,FALSE))","v":""},null,null,null,"",null,{"$f":"IF(AI133=\"\",\"\",IF(OFFSET('Fiche score'!$A$2,VLOOKUP(RIGHT(AI133,2),Feuil1!A:C,2,FALSE),VLOOKUP(RIGHT(AI133,2),Feuil1!A:C,3,FALSE))=A133 & CHAR(10) & C133,2,IF(OFFSET('Fiche score'!$A$2,VLOOKUP(RIGHT(AI133,2),Feuil1!A:C,2,FALSE)+1,VLOOKUP(RIGHT(AI133,2),Feuil1!A:C,3,FALSE))=A133 & CHAR(10) & C133,2,IF(OFFSET('Fiche score'!$A$2,VLOOKUP(RIGHT(AI133,2),Feuil1!A:C,2,FALSE)-1,VLOOKUP(RIGHT(AI133,2),Feuil1!A:C,3,FALSE))=A133 & CHAR(10) & C133,1,IF(OFFSET('Fiche score'!$A$2,VLOOKUP(RIGHT(AI133,2),Feuil1!A:C,2,FALSE)-2,VLOOKUP(RIGHT(AI133,2),Feuil1!A:C,3,FALSE))=A133 & CHAR(10) & C133,1,\"0\")))))","v":""},{"$f":"IF(ISERROR(VLOOKUP(A133 & CHAR(10) &C133,'Fiche tirage dirigé'!I:I,1,FALSE)),0,1)","v":0},{"$f":"IF(ISERROR(VLOOKUP(A133& CHAR(10) &C133,Cadrage!H:H,1,FALSE)),0,1)","v":0},{"$f":"IF(ISERROR(VLOOKUP(A133 & CHAR(10) &C133,'Tableau final'!V:V,1,FALSE)),0,1)","v":0},{"$f":"IF(ISERROR(VLOOKUP(A133 & CHAR(10) &C133,'Tableau final'!W:W,1,FALSE)),0,1)","v":0},{"$f":"IF(ISERROR(VLOOKUP(A133 & CHAR(10) &C133,'Tableau final'!X:X,1,FALSE)),0,1)","v":0},{"$f":"IF(ISERROR(VLOOKUP(A133 & CHAR(10) &C133,'Tableau final'!Y:Y,1,FALSE)),0,1)","v":0},{"$f":"IF(ISERROR(VLOOKUP(A133 & CHAR(10) &C133,'Tableau final'!Z:Z,1,FALSE)),0,1)","v":0},{"$f":"IF('Tableau final'!$A$1<>\"\",IF('Tableau final'!$B$5=\"Qualifiés\",IF(ISERROR(VLOOKUP(A133 & CHAR(10) &C133,'Tableau final'!C:F,1,FALSE)),\"\",IF(AND(VLOOKUP(A133 & CHAR(10) &C133,'Tableau final'!C:F,3,FALSE)<>\"\",VLOOKUP(A133 & CHAR(10) &C133,'Tableau final'!C:F,4,FALSE)=\"x\"),1,\"\")),IF('Tableau final'!$G$5=\"Qualifiés\",IF(ISERROR(VLOOKUP(A133 & CHAR(10) &C133,'Tableau final'!H:K,1,FALSE)),\"\",IF(AND(VLOOKUP(A133 & CHAR(10) &C133,'Tableau final'!H:K,3,FALSE)<>\"\",VLOOKUP(A133 & CHAR(10) &C133,'Tableau final'!H:K,4,FALSE)=\"x\"),1,\"\")),IF('Tableau final'!$L$5=\"Qualifiés\",IF(ISERROR(VLOOKUP(A133 & CHAR(10) &C133,'Tableau final'!M:P,1,FALSE)),\"\",IF(AND(VLOOKUP(A133 & CHAR(10) &C133,'Tableau final'!M:P,3,FALSE)<>\"\",VLOOKUP(A133 & CHAR(10) &C133,'Tableau final'!M:P,4,FALSE)=\"x\"),1,\"\")),\"\"))),\"\")","v":""},"0",{"$f":"IF(ISERROR(VLOOKUP(AI133,Tirage!A:J,1,FALSE)),\"\",IF(VLOOKUP(AI133,Tirage!A:J,1,FALSE)=\"Office \",3,4))","v":""},{"$f":"IF(AJ133=\"0\",4,IF(AJ133=1,3,IF(AJ133=2,IF(OFFSET('Fiche score'!$A$2,VLOOKUP(RIGHT(AI133,2),Feuil1!A:C,2,FALSE),VLOOKUP(RIGHT(AI133,2),Feuil1!A:C,3,FALSE))=A133 & CHAR(10) & C133,1,2),\"\")))","v":""}]
[null,null,null,null,{"$f":"IF(ISERROR(VLOOKUP(C134,AS!$A:$H,7,FALSE)),\"\",VLOOKUP(C134,AS!$A:$H,7,FALSE))","v":""},{"$f":"IF(ISERROR(VLOOKUP(C134,AS!$A:$H,8,FALSE)),\"\",VLOOKUP(C134,AS!$A:$H,8,FALSE))","v":""},null,null,null,null,{"$f":"IF(ISERROR(VLOOKUP(I134,AS!$A:$H,7,FALSE)),\"\",VLOOKUP(I134,AS!$A:$H,7,FALSE))","v":""},{"$f":"IF(ISERROR(VLOOKUP(I134,AS!$A:$H,8,FALSE)),\"\",VLOOKUP(I134,AS!$A:$H,8,FALSE))","v":""},null,null,null,null,{"$f":"IF(ISERROR(VLOOKUP(O134,AS!$A:$H,7,FALSE)),\"\",VLOOKUP(O134,AS!$A:$H,7,FALSE))","v":""},{"$f":"IF(ISERROR(VLOOKUP(O134,AS!$A:$H,8,FALSE)),\"\",VLOOKUP(O134,AS!$A:$H,8,FALSE))","v":""},null,null,null,null,{"$f":"IF(ISERROR(VLOOKUP(U134,AS!$A:$H,7,FALSE)),\"\",VLOOKUP(U134,AS!$A:$H,7,FALSE))","v":""},{"$f":"IF(ISERROR(VLOOKUP(U134,AS!$A:$H,8,FALSE)),\"\",VLOOKUP(U134,AS!$A:$H,8,FALSE))","v":""},null,null,null,null,{"$f":"IF(ISERROR(VLOOKUP(AA134,AS!$A:$H,7,FALSE)),\"\",VLOOKUP(AA134,AS!$A:$H,7,FALSE))","v":""},{"$f":"IF(ISERROR(VLOOKUP(AA134,AS!$A:$H,8,FALSE)),\"\",VLOOKUP(AA134,AS!$A:$H,8,FALSE))","v":""},null,null,null,"",null,{"$f":"IF(AI134=\"\",\"\",IF(OFFSET('Fiche score'!$A$2,VLOOKUP(RIGHT(AI134,2),Feuil1!A:C,2,FALSE),VLOOKUP(RIGHT(AI134,2),Feuil1!A:C,3,FALSE))=A134 & CHAR(10) & C134,2,IF(OFFSET('Fiche score'!$A$2,VLOOKUP(RIGHT(AI134,2),Feuil1!A:C,2,FALSE)+1,VLOOKUP(RIGHT(AI134,2),Feuil1!A:C,3,FALSE))=A134 & CHAR(10) & C134,2,IF(OFFSET('Fiche score'!$A$2,VLOOKUP(RIGHT(AI134,2),Feuil1!A:C,2,FALSE)-1,VLOOKUP(RIGHT(AI134,2),Feuil1!A:C,3,FALSE))=A134 & CHAR(10) & C134,1,IF(OFFSET('Fiche score'!$A$2,VLOOKUP(RIGHT(AI134,2),Feuil1!A:C,2,FALSE)-2,VLOOKUP(RIGHT(AI134,2),Feuil1!A:C,3,FALSE))=A134 & CHAR(10) & C134,1,\"0\")))))","v":""},{"$f":"IF(ISERROR(VLOOKUP(A134 & CHAR(10) &C134,'Fiche tirage dirigé'!I:I,1,FALSE)),0,1)","v":0},{"$f":"IF(ISERROR(VLOOKUP(A134& CHAR(10) &C134,Cadrage!H:H,1,FALSE)),0,1)","v":0},{"$f":"IF(ISERROR(VLOOKUP(A134 & CHAR(10) &C134,'Tableau final'!V:V,1,FALSE)),0,1)","v":0},{"$f":"IF(ISERROR(VLOOKUP(A134 & CHAR(10) &C134,'Tableau final'!W:W,1,FALSE)),0,1)","v":0},{"$f":"IF(ISERROR(VLOOKUP(A134 & CHAR(10) &C134,'Tableau final'!X:X,1,FALSE)),0,1)","v":0},{"$f":"IF(ISERROR(VLOOKUP(A134 & CHAR(10) &C134,'Tableau final'!Y:Y,1,FALSE)),0,1)","v":0},{"$f":"IF(ISERROR(VLOOKUP(A134 & CHAR(10) &C134,'Tableau final'!Z:Z,1,FALSE)),0,1)","v":0},{"$f":"IF('Tableau final'!$A$1<>\"\",IF('Tableau final'!$B$5=\"Qualifiés\",IF(ISERROR(VLOOKUP(A134 & CHAR(10) &C134,'Tableau final'!C:F,1,FALSE)),\"\",IF(AND(VLOOKUP(A134 & CHAR(10) &C134,'Tableau final'!C:F,3,FALSE)<>\"\",VLOOKUP(A134 & CHAR(10) &C134,'Tableau final'!C:F,4,FALSE)=\"x\"),1,\"\")),IF('Tableau final'!$G$5=\"Qualifiés\",IF(ISERROR(VLOOKUP(A134 & CHAR(10) &C134,'Tableau final'!H:K,1,FALSE)),\"\",IF(AND(VLOOKUP(A134 & CHAR(10) &C134,'Tableau final'!H:K,3,FALSE)<>\"\",VLOOKUP(A134 & CHAR(10) &C134,'Tableau final'!H:K,4,FALSE)=\"x\"),1,\"\")),IF('Tableau final'!$L$5=\"Qualifiés\",IF(ISERROR(VLOOKUP(A134 & CHAR(10) &C134,'Tableau final'!M:P,1,FALSE)),\"\",IF(AND(VLOOKUP(A134 & CHAR(10) &C134,'Tableau final'!M:P,3,FALSE)<>\"\",VLOOKUP(A134 & CHAR(10) &C134,'Tableau final'!M:P,4,FALSE)=\"x\"),1,\"\")),\"\"))),\"\")","v":""},"0",{"$f":"IF(ISERROR(VLOOKUP(AI134,Tirage!A:J,1,FALSE)),\"\",IF(VLOOKUP(AI134,Tirage!A:J,1,FALSE)=\"Office \",3,4))","v":""},{"$f":"IF(AJ134=\"0\",4,IF(AJ134=1,3,IF(AJ134=2,IF(OFFSET('Fiche score'!$A$2,VLOOKUP(RIGHT(AI134,2),Feuil1!A:C,2,FALSE),VLOOKUP(RIGHT(AI134,2),Feuil1!A:C,3,FALSE))=A134 & CHAR(10) & C134,1,2),\"\")))","v":""}]
[null,null,null,null,{"$f":"IF(ISERROR(VLOOKUP(C135,AS!$A:$H,7,FALSE)),\"\",VLOOKUP(C135,AS!$A:$H,7,FALSE))","v":""},{"$f":"IF(ISERROR(VLOOKUP(C135,AS!$A:$H,8,FALSE)),\"\",VLOOKUP(C135,AS!$A:$H,8,FALSE))","v":""},null,null,null,null,{"$f":"IF(ISERROR(VLOOKUP(I135,AS!$A:$H,7,FALSE)),\"\",VLOOKUP(I135,AS!$A:$H,7,FALSE))","v":""},{"$f":"IF(ISERROR(VLOOKUP(I135,AS!$A:$H,8,FALSE)),\"\",VLOOKUP(I135,AS!$A:$H,8,FALSE))","v":""},null,null,null,null,{"$f":"IF(ISERROR(VLOOKUP(O135,AS!$A:$H,7,FALSE)),\"\",VLOOKUP(O135,AS!$A:$H,7,FALSE))","v":""},{"$f":"IF(ISERROR(VLOOKUP(O135,AS!$A:$H,8,FALSE)),\"\",VLOOKUP(O135,AS!$A:$H,8,FALSE))","v":""},null,null,null,null,{"$f":"IF(ISERROR(VLOOKUP(U135,AS!$A:$H,7,FALSE)),\"\",VLOOKUP(U135,AS!$A:$H,7,FALSE))","v":""},{"$f":"IF(ISERROR(VLOOKUP(U135,AS!$A:$H,8,FALSE)),\"\",VLOOKUP(U135,AS!$A:$H,8,FALSE))","v":""},null,null,null,null,{"$f":"IF(ISERROR(VLOOKUP(AA135,AS!$A:$H,7,FALSE)),\"\",VLOOKUP(AA135,AS!$A:$H,7,FALSE))","v":""},{"$f":"IF(ISERROR(VLOOKUP(AA135,AS!$A:$H,8,FALSE)),\"\",VLOOKUP(AA135,AS!$A:$H,8,FALSE))","v":""},null,null,null,"",null,{"$f":"IF(AI135=\"\",\"\",IF(OFFSET('Fiche score'!$A$2,VLOOKUP(RIGHT(AI135,2),Feuil1!A:C,2,FALSE),VLOOKUP(RIGHT(AI135,2),Feuil1!A:C,3,FALSE))=A135 & CHAR(10) & C135,2,IF(OFFSET('Fiche score'!$A$2,VLOOKUP(RIGHT(AI135,2),Feuil1!A:C,2,FALSE)+1,VLOOKUP(RIGHT(AI135,2),Feuil1!A:C,3,FALSE))=A135 & CHAR(10) & C135,2,IF(OFFSET('Fiche score'!$A$2,VLOOKUP(RIGHT(AI135,2),Feuil1!A:C,2,FALSE)-1,VLOOKUP(RIGHT(AI135,2),Feuil1!A:C,3,FALSE))=A135 & CHAR(10) & C135,1,IF(OFFSET('Fiche score'!$A$2,VLOOKUP(RIGHT(AI135,2),Feuil1!A:C,2,FALSE)-2,VLOOKUP(RIGHT(AI135,2),Feuil1!A:C,3,FALSE))=A135 & CHAR(10) & C135,1,\"0\")))))","v":""},{"$f":"IF(ISERROR(VLOOKUP(A135 & CHAR(10) &C135,'Fiche tirage dirigé'!I:I,1,FALSE)),0,1)","v":0},{"$f":"IF(ISERROR(VLOOKUP(A135& CHAR(10) &C135,Cadrage!H:H,1,FALSE)),0,1)","v":0},{"$f":"IF(ISERROR(VLOOKUP(A135 & CHAR(10) &C135,'Tableau final'!V:V,1,FALSE)),0,1)","v":0},{"$f":"IF(ISERROR(VLOOKUP(A135 & CHAR(10) &C135,'Tableau final'!W:W,1,FALSE)),0,1)","v":0},{"$f":"IF(ISERROR(VLOOKUP(A135 & CHAR(10) &C135,'Tableau final'!X:X,1,FALSE)),0,1)","v":0},{"$f":"IF(ISERROR(VLOOKUP(A135 & CHAR(10) &C135,'Tableau final'!Y:Y,1,FALSE)),0,1)","v":0},{"$f":"IF(ISERROR(VLOOKUP(A135 & CHAR(10) &C135,'Tableau final'!Z:Z,1,FALSE)),0,1)","v":0},{"$f":"IF('Tableau final'!$A$1<>\"\",IF('Tableau final'!$B$5=\"Qualifiés\",IF(ISERROR(VLOOKUP(A135 & CHAR(10) &C135,'Tableau final'!C:F,1,FALSE)),\"\",IF(AND(VLOOKUP(A135 & CHAR(10) &C135,'Tableau final'!C:F,3,FALSE)<>\"\",VLOOKUP(A135 & CHAR(10) &C135,'Tableau final'!C:F,4,FALSE)=\"x\"),1,\"\")),IF('Tableau final'!$G$5=\"Qualifiés\",IF(ISERROR(VLOOKUP(A135 & CHAR(10) &C135,'Tableau final'!H:K,1,FALSE)),\"\",IF(AND(VLOOKUP(A135 & CHAR(10) &C135,'Tableau final'!H:K,3,FALSE)<>\"\",VLOOKUP(A135 & CHAR(10) &C135,'Tableau final'!H:K,4,FALSE)=\"x\"),1,\"\")),IF('Tableau final'!$L$5=\"Qualifiés\",IF(ISERROR(VLOOKUP(A135 & CHAR(10) &C135,'Tableau final'!M:P,1,FALSE)),\"\",IF(AND(VLOOKUP(A135 & CHAR(10) &C135,'Tableau final'!M:P,3,FALSE)<>\"\",VLOOKUP(A135 & CHAR(10) &C135,'Tableau final'!M:P,4,FALSE)=\"x\"),1,\"\")),\"\"))),\"\")","v":""},"0",{"$f":"IF(ISERROR(VLOOKUP(AI135,Tirage!A:J,1,FALSE)),\"\",IF(VLOOKUP(AI135,Tirage!A:J,1,FALSE)=\"Office \",3,4))","v":""},{"$f":"IF(AJ135=\"0\",4,IF(AJ135=1,3,IF(AJ135=2,IF(OFFSET('Fiche score'!$A$2,VLOOKUP(RIGHT(AI135,2),Feuil1!A:C,2,FALSE),VLOOKUP(RIGHT(AI135,2),Feuil1!A:C,3,FALSE))=A135 & CHAR(10) & C135,1,2),\"\")))","v":""}]
[null,null,null,null,{"$f":"IF(ISERROR(VLOOKUP(C136,AS!$A:$H,7,FALSE)),\"\",VLOOKUP(C136,AS!$A:$H,7,FALSE))","v":""},{"$f":"IF(ISERROR(VLOOKUP(C136,AS!$A:$H,8,FALSE)),\"\",VLOOKUP(C136,AS!$A:$H,8,FALSE))","v":""},null,null,null,null,{"$f":"IF(ISERROR(VLOOKUP(I136,AS!$A:$H,7,FALSE)),\"\",VLOOKUP(I136,AS!$A:$H,7,FALSE))","v":""},{"$f":"IF(ISERROR(VLOOKUP(I136,AS!$A:$H,8,FALSE)),\"\",VLOOKUP(I136,AS!$A:$H,8,FALSE))","v":""},null,null,null,null,{"$f":"IF(ISERROR(VLOOKUP(O136,AS!$A:$H,7,FALSE)),\"\",VLOOKUP(O136,AS!$A:$H,7,FALSE))","v":""},{"$f":"IF(ISERROR(VLOOKUP(O136,AS!$A:$H,8,FALSE)),\"\",VLOOKUP(O136,AS!$A:$H,8,FALSE))","v":""},null,null,null,null,{"$f":"IF(ISERROR(VLOOKUP(U136,AS!$A:$H,7,FALSE)),\"\",VLOOKUP(U136,AS!$A:$H,7,FALSE))","v":""},{"$f":"IF(ISERROR(VLOOKUP(U136,AS!$A:$H,8,FALSE)),\"\",VLOOKUP(U136,AS!$A:$H,8,FALSE))","v":""},null,null,null,null,{"$f":"IF(ISERROR(VLOOKUP(AA136,AS!$A:$H,7,FALSE)),\"\",VLOOKUP(AA136,AS!$A:$H,7,FALSE))","v":""},{"$f":"IF(ISERROR(VLOOKUP(AA136,AS!$A:$H,8,FALSE)),\"\",VLOOKUP(AA136,AS!$A:$H,8,FALSE))","v":""},null,null,null,"",null,{"$f":"IF(AI136=\"\",\"\",IF(OFFSET('Fiche score'!$A$2,VLOOKUP(RIGHT(AI136,2),Feuil1!A:C,2,FALSE),VLOOKUP(RIGHT(AI136,2),Feuil1!A:C,3,FALSE))=A136 & CHAR(10) & C136,2,IF(OFFSET('Fiche score'!$A$2,VLOOKUP(RIGHT(AI136,2),Feuil1!A:C,2,FALSE)+1,VLOOKUP(RIGHT(AI136,2),Feuil1!A:C,3,FALSE))=A136 & CHAR(10) & C136,2,IF(OFFSET('Fiche score'!$A$2,VLOOKUP(RIGHT(AI136,2),Feuil1!A:C,2,FALSE)-1,VLOOKUP(RIGHT(AI136,2),Feuil1!A:C,3,FALSE))=A136 & CHAR(10) & C136,1,IF(OFFSET('Fiche score'!$A$2,VLOOKUP(RIGHT(AI136,2),Feuil1!A:C,2,FALSE)-2,VLOOKUP(RIGHT(AI136,2),Feuil1!A:C,3,FALSE))=A136 & CHAR(10) & C136,1,\"0\")))))","v":""},{"$f":"IF(ISERROR(VLOOKUP(A136 & CHAR(10) &C136,'Fiche tirage dirigé'!I:I,1,FALSE)),0,1)","v":0},{"$f":"IF(ISERROR(VLOOKUP(A136& CHAR(10) &C136,Cadrage!H:H,1,FALSE)),0,1)","v":0},{"$f":"IF(ISERROR(VLOOKUP(A136 & CHAR(10) &C136,'Tableau final'!V:V,1,FALSE)),0,1)","v":0},{"$f":"IF(ISERROR(VLOOKUP(A136 & CHAR(10) &C136,'Tableau final'!W:W,1,FALSE)),0,1)","v":0},{"$f":"IF(ISERROR(VLOOKUP(A136 & CHAR(10) &C136,'Tableau final'!X:X,1,FALSE)),0,1)","v":0},{"$f":"IF(ISERROR(VLOOKUP(A136 & CHAR(10) &C136,'Tableau final'!Y:Y,1,FALSE)),0,1)","v":0},{"$f":"IF(ISERROR(VLOOKUP(A136 & CHAR(10) &C136,'Tableau final'!Z:Z,1,FALSE)),0,1)","v":0},{"$f":"IF('Tableau final'!$A$1<>\"\",IF('Tableau final'!$B$5=\"Qualifiés\",IF(ISERROR(VLOOKUP(A136 & CHAR(10) &C136,'Tableau final'!C:F,1,FALSE)),\"\",IF(AND(VLOOKUP(A136 & CHAR(10) &C136,'Tableau final'!C:F,3,FALSE)<>\"\",VLOOKUP(A136 & CHAR(10) &C136,'Tableau final'!C:F,4,FALSE)=\"x\"),1,\"\")),IF('Tableau final'!$G$5=\"Qualifiés\",IF(ISERROR(VLOOKUP(A136 & CHAR(10) &C136,'Tableau final'!H:K,1,FALSE)),\"\",IF(AND(VLOOKUP(A136 & CHAR(10) &C136,'Tableau final'!H:K,3,FALSE)<>\"\",VLOOKUP(A136 & CHAR(10) &C136,'Tableau final'!H:K,4,FALSE)=\"x\"),1,\"\")),IF('Tableau final'!$L$5=\"Qualifiés\",IF(ISERROR(VLOOKUP(A136 & CHAR(10) &C136,'Tableau final'!M:P,1,FALSE)),\"\",IF(AND(VLOOKUP(A136 & CHAR(10) &C136,'Tableau final'!M:P,3,FALSE)<>\"\",VLOOKUP(A136 & CHAR(10) &C136,'Tableau final'!M:P,4,FALSE)=\"x\"),1,\"\")),\"\"))),\"\")","v":""},"0",{"$f":"IF(ISERROR(VLOOKUP(AI136,Tirage!A:J,1,FALSE)),\"\",IF(VLOOKUP(AI136,Tirage!A:J,1,FALSE)=\"Office \",3,4))","v":""},{"$f":"IF(AJ136=\"0\",4,IF(AJ136=1,3,IF(AJ136=2,IF(OFFSET('Fiche score'!$A$2,VLOOKUP(RIGHT(AI136,2),Feuil1!A:C,2,FALSE),VLOOKUP(RIGHT(AI136,2),Feuil1!A:C,3,FALSE))=A136 & CHAR(10) & C136,1,2),\"\")))","v":""}]
[null,null,null,null,{"$f":"IF(ISERROR(VLOOKUP(C137,AS!$A:$H,7,FALSE)),\"\",VLOOKUP(C137,AS!$A:$H,7,FALSE))","v":""},{"$f":"IF(ISERROR(VLOOKUP(C137,AS!$A:$H,8,FALSE)),\"\",VLOOKUP(C137,AS!$A:$H,8,FALSE))","v":""},null,null,null,null,{"$f":"IF(ISERROR(VLOOKUP(I137,AS!$A:$H,7,FALSE)),\"\",VLOOKUP(I137,AS!$A:$H,7,FALSE))","v":""},{"$f":"IF(ISERROR(VLOOKUP(I137,AS!$A:$H,8,FALSE)),\"\",VLOOKUP(I137,AS!$A:$H,8,FALSE))","v":""},null,null,null,null,{"$f":"IF(ISERROR(VLOOKUP(O137,AS!$A:$H,7,FALSE)),\"\",VLOOKUP(O137,AS!$A:$H,7,FALSE))","v":""},{"$f":"IF(ISERROR(VLOOKUP(O137,AS!$A:$H,8,FALSE)),\"\",VLOOKUP(O137,AS!$A:$H,8,FALSE))","v":""},null,null,null,null,{"$f":"IF(ISERROR(VLOOKUP(U137,AS!$A:$H,7,FALSE)),\"\",VLOOKUP(U137,AS!$A:$H,7,FALSE))","v":""},{"$f":"IF(ISERROR(VLOOKUP(U137,AS!$A:$H,8,FALSE)),\"\",VLOOKUP(U137,AS!$A:$H,8,FALSE))","v":""},null,null,null,null,{"$f":"IF(ISERROR(VLOOKUP(AA137,AS!$A:$H,7,FALSE)),\"\",VLOOKUP(AA137,AS!$A:$H,7,FALSE))","v":""},{"$f":"IF(ISERROR(VLOOKUP(AA137,AS!$A:$H,8,FALSE)),\"\",VLOOKUP(AA137,AS!$A:$H,8,FALSE))","v":""},null,null,null,"",null,{"$f":"IF(AI137=\"\",\"\",IF(OFFSET('Fiche score'!$A$2,VLOOKUP(RIGHT(AI137,2),Feuil1!A:C,2,FALSE),VLOOKUP(RIGHT(AI137,2),Feuil1!A:C,3,FALSE))=A137 & CHAR(10) & C137,2,IF(OFFSET('Fiche score'!$A$2,VLOOKUP(RIGHT(AI137,2),Feuil1!A:C,2,FALSE)+1,VLOOKUP(RIGHT(AI137,2),Feuil1!A:C,3,FALSE))=A137 & CHAR(10) & C137,2,IF(OFFSET('Fiche score'!$A$2,VLOOKUP(RIGHT(AI137,2),Feuil1!A:C,2,FALSE)-1,VLOOKUP(RIGHT(AI137,2),Feuil1!A:C,3,FALSE))=A137 & CHAR(10) & C137,1,IF(OFFSET('Fiche score'!$A$2,VLOOKUP(RIGHT(AI137,2),Feuil1!A:C,2,FALSE)-2,VLOOKUP(RIGHT(AI137,2),Feuil1!A:C,3,FALSE))=A137 & CHAR(10) & C137,1,\"0\")))))","v":""},{"$f":"IF(ISERROR(VLOOKUP(A137 & CHAR(10) &C137,'Fiche tirage dirigé'!I:I,1,FALSE)),0,1)","v":0},{"$f":"IF(ISERROR(VLOOKUP(A137& CHAR(10) &C137,Cadrage!H:H,1,FALSE)),0,1)","v":0},{"$f":"IF(ISERROR(VLOOKUP(A137 & CHAR(10) &C137,'Tableau final'!V:V,1,FALSE)),0,1)","v":0},{"$f":"IF(ISERROR(VLOOKUP(A137 & CHAR(10) &C137,'Tableau final'!W:W,1,FALSE)),0,1)","v":0},{"$f":"IF(ISERROR(VLOOKUP(A137 & CHAR(10) &C137,'Tableau final'!X:X,1,FALSE)),0,1)","v":0},{"$f":"IF(ISERROR(VLOOKUP(A137 & CHAR(10) &C137,'Tableau final'!Y:Y,1,FALSE)),0,1)","v":0},{"$f":"IF(ISERROR(VLOOKUP(A137 & CHAR(10) &C137,'Tableau final'!Z:Z,1,FALSE)),0,1)","v":0},{"$f":"IF('Tableau final'!$A$1<>\"\",IF('Tableau final'!$B$5=\"Qualifiés\",IF(ISERROR(VLOOKUP(A137 & CHAR(10) &C137,'Tableau final'!C:F,1,FALSE)),\"\",IF(AND(VLOOKUP(A137 & CHAR(10) &C137,'Tableau final'!C:F,3,FALSE)<>\"\",VLOOKUP(A137 & CHAR(10) &C137,'Tableau final'!C:F,4,FALSE)=\"x\"),1,\"\")),IF('Tableau final'!$G$5=\"Qualifiés\",IF(ISERROR(VLOOKUP(A137 & CHAR(10) &C137,'Tableau final'!H:K,1,FALSE)),\"\",IF(AND(VLOOKUP(A137 & CHAR(10) &C137,'Tableau final'!H:K,3,FALSE)<>\"\",VLOOKUP(A137 & CHAR(10) &C137,'Tableau final'!H:K,4,FALSE)=\"x\"),1,\"\")),IF('Tableau final'!$L$5=\"Qualifiés\",IF(ISERROR(VLOOKUP(A137 & CHAR(10) &C137,'Tableau final'!M:P,1,FALSE)),\"\",IF(AND(VLOOKUP(A137 & CHAR(10) &C137,'Tableau final'!M:P,3,FALSE)<>\"\",VLOOKUP(A137 & CHAR(10) &C137,'Tableau final'!M:P,4,FALSE)=\"x\"),1,\"\")),\"\"))),\"\")","v":""},"0",{"$f":"IF(ISERROR(VLOOKUP(AI137,Tirage!A:J,1,FALSE)),\"\",IF(VLOOKUP(AI137,Tirage!A:J,1,FALSE)=\"Office \",3,4))","v":""},{"$f":"IF(AJ137=\"0\",4,IF(AJ137=1,3,IF(AJ137=2,IF(OFFSET('Fiche score'!$A$2,VLOOKUP(RIGHT(AI137,2),Feuil1!A:C,2,FALSE),VLOOKUP(RIGHT(AI137,2),Feuil1!A:C,3,FALSE))=A137 & CHAR(10) & C137,1,2),\"\")))","v":""}]
[null,null,null,null,{"$f":"IF(ISERROR(VLOOKUP(C138,AS!$A:$H,7,FALSE)),\"\",VLOOKUP(C138,AS!$A:$H,7,FALSE))","v":""},{"$f":"IF(ISERROR(VLOOKUP(C138,AS!$A:$H,8,FALSE)),\"\",VLOOKUP(C138,AS!$A:$H,8,FALSE))","v":""},null,null,null,null,{"$f":"IF(ISERROR(VLOOKUP(I138,AS!$A:$H,7,FALSE)),\"\",VLOOKUP(I138,AS!$A:$H,7,FALSE))","v":""},{"$f":"IF(ISERROR(VLOOKUP(I138,AS!$A:$H,8,FALSE)),\"\",VLOOKUP(I138,AS!$A:$H,8,FALSE))","v":""},null,null,null,null,{"$f":"IF(ISERROR(VLOOKUP(O138,AS!$A:$H,7,FALSE)),\"\",VLOOKUP(O138,AS!$A:$H,7,FALSE))","v":""},{"$f":"IF(ISERROR(VLOOKUP(O138,AS!$A:$H,8,FALSE)),\"\",VLOOKUP(O138,AS!$A:$H,8,FALSE))","v":""},null,null,null,null,{"$f":"IF(ISERROR(VLOOKUP(U138,AS!$A:$H,7,FALSE)),\"\",VLOOKUP(U138,AS!$A:$H,7,FALSE))","v":""},{"$f":"IF(ISERROR(VLOOKUP(U138,AS!$A:$H,8,FALSE)),\"\",VLOOKUP(U138,AS!$A:$H,8,FALSE))","v":""},null,null,null,null,{"$f":"IF(ISERROR(VLOOKUP(AA138,AS!$A:$H,7,FALSE)),\"\",VLOOKUP(AA138,AS!$A:$H,7,FALSE))","v":""},{"$f":"IF(ISERROR(VLOOKUP(AA138,AS!$A:$H,8,FALSE)),\"\",VLOOKUP(AA138,AS!$A:$H,8,FALSE))","v":""},null,null,null,"",null,{"$f":"IF(AI138=\"\",\"\",IF(OFFSET('Fiche score'!$A$2,VLOOKUP(RIGHT(AI138,2),Feuil1!A:C,2,FALSE),VLOOKUP(RIGHT(AI138,2),Feuil1!A:C,3,FALSE))=A138 & CHAR(10) & C138,2,IF(OFFSET('Fiche score'!$A$2,VLOOKUP(RIGHT(AI138,2),Feuil1!A:C,2,FALSE)+1,VLOOKUP(RIGHT(AI138,2),Feuil1!A:C,3,FALSE))=A138 & CHAR(10) & C138,2,IF(OFFSET('Fiche score'!$A$2,VLOOKUP(RIGHT(AI138,2),Feuil1!A:C,2,FALSE)-1,VLOOKUP(RIGHT(AI138,2),Feuil1!A:C,3,FALSE))=A138 & CHAR(10) & C138,1,IF(OFFSET('Fiche score'!$A$2,VLOOKUP(RIGHT(AI138,2),Feuil1!A:C,2,FALSE)-2,VLOOKUP(RIGHT(AI138,2),Feuil1!A:C,3,FALSE))=A138 & CHAR(10) & C138,1,\"0\")))))","v":""},{"$f":"IF(ISERROR(VLOOKUP(A138 & CHAR(10) &C138,'Fiche tirage dirigé'!I:I,1,FALSE)),0,1)","v":0},{"$f":"IF(ISERROR(VLOOKUP(A138& CHAR(10) &C138,Cadrage!H:H,1,FALSE)),0,1)","v":0},{"$f":"IF(ISERROR(VLOOKUP(A138 & CHAR(10) &C138,'Tableau final'!V:V,1,FALSE)),0,1)","v":0},{"$f":"IF(ISERROR(VLOOKUP(A138 & CHAR(10) &C138,'Tableau final'!W:W,1,FALSE)),0,1)","v":0},{"$f":"IF(ISERROR(VLOOKUP(A138 & CHAR(10) &C138,'Tableau final'!X:X,1,FALSE)),0,1)","v":0},{"$f":"IF(ISERROR(VLOOKUP(A138 & CHAR(10) &C138,'Tableau final'!Y:Y,1,FALSE)),0,1)","v":0},{"$f":"IF(ISERROR(VLOOKUP(A138 & CHAR(10) &C138,'Tableau final'!Z:Z,1,FALSE)),0,1)","v":0},{"$f":"IF('Tableau final'!$A$1<>\"\",IF('Tableau final'!$B$5=\"Qualifiés\",IF(ISERROR(VLOOKUP(A138 & CHAR(10) &C138,'Tableau final'!C:F,1,FALSE)),\"\",IF(AND(VLOOKUP(A138 & CHAR(10) &C138,'Tableau final'!C:F,3,FALSE)<>\"\",VLOOKUP(A138 & CHAR(10) &C138,'Tableau final'!C:F,4,FALSE)=\"x\"),1,\"\")),IF('Tableau final'!$G$5=\"Qualifiés\",IF(ISERROR(VLOOKUP(A138 & CHAR(10) &C138,'Tableau final'!H:K,1,FALSE)),\"\",IF(AND(VLOOKUP(A138 & CHAR(10) &C138,'Tableau final'!H:K,3,FALSE)<>\"\",VLOOKUP(A138 & CHAR(10) &C138,'Tableau final'!H:K,4,FALSE)=\"x\"),1,\"\")),IF('Tableau final'!$L$5=\"Qualifiés\",IF(ISERROR(VLOOKUP(A138 & CHAR(10) &C138,'Tableau final'!M:P,1,FALSE)),\"\",IF(AND(VLOOKUP(A138 & CHAR(10) &C138,'Tableau final'!M:P,3,FALSE)<>\"\",VLOOKUP(A138 & CHAR(10) &C138,'Tableau final'!M:P,4,FALSE)=\"x\"),1,\"\")),\"\"))),\"\")","v":""},"0",{"$f":"IF(ISERROR(VLOOKUP(AI138,Tirage!A:J,1,FALSE)),\"\",IF(VLOOKUP(AI138,Tirage!A:J,1,FALSE)=\"Office \",3,4))","v":""},{"$f":"IF(AJ138=\"0\",4,IF(AJ138=1,3,IF(AJ138=2,IF(OFFSET('Fiche score'!$A$2,VLOOKUP(RIGHT(AI138,2),Feuil1!A:C,2,FALSE),VLOOKUP(RIGHT(AI138,2),Feuil1!A:C,3,FALSE))=A138 & CHAR(10) & C138,1,2),\"\")))","v":""}]
[null,null,null,null,{"$f":"IF(ISERROR(VLOOKUP(C139,AS!$A:$H,7,FALSE)),\"\",VLOOKUP(C139,AS!$A:$H,7,FALSE))","v":""},{"$f":"IF(ISERROR(VLOOKUP(C139,AS!$A:$H,8,FALSE)),\"\",VLOOKUP(C139,AS!$A:$H,8,FALSE))","v":""},null,null,null,null,{"$f":"IF(ISERROR(VLOOKUP(I139,AS!$A:$H,7,FALSE)),\"\",VLOOKUP(I139,AS!$A:$H,7,FALSE))","v":""},{"$f":"IF(ISERROR(VLOOKUP(I139,AS!$A:$H,8,FALSE)),\"\",VLOOKUP(I139,AS!$A:$H,8,FALSE))","v":""},null,null,null,null,{"$f":"IF(ISERROR(VLOOKUP(O139,AS!$A:$H,7,FALSE)),\"\",VLOOKUP(O139,AS!$A:$H,7,FALSE))","v":""},{"$f":"IF(ISERROR(VLOOKUP(O139,AS!$A:$H,8,FALSE)),\"\",VLOOKUP(O139,AS!$A:$H,8,FALSE))","v":""},null,null,null,null,{"$f":"IF(ISERROR(VLOOKUP(U139,AS!$A:$H,7,FALSE)),\"\",VLOOKUP(U139,AS!$A:$H,7,FALSE))","v":""},{"$f":"IF(ISERROR(VLOOKUP(U139,AS!$A:$H,8,FALSE)),\"\",VLOOKUP(U139,AS!$A:$H,8,FALSE))","v":""},null,null,null,null,{"$f":"IF(ISERROR(VLOOKUP(AA139,AS!$A:$H,7,FALSE)),\"\",VLOOKUP(AA139,AS!$A:$H,7,FALSE))","v":""},{"$f":"IF(ISERROR(VLOOKUP(AA139,AS!$A:$H,8,FALSE)),\"\",VLOOKUP(AA139,AS!$A:$H,8,FALSE))","v":""},null,null,null,"",null,{"$f":"IF(AI139=\"\",\"\",IF(OFFSET('Fiche score'!$A$2,VLOOKUP(RIGHT(AI139,2),Feuil1!A:C,2,FALSE),VLOOKUP(RIGHT(AI139,2),Feuil1!A:C,3,FALSE))=A139 & CHAR(10) & C139,2,IF(OFFSET('Fiche score'!$A$2,VLOOKUP(RIGHT(AI139,2),Feuil1!A:C,2,FALSE)+1,VLOOKUP(RIGHT(AI139,2),Feuil1!A:C,3,FALSE))=A139 & CHAR(10) & C139,2,IF(OFFSET('Fiche score'!$A$2,VLOOKUP(RIGHT(AI139,2),Feuil1!A:C,2,FALSE)-1,VLOOKUP(RIGHT(AI139,2),Feuil1!A:C,3,FALSE))=A139 & CHAR(10) & C139,1,IF(OFFSET('Fiche score'!$A$2,VLOOKUP(RIGHT(AI139,2),Feuil1!A:C,2,FALSE)-2,VLOOKUP(RIGHT(AI139,2),Feuil1!A:C,3,FALSE))=A139 & CHAR(10) & C139,1,\"0\")))))","v":""},{"$f":"IF(ISERROR(VLOOKUP(A139 & CHAR(10) &C139,'Fiche tirage dirigé'!I:I,1,FALSE)),0,1)","v":0},{"$f":"IF(ISERROR(VLOOKUP(A139& CHAR(10) &C139,Cadrage!H:H,1,FALSE)),0,1)","v":0},{"$f":"IF(ISERROR(VLOOKUP(A139 & CHAR(10) &C139,'Tableau final'!V:V,1,FALSE)),0,1)","v":0},{"$f":"IF(ISERROR(VLOOKUP(A139 & CHAR(10) &C139,'Tableau final'!W:W,1,FALSE)),0,1)","v":0},{"$f":"IF(ISERROR(VLOOKUP(A139 & CHAR(10) &C139,'Tableau final'!X:X,1,FALSE)),0,1)","v":0},{"$f":"IF(ISERROR(VLOOKUP(A139 & CHAR(10) &C139,'Tableau final'!Y:Y,1,FALSE)),0,1)","v":0},{"$f":"IF(ISERROR(VLOOKUP(A139 & CHAR(10) &C139,'Tableau final'!Z:Z,1,FALSE)),0,1)","v":0},{"$f":"IF('Tableau final'!$A$1<>\"\",IF('Tableau final'!$B$5=\"Qualifiés\",IF(ISERROR(VLOOKUP(A139 & CHAR(10) &C139,'Tableau final'!C:F,1,FALSE)),\"\",IF(AND(VLOOKUP(A139 & CHAR(10) &C139,'Tableau final'!C:F,3,FALSE)<>\"\",VLOOKUP(A139 & CHAR(10) &C139,'Tableau final'!C:F,4,FALSE)=\"x\"),1,\"\")),IF('Tableau final'!$G$5=\"Qualifiés\",IF(ISERROR(VLOOKUP(A139 & CHAR(10) &C139,'Tableau final'!H:K,1,FALSE)),\"\",IF(AND(VLOOKUP(A139 & CHAR(10) &C139,'Tableau final'!H:K,3,FALSE)<>\"\",VLOOKUP(A139 & CHAR(10) &C139,'Tableau final'!H:K,4,FALSE)=\"x\"),1,\"\")),IF('Tableau final'!$L$5=\"Qualifiés\",IF(ISERROR(VLOOKUP(A139 & CHAR(10) &C139,'Tableau final'!M:P,1,FALSE)),\"\",IF(AND(VLOOKUP(A139 & CHAR(10) &C139,'Tableau final'!M:P,3,FALSE)<>\"\",VLOOKUP(A139 & CHAR(10) &C139,'Tableau final'!M:P,4,FALSE)=\"x\"),1,\"\")),\"\"))),\"\")","v":""},"0",{"$f":"IF(ISERROR(VLOOKUP(AI139,Tirage!A:J,1,FALSE)),\"\",IF(VLOOKUP(AI139,Tirage!A:J,1,FALSE)=\"Office \",3,4))","v":""},{"$f":"IF(AJ139=\"0\",4,IF(AJ139=1,3,IF(AJ139=2,IF(OFFSET('Fiche score'!$A$2,VLOOKUP(RIGHT(AI139,2),Feuil1!A:C,2,FALSE),VLOOKUP(RIGHT(AI139,2),Feuil1!A:C,3,FALSE))=A139 & CHAR(10) & C139,1,2),\"\")))","v":""}]
[null,null,null,null,{"$f":"IF(ISERROR(VLOOKUP(C140,AS!$A:$H,7,FALSE)),\"\",VLOOKUP(C140,AS!$A:$H,7,FALSE))","v":""},{"$f":"IF(ISERROR(VLOOKUP(C140,AS!$A:$H,8,FALSE)),\"\",VLOOKUP(C140,AS!$A:$H,8,FALSE))","v":""},null,null,null,null,{"$f":"IF(ISERROR(VLOOKUP(I140,AS!$A:$H,7,FALSE)),\"\",VLOOKUP(I140,AS!$A:$H,7,FALSE))","v":""},{"$f":"IF(ISERROR(VLOOKUP(I140,AS!$A:$H,8,FALSE)),\"\",VLOOKUP(I140,AS!$A:$H,8,FALSE))","v":""},null,null,null,null,{"$f":"IF(ISERROR(VLOOKUP(O140,AS!$A:$H,7,FALSE)),\"\",VLOOKUP(O140,AS!$A:$H,7,FALSE))","v":""},{"$f":"IF(ISERROR(VLOOKUP(O140,AS!$A:$H,8,FALSE)),\"\",VLOOKUP(O140,AS!$A:$H,8,FALSE))","v":""},null,null,null,null,{"$f":"IF(ISERROR(VLOOKUP(U140,AS!$A:$H,7,FALSE)),\"\",VLOOKUP(U140,AS!$A:$H,7,FALSE))","v":""},{"$f":"IF(ISERROR(VLOOKUP(U140,AS!$A:$H,8,FALSE)),\"\",VLOOKUP(U140,AS!$A:$H,8,FALSE))","v":""},null,null,null,null,{"$f":"IF(ISERROR(VLOOKUP(AA140,AS!$A:$H,7,FALSE)),\"\",VLOOKUP(AA140,AS!$A:$H,7,FALSE))","v":""},{"$f":"IF(ISERROR(VLOOKUP(AA140,AS!$A:$H,8,FALSE)),\"\",VLOOKUP(AA140,AS!$A:$H,8,FALSE))","v":""},null,null,null,"",null,{"$f":"IF(AI140=\"\",\"\",IF(OFFSET('Fiche score'!$A$2,VLOOKUP(RIGHT(AI140,2),Feuil1!A:C,2,FALSE),VLOOKUP(RIGHT(AI140,2),Feuil1!A:C,3,FALSE))=A140 & CHAR(10) & C140,2,IF(OFFSET('Fiche score'!$A$2,VLOOKUP(RIGHT(AI140,2),Feuil1!A:C,2,FALSE)+1,VLOOKUP(RIGHT(AI140,2),Feuil1!A:C,3,FALSE))=A140 & CHAR(10) & C140,2,IF(OFFSET('Fiche score'!$A$2,VLOOKUP(RIGHT(AI140,2),Feuil1!A:C,2,FALSE)-1,VLOOKUP(RIGHT(AI140,2),Feuil1!A:C,3,FALSE))=A140 & CHAR(10) & C140,1,IF(OFFSET('Fiche score'!$A$2,VLOOKUP(RIGHT(AI140,2),Feuil1!A:C,2,FALSE)-2,VLOOKUP(RIGHT(AI140,2),Feuil1!A:C,3,FALSE))=A140 & CHAR(10) & C140,1,\"0\")))))","v":""},{"$f":"IF(ISERROR(VLOOKUP(A140 & CHAR(10) &C140,'Fiche tirage dirigé'!I:I,1,FALSE)),0,1)","v":0},{"$f":"IF(ISERROR(VLOOKUP(A140& CHAR(10) &C140,Cadrage!H:H,1,FALSE)),0,1)","v":0},{"$f":"IF(ISERROR(VLOOKUP(A140 & CHAR(10) &C140,'Tableau final'!V:V,1,FALSE)),0,1)","v":0},{"$f":"IF(ISERROR(VLOOKUP(A140 & CHAR(10) &C140,'Tableau final'!W:W,1,FALSE)),0,1)","v":0},{"$f":"IF(ISERROR(VLOOKUP(A140 & CHAR(10) &C140,'Tableau final'!X:X,1,FALSE)),0,1)","v":0},{"$f":"IF(ISERROR(VLOOKUP(A140 & CHAR(10) &C140,'Tableau final'!Y:Y,1,FALSE)),0,1)","v":0},{"$f":"IF(ISERROR(VLOOKUP(A140 & CHAR(10) &C140,'Tableau final'!Z:Z,1,FALSE)),0,1)","v":0},{"$f":"IF('Tableau final'!$A$1<>\"\",IF('Tableau final'!$B$5=\"Qualifiés\",IF(ISERROR(VLOOKUP(A140 & CHAR(10) &C140,'Tableau final'!C:F,1,FALSE)),\"\",IF(AND(VLOOKUP(A140 & CHAR(10) &C140,'Tableau final'!C:F,3,FALSE)<>\"\",VLOOKUP(A140 & CHAR(10) &C140,'Tableau final'!C:F,4,FALSE)=\"x\"),1,\"\")),IF('Tableau final'!$G$5=\"Qualifiés\",IF(ISERROR(VLOOKUP(A140 & CHAR(10) &C140,'Tableau final'!H:K,1,FALSE)),\"\",IF(AND(VLOOKUP(A140 & CHAR(10) &C140,'Tableau final'!H:K,3,FALSE)<>\"\",VLOOKUP(A140 & CHAR(10) &C140,'Tableau final'!H:K,4,FALSE)=\"x\"),1,\"\")),IF('Tableau final'!$L$5=\"Qualifiés\",IF(ISERROR(VLOOKUP(A140 & CHAR(10) &C140,'Tableau final'!M:P,1,FALSE)),\"\",IF(AND(VLOOKUP(A140 & CHAR(10) &C140,'Tableau final'!M:P,3,FALSE)<>\"\",VLOOKUP(A140 & CHAR(10) &C140,'Tableau final'!M:P,4,FALSE)=\"x\"),1,\"\")),\"\"))),\"\")","v":""},"0",{"$f":"IF(ISERROR(VLOOKUP(AI140,Tirage!A:J,1,FALSE)),\"\",IF(VLOOKUP(AI140,Tirage!A:J,1,FALSE)=\"Office \",3,4))","v":""},{"$f":"IF(AJ140=\"0\",4,IF(AJ140=1,3,IF(AJ140=2,IF(OFFSET('Fiche score'!$A$2,VLOOKUP(RIGHT(AI140,2),Feuil1!A:C,2,FALSE),VLOOKUP(RIGHT(AI140,2),Feuil1!A:C,3,FALSE))=A140 & CHAR(10) & C140,1,2),\"\")))","v":""}]
[null,null,null,null,{"$f":"IF(ISERROR(VLOOKUP(C141,AS!$A:$H,7,FALSE)),\"\",VLOOKUP(C141,AS!$A:$H,7,FALSE))","v":""},{"$f":"IF(ISERROR(VLOOKUP(C141,AS!$A:$H,8,FALSE)),\"\",VLOOKUP(C141,AS!$A:$H,8,FALSE))","v":""},null,null,null,null,{"$f":"IF(ISERROR(VLOOKUP(I141,AS!$A:$H,7,FALSE)),\"\",VLOOKUP(I141,AS!$A:$H,7,FALSE))","v":""},{"$f":"IF(ISERROR(VLOOKUP(I141,AS!$A:$H,8,FALSE)),\"\",VLOOKUP(I141,AS!$A:$H,8,FALSE))","v":""},null,null,null,null,{"$f":"IF(ISERROR(VLOOKUP(O141,AS!$A:$H,7,FALSE)),\"\",VLOOKUP(O141,AS!$A:$H,7,FALSE))","v":""},{"$f":"IF(ISERROR(VLOOKUP(O141,AS!$A:$H,8,FALSE)),\"\",VLOOKUP(O141,AS!$A:$H,8,FALSE))","v":""},null,null,null,null,{"$f":"IF(ISERROR(VLOOKUP(U141,AS!$A:$H,7,FALSE)),\"\",VLOOKUP(U141,AS!$A:$H,7,FALSE))","v":""},{"$f":"IF(ISERROR(VLOOKUP(U141,AS!$A:$H,8,FALSE)),\"\",VLOOKUP(U141,AS!$A:$H,8,FALSE))","v":""},null,null,null,null,{"$f":"IF(ISERROR(VLOOKUP(AA141,AS!$A:$H,7,FALSE)),\"\",VLOOKUP(AA141,AS!$A:$H,7,FALSE))","v":""},{"$f":"IF(ISERROR(VLOOKUP(AA141,AS!$A:$H,8,FALSE)),\"\",VLOOKUP(AA141,AS!$A:$H,8,FALSE))","v":""},null,null,null,"",null,{"$f":"IF(AI141=\"\",\"\",IF(OFFSET('Fiche score'!$A$2,VLOOKUP(RIGHT(AI141,2),Feuil1!A:C,2,FALSE),VLOOKUP(RIGHT(AI141,2),Feuil1!A:C,3,FALSE))=A141 & CHAR(10) & C141,2,IF(OFFSET('Fiche score'!$A$2,VLOOKUP(RIGHT(AI141,2),Feuil1!A:C,2,FALSE)+1,VLOOKUP(RIGHT(AI141,2),Feuil1!A:C,3,FALSE))=A141 & CHAR(10) & C141,2,IF(OFFSET('Fiche score'!$A$2,VLOOKUP(RIGHT(AI141,2),Feuil1!A:C,2,FALSE)-1,VLOOKUP(RIGHT(AI141,2),Feuil1!A:C,3,FALSE))=A141 & CHAR(10) & C141,1,IF(OFFSET('Fiche score'!$A$2,VLOOKUP(RIGHT(AI141,2),Feuil1!A:C,2,FALSE)-2,VLOOKUP(RIGHT(AI141,2),Feuil1!A:C,3,FALSE))=A141 & CHAR(10) & C141,1,\"0\")))))","v":""},{"$f":"IF(ISERROR(VLOOKUP(A141 & CHAR(10) &C141,'Fiche tirage dirigé'!I:I,1,FALSE)),0,1)","v":0},{"$f":"IF(ISERROR(VLOOKUP(A141& CHAR(10) &C141,Cadrage!H:H,1,FALSE)),0,1)","v":0},{"$f":"IF(ISERROR(VLOOKUP(A141 & CHAR(10) &C141,'Tableau final'!V:V,1,FALSE)),0,1)","v":0},{"$f":"IF(ISERROR(VLOOKUP(A141 & CHAR(10) &C141,'Tableau final'!W:W,1,FALSE)),0,1)","v":0},{"$f":"IF(ISERROR(VLOOKUP(A141 & CHAR(10) &C141,'Tableau final'!X:X,1,FALSE)),0,1)","v":0},{"$f":"IF(ISERROR(VLOOKUP(A141 & CHAR(10) &C141,'Tableau final'!Y:Y,1,FALSE)),0,1)","v":0},{"$f":"IF(ISERROR(VLOOKUP(A141 & CHAR(10) &C141,'Tableau final'!Z:Z,1,FALSE)),0,1)","v":0},{"$f":"IF('Tableau final'!$A$1<>\"\",IF('Tableau final'!$B$5=\"Qualifiés\",IF(ISERROR(VLOOKUP(A141 & CHAR(10) &C141,'Tableau final'!C:F,1,FALSE)),\"\",IF(AND(VLOOKUP(A141 & CHAR(10) &C141,'Tableau final'!C:F,3,FALSE)<>\"\",VLOOKUP(A141 & CHAR(10) &C141,'Tableau final'!C:F,4,FALSE)=\"x\"),1,\"\")),IF('Tableau final'!$G$5=\"Qualifiés\",IF(ISERROR(VLOOKUP(A141 & CHAR(10) &C141,'Tableau final'!H:K,1,FALSE)),\"\",IF(AND(VLOOKUP(A141 & CHAR(10) &C141,'Tableau final'!H:K,3,FALSE)<>\"\",VLOOKUP(A141 & CHAR(10) &C141,'Tableau final'!H:K,4,FALSE)=\"x\"),1,\"\")),IF('Tableau final'!$L$5=\"Qualifiés\",IF(ISERROR(VLOOKUP(A141 & CHAR(10) &C141,'Tableau final'!M:P,1,FALSE)),\"\",IF(AND(VLOOKUP(A141 & CHAR(10) &C141,'Tableau final'!M:P,3,FALSE)<>\"\",VLOOKUP(A141 & CHAR(10) &C141,'Tableau final'!M:P,4,FALSE)=\"x\"),1,\"\")),\"\"))),\"\")","v":""},"0",{"$f":"IF(ISERROR(VLOOKUP(AI141,Tirage!A:J,1,FALSE)),\"\",IF(VLOOKUP(AI141,Tirage!A:J,1,FALSE)=\"Office \",3,4))","v":""},{"$f":"IF(AJ141=\"0\",4,IF(AJ141=1,3,IF(AJ141=2,IF(OFFSET('Fiche score'!$A$2,VLOOKUP(RIGHT(AI141,2),Feuil1!A:C,2,FALSE),VLOOKUP(RIGHT(AI141,2),Feuil1!A:C,3,FALSE))=A141 & CHAR(10) & C141,1,2),\"\")))","v":""}]
[null,null,null,null,{"$f":"IF(ISERROR(VLOOKUP(C142,AS!$A:$H,7,FALSE)),\"\",VLOOKUP(C142,AS!$A:$H,7,FALSE))","v":""},{"$f":"IF(ISERROR(VLOOKUP(C142,AS!$A:$H,8,FALSE)),\"\",VLOOKUP(C142,AS!$A:$H,8,FALSE))","v":""},null,null,null,null,{"$f":"IF(ISERROR(VLOOKUP(I142,AS!$A:$H,7,FALSE)),\"\",VLOOKUP(I142,AS!$A:$H,7,FALSE))","v":""},{"$f":"IF(ISERROR(VLOOKUP(I142,AS!$A:$H,8,FALSE)),\"\",VLOOKUP(I142,AS!$A:$H,8,FALSE))","v":""},null,null,null,null,{"$f":"IF(ISERROR(VLOOKUP(O142,AS!$A:$H,7,FALSE)),\"\",VLOOKUP(O142,AS!$A:$H,7,FALSE))","v":""},{"$f":"IF(ISERROR(VLOOKUP(O142,AS!$A:$H,8,FALSE)),\"\",VLOOKUP(O142,AS!$A:$H,8,FALSE))","v":""},null,null,null,null,{"$f":"IF(ISERROR(VLOOKUP(U142,AS!$A:$H,7,FALSE)),\"\",VLOOKUP(U142,AS!$A:$H,7,FALSE))","v":""},{"$f":"IF(ISERROR(VLOOKUP(U142,AS!$A:$H,8,FALSE)),\"\",VLOOKUP(U142,AS!$A:$H,8,FALSE))","v":""},null,null,null,null,{"$f":"IF(ISERROR(VLOOKUP(AA142,AS!$A:$H,7,FALSE)),\"\",VLOOKUP(AA142,AS!$A:$H,7,FALSE))","v":""},{"$f":"IF(ISERROR(VLOOKUP(AA142,AS!$A:$H,8,FALSE)),\"\",VLOOKUP(AA142,AS!$A:$H,8,FALSE))","v":""},null,null,null,"",null,{"$f":"IF(AI142=\"\",\"\",IF(OFFSET('Fiche score'!$A$2,VLOOKUP(RIGHT(AI142,2),Feuil1!A:C,2,FALSE),VLOOKUP(RIGHT(AI142,2),Feuil1!A:C,3,FALSE))=A142 & CHAR(10) & C142,2,IF(OFFSET('Fiche score'!$A$2,VLOOKUP(RIGHT(AI142,2),Feuil1!A:C,2,FALSE)+1,VLOOKUP(RIGHT(AI142,2),Feuil1!A:C,3,FALSE))=A142 & CHAR(10) & C142,2,IF(OFFSET('Fiche score'!$A$2,VLOOKUP(RIGHT(AI142,2),Feuil1!A:C,2,FALSE)-1,VLOOKUP(RIGHT(AI142,2),Feuil1!A:C,3,FALSE))=A142 & CHAR(10) & C142,1,IF(OFFSET('Fiche score'!$A$2,VLOOKUP(RIGHT(AI142,2),Feuil1!A:C,2,FALSE)-2,VLOOKUP(RIGHT(AI142,2),Feuil1!A:C,3,FALSE))=A142 & CHAR(10) & C142,1,\"0\")))))","v":""},{"$f":"IF(ISERROR(VLOOKUP(A142 & CHAR(10) &C142,'Fiche tirage dirigé'!I:I,1,FALSE)),0,1)","v":0},{"$f":"IF(ISERROR(VLOOKUP(A142& CHAR(10) &C142,Cadrage!H:H,1,FALSE)),0,1)","v":0},{"$f":"IF(ISERROR(VLOOKUP(A142 & CHAR(10) &C142,'Tableau final'!V:V,1,FALSE)),0,1)","v":0},{"$f":"IF(ISERROR(VLOOKUP(A142 & CHAR(10) &C142,'Tableau final'!W:W,1,FALSE)),0,1)","v":0},{"$f":"IF(ISERROR(VLOOKUP(A142 & CHAR(10) &C142,'Tableau final'!X:X,1,FALSE)),0,1)","v":0},{"$f":"IF(ISERROR(VLOOKUP(A142 & CHAR(10) &C142,'Tableau final'!Y:Y,1,FALSE)),0,1)","v":0},{"$f":"IF(ISERROR(VLOOKUP(A142 & CHAR(10) &C142,'Tableau final'!Z:Z,1,FALSE)),0,1)","v":0},{"$f":"IF('Tableau final'!$A$1<>\"\",IF('Tableau final'!$B$5=\"Qualifiés\",IF(ISERROR(VLOOKUP(A142 & CHAR(10) &C142,'Tableau final'!C:F,1,FALSE)),\"\",IF(AND(VLOOKUP(A142 & CHAR(10) &C142,'Tableau final'!C:F,3,FALSE)<>\"\",VLOOKUP(A142 & CHAR(10) &C142,'Tableau final'!C:F,4,FALSE)=\"x\"),1,\"\")),IF('Tableau final'!$G$5=\"Qualifiés\",IF(ISERROR(VLOOKUP(A142 & CHAR(10) &C142,'Tableau final'!H:K,1,FALSE)),\"\",IF(AND(VLOOKUP(A142 & CHAR(10) &C142,'Tableau final'!H:K,3,FALSE)<>\"\",VLOOKUP(A142 & CHAR(10) &C142,'Tableau final'!H:K,4,FALSE)=\"x\"),1,\"\")),IF('Tableau final'!$L$5=\"Qualifiés\",IF(ISERROR(VLOOKUP(A142 & CHAR(10) &C142,'Tableau final'!M:P,1,FALSE)),\"\",IF(AND(VLOOKUP(A142 & CHAR(10) &C142,'Tableau final'!M:P,3,FALSE)<>\"\",VLOOKUP(A142 & CHAR(10) &C142,'Tableau final'!M:P,4,FALSE)=\"x\"),1,\"\")),\"\"))),\"\")","v":""},"0",{"$f":"IF(ISERROR(VLOOKUP(AI142,Tirage!A:J,1,FALSE)),\"\",IF(VLOOKUP(AI142,Tirage!A:J,1,FALSE)=\"Office \",3,4))","v":""},{"$f":"IF(AJ142=\"0\",4,IF(AJ142=1,3,IF(AJ142=2,IF(OFFSET('Fiche score'!$A$2,VLOOKUP(RIGHT(AI142,2),Feuil1!A:C,2,FALSE),VLOOKUP(RIGHT(AI142,2),Feuil1!A:C,3,FALSE))=A142 & CHAR(10) & C142,1,2),\"\")))","v":""}]
[null,null,null,null,{"$f":"IF(ISERROR(VLOOKUP(C143,AS!$A:$H,7,FALSE)),\"\",VLOOKUP(C143,AS!$A:$H,7,FALSE))","v":""},{"$f":"IF(ISERROR(VLOOKUP(C143,AS!$A:$H,8,FALSE)),\"\",VLOOKUP(C143,AS!$A:$H,8,FALSE))","v":""},null,null,null,null,{"$f":"IF(ISERROR(VLOOKUP(I143,AS!$A:$H,7,FALSE)),\"\",VLOOKUP(I143,AS!$A:$H,7,FALSE))","v":""},{"$f":"IF(ISERROR(VLOOKUP(I143,AS!$A:$H,8,FALSE)),\"\",VLOOKUP(I143,AS!$A:$H,8,FALSE))","v":""},null,null,null,null,{"$f":"IF(ISERROR(VLOOKUP(O143,AS!$A:$H,7,FALSE)),\"\",VLOOKUP(O143,AS!$A:$H,7,FALSE))","v":""},{"$f":"IF(ISERROR(VLOOKUP(O143,AS!$A:$H,8,FALSE)),\"\",VLOOKUP(O143,AS!$A:$H,8,FALSE))","v":""},null,null,null,null,{"$f":"IF(ISERROR(VLOOKUP(U143,AS!$A:$H,7,FALSE)),\"\",VLOOKUP(U143,AS!$A:$H,7,FALSE))","v":""},{"$f":"IF(ISERROR(VLOOKUP(U143,AS!$A:$H,8,FALSE)),\"\",VLOOKUP(U143,AS!$A:$H,8,FALSE))","v":""},null,null,null,null,{"$f":"IF(ISERROR(VLOOKUP(AA143,AS!$A:$H,7,FALSE)),\"\",VLOOKUP(AA143,AS!$A:$H,7,FALSE))","v":""},{"$f":"IF(ISERROR(VLOOKUP(AA143,AS!$A:$H,8,FALSE)),\"\",VLOOKUP(AA143,AS!$A:$H,8,FALSE))","v":""},null,null,null,"",null,{"$f":"IF(AI143=\"\",\"\",IF(OFFSET('Fiche score'!$A$2,VLOOKUP(RIGHT(AI143,2),Feuil1!A:C,2,FALSE),VLOOKUP(RIGHT(AI143,2),Feuil1!A:C,3,FALSE))=A143 & CHAR(10) & C143,2,IF(OFFSET('Fiche score'!$A$2,VLOOKUP(RIGHT(AI143,2),Feuil1!A:C,2,FALSE)+1,VLOOKUP(RIGHT(AI143,2),Feuil1!A:C,3,FALSE))=A143 & CHAR(10) & C143,2,IF(OFFSET('Fiche score'!$A$2,VLOOKUP(RIGHT(AI143,2),Feuil1!A:C,2,FALSE)-1,VLOOKUP(RIGHT(AI143,2),Feuil1!A:C,3,FALSE))=A143 & CHAR(10) & C143,1,IF(OFFSET('Fiche score'!$A$2,VLOOKUP(RIGHT(AI143,2),Feuil1!A:C,2,FALSE)-2,VLOOKUP(RIGHT(AI143,2),Feuil1!A:C,3,FALSE))=A143 & CHAR(10) & C143,1,\"0\")))))","v":""},{"$f":"IF(ISERROR(VLOOKUP(A143 & CHAR(10) &C143,'Fiche tirage dirigé'!I:I,1,FALSE)),0,1)","v":0},{"$f":"IF(ISERROR(VLOOKUP(A143& CHAR(10) &C143,Cadrage!H:H,1,FALSE)),0,1)","v":0},{"$f":"IF(ISERROR(VLOOKUP(A143 & CHAR(10) &C143,'Tableau final'!V:V,1,FALSE)),0,1)","v":0},{"$f":"IF(ISERROR(VLOOKUP(A143 & CHAR(10) &C143,'Tableau final'!W:W,1,FALSE)),0,1)","v":0},{"$f":"IF(ISERROR(VLOOKUP(A143 & CHAR(10) &C143,'Tableau final'!X:X,1,FALSE)),0,1)","v":0},{"$f":"IF(ISERROR(VLOOKUP(A143 & CHAR(10) &C143,'Tableau final'!Y:Y,1,FALSE)),0,1)","v":0},{"$f":"IF(ISERROR(VLOOKUP(A143 & CHAR(10) &C143,'Tableau final'!Z:Z,1,FALSE)),0,1)","v":0},{"$f":"IF('Tableau final'!$A$1<>\"\",IF('Tableau final'!$B$5=\"Qualifiés\",IF(ISERROR(VLOOKUP(A143 & CHAR(10) &C143,'Tableau final'!C:F,1,FALSE)),\"\",IF(AND(VLOOKUP(A143 & CHAR(10) &C143,'Tableau final'!C:F,3,FALSE)<>\"\",VLOOKUP(A143 & CHAR(10) &C143,'Tableau final'!C:F,4,FALSE)=\"x\"),1,\"\")),IF('Tableau final'!$G$5=\"Qualifiés\",IF(ISERROR(VLOOKUP(A143 & CHAR(10) &C143,'Tableau final'!H:K,1,FALSE)),\"\",IF(AND(VLOOKUP(A143 & CHAR(10) &C143,'Tableau final'!H:K,3,FALSE)<>\"\",VLOOKUP(A143 & CHAR(10) &C143,'Tableau final'!H:K,4,FALSE)=\"x\"),1,\"\")),IF('Tableau final'!$L$5=\"Qualifiés\",IF(ISERROR(VLOOKUP(A143 & CHAR(10) &C143,'Tableau final'!M:P,1,FALSE)),\"\",IF(AND(VLOOKUP(A143 & CHAR(10) &C143,'Tableau final'!M:P,3,FALSE)<>\"\",VLOOKUP(A143 & CHAR(10) &C143,'Tableau final'!M:P,4,FALSE)=\"x\"),1,\"\")),\"\"))),\"\")","v":""},"0",{"$f":"IF(ISERROR(VLOOKUP(AI143,Tirage!A:J,1,FALSE)),\"\",IF(VLOOKUP(AI143,Tirage!A:J,1,FALSE)=\"Office \",3,4))","v":""},{"$f":"IF(AJ143=\"0\",4,IF(AJ143=1,3,IF(AJ143=2,IF(OFFSET('Fiche score'!$A$2,VLOOKUP(RIGHT(AI143,2),Feuil1!A:C,2,FALSE),VLOOKUP(RIGHT(AI143,2),Feuil1!A:C,3,FALSE))=A143 & CHAR(10) & C143,1,2),\"\")))","v":""}]
[null,null,null,null,{"$f":"IF(ISERROR(VLOOKUP(C144,AS!$A:$H,7,FALSE)),\"\",VLOOKUP(C144,AS!$A:$H,7,FALSE))","v":""},{"$f":"IF(ISERROR(VLOOKUP(C144,AS!$A:$H,8,FALSE)),\"\",VLOOKUP(C144,AS!$A:$H,8,FALSE))","v":""},null,null,null,null,{"$f":"IF(ISERROR(VLOOKUP(I144,AS!$A:$H,7,FALSE)),\"\",VLOOKUP(I144,AS!$A:$H,7,FALSE))","v":""},{"$f":"IF(ISERROR(VLOOKUP(I144,AS!$A:$H,8,FALSE)),\"\",VLOOKUP(I144,AS!$A:$H,8,FALSE))","v":""},null,null,null,null,{"$f":"IF(ISERROR(VLOOKUP(O144,AS!$A:$H,7,FALSE)),\"\",VLOOKUP(O144,AS!$A:$H,7,FALSE))","v":""},{"$f":"IF(ISERROR(VLOOKUP(O144,AS!$A:$H,8,FALSE)),\"\",VLOOKUP(O144,AS!$A:$H,8,FALSE))","v":""},null,null,null,null,{"$f":"IF(ISERROR(VLOOKUP(U144,AS!$A:$H,7,FALSE)),\"\",VLOOKUP(U144,AS!$A:$H,7,FALSE))","v":""},{"$f":"IF(ISERROR(VLOOKUP(U144,AS!$A:$H,8,FALSE)),\"\",VLOOKUP(U144,AS!$A:$H,8,FALSE))","v":""},null,null,null,null,{"$f":"IF(ISERROR(VLOOKUP(AA144,AS!$A:$H,7,FALSE)),\"\",VLOOKUP(AA144,AS!$A:$H,7,FALSE))","v":""},{"$f":"IF(ISERROR(VLOOKUP(AA144,AS!$A:$H,8,FALSE)),\"\",VLOOKUP(AA144,AS!$A:$H,8,FALSE))","v":""},null,null,null,"",null,{"$f":"IF(AI144=\"\",\"\",IF(OFFSET('Fiche score'!$A$2,VLOOKUP(RIGHT(AI144,2),Feuil1!A:C,2,FALSE),VLOOKUP(RIGHT(AI144,2),Feuil1!A:C,3,FALSE))=A144 & CHAR(10) & C144,2,IF(OFFSET('Fiche score'!$A$2,VLOOKUP(RIGHT(AI144,2),Feuil1!A:C,2,FALSE)+1,VLOOKUP(RIGHT(AI144,2),Feuil1!A:C,3,FALSE))=A144 & CHAR(10) & C144,2,IF(OFFSET('Fiche score'!$A$2,VLOOKUP(RIGHT(AI144,2),Feuil1!A:C,2,FALSE)-1,VLOOKUP(RIGHT(AI144,2),Feuil1!A:C,3,FALSE))=A144 & CHAR(10) & C144,1,IF(OFFSET('Fiche score'!$A$2,VLOOKUP(RIGHT(AI144,2),Feuil1!A:C,2,FALSE)-2,VLOOKUP(RIGHT(AI144,2),Feuil1!A:C,3,FALSE))=A144 & CHAR(10) & C144,1,\"0\")))))","v":""},{"$f":"IF(ISERROR(VLOOKUP(A144 & CHAR(10) &C144,'Fiche tirage dirigé'!I:I,1,FALSE)),0,1)","v":0},{"$f":"IF(ISERROR(VLOOKUP(A144& CHAR(10) &C144,Cadrage!H:H,1,FALSE)),0,1)","v":0},{"$f":"IF(ISERROR(VLOOKUP(A144 & CHAR(10) &C144,'Tableau final'!V:V,1,FALSE)),0,1)","v":0},{"$f":"IF(ISERROR(VLOOKUP(A144 & CHAR(10) &C144,'Tableau final'!W:W,1,FALSE)),0,1)","v":0},{"$f":"IF(ISERROR(VLOOKUP(A144 & CHAR(10) &C144,'Tableau final'!X:X,1,FALSE)),0,1)","v":0},{"$f":"IF(ISERROR(VLOOKUP(A144 & CHAR(10) &C144,'Tableau final'!Y:Y,1,FALSE)),0,1)","v":0},{"$f":"IF(ISERROR(VLOOKUP(A144 & CHAR(10) &C144,'Tableau final'!Z:Z,1,FALSE)),0,1)","v":0},{"$f":"IF('Tableau final'!$A$1<>\"\",IF('Tableau final'!$B$5=\"Qualifiés\",IF(ISERROR(VLOOKUP(A144 & CHAR(10) &C144,'Tableau final'!C:F,1,FALSE)),\"\",IF(AND(VLOOKUP(A144 & CHAR(10) &C144,'Tableau final'!C:F,3,FALSE)<>\"\",VLOOKUP(A144 & CHAR(10) &C144,'Tableau final'!C:F,4,FALSE)=\"x\"),1,\"\")),IF('Tableau final'!$G$5=\"Qualifiés\",IF(ISERROR(VLOOKUP(A144 & CHAR(10) &C144,'Tableau final'!H:K,1,FALSE)),\"\",IF(AND(VLOOKUP(A144 & CHAR(10) &C144,'Tableau final'!H:K,3,FALSE)<>\"\",VLOOKUP(A144 & CHAR(10) &C144,'Tableau final'!H:K,4,FALSE)=\"x\"),1,\"\")),IF('Tableau final'!$L$5=\"Qualifiés\",IF(ISERROR(VLOOKUP(A144 & CHAR(10) &C144,'Tableau final'!M:P,1,FALSE)),\"\",IF(AND(VLOOKUP(A144 & CHAR(10) &C144,'Tableau final'!M:P,3,FALSE)<>\"\",VLOOKUP(A144 & CHAR(10) &C144,'Tableau final'!M:P,4,FALSE)=\"x\"),1,\"\")),\"\"))),\"\")","v":""},"0",{"$f":"IF(ISERROR(VLOOKUP(AI144,Tirage!A:J,1,FALSE)),\"\",IF(VLOOKUP(AI144,Tirage!A:J,1,FALSE)=\"Office \",3,4))","v":""},{"$f":"IF(AJ144=\"0\",4,IF(AJ144=1,3,IF(AJ144=2,IF(OFFSET('Fiche score'!$A$2,VLOOKUP(RIGHT(AI144,2),Feuil1!A:C,2,FALSE),VLOOKUP(RIGHT(AI144,2),Feuil1!A:C,3,FALSE))=A144 & CHAR(10) & C144,1,2),\"\")))","v":""}]
[null,null,null,null,{"$f":"IF(ISERROR(VLOOKUP(C145,AS!$A:$H,7,FALSE)),\"\",VLOOKUP(C145,AS!$A:$H,7,FALSE))","v":""},{"$f":"IF(ISERROR(VLOOKUP(C145,AS!$A:$H,8,FALSE)),\"\",VLOOKUP(C145,AS!$A:$H,8,FALSE))","v":""},null,null,null,null,{"$f":"IF(ISERROR(VLOOKUP(I145,AS!$A:$H,7,FALSE)),\"\",VLOOKUP(I145,AS!$A:$H,7,FALSE))","v":""},{"$f":"IF(ISERROR(VLOOKUP(I145,AS!$A:$H,8,FALSE)),\"\",VLOOKUP(I145,AS!$A:$H,8,FALSE))","v":""},null,null,null,null,{"$f":"IF(ISERROR(VLOOKUP(O145,AS!$A:$H,7,FALSE)),\"\",VLOOKUP(O145,AS!$A:$H,7,FALSE))","v":""},{"$f":"IF(ISERROR(VLOOKUP(O145,AS!$A:$H,8,FALSE)),\"\",VLOOKUP(O145,AS!$A:$H,8,FALSE))","v":""},null,null,null,null,{"$f":"IF(ISERROR(VLOOKUP(U145,AS!$A:$H,7,FALSE)),\"\",VLOOKUP(U145,AS!$A:$H,7,FALSE))","v":""},{"$f":"IF(ISERROR(VLOOKUP(U145,AS!$A:$H,8,FALSE)),\"\",VLOOKUP(U145,AS!$A:$H,8,FALSE))","v":""},null,null,null,null,{"$f":"IF(ISERROR(VLOOKUP(AA145,AS!$A:$H,7,FALSE)),\"\",VLOOKUP(AA145,AS!$A:$H,7,FALSE))","v":""},{"$f":"IF(ISERROR(VLOOKUP(AA145,AS!$A:$H,8,FALSE)),\"\",VLOOKUP(AA145,AS!$A:$H,8,FALSE))","v":""},null,null,null,"",null,{"$f":"IF(AI145=\"\",\"\",IF(OFFSET('Fiche score'!$A$2,VLOOKUP(RIGHT(AI145,2),Feuil1!A:C,2,FALSE),VLOOKUP(RIGHT(AI145,2),Feuil1!A:C,3,FALSE))=A145 & CHAR(10) & C145,2,IF(OFFSET('Fiche score'!$A$2,VLOOKUP(RIGHT(AI145,2),Feuil1!A:C,2,FALSE)+1,VLOOKUP(RIGHT(AI145,2),Feuil1!A:C,3,FALSE))=A145 & CHAR(10) & C145,2,IF(OFFSET('Fiche score'!$A$2,VLOOKUP(RIGHT(AI145,2),Feuil1!A:C,2,FALSE)-1,VLOOKUP(RIGHT(AI145,2),Feuil1!A:C,3,FALSE))=A145 & CHAR(10) & C145,1,IF(OFFSET('Fiche score'!$A$2,VLOOKUP(RIGHT(AI145,2),Feuil1!A:C,2,FALSE)-2,VLOOKUP(RIGHT(AI145,2),Feuil1!A:C,3,FALSE))=A145 & CHAR(10) & C145,1,\"0\")))))","v":""},{"$f":"IF(ISERROR(VLOOKUP(A145 & CHAR(10) &C145,'Fiche tirage dirigé'!I:I,1,FALSE)),0,1)","v":0},{"$f":"IF(ISERROR(VLOOKUP(A145& CHAR(10) &C145,Cadrage!H:H,1,FALSE)),0,1)","v":0},{"$f":"IF(ISERROR(VLOOKUP(A145 & CHAR(10) &C145,'Tableau final'!V:V,1,FALSE)),0,1)","v":0},{"$f":"IF(ISERROR(VLOOKUP(A145 & CHAR(10) &C145,'Tableau final'!W:W,1,FALSE)),0,1)","v":0},{"$f":"IF(ISERROR(VLOOKUP(A145 & CHAR(10) &C145,'Tableau final'!X:X,1,FALSE)),0,1)","v":0},{"$f":"IF(ISERROR(VLOOKUP(A145 & CHAR(10) &C145,'Tableau final'!Y:Y,1,FALSE)),0,1)","v":0},{"$f":"IF(ISERROR(VLOOKUP(A145 & CHAR(10) &C145,'Tableau final'!Z:Z,1,FALSE)),0,1)","v":0},{"$f":"IF('Tableau final'!$A$1<>\"\",IF('Tableau final'!$B$5=\"Qualifiés\",IF(ISERROR(VLOOKUP(A145 & CHAR(10) &C145,'Tableau final'!C:F,1,FALSE)),\"\",IF(AND(VLOOKUP(A145 & CHAR(10) &C145,'Tableau final'!C:F,3,FALSE)<>\"\",VLOOKUP(A145 & CHAR(10) &C145,'Tableau final'!C:F,4,FALSE)=\"x\"),1,\"\")),IF('Tableau final'!$G$5=\"Qualifiés\",IF(ISERROR(VLOOKUP(A145 & CHAR(10) &C145,'Tableau final'!H:K,1,FALSE)),\"\",IF(AND(VLOOKUP(A145 & CHAR(10) &C145,'Tableau final'!H:K,3,FALSE)<>\"\",VLOOKUP(A145 & CHAR(10) &C145,'Tableau final'!H:K,4,FALSE)=\"x\"),1,\"\")),IF('Tableau final'!$L$5=\"Qualifiés\",IF(ISERROR(VLOOKUP(A145 & CHAR(10) &C145,'Tableau final'!M:P,1,FALSE)),\"\",IF(AND(VLOOKUP(A145 & CHAR(10) &C145,'Tableau final'!M:P,3,FALSE)<>\"\",VLOOKUP(A145 & CHAR(10) &C145,'Tableau final'!M:P,4,FALSE)=\"x\"),1,\"\")),\"\"))),\"\")","v":""},"0",{"$f":"IF(ISERROR(VLOOKUP(AI145,Tirage!A:J,1,FALSE)),\"\",IF(VLOOKUP(AI145,Tirage!A:J,1,FALSE)=\"Office \",3,4))","v":""},{"$f":"IF(AJ145=\"0\",4,IF(AJ145=1,3,IF(AJ145=2,IF(OFFSET('Fiche score'!$A$2,VLOOKUP(RIGHT(AI145,2),Feuil1!A:C,2,FALSE),VLOOKUP(RIGHT(AI145,2),Feuil1!A:C,3,FALSE))=A145 & CHAR(10) & C145,1,2),\"\")))","v":""}]
[null,null,null,null,{"$f":"IF(ISERROR(VLOOKUP(C146,AS!$A:$H,7,FALSE)),\"\",VLOOKUP(C146,AS!$A:$H,7,FALSE))","v":""},{"$f":"IF(ISERROR(VLOOKUP(C146,AS!$A:$H,8,FALSE)),\"\",VLOOKUP(C146,AS!$A:$H,8,FALSE))","v":""},null,null,null,null,{"$f":"IF(ISERROR(VLOOKUP(I146,AS!$A:$H,7,FALSE)),\"\",VLOOKUP(I146,AS!$A:$H,7,FALSE))","v":""},{"$f":"IF(ISERROR(VLOOKUP(I146,AS!$A:$H,8,FALSE)),\"\",VLOOKUP(I146,AS!$A:$H,8,FALSE))","v":""},null,null,null,null,{"$f":"IF(ISERROR(VLOOKUP(O146,AS!$A:$H,7,FALSE)),\"\",VLOOKUP(O146,AS!$A:$H,7,FALSE))","v":""},{"$f":"IF(ISERROR(VLOOKUP(O146,AS!$A:$H,8,FALSE)),\"\",VLOOKUP(O146,AS!$A:$H,8,FALSE))","v":""},null,null,null,null,{"$f":"IF(ISERROR(VLOOKUP(U146,AS!$A:$H,7,FALSE)),\"\",VLOOKUP(U146,AS!$A:$H,7,FALSE))","v":""},{"$f":"IF(ISERROR(VLOOKUP(U146,AS!$A:$H,8,FALSE)),\"\",VLOOKUP(U146,AS!$A:$H,8,FALSE))","v":""},null,null,null,null,{"$f":"IF(ISERROR(VLOOKUP(AA146,AS!$A:$H,7,FALSE)),\"\",VLOOKUP(AA146,AS!$A:$H,7,FALSE))","v":""},{"$f":"IF(ISERROR(VLOOKUP(AA146,AS!$A:$H,8,FALSE)),\"\",VLOOKUP(AA146,AS!$A:$H,8,FALSE))","v":""},null,null,null,"",null,{"$f":"IF(AI146=\"\",\"\",IF(OFFSET('Fiche score'!$A$2,VLOOKUP(RIGHT(AI146,2),Feuil1!A:C,2,FALSE),VLOOKUP(RIGHT(AI146,2),Feuil1!A:C,3,FALSE))=A146 & CHAR(10) & C146,2,IF(OFFSET('Fiche score'!$A$2,VLOOKUP(RIGHT(AI146,2),Feuil1!A:C,2,FALSE)+1,VLOOKUP(RIGHT(AI146,2),Feuil1!A:C,3,FALSE))=A146 & CHAR(10) & C146,2,IF(OFFSET('Fiche score'!$A$2,VLOOKUP(RIGHT(AI146,2),Feuil1!A:C,2,FALSE)-1,VLOOKUP(RIGHT(AI146,2),Feuil1!A:C,3,FALSE))=A146 & CHAR(10) & C146,1,IF(OFFSET('Fiche score'!$A$2,VLOOKUP(RIGHT(AI146,2),Feuil1!A:C,2,FALSE)-2,VLOOKUP(RIGHT(AI146,2),Feuil1!A:C,3,FALSE))=A146 & CHAR(10) & C146,1,\"0\")))))","v":""},{"$f":"IF(ISERROR(VLOOKUP(A146 & CHAR(10) &C146,'Fiche tirage dirigé'!I:I,1,FALSE)),0,1)","v":0},{"$f":"IF(ISERROR(VLOOKUP(A146& CHAR(10) &C146,Cadrage!H:H,1,FALSE)),0,1)","v":0},{"$f":"IF(ISERROR(VLOOKUP(A146 & CHAR(10) &C146,'Tableau final'!V:V,1,FALSE)),0,1)","v":0},{"$f":"IF(ISERROR(VLOOKUP(A146 & CHAR(10) &C146,'Tableau final'!W:W,1,FALSE)),0,1)","v":0},{"$f":"IF(ISERROR(VLOOKUP(A146 & CHAR(10) &C146,'Tableau final'!X:X,1,FALSE)),0,1)","v":0},{"$f":"IF(ISERROR(VLOOKUP(A146 & CHAR(10) &C146,'Tableau final'!Y:Y,1,FALSE)),0,1)","v":0},{"$f":"IF(ISERROR(VLOOKUP(A146 & CHAR(10) &C146,'Tableau final'!Z:Z,1,FALSE)),0,1)","v":0},{"$f":"IF('Tableau final'!$A$1<>\"\",IF('Tableau final'!$B$5=\"Qualifiés\",IF(ISERROR(VLOOKUP(A146 & CHAR(10) &C146,'Tableau final'!C:F,1,FALSE)),\"\",IF(AND(VLOOKUP(A146 & CHAR(10) &C146,'Tableau final'!C:F,3,FALSE)<>\"\",VLOOKUP(A146 & CHAR(10) &C146,'Tableau final'!C:F,4,FALSE)=\"x\"),1,\"\")),IF('Tableau final'!$G$5=\"Qualifiés\",IF(ISERROR(VLOOKUP(A146 & CHAR(10) &C146,'Tableau final'!H:K,1,FALSE)),\"\",IF(AND(VLOOKUP(A146 & CHAR(10) &C146,'Tableau final'!H:K,3,FALSE)<>\"\",VLOOKUP(A146 & CHAR(10) &C146,'Tableau final'!H:K,4,FALSE)=\"x\"),1,\"\")),IF('Tableau final'!$L$5=\"Qualifiés\",IF(ISERROR(VLOOKUP(A146 & CHAR(10) &C146,'Tableau final'!M:P,1,FALSE)),\"\",IF(AND(VLOOKUP(A146 & CHAR(10) &C146,'Tableau final'!M:P,3,FALSE)<>\"\",VLOOKUP(A146 & CHAR(10) &C146,'Tableau final'!M:P,4,FALSE)=\"x\"),1,\"\")),\"\"))),\"\")","v":""},"0",{"$f":"IF(ISERROR(VLOOKUP(AI146,Tirage!A:J,1,FALSE)),\"\",IF(VLOOKUP(AI146,Tirage!A:J,1,FALSE)=\"Office \",3,4))","v":""},{"$f":"IF(AJ146=\"0\",4,IF(AJ146=1,3,IF(AJ146=2,IF(OFFSET('Fiche score'!$A$2,VLOOKUP(RIGHT(AI146,2),Feuil1!A:C,2,FALSE),VLOOKUP(RIGHT(AI146,2),Feuil1!A:C,3,FALSE))=A146 & CHAR(10) & C146,1,2),\"\")))","v":""}]
[null,null,null,null,{"$f":"IF(ISERROR(VLOOKUP(C147,AS!$A:$H,7,FALSE)),\"\",VLOOKUP(C147,AS!$A:$H,7,FALSE))","v":""},{"$f":"IF(ISERROR(VLOOKUP(C147,AS!$A:$H,8,FALSE)),\"\",VLOOKUP(C147,AS!$A:$H,8,FALSE))","v":""},null,null,null,null,{"$f":"IF(ISERROR(VLOOKUP(I147,AS!$A:$H,7,FALSE)),\"\",VLOOKUP(I147,AS!$A:$H,7,FALSE))","v":""},{"$f":"IF(ISERROR(VLOOKUP(I147,AS!$A:$H,8,FALSE)),\"\",VLOOKUP(I147,AS!$A:$H,8,FALSE))","v":""},null,null,null,null,{"$f":"IF(ISERROR(VLOOKUP(O147,AS!$A:$H,7,FALSE)),\"\",VLOOKUP(O147,AS!$A:$H,7,FALSE))","v":""},{"$f":"IF(ISERROR(VLOOKUP(O147,AS!$A:$H,8,FALSE)),\"\",VLOOKUP(O147,AS!$A:$H,8,FALSE))","v":""},null,null,null,null,{"$f":"IF(ISERROR(VLOOKUP(U147,AS!$A:$H,7,FALSE)),\"\",VLOOKUP(U147,AS!$A:$H,7,FALSE))","v":""},{"$f":"IF(ISERROR(VLOOKUP(U147,AS!$A:$H,8,FALSE)),\"\",VLOOKUP(U147,AS!$A:$H,8,FALSE))","v":""},null,null,null,null,{"$f":"IF(ISERROR(VLOOKUP(AA147,AS!$A:$H,7,FALSE)),\"\",VLOOKUP(AA147,AS!$A:$H,7,FALSE))","v":""},{"$f":"IF(ISERROR(VLOOKUP(AA147,AS!$A:$H,8,FALSE)),\"\",VLOOKUP(AA147,AS!$A:$H,8,FALSE))","v":""},null,null,null,"",null,{"$f":"IF(AI147=\"\",\"\",IF(OFFSET('Fiche score'!$A$2,VLOOKUP(RIGHT(AI147,2),Feuil1!A:C,2,FALSE),VLOOKUP(RIGHT(AI147,2),Feuil1!A:C,3,FALSE))=A147 & CHAR(10) & C147,2,IF(OFFSET('Fiche score'!$A$2,VLOOKUP(RIGHT(AI147,2),Feuil1!A:C,2,FALSE)+1,VLOOKUP(RIGHT(AI147,2),Feuil1!A:C,3,FALSE))=A147 & CHAR(10) & C147,2,IF(OFFSET('Fiche score'!$A$2,VLOOKUP(RIGHT(AI147,2),Feuil1!A:C,2,FALSE)-1,VLOOKUP(RIGHT(AI147,2),Feuil1!A:C,3,FALSE))=A147 & CHAR(10) & C147,1,IF(OFFSET('Fiche score'!$A$2,VLOOKUP(RIGHT(AI147,2),Feuil1!A:C,2,FALSE)-2,VLOOKUP(RIGHT(AI147,2),Feuil1!A:C,3,FALSE))=A147 & CHAR(10) & C147,1,\"0\")))))","v":""},{"$f":"IF(ISERROR(VLOOKUP(A147 & CHAR(10) &C147,'Fiche tirage dirigé'!I:I,1,FALSE)),0,1)","v":0},{"$f":"IF(ISERROR(VLOOKUP(A147& CHAR(10) &C147,Cadrage!H:H,1,FALSE)),0,1)","v":0},{"$f":"IF(ISERROR(VLOOKUP(A147 & CHAR(10) &C147,'Tableau final'!V:V,1,FALSE)),0,1)","v":0},{"$f":"IF(ISERROR(VLOOKUP(A147 & CHAR(10) &C147,'Tableau final'!W:W,1,FALSE)),0,1)","v":0},{"$f":"IF(ISERROR(VLOOKUP(A147 & CHAR(10) &C147,'Tableau final'!X:X,1,FALSE)),0,1)","v":0},{"$f":"IF(ISERROR(VLOOKUP(A147 & CHAR(10) &C147,'Tableau final'!Y:Y,1,FALSE)),0,1)","v":0},{"$f":"IF(ISERROR(VLOOKUP(A147 & CHAR(10) &C147,'Tableau final'!Z:Z,1,FALSE)),0,1)","v":0},{"$f":"IF('Tableau final'!$A$1<>\"\",IF('Tableau final'!$B$5=\"Qualifiés\",IF(ISERROR(VLOOKUP(A147 & CHAR(10) &C147,'Tableau final'!C:F,1,FALSE)),\"\",IF(AND(VLOOKUP(A147 & CHAR(10) &C147,'Tableau final'!C:F,3,FALSE)<>\"\",VLOOKUP(A147 & CHAR(10) &C147,'Tableau final'!C:F,4,FALSE)=\"x\"),1,\"\")),IF('Tableau final'!$G$5=\"Qualifiés\",IF(ISERROR(VLOOKUP(A147 & CHAR(10) &C147,'Tableau final'!H:K,1,FALSE)),\"\",IF(AND(VLOOKUP(A147 & CHAR(10) &C147,'Tableau final'!H:K,3,FALSE)<>\"\",VLOOKUP(A147 & CHAR(10) &C147,'Tableau final'!H:K,4,FALSE)=\"x\"),1,\"\")),IF('Tableau final'!$L$5=\"Qualifiés\",IF(ISERROR(VLOOKUP(A147 & CHAR(10) &C147,'Tableau final'!M:P,1,FALSE)),\"\",IF(AND(VLOOKUP(A147 & CHAR(10) &C147,'Tableau final'!M:P,3,FALSE)<>\"\",VLOOKUP(A147 & CHAR(10) &C147,'Tableau final'!M:P,4,FALSE)=\"x\"),1,\"\")),\"\"))),\"\")","v":""},"0",{"$f":"IF(ISERROR(VLOOKUP(AI147,Tirage!A:J,1,FALSE)),\"\",IF(VLOOKUP(AI147,Tirage!A:J,1,FALSE)=\"Office \",3,4))","v":""},{"$f":"IF(AJ147=\"0\",4,IF(AJ147=1,3,IF(AJ147=2,IF(OFFSET('Fiche score'!$A$2,VLOOKUP(RIGHT(AI147,2),Feuil1!A:C,2,FALSE),VLOOKUP(RIGHT(AI147,2),Feuil1!A:C,3,FALSE))=A147 & CHAR(10) & C147,1,2),\"\")))","v":""}]
[null,null,null,null,{"$f":"IF(ISERROR(VLOOKUP(C148,AS!$A:$H,7,FALSE)),\"\",VLOOKUP(C148,AS!$A:$H,7,FALSE))","v":""},{"$f":"IF(ISERROR(VLOOKUP(C148,AS!$A:$H,8,FALSE)),\"\",VLOOKUP(C148,AS!$A:$H,8,FALSE))","v":""},null,null,null,null,{"$f":"IF(ISERROR(VLOOKUP(I148,AS!$A:$H,7,FALSE)),\"\",VLOOKUP(I148,AS!$A:$H,7,FALSE))","v":""},{"$f":"IF(ISERROR(VLOOKUP(I148,AS!$A:$H,8,FALSE)),\"\",VLOOKUP(I148,AS!$A:$H,8,FALSE))","v":""},null,null,null,null,{"$f":"IF(ISERROR(VLOOKUP(O148,AS!$A:$H,7,FALSE)),\"\",VLOOKUP(O148,AS!$A:$H,7,FALSE))","v":""},{"$f":"IF(ISERROR(VLOOKUP(O148,AS!$A:$H,8,FALSE)),\"\",VLOOKUP(O148,AS!$A:$H,8,FALSE))","v":""},null,null,null,null,{"$f":"IF(ISERROR(VLOOKUP(U148,AS!$A:$H,7,FALSE)),\"\",VLOOKUP(U148,AS!$A:$H,7,FALSE))","v":""},{"$f":"IF(ISERROR(VLOOKUP(U148,AS!$A:$H,8,FALSE)),\"\",VLOOKUP(U148,AS!$A:$H,8,FALSE))","v":""},null,null,null,null,{"$f":"IF(ISERROR(VLOOKUP(AA148,AS!$A:$H,7,FALSE)),\"\",VLOOKUP(AA148,AS!$A:$H,7,FALSE))","v":""},{"$f":"IF(ISERROR(VLOOKUP(AA148,AS!$A:$H,8,FALSE)),\"\",VLOOKUP(AA148,AS!$A:$H,8,FALSE))","v":""},null,null,null,"",null,{"$f":"IF(AI148=\"\",\"\",IF(OFFSET('Fiche score'!$A$2,VLOOKUP(RIGHT(AI148,2),Feuil1!A:C,2,FALSE),VLOOKUP(RIGHT(AI148,2),Feuil1!A:C,3,FALSE))=A148 & CHAR(10) & C148,2,IF(OFFSET('Fiche score'!$A$2,VLOOKUP(RIGHT(AI148,2),Feuil1!A:C,2,FALSE)+1,VLOOKUP(RIGHT(AI148,2),Feuil1!A:C,3,FALSE))=A148 & CHAR(10) & C148,2,IF(OFFSET('Fiche score'!$A$2,VLOOKUP(RIGHT(AI148,2),Feuil1!A:C,2,FALSE)-1,VLOOKUP(RIGHT(AI148,2),Feuil1!A:C,3,FALSE))=A148 & CHAR(10) & C148,1,IF(OFFSET('Fiche score'!$A$2,VLOOKUP(RIGHT(AI148,2),Feuil1!A:C,2,FALSE)-2,VLOOKUP(RIGHT(AI148,2),Feuil1!A:C,3,FALSE))=A148 & CHAR(10) & C148,1,\"0\")))))","v":""},{"$f":"IF(ISERROR(VLOOKUP(A148 & CHAR(10) &C148,'Fiche tirage dirigé'!I:I,1,FALSE)),0,1)","v":0},{"$f":"IF(ISERROR(VLOOKUP(A148& CHAR(10) &C148,Cadrage!H:H,1,FALSE)),0,1)","v":0},{"$f":"IF(ISERROR(VLOOKUP(A148 & CHAR(10) &C148,'Tableau final'!V:V,1,FALSE)),0,1)","v":0},{"$f":"IF(ISERROR(VLOOKUP(A148 & CHAR(10) &C148,'Tableau final'!W:W,1,FALSE)),0,1)","v":0},{"$f":"IF(ISERROR(VLOOKUP(A148 & CHAR(10) &C148,'Tableau final'!X:X,1,FALSE)),0,1)","v":0},{"$f":"IF(ISERROR(VLOOKUP(A148 & CHAR(10) &C148,'Tableau final'!Y:Y,1,FALSE)),0,1)","v":0},{"$f":"IF(ISERROR(VLOOKUP(A148 & CHAR(10) &C148,'Tableau final'!Z:Z,1,FALSE)),0,1)","v":0},{"$f":"IF('Tableau final'!$A$1<>\"\",IF('Tableau final'!$B$5=\"Qualifiés\",IF(ISERROR(VLOOKUP(A148 & CHAR(10) &C148,'Tableau final'!C:F,1,FALSE)),\"\",IF(AND(VLOOKUP(A148 & CHAR(10) &C148,'Tableau final'!C:F,3,FALSE)<>\"\",VLOOKUP(A148 & CHAR(10) &C148,'Tableau final'!C:F,4,FALSE)=\"x\"),1,\"\")),IF('Tableau final'!$G$5=\"Qualifiés\",IF(ISERROR(VLOOKUP(A148 & CHAR(10) &C148,'Tableau final'!H:K,1,FALSE)),\"\",IF(AND(VLOOKUP(A148 & CHAR(10) &C148,'Tableau final'!H:K,3,FALSE)<>\"\",VLOOKUP(A148 & CHAR(10) &C148,'Tableau final'!H:K,4,FALSE)=\"x\"),1,\"\")),IF('Tableau final'!$L$5=\"Qualifiés\",IF(ISERROR(VLOOKUP(A148 & CHAR(10) &C148,'Tableau final'!M:P,1,FALSE)),\"\",IF(AND(VLOOKUP(A148 & CHAR(10) &C148,'Tableau final'!M:P,3,FALSE)<>\"\",VLOOKUP(A148 & CHAR(10) &C148,'Tableau final'!M:P,4,FALSE)=\"x\"),1,\"\")),\"\"))),\"\")","v":""},"0",{"$f":"IF(ISERROR(VLOOKUP(AI148,Tirage!A:J,1,FALSE)),\"\",IF(VLOOKUP(AI148,Tirage!A:J,1,FALSE)=\"Office \",3,4))","v":""},{"$f":"IF(AJ148=\"0\",4,IF(AJ148=1,3,IF(AJ148=2,IF(OFFSET('Fiche score'!$A$2,VLOOKUP(RIGHT(AI148,2),Feuil1!A:C,2,FALSE),VLOOKUP(RIGHT(AI148,2),Feuil1!A:C,3,FALSE))=A148 & CHAR(10) & C148,1,2),\"\")))","v":""}]
[null,null,null,null,{"$f":"IF(ISERROR(VLOOKUP(C149,AS!$A:$H,7,FALSE)),\"\",VLOOKUP(C149,AS!$A:$H,7,FALSE))","v":""},{"$f":"IF(ISERROR(VLOOKUP(C149,AS!$A:$H,8,FALSE)),\"\",VLOOKUP(C149,AS!$A:$H,8,FALSE))","v":""},null,null,null,null,{"$f":"IF(ISERROR(VLOOKUP(I149,AS!$A:$H,7,FALSE)),\"\",VLOOKUP(I149,AS!$A:$H,7,FALSE))","v":""},{"$f":"IF(ISERROR(VLOOKUP(I149,AS!$A:$H,8,FALSE)),\"\",VLOOKUP(I149,AS!$A:$H,8,FALSE))","v":""},null,null,null,null,{"$f":"IF(ISERROR(VLOOKUP(O149,AS!$A:$H,7,FALSE)),\"\",VLOOKUP(O149,AS!$A:$H,7,FALSE))","v":""},{"$f":"IF(ISERROR(VLOOKUP(O149,AS!$A:$H,8,FALSE)),\"\",VLOOKUP(O149,AS!$A:$H,8,FALSE))","v":""},null,null,null,null,{"$f":"IF(ISERROR(VLOOKUP(U149,AS!$A:$H,7,FALSE)),\"\",VLOOKUP(U149,AS!$A:$H,7,FALSE))","v":""},{"$f":"IF(ISERROR(VLOOKUP(U149,AS!$A:$H,8,FALSE)),\"\",VLOOKUP(U149,AS!$A:$H,8,FALSE))","v":""},null,null,null,null,{"$f":"IF(ISERROR(VLOOKUP(AA149,AS!$A:$H,7,FALSE)),\"\",VLOOKUP(AA149,AS!$A:$H,7,FALSE))","v":""},{"$f":"IF(ISERROR(VLOOKUP(AA149,AS!$A:$H,8,FALSE)),\"\",VLOOKUP(AA149,AS!$A:$H,8,FALSE))","v":""},null,null,null,"",null,{"$f":"IF(AI149=\"\",\"\",IF(OFFSET('Fiche score'!$A$2,VLOOKUP(RIGHT(AI149,2),Feuil1!A:C,2,FALSE),VLOOKUP(RIGHT(AI149,2),Feuil1!A:C,3,FALSE))=A149 & CHAR(10) & C149,2,IF(OFFSET('Fiche score'!$A$2,VLOOKUP(RIGHT(AI149,2),Feuil1!A:C,2,FALSE)+1,VLOOKUP(RIGHT(AI149,2),Feuil1!A:C,3,FALSE))=A149 & CHAR(10) & C149,2,IF(OFFSET('Fiche score'!$A$2,VLOOKUP(RIGHT(AI149,2),Feuil1!A:C,2,FALSE)-1,VLOOKUP(RIGHT(AI149,2),Feuil1!A:C,3,FALSE))=A149 & CHAR(10) & C149,1,IF(OFFSET('Fiche score'!$A$2,VLOOKUP(RIGHT(AI149,2),Feuil1!A:C,2,FALSE)-2,VLOOKUP(RIGHT(AI149,2),Feuil1!A:C,3,FALSE))=A149 & CHAR(10) & C149,1,\"0\")))))","v":""},{"$f":"IF(ISERROR(VLOOKUP(A149 & CHAR(10) &C149,'Fiche tirage dirigé'!I:I,1,FALSE)),0,1)","v":0},{"$f":"IF(ISERROR(VLOOKUP(A149& CHAR(10) &C149,Cadrage!H:H,1,FALSE)),0,1)","v":0},{"$f":"IF(ISERROR(VLOOKUP(A149 & CHAR(10) &C149,'Tableau final'!V:V,1,FALSE)),0,1)","v":0},{"$f":"IF(ISERROR(VLOOKUP(A149 & CHAR(10) &C149,'Tableau final'!W:W,1,FALSE)),0,1)","v":0},{"$f":"IF(ISERROR(VLOOKUP(A149 & CHAR(10) &C149,'Tableau final'!X:X,1,FALSE)),0,1)","v":0},{"$f":"IF(ISERROR(VLOOKUP(A149 & CHAR(10) &C149,'Tableau final'!Y:Y,1,FALSE)),0,1)","v":0},{"$f":"IF(ISERROR(VLOOKUP(A149 & CHAR(10) &C149,'Tableau final'!Z:Z,1,FALSE)),0,1)","v":0},{"$f":"IF('Tableau final'!$A$1<>\"\",IF('Tableau final'!$B$5=\"Qualifiés\",IF(ISERROR(VLOOKUP(A149 & CHAR(10) &C149,'Tableau final'!C:F,1,FALSE)),\"\",IF(AND(VLOOKUP(A149 & CHAR(10) &C149,'Tableau final'!C:F,3,FALSE)<>\"\",VLOOKUP(A149 & CHAR(10) &C149,'Tableau final'!C:F,4,FALSE)=\"x\"),1,\"\")),IF('Tableau final'!$G$5=\"Qualifiés\",IF(ISERROR(VLOOKUP(A149 & CHAR(10) &C149,'Tableau final'!H:K,1,FALSE)),\"\",IF(AND(VLOOKUP(A149 & CHAR(10) &C149,'Tableau final'!H:K,3,FALSE)<>\"\",VLOOKUP(A149 & CHAR(10) &C149,'Tableau final'!H:K,4,FALSE)=\"x\"),1,\"\")),IF('Tableau final'!$L$5=\"Qualifiés\",IF(ISERROR(VLOOKUP(A149 & CHAR(10) &C149,'Tableau final'!M:P,1,FALSE)),\"\",IF(AND(VLOOKUP(A149 & CHAR(10) &C149,'Tableau final'!M:P,3,FALSE)<>\"\",VLOOKUP(A149 & CHAR(10) &C149,'Tableau final'!M:P,4,FALSE)=\"x\"),1,\"\")),\"\"))),\"\")","v":""},"0",{"$f":"IF(ISERROR(VLOOKUP(AI149,Tirage!A:J,1,FALSE)),\"\",IF(VLOOKUP(AI149,Tirage!A:J,1,FALSE)=\"Office \",3,4))","v":""},{"$f":"IF(AJ149=\"0\",4,IF(AJ149=1,3,IF(AJ149=2,IF(OFFSET('Fiche score'!$A$2,VLOOKUP(RIGHT(AI149,2),Feuil1!A:C,2,FALSE),VLOOKUP(RIGHT(AI149,2),Feuil1!A:C,3,FALSE))=A149 & CHAR(10) & C149,1,2),\"\")))","v":""}]
[null,null,null,null,{"$f":"IF(ISERROR(VLOOKUP(C150,AS!$A:$H,7,FALSE)),\"\",VLOOKUP(C150,AS!$A:$H,7,FALSE))","v":""},{"$f":"IF(ISERROR(VLOOKUP(C150,AS!$A:$H,8,FALSE)),\"\",VLOOKUP(C150,AS!$A:$H,8,FALSE))","v":""},null,null,null,null,{"$f":"IF(ISERROR(VLOOKUP(I150,AS!$A:$H,7,FALSE)),\"\",VLOOKUP(I150,AS!$A:$H,7,FALSE))","v":""},{"$f":"IF(ISERROR(VLOOKUP(I150,AS!$A:$H,8,FALSE)),\"\",VLOOKUP(I150,AS!$A:$H,8,FALSE))","v":""},null,null,null,null,{"$f":"IF(ISERROR(VLOOKUP(O150,AS!$A:$H,7,FALSE)),\"\",VLOOKUP(O150,AS!$A:$H,7,FALSE))","v":""},{"$f":"IF(ISERROR(VLOOKUP(O150,AS!$A:$H,8,FALSE)),\"\",VLOOKUP(O150,AS!$A:$H,8,FALSE))","v":""},null,null,null,null,{"$f":"IF(ISERROR(VLOOKUP(U150,AS!$A:$H,7,FALSE)),\"\",VLOOKUP(U150,AS!$A:$H,7,FALSE))","v":""},{"$f":"IF(ISERROR(VLOOKUP(U150,AS!$A:$H,8,FALSE)),\"\",VLOOKUP(U150,AS!$A:$H,8,FALSE))","v":""},null,null,null,null,{"$f":"IF(ISERROR(VLOOKUP(AA150,AS!$A:$H,7,FALSE)),\"\",VLOOKUP(AA150,AS!$A:$H,7,FALSE))","v":""},{"$f":"IF(ISERROR(VLOOKUP(AA150,AS!$A:$H,8,FALSE)),\"\",VLOOKUP(AA150,AS!$A:$H,8,FALSE))","v":""},null,null,null,"",null,{"$f":"IF(AI150=\"\",\"\",IF(OFFSET('Fiche score'!$A$2,VLOOKUP(RIGHT(AI150,2),Feuil1!A:C,2,FALSE),VLOOKUP(RIGHT(AI150,2),Feuil1!A:C,3,FALSE))=A150 & CHAR(10) & C150,2,IF(OFFSET('Fiche score'!$A$2,VLOOKUP(RIGHT(AI150,2),Feuil1!A:C,2,FALSE)+1,VLOOKUP(RIGHT(AI150,2),Feuil1!A:C,3,FALSE))=A150 & CHAR(10) & C150,2,IF(OFFSET('Fiche score'!$A$2,VLOOKUP(RIGHT(AI150,2),Feuil1!A:C,2,FALSE)-1,VLOOKUP(RIGHT(AI150,2),Feuil1!A:C,3,FALSE))=A150 & CHAR(10) & C150,1,IF(OFFSET('Fiche score'!$A$2,VLOOKUP(RIGHT(AI150,2),Feuil1!A:C,2,FALSE)-2,VLOOKUP(RIGHT(AI150,2),Feuil1!A:C,3,FALSE))=A150 & CHAR(10) & C150,1,\"0\")))))","v":""},{"$f":"IF(ISERROR(VLOOKUP(A150 & CHAR(10) &C150,'Fiche tirage dirigé'!I:I,1,FALSE)),0,1)","v":0},{"$f":"IF(ISERROR(VLOOKUP(A150& CHAR(10) &C150,Cadrage!H:H,1,FALSE)),0,1)","v":0},{"$f":"IF(ISERROR(VLOOKUP(A150 & CHAR(10) &C150,'Tableau final'!V:V,1,FALSE)),0,1)","v":0},{"$f":"IF(ISERROR(VLOOKUP(A150 & CHAR(10) &C150,'Tableau final'!W:W,1,FALSE)),0,1)","v":0},{"$f":"IF(ISERROR(VLOOKUP(A150 & CHAR(10) &C150,'Tableau final'!X:X,1,FALSE)),0,1)","v":0},{"$f":"IF(ISERROR(VLOOKUP(A150 & CHAR(10) &C150,'Tableau final'!Y:Y,1,FALSE)),0,1)","v":0},{"$f":"IF(ISERROR(VLOOKUP(A150 & CHAR(10) &C150,'Tableau final'!Z:Z,1,FALSE)),0,1)","v":0},{"$f":"IF('Tableau final'!$A$1<>\"\",IF('Tableau final'!$B$5=\"Qualifiés\",IF(ISERROR(VLOOKUP(A150 & CHAR(10) &C150,'Tableau final'!C:F,1,FALSE)),\"\",IF(AND(VLOOKUP(A150 & CHAR(10) &C150,'Tableau final'!C:F,3,FALSE)<>\"\",VLOOKUP(A150 & CHAR(10) &C150,'Tableau final'!C:F,4,FALSE)=\"x\"),1,\"\")),IF('Tableau final'!$G$5=\"Qualifiés\",IF(ISERROR(VLOOKUP(A150 & CHAR(10) &C150,'Tableau final'!H:K,1,FALSE)),\"\",IF(AND(VLOOKUP(A150 & CHAR(10) &C150,'Tableau final'!H:K,3,FALSE)<>\"\",VLOOKUP(A150 & CHAR(10) &C150,'Tableau final'!H:K,4,FALSE)=\"x\"),1,\"\")),IF('Tableau final'!$L$5=\"Qualifiés\",IF(ISERROR(VLOOKUP(A150 & CHAR(10) &C150,'Tableau final'!M:P,1,FALSE)),\"\",IF(AND(VLOOKUP(A150 & CHAR(10) &C150,'Tableau final'!M:P,3,FALSE)<>\"\",VLOOKUP(A150 & CHAR(10) &C150,'Tableau final'!M:P,4,FALSE)=\"x\"),1,\"\")),\"\"))),\"\")","v":""},"0",{"$f":"IF(ISERROR(VLOOKUP(AI150,Tirage!A:J,1,FALSE)),\"\",IF(VLOOKUP(AI150,Tirage!A:J,1,FALSE)=\"Office \",3,4))","v":""},{"$f":"IF(AJ150=\"0\",4,IF(AJ150=1,3,IF(AJ150=2,IF(OFFSET('Fiche score'!$A$2,VLOOKUP(RIGHT(AI150,2),Feuil1!A:C,2,FALSE),VLOOKUP(RIGHT(AI150,2),Feuil1!A:C,3,FALSE))=A150 & CHAR(10) & C150,1,2),\"\")))","v":""}]
[null,null,null,null,{"$f":"IF(ISERROR(VLOOKUP(C151,AS!$A:$H,7,FALSE)),\"\",VLOOKUP(C151,AS!$A:$H,7,FALSE))","v":""},{"$f":"IF(ISERROR(VLOOKUP(C151,AS!$A:$H,8,FALSE)),\"\",VLOOKUP(C151,AS!$A:$H,8,FALSE))","v":""},null,null,null,null,{"$f":"IF(ISERROR(VLOOKUP(I151,AS!$A:$H,7,FALSE)),\"\",VLOOKUP(I151,AS!$A:$H,7,FALSE))","v":""},{"$f":"IF(ISERROR(VLOOKUP(I151,AS!$A:$H,8,FALSE)),\"\",VLOOKUP(I151,AS!$A:$H,8,FALSE))","v":""},null,null,null,null,{"$f":"IF(ISERROR(VLOOKUP(O151,AS!$A:$H,7,FALSE)),\"\",VLOOKUP(O151,AS!$A:$H,7,FALSE))","v":""},{"$f":"IF(ISERROR(VLOOKUP(O151,AS!$A:$H,8,FALSE)),\"\",VLOOKUP(O151,AS!$A:$H,8,FALSE))","v":""},null,null,null,null,{"$f":"IF(ISERROR(VLOOKUP(U151,AS!$A:$H,7,FALSE)),\"\",VLOOKUP(U151,AS!$A:$H,7,FALSE))","v":""},{"$f":"IF(ISERROR(VLOOKUP(U151,AS!$A:$H,8,FALSE)),\"\",VLOOKUP(U151,AS!$A:$H,8,FALSE))","v":""},null,null,null,null,{"$f":"IF(ISERROR(VLOOKUP(AA151,AS!$A:$H,7,FALSE)),\"\",VLOOKUP(AA151,AS!$A:$H,7,FALSE))","v":""},{"$f":"IF(ISERROR(VLOOKUP(AA151,AS!$A:$H,8,FALSE)),\"\",VLOOKUP(AA151,AS!$A:$H,8,FALSE))","v":""},null,null,null,"",null,{"$f":"IF(AI151=\"\",\"\",IF(OFFSET('Fiche score'!$A$2,VLOOKUP(RIGHT(AI151,2),Feuil1!A:C,2,FALSE),VLOOKUP(RIGHT(AI151,2),Feuil1!A:C,3,FALSE))=A151 & CHAR(10) & C151,2,IF(OFFSET('Fiche score'!$A$2,VLOOKUP(RIGHT(AI151,2),Feuil1!A:C,2,FALSE)+1,VLOOKUP(RIGHT(AI151,2),Feuil1!A:C,3,FALSE))=A151 & CHAR(10) & C151,2,IF(OFFSET('Fiche score'!$A$2,VLOOKUP(RIGHT(AI151,2),Feuil1!A:C,2,FALSE)-1,VLOOKUP(RIGHT(AI151,2),Feuil1!A:C,3,FALSE))=A151 & CHAR(10) & C151,1,IF(OFFSET('Fiche score'!$A$2,VLOOKUP(RIGHT(AI151,2),Feuil1!A:C,2,FALSE)-2,VLOOKUP(RIGHT(AI151,2),Feuil1!A:C,3,FALSE))=A151 & CHAR(10) & C151,1,\"0\")))))","v":""},{"$f":"IF(ISERROR(VLOOKUP(A151 & CHAR(10) &C151,'Fiche tirage dirigé'!I:I,1,FALSE)),0,1)","v":0},{"$f":"IF(ISERROR(VLOOKUP(A151& CHAR(10) &C151,Cadrage!H:H,1,FALSE)),0,1)","v":0},{"$f":"IF(ISERROR(VLOOKUP(A151 & CHAR(10) &C151,'Tableau final'!V:V,1,FALSE)),0,1)","v":0},{"$f":"IF(ISERROR(VLOOKUP(A151 & CHAR(10) &C151,'Tableau final'!W:W,1,FALSE)),0,1)","v":0},{"$f":"IF(ISERROR(VLOOKUP(A151 & CHAR(10) &C151,'Tableau final'!X:X,1,FALSE)),0,1)","v":0},{"$f":"IF(ISERROR(VLOOKUP(A151 & CHAR(10) &C151,'Tableau final'!Y:Y,1,FALSE)),0,1)","v":0},{"$f":"IF(ISERROR(VLOOKUP(A151 & CHAR(10) &C151,'Tableau final'!Z:Z,1,FALSE)),0,1)","v":0},{"$f":"IF('Tableau final'!$A$1<>\"\",IF('Tableau final'!$B$5=\"Qualifiés\",IF(ISERROR(VLOOKUP(A151 & CHAR(10) &C151,'Tableau final'!C:F,1,FALSE)),\"\",IF(AND(VLOOKUP(A151 & CHAR(10) &C151,'Tableau final'!C:F,3,FALSE)<>\"\",VLOOKUP(A151 & CHAR(10) &C151,'Tableau final'!C:F,4,FALSE)=\"x\"),1,\"\")),IF('Tableau final'!$G$5=\"Qualifiés\",IF(ISERROR(VLOOKUP(A151 & CHAR(10) &C151,'Tableau final'!H:K,1,FALSE)),\"\",IF(AND(VLOOKUP(A151 & CHAR(10) &C151,'Tableau final'!H:K,3,FALSE)<>\"\",VLOOKUP(A151 & CHAR(10) &C151,'Tableau final'!H:K,4,FALSE)=\"x\"),1,\"\")),IF('Tableau final'!$L$5=\"Qualifiés\",IF(ISERROR(VLOOKUP(A151 & CHAR(10) &C151,'Tableau final'!M:P,1,FALSE)),\"\",IF(AND(VLOOKUP(A151 & CHAR(10) &C151,'Tableau final'!M:P,3,FALSE)<>\"\",VLOOKUP(A151 & CHAR(10) &C151,'Tableau final'!M:P,4,FALSE)=\"x\"),1,\"\")),\"\"))),\"\")","v":""},"0",{"$f":"IF(ISERROR(VLOOKUP(AI151,Tirage!A:J,1,FALSE)),\"\",IF(VLOOKUP(AI151,Tirage!A:J,1,FALSE)=\"Office \",3,4))","v":""},{"$f":"IF(AJ151=\"0\",4,IF(AJ151=1,3,IF(AJ151=2,IF(OFFSET('Fiche score'!$A$2,VLOOKUP(RIGHT(AI151,2),Feuil1!A:C,2,FALSE),VLOOKUP(RIGHT(AI151,2),Feuil1!A:C,3,FALSE))=A151 & CHAR(10) & C151,1,2),\"\")))","v":""}]
[null,null,null,null,{"$f":"IF(ISERROR(VLOOKUP(C152,AS!$A:$H,7,FALSE)),\"\",VLOOKUP(C152,AS!$A:$H,7,FALSE))","v":""},{"$f":"IF(ISERROR(VLOOKUP(C152,AS!$A:$H,8,FALSE)),\"\",VLOOKUP(C152,AS!$A:$H,8,FALSE))","v":""},null,null,null,null,{"$f":"IF(ISERROR(VLOOKUP(I152,AS!$A:$H,7,FALSE)),\"\",VLOOKUP(I152,AS!$A:$H,7,FALSE))","v":""},{"$f":"IF(ISERROR(VLOOKUP(I152,AS!$A:$H,8,FALSE)),\"\",VLOOKUP(I152,AS!$A:$H,8,FALSE))","v":""},null,null,null,null,{"$f":"IF(ISERROR(VLOOKUP(O152,AS!$A:$H,7,FALSE)),\"\",VLOOKUP(O152,AS!$A:$H,7,FALSE))","v":""},{"$f":"IF(ISERROR(VLOOKUP(O152,AS!$A:$H,8,FALSE)),\"\",VLOOKUP(O152,AS!$A:$H,8,FALSE))","v":""},null,null,null,null,{"$f":"IF(ISERROR(VLOOKUP(U152,AS!$A:$H,7,FALSE)),\"\",VLOOKUP(U152,AS!$A:$H,7,FALSE))","v":""},{"$f":"IF(ISERROR(VLOOKUP(U152,AS!$A:$H,8,FALSE)),\"\",VLOOKUP(U152,AS!$A:$H,8,FALSE))","v":""},null,null,null,null,{"$f":"IF(ISERROR(VLOOKUP(AA152,AS!$A:$H,7,FALSE)),\"\",VLOOKUP(AA152,AS!$A:$H,7,FALSE))","v":""},{"$f":"IF(ISERROR(VLOOKUP(AA152,AS!$A:$H,8,FALSE)),\"\",VLOOKUP(AA152,AS!$A:$H,8,FALSE))","v":""},null,null,null,"",null,{"$f":"IF(AI152=\"\",\"\",IF(OFFSET('Fiche score'!$A$2,VLOOKUP(RIGHT(AI152,2),Feuil1!A:C,2,FALSE),VLOOKUP(RIGHT(AI152,2),Feuil1!A:C,3,FALSE))=A152 & CHAR(10) & C152,2,IF(OFFSET('Fiche score'!$A$2,VLOOKUP(RIGHT(AI152,2),Feuil1!A:C,2,FALSE)+1,VLOOKUP(RIGHT(AI152,2),Feuil1!A:C,3,FALSE))=A152 & CHAR(10) & C152,2,IF(OFFSET('Fiche score'!$A$2,VLOOKUP(RIGHT(AI152,2),Feuil1!A:C,2,FALSE)-1,VLOOKUP(RIGHT(AI152,2),Feuil1!A:C,3,FALSE))=A152 & CHAR(10) & C152,1,IF(OFFSET('Fiche score'!$A$2,VLOOKUP(RIGHT(AI152,2),Feuil1!A:C,2,FALSE)-2,VLOOKUP(RIGHT(AI152,2),Feuil1!A:C,3,FALSE))=A152 & CHAR(10) & C152,1,\"0\")))))","v":""},{"$f":"IF(ISERROR(VLOOKUP(A152 & CHAR(10) &C152,'Fiche tirage dirigé'!I:I,1,FALSE)),0,1)","v":0},{"$f":"IF(ISERROR(VLOOKUP(A152& CHAR(10) &C152,Cadrage!H:H,1,FALSE)),0,1)","v":0},{"$f":"IF(ISERROR(VLOOKUP(A152 & CHAR(10) &C152,'Tableau final'!V:V,1,FALSE)),0,1)","v":0},{"$f":"IF(ISERROR(VLOOKUP(A152 & CHAR(10) &C152,'Tableau final'!W:W,1,FALSE)),0,1)","v":0},{"$f":"IF(ISERROR(VLOOKUP(A152 & CHAR(10) &C152,'Tableau final'!X:X,1,FALSE)),0,1)","v":0},{"$f":"IF(ISERROR(VLOOKUP(A152 & CHAR(10) &C152,'Tableau final'!Y:Y,1,FALSE)),0,1)","v":0},{"$f":"IF(ISERROR(VLOOKUP(A152 & CHAR(10) &C152,'Tableau final'!Z:Z,1,FALSE)),0,1)","v":0},{"$f":"IF('Tableau final'!$A$1<>\"\",IF('Tableau final'!$B$5=\"Qualifiés\",IF(ISERROR(VLOOKUP(A152 & CHAR(10) &C152,'Tableau final'!C:F,1,FALSE)),\"\",IF(AND(VLOOKUP(A152 & CHAR(10) &C152,'Tableau final'!C:F,3,FALSE)<>\"\",VLOOKUP(A152 & CHAR(10) &C152,'Tableau final'!C:F,4,FALSE)=\"x\"),1,\"\")),IF('Tableau final'!$G$5=\"Qualifiés\",IF(ISERROR(VLOOKUP(A152 & CHAR(10) &C152,'Tableau final'!H:K,1,FALSE)),\"\",IF(AND(VLOOKUP(A152 & CHAR(10) &C152,'Tableau final'!H:K,3,FALSE)<>\"\",VLOOKUP(A152 & CHAR(10) &C152,'Tableau final'!H:K,4,FALSE)=\"x\"),1,\"\")),IF('Tableau final'!$L$5=\"Qualifiés\",IF(ISERROR(VLOOKUP(A152 & CHAR(10) &C152,'Tableau final'!M:P,1,FALSE)),\"\",IF(AND(VLOOKUP(A152 & CHAR(10) &C152,'Tableau final'!M:P,3,FALSE)<>\"\",VLOOKUP(A152 & CHAR(10) &C152,'Tableau final'!M:P,4,FALSE)=\"x\"),1,\"\")),\"\"))),\"\")","v":""},"0",{"$f":"IF(ISERROR(VLOOKUP(AI152,Tirage!A:J,1,FALSE)),\"\",IF(VLOOKUP(AI152,Tirage!A:J,1,FALSE)=\"Office \",3,4))","v":""},{"$f":"IF(AJ152=\"0\",4,IF(AJ152=1,3,IF(AJ152=2,IF(OFFSET('Fiche score'!$A$2,VLOOKUP(RIGHT(AI152,2),Feuil1!A:C,2,FALSE),VLOOKUP(RIGHT(AI152,2),Feuil1!A:C,3,FALSE))=A152 & CHAR(10) & C152,1,2),\"\")))","v":""}]
[null,null,null,null,{"$f":"IF(ISERROR(VLOOKUP(C153,AS!$A:$H,7,FALSE)),\"\",VLOOKUP(C153,AS!$A:$H,7,FALSE))","v":""},{"$f":"IF(ISERROR(VLOOKUP(C153,AS!$A:$H,8,FALSE)),\"\",VLOOKUP(C153,AS!$A:$H,8,FALSE))","v":""},null,null,null,null,{"$f":"IF(ISERROR(VLOOKUP(I153,AS!$A:$H,7,FALSE)),\"\",VLOOKUP(I153,AS!$A:$H,7,FALSE))","v":""},{"$f":"IF(ISERROR(VLOOKUP(I153,AS!$A:$H,8,FALSE)),\"\",VLOOKUP(I153,AS!$A:$H,8,FALSE))","v":""},null,null,null,null,{"$f":"IF(ISERROR(VLOOKUP(O153,AS!$A:$H,7,FALSE)),\"\",VLOOKUP(O153,AS!$A:$H,7,FALSE))","v":""},{"$f":"IF(ISERROR(VLOOKUP(O153,AS!$A:$H,8,FALSE)),\"\",VLOOKUP(O153,AS!$A:$H,8,FALSE))","v":""},null,null,null,null,{"$f":"IF(ISERROR(VLOOKUP(U153,AS!$A:$H,7,FALSE)),\"\",VLOOKUP(U153,AS!$A:$H,7,FALSE))","v":""},{"$f":"IF(ISERROR(VLOOKUP(U153,AS!$A:$H,8,FALSE)),\"\",VLOOKUP(U153,AS!$A:$H,8,FALSE))","v":""},null,null,null,null,{"$f":"IF(ISERROR(VLOOKUP(AA153,AS!$A:$H,7,FALSE)),\"\",VLOOKUP(AA153,AS!$A:$H,7,FALSE))","v":""},{"$f":"IF(ISERROR(VLOOKUP(AA153,AS!$A:$H,8,FALSE)),\"\",VLOOKUP(AA153,AS!$A:$H,8,FALSE))","v":""},null,null,null,"",null,{"$f":"IF(AI153=\"\",\"\",IF(OFFSET('Fiche score'!$A$2,VLOOKUP(RIGHT(AI153,2),Feuil1!A:C,2,FALSE),VLOOKUP(RIGHT(AI153,2),Feuil1!A:C,3,FALSE))=A153 & CHAR(10) & C153,2,IF(OFFSET('Fiche score'!$A$2,VLOOKUP(RIGHT(AI153,2),Feuil1!A:C,2,FALSE)+1,VLOOKUP(RIGHT(AI153,2),Feuil1!A:C,3,FALSE))=A153 & CHAR(10) & C153,2,IF(OFFSET('Fiche score'!$A$2,VLOOKUP(RIGHT(AI153,2),Feuil1!A:C,2,FALSE)-1,VLOOKUP(RIGHT(AI153,2),Feuil1!A:C,3,FALSE))=A153 & CHAR(10) & C153,1,IF(OFFSET('Fiche score'!$A$2,VLOOKUP(RIGHT(AI153,2),Feuil1!A:C,2,FALSE)-2,VLOOKUP(RIGHT(AI153,2),Feuil1!A:C,3,FALSE))=A153 & CHAR(10) & C153,1,\"0\")))))","v":""},{"$f":"IF(ISERROR(VLOOKUP(A153 & CHAR(10) &C153,'Fiche tirage dirigé'!I:I,1,FALSE)),0,1)","v":0},{"$f":"IF(ISERROR(VLOOKUP(A153& CHAR(10) &C153,Cadrage!H:H,1,FALSE)),0,1)","v":0},{"$f":"IF(ISERROR(VLOOKUP(A153 & CHAR(10) &C153,'Tableau final'!V:V,1,FALSE)),0,1)","v":0},{"$f":"IF(ISERROR(VLOOKUP(A153 & CHAR(10) &C153,'Tableau final'!W:W,1,FALSE)),0,1)","v":0},{"$f":"IF(ISERROR(VLOOKUP(A153 & CHAR(10) &C153,'Tableau final'!X:X,1,FALSE)),0,1)","v":0},{"$f":"IF(ISERROR(VLOOKUP(A153 & CHAR(10) &C153,'Tableau final'!Y:Y,1,FALSE)),0,1)","v":0},{"$f":"IF(ISERROR(VLOOKUP(A153 & CHAR(10) &C153,'Tableau final'!Z:Z,1,FALSE)),0,1)","v":0},{"$f":"IF('Tableau final'!$A$1<>\"\",IF('Tableau final'!$B$5=\"Qualifiés\",IF(ISERROR(VLOOKUP(A153 & CHAR(10) &C153,'Tableau final'!C:F,1,FALSE)),\"\",IF(AND(VLOOKUP(A153 & CHAR(10) &C153,'Tableau final'!C:F,3,FALSE)<>\"\",VLOOKUP(A153 & CHAR(10) &C153,'Tableau final'!C:F,4,FALSE)=\"x\"),1,\"\")),IF('Tableau final'!$G$5=\"Qualifiés\",IF(ISERROR(VLOOKUP(A153 & CHAR(10) &C153,'Tableau final'!H:K,1,FALSE)),\"\",IF(AND(VLOOKUP(A153 & CHAR(10) &C153,'Tableau final'!H:K,3,FALSE)<>\"\",VLOOKUP(A153 & CHAR(10) &C153,'Tableau final'!H:K,4,FALSE)=\"x\"),1,\"\")),IF('Tableau final'!$L$5=\"Qualifiés\",IF(ISERROR(VLOOKUP(A153 & CHAR(10) &C153,'Tableau final'!M:P,1,FALSE)),\"\",IF(AND(VLOOKUP(A153 & CHAR(10) &C153,'Tableau final'!M:P,3,FALSE)<>\"\",VLOOKUP(A153 & CHAR(10) &C153,'Tableau final'!M:P,4,FALSE)=\"x\"),1,\"\")),\"\"))),\"\")","v":""},"0",{"$f":"IF(ISERROR(VLOOKUP(AI153,Tirage!A:J,1,FALSE)),\"\",IF(VLOOKUP(AI153,Tirage!A:J,1,FALSE)=\"Office \",3,4))","v":""},{"$f":"IF(AJ153=\"0\",4,IF(AJ153=1,3,IF(AJ153=2,IF(OFFSET('Fiche score'!$A$2,VLOOKUP(RIGHT(AI153,2),Feuil1!A:C,2,FALSE),VLOOKUP(RIGHT(AI153,2),Feuil1!A:C,3,FALSE))=A153 & CHAR(10) & C153,1,2),\"\")))","v":""}]
[null,null,null,null,{"$f":"IF(ISERROR(VLOOKUP(C154,AS!$A:$H,7,FALSE)),\"\",VLOOKUP(C154,AS!$A:$H,7,FALSE))","v":""},{"$f":"IF(ISERROR(VLOOKUP(C154,AS!$A:$H,8,FALSE)),\"\",VLOOKUP(C154,AS!$A:$H,8,FALSE))","v":""},null,null,null,null,{"$f":"IF(ISERROR(VLOOKUP(I154,AS!$A:$H,7,FALSE)),\"\",VLOOKUP(I154,AS!$A:$H,7,FALSE))","v":""},{"$f":"IF(ISERROR(VLOOKUP(I154,AS!$A:$H,8,FALSE)),\"\",VLOOKUP(I154,AS!$A:$H,8,FALSE))","v":""},null,null,null,null,{"$f":"IF(ISERROR(VLOOKUP(O154,AS!$A:$H,7,FALSE)),\"\",VLOOKUP(O154,AS!$A:$H,7,FALSE))","v":""},{"$f":"IF(ISERROR(VLOOKUP(O154,AS!$A:$H,8,FALSE)),\"\",VLOOKUP(O154,AS!$A:$H,8,FALSE))","v":""},null,null,null,null,{"$f":"IF(ISERROR(VLOOKUP(U154,AS!$A:$H,7,FALSE)),\"\",VLOOKUP(U154,AS!$A:$H,7,FALSE))","v":""},{"$f":"IF(ISERROR(VLOOKUP(U154,AS!$A:$H,8,FALSE)),\"\",VLOOKUP(U154,AS!$A:$H,8,FALSE))","v":""},null,null,null,null,{"$f":"IF(ISERROR(VLOOKUP(AA154,AS!$A:$H,7,FALSE)),\"\",VLOOKUP(AA154,AS!$A:$H,7,FALSE))","v":""},{"$f":"IF(ISERROR(VLOOKUP(AA154,AS!$A:$H,8,FALSE)),\"\",VLOOKUP(AA154,AS!$A:$H,8,FALSE))","v":""},null,null,null,"",null,{"$f":"IF(AI154=\"\",\"\",IF(OFFSET('Fiche score'!$A$2,VLOOKUP(RIGHT(AI154,2),Feuil1!A:C,2,FALSE),VLOOKUP(RIGHT(AI154,2),Feuil1!A:C,3,FALSE))=A154 & CHAR(10) & C154,2,IF(OFFSET('Fiche score'!$A$2,VLOOKUP(RIGHT(AI154,2),Feuil1!A:C,2,FALSE)+1,VLOOKUP(RIGHT(AI154,2),Feuil1!A:C,3,FALSE))=A154 & CHAR(10) & C154,2,IF(OFFSET('Fiche score'!$A$2,VLOOKUP(RIGHT(AI154,2),Feuil1!A:C,2,FALSE)-1,VLOOKUP(RIGHT(AI154,2),Feuil1!A:C,3,FALSE))=A154 & CHAR(10) & C154,1,IF(OFFSET('Fiche score'!$A$2,VLOOKUP(RIGHT(AI154,2),Feuil1!A:C,2,FALSE)-2,VLOOKUP(RIGHT(AI154,2),Feuil1!A:C,3,FALSE))=A154 & CHAR(10) & C154,1,\"0\")))))","v":""},{"$f":"IF(ISERROR(VLOOKUP(A154 & CHAR(10) &C154,'Fiche tirage dirigé'!I:I,1,FALSE)),0,1)","v":0},{"$f":"IF(ISERROR(VLOOKUP(A154& CHAR(10) &C154,Cadrage!H:H,1,FALSE)),0,1)","v":0},{"$f":"IF(ISERROR(VLOOKUP(A154 & CHAR(10) &C154,'Tableau final'!V:V,1,FALSE)),0,1)","v":0},{"$f":"IF(ISERROR(VLOOKUP(A154 & CHAR(10) &C154,'Tableau final'!W:W,1,FALSE)),0,1)","v":0},{"$f":"IF(ISERROR(VLOOKUP(A154 & CHAR(10) &C154,'Tableau final'!X:X,1,FALSE)),0,1)","v":0},{"$f":"IF(ISERROR(VLOOKUP(A154 & CHAR(10) &C154,'Tableau final'!Y:Y,1,FALSE)),0,1)","v":0},{"$f":"IF(ISERROR(VLOOKUP(A154 & CHAR(10) &C154,'Tableau final'!Z:Z,1,FALSE)),0,1)","v":0},{"$f":"IF('Tableau final'!$A$1<>\"\",IF('Tableau final'!$B$5=\"Qualifiés\",IF(ISERROR(VLOOKUP(A154 & CHAR(10) &C154,'Tableau final'!C:F,1,FALSE)),\"\",IF(AND(VLOOKUP(A154 & CHAR(10) &C154,'Tableau final'!C:F,3,FALSE)<>\"\",VLOOKUP(A154 & CHAR(10) &C154,'Tableau final'!C:F,4,FALSE)=\"x\"),1,\"\")),IF('Tableau final'!$G$5=\"Qualifiés\",IF(ISERROR(VLOOKUP(A154 & CHAR(10) &C154,'Tableau final'!H:K,1,FALSE)),\"\",IF(AND(VLOOKUP(A154 & CHAR(10) &C154,'Tableau final'!H:K,3,FALSE)<>\"\",VLOOKUP(A154 & CHAR(10) &C154,'Tableau final'!H:K,4,FALSE)=\"x\"),1,\"\")),IF('Tableau final'!$L$5=\"Qualifiés\",IF(ISERROR(VLOOKUP(A154 & CHAR(10) &C154,'Tableau final'!M:P,1,FALSE)),\"\",IF(AND(VLOOKUP(A154 & CHAR(10) &C154,'Tableau final'!M:P,3,FALSE)<>\"\",VLOOKUP(A154 & CHAR(10) &C154,'Tableau final'!M:P,4,FALSE)=\"x\"),1,\"\")),\"\"))),\"\")","v":""},"0",{"$f":"IF(ISERROR(VLOOKUP(AI154,Tirage!A:J,1,FALSE)),\"\",IF(VLOOKUP(AI154,Tirage!A:J,1,FALSE)=\"Office \",3,4))","v":""},{"$f":"IF(AJ154=\"0\",4,IF(AJ154=1,3,IF(AJ154=2,IF(OFFSET('Fiche score'!$A$2,VLOOKUP(RIGHT(AI154,2),Feuil1!A:C,2,FALSE),VLOOKUP(RIGHT(AI154,2),Feuil1!A:C,3,FALSE))=A154 & CHAR(10) & C154,1,2),\"\")))","v":""}]
[null,null,null,null,{"$f":"IF(ISERROR(VLOOKUP(C155,AS!$A:$H,7,FALSE)),\"\",VLOOKUP(C155,AS!$A:$H,7,FALSE))","v":""},{"$f":"IF(ISERROR(VLOOKUP(C155,AS!$A:$H,8,FALSE)),\"\",VLOOKUP(C155,AS!$A:$H,8,FALSE))","v":""},null,null,null,null,{"$f":"IF(ISERROR(VLOOKUP(I155,AS!$A:$H,7,FALSE)),\"\",VLOOKUP(I155,AS!$A:$H,7,FALSE))","v":""},{"$f":"IF(ISERROR(VLOOKUP(I155,AS!$A:$H,8,FALSE)),\"\",VLOOKUP(I155,AS!$A:$H,8,FALSE))","v":""},null,null,null,null,{"$f":"IF(ISERROR(VLOOKUP(O155,AS!$A:$H,7,FALSE)),\"\",VLOOKUP(O155,AS!$A:$H,7,FALSE))","v":""},{"$f":"IF(ISERROR(VLOOKUP(O155,AS!$A:$H,8,FALSE)),\"\",VLOOKUP(O155,AS!$A:$H,8,FALSE))","v":""},null,null,null,null,{"$f":"IF(ISERROR(VLOOKUP(U155,AS!$A:$H,7,FALSE)),\"\",VLOOKUP(U155,AS!$A:$H,7,FALSE))","v":""},{"$f":"IF(ISERROR(VLOOKUP(U155,AS!$A:$H,8,FALSE)),\"\",VLOOKUP(U155,AS!$A:$H,8,FALSE))","v":""},null,null,null,null,{"$f":"IF(ISERROR(VLOOKUP(AA155,AS!$A:$H,7,FALSE)),\"\",VLOOKUP(AA155,AS!$A:$H,7,FALSE))","v":""},{"$f":"IF(ISERROR(VLOOKUP(AA155,AS!$A:$H,8,FALSE)),\"\",VLOOKUP(AA155,AS!$A:$H,8,FALSE))","v":""},null,null,null,"",null,{"$f":"IF(AI155=\"\",\"\",IF(OFFSET('Fiche score'!$A$2,VLOOKUP(RIGHT(AI155,2),Feuil1!A:C,2,FALSE),VLOOKUP(RIGHT(AI155,2),Feuil1!A:C,3,FALSE))=A155 & CHAR(10) & C155,2,IF(OFFSET('Fiche score'!$A$2,VLOOKUP(RIGHT(AI155,2),Feuil1!A:C,2,FALSE)+1,VLOOKUP(RIGHT(AI155,2),Feuil1!A:C,3,FALSE))=A155 & CHAR(10) & C155,2,IF(OFFSET('Fiche score'!$A$2,VLOOKUP(RIGHT(AI155,2),Feuil1!A:C,2,FALSE)-1,VLOOKUP(RIGHT(AI155,2),Feuil1!A:C,3,FALSE))=A155 & CHAR(10) & C155,1,IF(OFFSET('Fiche score'!$A$2,VLOOKUP(RIGHT(AI155,2),Feuil1!A:C,2,FALSE)-2,VLOOKUP(RIGHT(AI155,2),Feuil1!A:C,3,FALSE))=A155 & CHAR(10) & C155,1,\"0\")))))","v":""},{"$f":"IF(ISERROR(VLOOKUP(A155 & CHAR(10) &C155,'Fiche tirage dirigé'!I:I,1,FALSE)),0,1)","v":0},{"$f":"IF(ISERROR(VLOOKUP(A155& CHAR(10) &C155,Cadrage!H:H,1,FALSE)),0,1)","v":0},{"$f":"IF(ISERROR(VLOOKUP(A155 & CHAR(10) &C155,'Tableau final'!V:V,1,FALSE)),0,1)","v":0},{"$f":"IF(ISERROR(VLOOKUP(A155 & CHAR(10) &C155,'Tableau final'!W:W,1,FALSE)),0,1)","v":0},{"$f":"IF(ISERROR(VLOOKUP(A155 & CHAR(10) &C155,'Tableau final'!X:X,1,FALSE)),0,1)","v":0},{"$f":"IF(ISERROR(VLOOKUP(A155 & CHAR(10) &C155,'Tableau final'!Y:Y,1,FALSE)),0,1)","v":0},{"$f":"IF(ISERROR(VLOOKUP(A155 & CHAR(10) &C155,'Tableau final'!Z:Z,1,FALSE)),0,1)","v":0},{"$f":"IF('Tableau final'!$A$1<>\"\",IF('Tableau final'!$B$5=\"Qualifiés\",IF(ISERROR(VLOOKUP(A155 & CHAR(10) &C155,'Tableau final'!C:F,1,FALSE)),\"\",IF(AND(VLOOKUP(A155 & CHAR(10) &C155,'Tableau final'!C:F,3,FALSE)<>\"\",VLOOKUP(A155 & CHAR(10) &C155,'Tableau final'!C:F,4,FALSE)=\"x\"),1,\"\")),IF('Tableau final'!$G$5=\"Qualifiés\",IF(ISERROR(VLOOKUP(A155 & CHAR(10) &C155,'Tableau final'!H:K,1,FALSE)),\"\",IF(AND(VLOOKUP(A155 & CHAR(10) &C155,'Tableau final'!H:K,3,FALSE)<>\"\",VLOOKUP(A155 & CHAR(10) &C155,'Tableau final'!H:K,4,FALSE)=\"x\"),1,\"\")),IF('Tableau final'!$L$5=\"Qualifiés\",IF(ISERROR(VLOOKUP(A155 & CHAR(10) &C155,'Tableau final'!M:P,1,FALSE)),\"\",IF(AND(VLOOKUP(A155 & CHAR(10) &C155,'Tableau final'!M:P,3,FALSE)<>\"\",VLOOKUP(A155 & CHAR(10) &C155,'Tableau final'!M:P,4,FALSE)=\"x\"),1,\"\")),\"\"))),\"\")","v":""},"0",{"$f":"IF(ISERROR(VLOOKUP(AI155,Tirage!A:J,1,FALSE)),\"\",IF(VLOOKUP(AI155,Tirage!A:J,1,FALSE)=\"Office \",3,4))","v":""},{"$f":"IF(AJ155=\"0\",4,IF(AJ155=1,3,IF(AJ155=2,IF(OFFSET('Fiche score'!$A$2,VLOOKUP(RIGHT(AI155,2),Feuil1!A:C,2,FALSE),VLOOKUP(RIGHT(AI155,2),Feuil1!A:C,3,FALSE))=A155 & CHAR(10) & C155,1,2),\"\")))","v":""}]
[null,null,null,null,{"$f":"IF(ISERROR(VLOOKUP(C156,AS!$A:$H,7,FALSE)),\"\",VLOOKUP(C156,AS!$A:$H,7,FALSE))","v":""},{"$f":"IF(ISERROR(VLOOKUP(C156,AS!$A:$H,8,FALSE)),\"\",VLOOKUP(C156,AS!$A:$H,8,FALSE))","v":""},null,null,null,null,{"$f":"IF(ISERROR(VLOOKUP(I156,AS!$A:$H,7,FALSE)),\"\",VLOOKUP(I156,AS!$A:$H,7,FALSE))","v":""},{"$f":"IF(ISERROR(VLOOKUP(I156,AS!$A:$H,8,FALSE)),\"\",VLOOKUP(I156,AS!$A:$H,8,FALSE))","v":""},null,null,null,null,{"$f":"IF(ISERROR(VLOOKUP(O156,AS!$A:$H,7,FALSE)),\"\",VLOOKUP(O156,AS!$A:$H,7,FALSE))","v":""},{"$f":"IF(ISERROR(VLOOKUP(O156,AS!$A:$H,8,FALSE)),\"\",VLOOKUP(O156,AS!$A:$H,8,FALSE))","v":""},null,null,null,null,{"$f":"IF(ISERROR(VLOOKUP(U156,AS!$A:$H,7,FALSE)),\"\",VLOOKUP(U156,AS!$A:$H,7,FALSE))","v":""},{"$f":"IF(ISERROR(VLOOKUP(U156,AS!$A:$H,8,FALSE)),\"\",VLOOKUP(U156,AS!$A:$H,8,FALSE))","v":""},null,null,null,null,{"$f":"IF(ISERROR(VLOOKUP(AA156,AS!$A:$H,7,FALSE)),\"\",VLOOKUP(AA156,AS!$A:$H,7,FALSE))","v":""},{"$f":"IF(ISERROR(VLOOKUP(AA156,AS!$A:$H,8,FALSE)),\"\",VLOOKUP(AA156,AS!$A:$H,8,FALSE))","v":""},null,null,null,"",null,{"$f":"IF(AI156=\"\",\"\",IF(OFFSET('Fiche score'!$A$2,VLOOKUP(RIGHT(AI156,2),Feuil1!A:C,2,FALSE),VLOOKUP(RIGHT(AI156,2),Feuil1!A:C,3,FALSE))=A156 & CHAR(10) & C156,2,IF(OFFSET('Fiche score'!$A$2,VLOOKUP(RIGHT(AI156,2),Feuil1!A:C,2,FALSE)+1,VLOOKUP(RIGHT(AI156,2),Feuil1!A:C,3,FALSE))=A156 & CHAR(10) & C156,2,IF(OFFSET('Fiche score'!$A$2,VLOOKUP(RIGHT(AI156,2),Feuil1!A:C,2,FALSE)-1,VLOOKUP(RIGHT(AI156,2),Feuil1!A:C,3,FALSE))=A156 & CHAR(10) & C156,1,IF(OFFSET('Fiche score'!$A$2,VLOOKUP(RIGHT(AI156,2),Feuil1!A:C,2,FALSE)-2,VLOOKUP(RIGHT(AI156,2),Feuil1!A:C,3,FALSE))=A156 & CHAR(10) & C156,1,\"0\")))))","v":""},{"$f":"IF(ISERROR(VLOOKUP(A156 & CHAR(10) &C156,'Fiche tirage dirigé'!I:I,1,FALSE)),0,1)","v":0},{"$f":"IF(ISERROR(VLOOKUP(A156& CHAR(10) &C156,Cadrage!H:H,1,FALSE)),0,1)","v":0},{"$f":"IF(ISERROR(VLOOKUP(A156 & CHAR(10) &C156,'Tableau final'!V:V,1,FALSE)),0,1)","v":0},{"$f":"IF(ISERROR(VLOOKUP(A156 & CHAR(10) &C156,'Tableau final'!W:W,1,FALSE)),0,1)","v":0},{"$f":"IF(ISERROR(VLOOKUP(A156 & CHAR(10) &C156,'Tableau final'!X:X,1,FALSE)),0,1)","v":0},{"$f":"IF(ISERROR(VLOOKUP(A156 & CHAR(10) &C156,'Tableau final'!Y:Y,1,FALSE)),0,1)","v":0},{"$f":"IF(ISERROR(VLOOKUP(A156 & CHAR(10) &C156,'Tableau final'!Z:Z,1,FALSE)),0,1)","v":0},{"$f":"IF('Tableau final'!$A$1<>\"\",IF('Tableau final'!$B$5=\"Qualifiés\",IF(ISERROR(VLOOKUP(A156 & CHAR(10) &C156,'Tableau final'!C:F,1,FALSE)),\"\",IF(AND(VLOOKUP(A156 & CHAR(10) &C156,'Tableau final'!C:F,3,FALSE)<>\"\",VLOOKUP(A156 & CHAR(10) &C156,'Tableau final'!C:F,4,FALSE)=\"x\"),1,\"\")),IF('Tableau final'!$G$5=\"Qualifiés\",IF(ISERROR(VLOOKUP(A156 & CHAR(10) &C156,'Tableau final'!H:K,1,FALSE)),\"\",IF(AND(VLOOKUP(A156 & CHAR(10) &C156,'Tableau final'!H:K,3,FALSE)<>\"\",VLOOKUP(A156 & CHAR(10) &C156,'Tableau final'!H:K,4,FALSE)=\"x\"),1,\"\")),IF('Tableau final'!$L$5=\"Qualifiés\",IF(ISERROR(VLOOKUP(A156 & CHAR(10) &C156,'Tableau final'!M:P,1,FALSE)),\"\",IF(AND(VLOOKUP(A156 & CHAR(10) &C156,'Tableau final'!M:P,3,FALSE)<>\"\",VLOOKUP(A156 & CHAR(10) &C156,'Tableau final'!M:P,4,FALSE)=\"x\"),1,\"\")),\"\"))),\"\")","v":""},"0",{"$f":"IF(ISERROR(VLOOKUP(AI156,Tirage!A:J,1,FALSE)),\"\",IF(VLOOKUP(AI156,Tirage!A:J,1,FALSE)=\"Office \",3,4))","v":""},{"$f":"IF(AJ156=\"0\",4,IF(AJ156=1,3,IF(AJ156=2,IF(OFFSET('Fiche score'!$A$2,VLOOKUP(RIGHT(AI156,2),Feuil1!A:C,2,FALSE),VLOOKUP(RIGHT(AI156,2),Feuil1!A:C,3,FALSE))=A156 & CHAR(10) & C156,1,2),\"\")))","v":""}]
[null,null,null,null,{"$f":"IF(ISERROR(VLOOKUP(C157,AS!$A:$H,7,FALSE)),\"\",VLOOKUP(C157,AS!$A:$H,7,FALSE))","v":""},{"$f":"IF(ISERROR(VLOOKUP(C157,AS!$A:$H,8,FALSE)),\"\",VLOOKUP(C157,AS!$A:$H,8,FALSE))","v":""},null,null,null,null,{"$f":"IF(ISERROR(VLOOKUP(I157,AS!$A:$H,7,FALSE)),\"\",VLOOKUP(I157,AS!$A:$H,7,FALSE))","v":""},{"$f":"IF(ISERROR(VLOOKUP(I157,AS!$A:$H,8,FALSE)),\"\",VLOOKUP(I157,AS!$A:$H,8,FALSE))","v":""},null,null,null,null,{"$f":"IF(ISERROR(VLOOKUP(O157,AS!$A:$H,7,FALSE)),\"\",VLOOKUP(O157,AS!$A:$H,7,FALSE))","v":""},{"$f":"IF(ISERROR(VLOOKUP(O157,AS!$A:$H,8,FALSE)),\"\",VLOOKUP(O157,AS!$A:$H,8,FALSE))","v":""},null,null,null,null,{"$f":"IF(ISERROR(VLOOKUP(U157,AS!$A:$H,7,FALSE)),\"\",VLOOKUP(U157,AS!$A:$H,7,FALSE))","v":""},{"$f":"IF(ISERROR(VLOOKUP(U157,AS!$A:$H,8,FALSE)),\"\",VLOOKUP(U157,AS!$A:$H,8,FALSE))","v":""},null,null,null,null,{"$f":"IF(ISERROR(VLOOKUP(AA157,AS!$A:$H,7,FALSE)),\"\",VLOOKUP(AA157,AS!$A:$H,7,FALSE))","v":""},{"$f":"IF(ISERROR(VLOOKUP(AA157,AS!$A:$H,8,FALSE)),\"\",VLOOKUP(AA157,AS!$A:$H,8,FALSE))","v":""},null,null,null,"",null,{"$f":"IF(AI157=\"\",\"\",IF(OFFSET('Fiche score'!$A$2,VLOOKUP(RIGHT(AI157,2),Feuil1!A:C,2,FALSE),VLOOKUP(RIGHT(AI157,2),Feuil1!A:C,3,FALSE))=A157 & CHAR(10) & C157,2,IF(OFFSET('Fiche score'!$A$2,VLOOKUP(RIGHT(AI157,2),Feuil1!A:C,2,FALSE)+1,VLOOKUP(RIGHT(AI157,2),Feuil1!A:C,3,FALSE))=A157 & CHAR(10) & C157,2,IF(OFFSET('Fiche score'!$A$2,VLOOKUP(RIGHT(AI157,2),Feuil1!A:C,2,FALSE)-1,VLOOKUP(RIGHT(AI157,2),Feuil1!A:C,3,FALSE))=A157 & CHAR(10) & C157,1,IF(OFFSET('Fiche score'!$A$2,VLOOKUP(RIGHT(AI157,2),Feuil1!A:C,2,FALSE)-2,VLOOKUP(RIGHT(AI157,2),Feuil1!A:C,3,FALSE))=A157 & CHAR(10) & C157,1,\"0\")))))","v":""},{"$f":"IF(ISERROR(VLOOKUP(A157 & CHAR(10) &C157,'Fiche tirage dirigé'!I:I,1,FALSE)),0,1)","v":0},{"$f":"IF(ISERROR(VLOOKUP(A157& CHAR(10) &C157,Cadrage!H:H,1,FALSE)),0,1)","v":0},{"$f":"IF(ISERROR(VLOOKUP(A157 & CHAR(10) &C157,'Tableau final'!V:V,1,FALSE)),0,1)","v":0},{"$f":"IF(ISERROR(VLOOKUP(A157 & CHAR(10) &C157,'Tableau final'!W:W,1,FALSE)),0,1)","v":0},{"$f":"IF(ISERROR(VLOOKUP(A157 & CHAR(10) &C157,'Tableau final'!X:X,1,FALSE)),0,1)","v":0},{"$f":"IF(ISERROR(VLOOKUP(A157 & CHAR(10) &C157,'Tableau final'!Y:Y,1,FALSE)),0,1)","v":0},{"$f":"IF(ISERROR(VLOOKUP(A157 & CHAR(10) &C157,'Tableau final'!Z:Z,1,FALSE)),0,1)","v":0},{"$f":"IF('Tableau final'!$A$1<>\"\",IF('Tableau final'!$B$5=\"Qualifiés\",IF(ISERROR(VLOOKUP(A157 & CHAR(10) &C157,'Tableau final'!C:F,1,FALSE)),\"\",IF(AND(VLOOKUP(A157 & CHAR(10) &C157,'Tableau final'!C:F,3,FALSE)<>\"\",VLOOKUP(A157 & CHAR(10) &C157,'Tableau final'!C:F,4,FALSE)=\"x\"),1,\"\")),IF('Tableau final'!$G$5=\"Qualifiés\",IF(ISERROR(VLOOKUP(A157 & CHAR(10) &C157,'Tableau final'!H:K,1,FALSE)),\"\",IF(AND(VLOOKUP(A157 & CHAR(10) &C157,'Tableau final'!H:K,3,FALSE)<>\"\",VLOOKUP(A157 & CHAR(10) &C157,'Tableau final'!H:K,4,FALSE)=\"x\"),1,\"\")),IF('Tableau final'!$L$5=\"Qualifiés\",IF(ISERROR(VLOOKUP(A157 & CHAR(10) &C157,'Tableau final'!M:P,1,FALSE)),\"\",IF(AND(VLOOKUP(A157 & CHAR(10) &C157,'Tableau final'!M:P,3,FALSE)<>\"\",VLOOKUP(A157 & CHAR(10) &C157,'Tableau final'!M:P,4,FALSE)=\"x\"),1,\"\")),\"\"))),\"\")","v":""},"0",{"$f":"IF(ISERROR(VLOOKUP(AI157,Tirage!A:J,1,FALSE)),\"\",IF(VLOOKUP(AI157,Tirage!A:J,1,FALSE)=\"Office \",3,4))","v":""},{"$f":"IF(AJ157=\"0\",4,IF(AJ157=1,3,IF(AJ157=2,IF(OFFSET('Fiche score'!$A$2,VLOOKUP(RIGHT(AI157,2),Feuil1!A:C,2,FALSE),VLOOKUP(RIGHT(AI157,2),Feuil1!A:C,3,FALSE))=A157 & CHAR(10) & C157,1,2),\"\")))","v":""}]
[null,null,null,null,{"$f":"IF(ISERROR(VLOOKUP(C158,AS!$A:$H,7,FALSE)),\"\",VLOOKUP(C158,AS!$A:$H,7,FALSE))","v":""},{"$f":"IF(ISERROR(VLOOKUP(C158,AS!$A:$H,8,FALSE)),\"\",VLOOKUP(C158,AS!$A:$H,8,FALSE))","v":""},null,null,null,null,{"$f":"IF(ISERROR(VLOOKUP(I158,AS!$A:$H,7,FALSE)),\"\",VLOOKUP(I158,AS!$A:$H,7,FALSE))","v":""},{"$f":"IF(ISERROR(VLOOKUP(I158,AS!$A:$H,8,FALSE)),\"\",VLOOKUP(I158,AS!$A:$H,8,FALSE))","v":""},null,null,null,null,{"$f":"IF(ISERROR(VLOOKUP(O158,AS!$A:$H,7,FALSE)),\"\",VLOOKUP(O158,AS!$A:$H,7,FALSE))","v":""},{"$f":"IF(ISERROR(VLOOKUP(O158,AS!$A:$H,8,FALSE)),\"\",VLOOKUP(O158,AS!$A:$H,8,FALSE))","v":""},null,null,null,null,{"$f":"IF(ISERROR(VLOOKUP(U158,AS!$A:$H,7,FALSE)),\"\",VLOOKUP(U158,AS!$A:$H,7,FALSE))","v":""},{"$f":"IF(ISERROR(VLOOKUP(U158,AS!$A:$H,8,FALSE)),\"\",VLOOKUP(U158,AS!$A:$H,8,FALSE))","v":""},null,null,null,null,{"$f":"IF(ISERROR(VLOOKUP(AA158,AS!$A:$H,7,FALSE)),\"\",VLOOKUP(AA158,AS!$A:$H,7,FALSE))","v":""},{"$f":"IF(ISERROR(VLOOKUP(AA158,AS!$A:$H,8,FALSE)),\"\",VLOOKUP(AA158,AS!$A:$H,8,FALSE))","v":""},null,null,null,"",null,{"$f":"IF(AI158=\"\",\"\",IF(OFFSET('Fiche score'!$A$2,VLOOKUP(RIGHT(AI158,2),Feuil1!A:C,2,FALSE),VLOOKUP(RIGHT(AI158,2),Feuil1!A:C,3,FALSE))=A158 & CHAR(10) & C158,2,IF(OFFSET('Fiche score'!$A$2,VLOOKUP(RIGHT(AI158,2),Feuil1!A:C,2,FALSE)+1,VLOOKUP(RIGHT(AI158,2),Feuil1!A:C,3,FALSE))=A158 & CHAR(10) & C158,2,IF(OFFSET('Fiche score'!$A$2,VLOOKUP(RIGHT(AI158,2),Feuil1!A:C,2,FALSE)-1,VLOOKUP(RIGHT(AI158,2),Feuil1!A:C,3,FALSE))=A158 & CHAR(10) & C158,1,IF(OFFSET('Fiche score'!$A$2,VLOOKUP(RIGHT(AI158,2),Feuil1!A:C,2,FALSE)-2,VLOOKUP(RIGHT(AI158,2),Feuil1!A:C,3,FALSE))=A158 & CHAR(10) & C158,1,\"0\")))))","v":""},{"$f":"IF(ISERROR(VLOOKUP(A158 & CHAR(10) &C158,'Fiche tirage dirigé'!I:I,1,FALSE)),0,1)","v":0},{"$f":"IF(ISERROR(VLOOKUP(A158& CHAR(10) &C158,Cadrage!H:H,1,FALSE)),0,1)","v":0},{"$f":"IF(ISERROR(VLOOKUP(A158 & CHAR(10) &C158,'Tableau final'!V:V,1,FALSE)),0,1)","v":0},{"$f":"IF(ISERROR(VLOOKUP(A158 & CHAR(10) &C158,'Tableau final'!W:W,1,FALSE)),0,1)","v":0},{"$f":"IF(ISERROR(VLOOKUP(A158 & CHAR(10) &C158,'Tableau final'!X:X,1,FALSE)),0,1)","v":0},{"$f":"IF(ISERROR(VLOOKUP(A158 & CHAR(10) &C158,'Tableau final'!Y:Y,1,FALSE)),0,1)","v":0},{"$f":"IF(ISERROR(VLOOKUP(A158 & CHAR(10) &C158,'Tableau final'!Z:Z,1,FALSE)),0,1)","v":0},{"$f":"IF('Tableau final'!$A$1<>\"\",IF('Tableau final'!$B$5=\"Qualifiés\",IF(ISERROR(VLOOKUP(A158 & CHAR(10) &C158,'Tableau final'!C:F,1,FALSE)),\"\",IF(AND(VLOOKUP(A158 & CHAR(10) &C158,'Tableau final'!C:F,3,FALSE)<>\"\",VLOOKUP(A158 & CHAR(10) &C158,'Tableau final'!C:F,4,FALSE)=\"x\"),1,\"\")),IF('Tableau final'!$G$5=\"Qualifiés\",IF(ISERROR(VLOOKUP(A158 & CHAR(10) &C158,'Tableau final'!H:K,1,FALSE)),\"\",IF(AND(VLOOKUP(A158 & CHAR(10) &C158,'Tableau final'!H:K,3,FALSE)<>\"\",VLOOKUP(A158 & CHAR(10) &C158,'Tableau final'!H:K,4,FALSE)=\"x\"),1,\"\")),IF('Tableau final'!$L$5=\"Qualifiés\",IF(ISERROR(VLOOKUP(A158 & CHAR(10) &C158,'Tableau final'!M:P,1,FALSE)),\"\",IF(AND(VLOOKUP(A158 & CHAR(10) &C158,'Tableau final'!M:P,3,FALSE)<>\"\",VLOOKUP(A158 & CHAR(10) &C158,'Tableau final'!M:P,4,FALSE)=\"x\"),1,\"\")),\"\"))),\"\")","v":""},"0",{"$f":"IF(ISERROR(VLOOKUP(AI158,Tirage!A:J,1,FALSE)),\"\",IF(VLOOKUP(AI158,Tirage!A:J,1,FALSE)=\"Office \",3,4))","v":""},{"$f":"IF(AJ158=\"0\",4,IF(AJ158=1,3,IF(AJ158=2,IF(OFFSET('Fiche score'!$A$2,VLOOKUP(RIGHT(AI158,2),Feuil1!A:C,2,FALSE),VLOOKUP(RIGHT(AI158,2),Feuil1!A:C,3,FALSE))=A158 & CHAR(10) & C158,1,2),\"\")))","v":""}]
[null,null,null,null,{"$f":"IF(ISERROR(VLOOKUP(C159,AS!$A:$H,7,FALSE)),\"\",VLOOKUP(C159,AS!$A:$H,7,FALSE))","v":""},{"$f":"IF(ISERROR(VLOOKUP(C159,AS!$A:$H,8,FALSE)),\"\",VLOOKUP(C159,AS!$A:$H,8,FALSE))","v":""},null,null,null,null,{"$f":"IF(ISERROR(VLOOKUP(I159,AS!$A:$H,7,FALSE)),\"\",VLOOKUP(I159,AS!$A:$H,7,FALSE))","v":""},{"$f":"IF(ISERROR(VLOOKUP(I159,AS!$A:$H,8,FALSE)),\"\",VLOOKUP(I159,AS!$A:$H,8,FALSE))","v":""},null,null,null,null,{"$f":"IF(ISERROR(VLOOKUP(O159,AS!$A:$H,7,FALSE)),\"\",VLOOKUP(O159,AS!$A:$H,7,FALSE))","v":""},{"$f":"IF(ISERROR(VLOOKUP(O159,AS!$A:$H,8,FALSE)),\"\",VLOOKUP(O159,AS!$A:$H,8,FALSE))","v":""},null,null,null,null,{"$f":"IF(ISERROR(VLOOKUP(U159,AS!$A:$H,7,FALSE)),\"\",VLOOKUP(U159,AS!$A:$H,7,FALSE))","v":""},{"$f":"IF(ISERROR(VLOOKUP(U159,AS!$A:$H,8,FALSE)),\"\",VLOOKUP(U159,AS!$A:$H,8,FALSE))","v":""},null,null,null,null,{"$f":"IF(ISERROR(VLOOKUP(AA159,AS!$A:$H,7,FALSE)),\"\",VLOOKUP(AA159,AS!$A:$H,7,FALSE))","v":""},{"$f":"IF(ISERROR(VLOOKUP(AA159,AS!$A:$H,8,FALSE)),\"\",VLOOKUP(AA159,AS!$A:$H,8,FALSE))","v":""},null,null,null,"",null,{"$f":"IF(AI159=\"\",\"\",IF(OFFSET('Fiche score'!$A$2,VLOOKUP(RIGHT(AI159,2),Feuil1!A:C,2,FALSE),VLOOKUP(RIGHT(AI159,2),Feuil1!A:C,3,FALSE))=A159 & CHAR(10) & C159,2,IF(OFFSET('Fiche score'!$A$2,VLOOKUP(RIGHT(AI159,2),Feuil1!A:C,2,FALSE)+1,VLOOKUP(RIGHT(AI159,2),Feuil1!A:C,3,FALSE))=A159 & CHAR(10) & C159,2,IF(OFFSET('Fiche score'!$A$2,VLOOKUP(RIGHT(AI159,2),Feuil1!A:C,2,FALSE)-1,VLOOKUP(RIGHT(AI159,2),Feuil1!A:C,3,FALSE))=A159 & CHAR(10) & C159,1,IF(OFFSET('Fiche score'!$A$2,VLOOKUP(RIGHT(AI159,2),Feuil1!A:C,2,FALSE)-2,VLOOKUP(RIGHT(AI159,2),Feuil1!A:C,3,FALSE))=A159 & CHAR(10) & C159,1,\"0\")))))","v":""},{"$f":"IF(ISERROR(VLOOKUP(A159 & CHAR(10) &C159,'Fiche tirage dirigé'!I:I,1,FALSE)),0,1)","v":0},{"$f":"IF(ISERROR(VLOOKUP(A159& CHAR(10) &C159,Cadrage!H:H,1,FALSE)),0,1)","v":0},{"$f":"IF(ISERROR(VLOOKUP(A159 & CHAR(10) &C159,'Tableau final'!V:V,1,FALSE)),0,1)","v":0},{"$f":"IF(ISERROR(VLOOKUP(A159 & CHAR(10) &C159,'Tableau final'!W:W,1,FALSE)),0,1)","v":0},{"$f":"IF(ISERROR(VLOOKUP(A159 & CHAR(10) &C159,'Tableau final'!X:X,1,FALSE)),0,1)","v":0},{"$f":"IF(ISERROR(VLOOKUP(A159 & CHAR(10) &C159,'Tableau final'!Y:Y,1,FALSE)),0,1)","v":0},{"$f":"IF(ISERROR(VLOOKUP(A159 & CHAR(10) &C159,'Tableau final'!Z:Z,1,FALSE)),0,1)","v":0},{"$f":"IF('Tableau final'!$A$1<>\"\",IF('Tableau final'!$B$5=\"Qualifiés\",IF(ISERROR(VLOOKUP(A159 & CHAR(10) &C159,'Tableau final'!C:F,1,FALSE)),\"\",IF(AND(VLOOKUP(A159 & CHAR(10) &C159,'Tableau final'!C:F,3,FALSE)<>\"\",VLOOKUP(A159 & CHAR(10) &C159,'Tableau final'!C:F,4,FALSE)=\"x\"),1,\"\")),IF('Tableau final'!$G$5=\"Qualifiés\",IF(ISERROR(VLOOKUP(A159 & CHAR(10) &C159,'Tableau final'!H:K,1,FALSE)),\"\",IF(AND(VLOOKUP(A159 & CHAR(10) &C159,'Tableau final'!H:K,3,FALSE)<>\"\",VLOOKUP(A159 & CHAR(10) &C159,'Tableau final'!H:K,4,FALSE)=\"x\"),1,\"\")),IF('Tableau final'!$L$5=\"Qualifiés\",IF(ISERROR(VLOOKUP(A159 & CHAR(10) &C159,'Tableau final'!M:P,1,FALSE)),\"\",IF(AND(VLOOKUP(A159 & CHAR(10) &C159,'Tableau final'!M:P,3,FALSE)<>\"\",VLOOKUP(A159 & CHAR(10) &C159,'Tableau final'!M:P,4,FALSE)=\"x\"),1,\"\")),\"\"))),\"\")","v":""},"0",{"$f":"IF(ISERROR(VLOOKUP(AI159,Tirage!A:J,1,FALSE)),\"\",IF(VLOOKUP(AI159,Tirage!A:J,1,FALSE)=\"Office \",3,4))","v":""},{"$f":"IF(AJ159=\"0\",4,IF(AJ159=1,3,IF(AJ159=2,IF(OFFSET('Fiche score'!$A$2,VLOOKUP(RIGHT(AI159,2),Feuil1!A:C,2,FALSE),VLOOKUP(RIGHT(AI159,2),Feuil1!A:C,3,FALSE))=A159 & CHAR(10) & C159,1,2),\"\")))","v":""}]
[null,null,null,null,{"$f":"IF(ISERROR(VLOOKUP(C160,AS!$A:$H,7,FALSE)),\"\",VLOOKUP(C160,AS!$A:$H,7,FALSE))","v":""},{"$f":"IF(ISERROR(VLOOKUP(C160,AS!$A:$H,8,FALSE)),\"\",VLOOKUP(C160,AS!$A:$H,8,FALSE))","v":""},null,null,null,null,{"$f":"IF(ISERROR(VLOOKUP(I160,AS!$A:$H,7,FALSE)),\"\",VLOOKUP(I160,AS!$A:$H,7,FALSE))","v":""},{"$f":"IF(ISERROR(VLOOKUP(I160,AS!$A:$H,8,FALSE)),\"\",VLOOKUP(I160,AS!$A:$H,8,FALSE))","v":""},null,null,null,null,{"$f":"IF(ISERROR(VLOOKUP(O160,AS!$A:$H,7,FALSE)),\"\",VLOOKUP(O160,AS!$A:$H,7,FALSE))","v":""},{"$f":"IF(ISERROR(VLOOKUP(O160,AS!$A:$H,8,FALSE)),\"\",VLOOKUP(O160,AS!$A:$H,8,FALSE))","v":""},null,null,null,null,{"$f":"IF(ISERROR(VLOOKUP(U160,AS!$A:$H,7,FALSE)),\"\",VLOOKUP(U160,AS!$A:$H,7,FALSE))","v":""},{"$f":"IF(ISERROR(VLOOKUP(U160,AS!$A:$H,8,FALSE)),\"\",VLOOKUP(U160,AS!$A:$H,8,FALSE))","v":""},null,null,null,null,{"$f":"IF(ISERROR(VLOOKUP(AA160,AS!$A:$H,7,FALSE)),\"\",VLOOKUP(AA160,AS!$A:$H,7,FALSE))","v":""},{"$f":"IF(ISERROR(VLOOKUP(AA160,AS!$A:$H,8,FALSE)),\"\",VLOOKUP(AA160,AS!$A:$H,8,FALSE))","v":""},null,null,null,"",null,{"$f":"IF(AI160=\"\",\"\",IF(OFFSET('Fiche score'!$A$2,VLOOKUP(RIGHT(AI160,2),Feuil1!A:C,2,FALSE),VLOOKUP(RIGHT(AI160,2),Feuil1!A:C,3,FALSE))=A160 & CHAR(10) & C160,2,IF(OFFSET('Fiche score'!$A$2,VLOOKUP(RIGHT(AI160,2),Feuil1!A:C,2,FALSE)+1,VLOOKUP(RIGHT(AI160,2),Feuil1!A:C,3,FALSE))=A160 & CHAR(10) & C160,2,IF(OFFSET('Fiche score'!$A$2,VLOOKUP(RIGHT(AI160,2),Feuil1!A:C,2,FALSE)-1,VLOOKUP(RIGHT(AI160,2),Feuil1!A:C,3,FALSE))=A160 & CHAR(10) & C160,1,IF(OFFSET('Fiche score'!$A$2,VLOOKUP(RIGHT(AI160,2),Feuil1!A:C,2,FALSE)-2,VLOOKUP(RIGHT(AI160,2),Feuil1!A:C,3,FALSE))=A160 & CHAR(10) & C160,1,\"0\")))))","v":""},{"$f":"IF(ISERROR(VLOOKUP(A160 & CHAR(10) &C160,'Fiche tirage dirigé'!I:I,1,FALSE)),0,1)","v":0},{"$f":"IF(ISERROR(VLOOKUP(A160& CHAR(10) &C160,Cadrage!H:H,1,FALSE)),0,1)","v":0},{"$f":"IF(ISERROR(VLOOKUP(A160 & CHAR(10) &C160,'Tableau final'!V:V,1,FALSE)),0,1)","v":0},{"$f":"IF(ISERROR(VLOOKUP(A160 & CHAR(10) &C160,'Tableau final'!W:W,1,FALSE)),0,1)","v":0},{"$f":"IF(ISERROR(VLOOKUP(A160 & CHAR(10) &C160,'Tableau final'!X:X,1,FALSE)),0,1)","v":0},{"$f":"IF(ISERROR(VLOOKUP(A160 & CHAR(10) &C160,'Tableau final'!Y:Y,1,FALSE)),0,1)","v":0},{"$f":"IF(ISERROR(VLOOKUP(A160 & CHAR(10) &C160,'Tableau final'!Z:Z,1,FALSE)),0,1)","v":0},{"$f":"IF('Tableau final'!$A$1<>\"\",IF('Tableau final'!$B$5=\"Qualifiés\",IF(ISERROR(VLOOKUP(A160 & CHAR(10) &C160,'Tableau final'!C:F,1,FALSE)),\"\",IF(AND(VLOOKUP(A160 & CHAR(10) &C160,'Tableau final'!C:F,3,FALSE)<>\"\",VLOOKUP(A160 & CHAR(10) &C160,'Tableau final'!C:F,4,FALSE)=\"x\"),1,\"\")),IF('Tableau final'!$G$5=\"Qualifiés\",IF(ISERROR(VLOOKUP(A160 & CHAR(10) &C160,'Tableau final'!H:K,1,FALSE)),\"\",IF(AND(VLOOKUP(A160 & CHAR(10) &C160,'Tableau final'!H:K,3,FALSE)<>\"\",VLOOKUP(A160 & CHAR(10) &C160,'Tableau final'!H:K,4,FALSE)=\"x\"),1,\"\")),IF('Tableau final'!$L$5=\"Qualifiés\",IF(ISERROR(VLOOKUP(A160 & CHAR(10) &C160,'Tableau final'!M:P,1,FALSE)),\"\",IF(AND(VLOOKUP(A160 & CHAR(10) &C160,'Tableau final'!M:P,3,FALSE)<>\"\",VLOOKUP(A160 & CHAR(10) &C160,'Tableau final'!M:P,4,FALSE)=\"x\"),1,\"\")),\"\"))),\"\")","v":""},"0",{"$f":"IF(ISERROR(VLOOKUP(AI160,Tirage!A:J,1,FALSE)),\"\",IF(VLOOKUP(AI160,Tirage!A:J,1,FALSE)=\"Office \",3,4))","v":""},{"$f":"IF(AJ160=\"0\",4,IF(AJ160=1,3,IF(AJ160=2,IF(OFFSET('Fiche score'!$A$2,VLOOKUP(RIGHT(AI160,2),Feuil1!A:C,2,FALSE),VLOOKUP(RIGHT(AI160,2),Feuil1!A:C,3,FALSE))=A160 & CHAR(10) & C160,1,2),\"\")))","v":""}]
[null,null,null,null,{"$f":"IF(ISERROR(VLOOKUP(C161,AS!$A:$H,7,FALSE)),\"\",VLOOKUP(C161,AS!$A:$H,7,FALSE))","v":""},{"$f":"IF(ISERROR(VLOOKUP(C161,AS!$A:$H,8,FALSE)),\"\",VLOOKUP(C161,AS!$A:$H,8,FALSE))","v":""},null,null,null,null,{"$f":"IF(ISERROR(VLOOKUP(I161,AS!$A:$H,7,FALSE)),\"\",VLOOKUP(I161,AS!$A:$H,7,FALSE))","v":""},{"$f":"IF(ISERROR(VLOOKUP(I161,AS!$A:$H,8,FALSE)),\"\",VLOOKUP(I161,AS!$A:$H,8,FALSE))","v":""},null,null,null,null,{"$f":"IF(ISERROR(VLOOKUP(O161,AS!$A:$H,7,FALSE)),\"\",VLOOKUP(O161,AS!$A:$H,7,FALSE))","v":""},{"$f":"IF(ISERROR(VLOOKUP(O161,AS!$A:$H,8,FALSE)),\"\",VLOOKUP(O161,AS!$A:$H,8,FALSE))","v":""},null,null,null,null,{"$f":"IF(ISERROR(VLOOKUP(U161,AS!$A:$H,7,FALSE)),\"\",VLOOKUP(U161,AS!$A:$H,7,FALSE))","v":""},{"$f":"IF(ISERROR(VLOOKUP(U161,AS!$A:$H,8,FALSE)),\"\",VLOOKUP(U161,AS!$A:$H,8,FALSE))","v":""},null,null,null,null,{"$f":"IF(ISERROR(VLOOKUP(AA161,AS!$A:$H,7,FALSE)),\"\",VLOOKUP(AA161,AS!$A:$H,7,FALSE))","v":""},{"$f":"IF(ISERROR(VLOOKUP(AA161,AS!$A:$H,8,FALSE)),\"\",VLOOKUP(AA161,AS!$A:$H,8,FALSE))","v":""},null,null,null,"",null,{"$f":"IF(AI161=\"\",\"\",IF(OFFSET('Fiche score'!$A$2,VLOOKUP(RIGHT(AI161,2),Feuil1!A:C,2,FALSE),VLOOKUP(RIGHT(AI161,2),Feuil1!A:C,3,FALSE))=A161 & CHAR(10) & C161,2,IF(OFFSET('Fiche score'!$A$2,VLOOKUP(RIGHT(AI161,2),Feuil1!A:C,2,FALSE)+1,VLOOKUP(RIGHT(AI161,2),Feuil1!A:C,3,FALSE))=A161 & CHAR(10) & C161,2,IF(OFFSET('Fiche score'!$A$2,VLOOKUP(RIGHT(AI161,2),Feuil1!A:C,2,FALSE)-1,VLOOKUP(RIGHT(AI161,2),Feuil1!A:C,3,FALSE))=A161 & CHAR(10) & C161,1,IF(OFFSET('Fiche score'!$A$2,VLOOKUP(RIGHT(AI161,2),Feuil1!A:C,2,FALSE)-2,VLOOKUP(RIGHT(AI161,2),Feuil1!A:C,3,FALSE))=A161 & CHAR(10) & C161,1,\"0\")))))","v":""},{"$f":"IF(ISERROR(VLOOKUP(A161 & CHAR(10) &C161,'Fiche tirage dirigé'!I:I,1,FALSE)),0,1)","v":0},{"$f":"IF(ISERROR(VLOOKUP(A161& CHAR(10) &C161,Cadrage!H:H,1,FALSE)),0,1)","v":0},{"$f":"IF(ISERROR(VLOOKUP(A161 & CHAR(10) &C161,'Tableau final'!V:V,1,FALSE)),0,1)","v":0},{"$f":"IF(ISERROR(VLOOKUP(A161 & CHAR(10) &C161,'Tableau final'!W:W,1,FALSE)),0,1)","v":0},{"$f":"IF(ISERROR(VLOOKUP(A161 & CHAR(10) &C161,'Tableau final'!X:X,1,FALSE)),0,1)","v":0},{"$f":"IF(ISERROR(VLOOKUP(A161 & CHAR(10) &C161,'Tableau final'!Y:Y,1,FALSE)),0,1)","v":0},{"$f":"IF(ISERROR(VLOOKUP(A161 & CHAR(10) &C161,'Tableau final'!Z:Z,1,FALSE)),0,1)","v":0},{"$f":"IF('Tableau final'!$A$1<>\"\",IF('Tableau final'!$B$5=\"Qualifiés\",IF(ISERROR(VLOOKUP(A161 & CHAR(10) &C161,'Tableau final'!C:F,1,FALSE)),\"\",IF(AND(VLOOKUP(A161 & CHAR(10) &C161,'Tableau final'!C:F,3,FALSE)<>\"\",VLOOKUP(A161 & CHAR(10) &C161,'Tableau final'!C:F,4,FALSE)=\"x\"),1,\"\")),IF('Tableau final'!$G$5=\"Qualifiés\",IF(ISERROR(VLOOKUP(A161 & CHAR(10) &C161,'Tableau final'!H:K,1,FALSE)),\"\",IF(AND(VLOOKUP(A161 & CHAR(10) &C161,'Tableau final'!H:K,3,FALSE)<>\"\",VLOOKUP(A161 & CHAR(10) &C161,'Tableau final'!H:K,4,FALSE)=\"x\"),1,\"\")),IF('Tableau final'!$L$5=\"Qualifiés\",IF(ISERROR(VLOOKUP(A161 & CHAR(10) &C161,'Tableau final'!M:P,1,FALSE)),\"\",IF(AND(VLOOKUP(A161 & CHAR(10) &C161,'Tableau final'!M:P,3,FALSE)<>\"\",VLOOKUP(A161 & CHAR(10) &C161,'Tableau final'!M:P,4,FALSE)=\"x\"),1,\"\")),\"\"))),\"\")","v":""},"0",{"$f":"IF(ISERROR(VLOOKUP(AI161,Tirage!A:J,1,FALSE)),\"\",IF(VLOOKUP(AI161,Tirage!A:J,1,FALSE)=\"Office \",3,4))","v":""},{"$f":"IF(AJ161=\"0\",4,IF(AJ161=1,3,IF(AJ161=2,IF(OFFSET('Fiche score'!$A$2,VLOOKUP(RIGHT(AI161,2),Feuil1!A:C,2,FALSE),VLOOKUP(RIGHT(AI161,2),Feuil1!A:C,3,FALSE))=A161 & CHAR(10) & C161,1,2),\"\")))","v":""}]
[null,null,null,null,{"$f":"IF(ISERROR(VLOOKUP(C162,AS!$A:$H,7,FALSE)),\"\",VLOOKUP(C162,AS!$A:$H,7,FALSE))","v":""},{"$f":"IF(ISERROR(VLOOKUP(C162,AS!$A:$H,8,FALSE)),\"\",VLOOKUP(C162,AS!$A:$H,8,FALSE))","v":""},null,null,null,null,{"$f":"IF(ISERROR(VLOOKUP(I162,AS!$A:$H,7,FALSE)),\"\",VLOOKUP(I162,AS!$A:$H,7,FALSE))","v":""},{"$f":"IF(ISERROR(VLOOKUP(I162,AS!$A:$H,8,FALSE)),\"\",VLOOKUP(I162,AS!$A:$H,8,FALSE))","v":""},null,null,null,null,{"$f":"IF(ISERROR(VLOOKUP(O162,AS!$A:$H,7,FALSE)),\"\",VLOOKUP(O162,AS!$A:$H,7,FALSE))","v":""},{"$f":"IF(ISERROR(VLOOKUP(O162,AS!$A:$H,8,FALSE)),\"\",VLOOKUP(O162,AS!$A:$H,8,FALSE))","v":""},null,null,null,null,{"$f":"IF(ISERROR(VLOOKUP(U162,AS!$A:$H,7,FALSE)),\"\",VLOOKUP(U162,AS!$A:$H,7,FALSE))","v":""},{"$f":"IF(ISERROR(VLOOKUP(U162,AS!$A:$H,8,FALSE)),\"\",VLOOKUP(U162,AS!$A:$H,8,FALSE))","v":""},null,null,null,null,{"$f":"IF(ISERROR(VLOOKUP(AA162,AS!$A:$H,7,FALSE)),\"\",VLOOKUP(AA162,AS!$A:$H,7,FALSE))","v":""},{"$f":"IF(ISERROR(VLOOKUP(AA162,AS!$A:$H,8,FALSE)),\"\",VLOOKUP(AA162,AS!$A:$H,8,FALSE))","v":""},null,null,null,"",null,{"$f":"IF(AI162=\"\",\"\",IF(OFFSET('Fiche score'!$A$2,VLOOKUP(RIGHT(AI162,2),Feuil1!A:C,2,FALSE),VLOOKUP(RIGHT(AI162,2),Feuil1!A:C,3,FALSE))=A162 & CHAR(10) & C162,2,IF(OFFSET('Fiche score'!$A$2,VLOOKUP(RIGHT(AI162,2),Feuil1!A:C,2,FALSE)+1,VLOOKUP(RIGHT(AI162,2),Feuil1!A:C,3,FALSE))=A162 & CHAR(10) & C162,2,IF(OFFSET('Fiche score'!$A$2,VLOOKUP(RIGHT(AI162,2),Feuil1!A:C,2,FALSE)-1,VLOOKUP(RIGHT(AI162,2),Feuil1!A:C,3,FALSE))=A162 & CHAR(10) & C162,1,IF(OFFSET('Fiche score'!$A$2,VLOOKUP(RIGHT(AI162,2),Feuil1!A:C,2,FALSE)-2,VLOOKUP(RIGHT(AI162,2),Feuil1!A:C,3,FALSE))=A162 & CHAR(10) & C162,1,\"0\")))))","v":""},{"$f":"IF(ISERROR(VLOOKUP(A162 & CHAR(10) &C162,'Fiche tirage dirigé'!I:I,1,FALSE)),0,1)","v":0},{"$f":"IF(ISERROR(VLOOKUP(A162& CHAR(10) &C162,Cadrage!H:H,1,FALSE)),0,1)","v":0},{"$f":"IF(ISERROR(VLOOKUP(A162 & CHAR(10) &C162,'Tableau final'!V:V,1,FALSE)),0,1)","v":0},{"$f":"IF(ISERROR(VLOOKUP(A162 & CHAR(10) &C162,'Tableau final'!W:W,1,FALSE)),0,1)","v":0},{"$f":"IF(ISERROR(VLOOKUP(A162 & CHAR(10) &C162,'Tableau final'!X:X,1,FALSE)),0,1)","v":0},{"$f":"IF(ISERROR(VLOOKUP(A162 & CHAR(10) &C162,'Tableau final'!Y:Y,1,FALSE)),0,1)","v":0},{"$f":"IF(ISERROR(VLOOKUP(A162 & CHAR(10) &C162,'Tableau final'!Z:Z,1,FALSE)),0,1)","v":0},{"$f":"IF('Tableau final'!$A$1<>\"\",IF('Tableau final'!$B$5=\"Qualifiés\",IF(ISERROR(VLOOKUP(A162 & CHAR(10) &C162,'Tableau final'!C:F,1,FALSE)),\"\",IF(AND(VLOOKUP(A162 & CHAR(10) &C162,'Tableau final'!C:F,3,FALSE)<>\"\",VLOOKUP(A162 & CHAR(10) &C162,'Tableau final'!C:F,4,FALSE)=\"x\"),1,\"\")),IF('Tableau final'!$G$5=\"Qualifiés\",IF(ISERROR(VLOOKUP(A162 & CHAR(10) &C162,'Tableau final'!H:K,1,FALSE)),\"\",IF(AND(VLOOKUP(A162 & CHAR(10) &C162,'Tableau final'!H:K,3,FALSE)<>\"\",VLOOKUP(A162 & CHAR(10) &C162,'Tableau final'!H:K,4,FALSE)=\"x\"),1,\"\")),IF('Tableau final'!$L$5=\"Qualifiés\",IF(ISERROR(VLOOKUP(A162 & CHAR(10) &C162,'Tableau final'!M:P,1,FALSE)),\"\",IF(AND(VLOOKUP(A162 & CHAR(10) &C162,'Tableau final'!M:P,3,FALSE)<>\"\",VLOOKUP(A162 & CHAR(10) &C162,'Tableau final'!M:P,4,FALSE)=\"x\"),1,\"\")),\"\"))),\"\")","v":""},"0",{"$f":"IF(ISERROR(VLOOKUP(AI162,Tirage!A:J,1,FALSE)),\"\",IF(VLOOKUP(AI162,Tirage!A:J,1,FALSE)=\"Office \",3,4))","v":""},{"$f":"IF(AJ162=\"0\",4,IF(AJ162=1,3,IF(AJ162=2,IF(OFFSET('Fiche score'!$A$2,VLOOKUP(RIGHT(AI162,2),Feuil1!A:C,2,FALSE),VLOOKUP(RIGHT(AI162,2),Feuil1!A:C,3,FALSE))=A162 & CHAR(10) & C162,1,2),\"\")))","v":""}]
[null,null,null,null,{"$f":"IF(ISERROR(VLOOKUP(C163,AS!$A:$H,7,FALSE)),\"\",VLOOKUP(C163,AS!$A:$H,7,FALSE))","v":""},{"$f":"IF(ISERROR(VLOOKUP(C163,AS!$A:$H,8,FALSE)),\"\",VLOOKUP(C163,AS!$A:$H,8,FALSE))","v":""},null,null,null,null,{"$f":"IF(ISERROR(VLOOKUP(I163,AS!$A:$H,7,FALSE)),\"\",VLOOKUP(I163,AS!$A:$H,7,FALSE))","v":""},{"$f":"IF(ISERROR(VLOOKUP(I163,AS!$A:$H,8,FALSE)),\"\",VLOOKUP(I163,AS!$A:$H,8,FALSE))","v":""},null,null,null,null,{"$f":"IF(ISERROR(VLOOKUP(O163,AS!$A:$H,7,FALSE)),\"\",VLOOKUP(O163,AS!$A:$H,7,FALSE))","v":""},{"$f":"IF(ISERROR(VLOOKUP(O163,AS!$A:$H,8,FALSE)),\"\",VLOOKUP(O163,AS!$A:$H,8,FALSE))","v":""},null,null,null,null,{"$f":"IF(ISERROR(VLOOKUP(U163,AS!$A:$H,7,FALSE)),\"\",VLOOKUP(U163,AS!$A:$H,7,FALSE))","v":""},{"$f":"IF(ISERROR(VLOOKUP(U163,AS!$A:$H,8,FALSE)),\"\",VLOOKUP(U163,AS!$A:$H,8,FALSE))","v":""},null,null,null,null,{"$f":"IF(ISERROR(VLOOKUP(AA163,AS!$A:$H,7,FALSE)),\"\",VLOOKUP(AA163,AS!$A:$H,7,FALSE))","v":""},{"$f":"IF(ISERROR(VLOOKUP(AA163,AS!$A:$H,8,FALSE)),\"\",VLOOKUP(AA163,AS!$A:$H,8,FALSE))","v":""},null,null,null,"",null,{"$f":"IF(AI163=\"\",\"\",IF(OFFSET('Fiche score'!$A$2,VLOOKUP(RIGHT(AI163,2),Feuil1!A:C,2,FALSE),VLOOKUP(RIGHT(AI163,2),Feuil1!A:C,3,FALSE))=A163 & CHAR(10) & C163,2,IF(OFFSET('Fiche score'!$A$2,VLOOKUP(RIGHT(AI163,2),Feuil1!A:C,2,FALSE)+1,VLOOKUP(RIGHT(AI163,2),Feuil1!A:C,3,FALSE))=A163 & CHAR(10) & C163,2,IF(OFFSET('Fiche score'!$A$2,VLOOKUP(RIGHT(AI163,2),Feuil1!A:C,2,FALSE)-1,VLOOKUP(RIGHT(AI163,2),Feuil1!A:C,3,FALSE))=A163 & CHAR(10) & C163,1,IF(OFFSET('Fiche score'!$A$2,VLOOKUP(RIGHT(AI163,2),Feuil1!A:C,2,FALSE)-2,VLOOKUP(RIGHT(AI163,2),Feuil1!A:C,3,FALSE))=A163 & CHAR(10) & C163,1,\"0\")))))","v":""},{"$f":"IF(ISERROR(VLOOKUP(A163 & CHAR(10) &C163,'Fiche tirage dirigé'!I:I,1,FALSE)),0,1)","v":0},{"$f":"IF(ISERROR(VLOOKUP(A163& CHAR(10) &C163,Cadrage!H:H,1,FALSE)),0,1)","v":0},{"$f":"IF(ISERROR(VLOOKUP(A163 & CHAR(10) &C163,'Tableau final'!V:V,1,FALSE)),0,1)","v":0},{"$f":"IF(ISERROR(VLOOKUP(A163 & CHAR(10) &C163,'Tableau final'!W:W,1,FALSE)),0,1)","v":0},{"$f":"IF(ISERROR(VLOOKUP(A163 & CHAR(10) &C163,'Tableau final'!X:X,1,FALSE)),0,1)","v":0},{"$f":"IF(ISERROR(VLOOKUP(A163 & CHAR(10) &C163,'Tableau final'!Y:Y,1,FALSE)),0,1)","v":0},{"$f":"IF(ISERROR(VLOOKUP(A163 & CHAR(10) &C163,'Tableau final'!Z:Z,1,FALSE)),0,1)","v":0},{"$f":"IF('Tableau final'!$A$1<>\"\",IF('Tableau final'!$B$5=\"Qualifiés\",IF(ISERROR(VLOOKUP(A163 & CHAR(10) &C163,'Tableau final'!C:F,1,FALSE)),\"\",IF(AND(VLOOKUP(A163 & CHAR(10) &C163,'Tableau final'!C:F,3,FALSE)<>\"\",VLOOKUP(A163 & CHAR(10) &C163,'Tableau final'!C:F,4,FALSE)=\"x\"),1,\"\")),IF('Tableau final'!$G$5=\"Qualifiés\",IF(ISERROR(VLOOKUP(A163 & CHAR(10) &C163,'Tableau final'!H:K,1,FALSE)),\"\",IF(AND(VLOOKUP(A163 & CHAR(10) &C163,'Tableau final'!H:K,3,FALSE)<>\"\",VLOOKUP(A163 & CHAR(10) &C163,'Tableau final'!H:K,4,FALSE)=\"x\"),1,\"\")),IF('Tableau final'!$L$5=\"Qualifiés\",IF(ISERROR(VLOOKUP(A163 & CHAR(10) &C163,'Tableau final'!M:P,1,FALSE)),\"\",IF(AND(VLOOKUP(A163 & CHAR(10) &C163,'Tableau final'!M:P,3,FALSE)<>\"\",VLOOKUP(A163 & CHAR(10) &C163,'Tableau final'!M:P,4,FALSE)=\"x\"),1,\"\")),\"\"))),\"\")","v":""},"0",{"$f":"IF(ISERROR(VLOOKUP(AI163,Tirage!A:J,1,FALSE)),\"\",IF(VLOOKUP(AI163,Tirage!A:J,1,FALSE)=\"Office \",3,4))","v":""},{"$f":"IF(AJ163=\"0\",4,IF(AJ163=1,3,IF(AJ163=2,IF(OFFSET('Fiche score'!$A$2,VLOOKUP(RIGHT(AI163,2),Feuil1!A:C,2,FALSE),VLOOKUP(RIGHT(AI163,2),Feuil1!A:C,3,FALSE))=A163 & CHAR(10) & C163,1,2),\"\")))","v":""}]
[null,null,null,null,{"$f":"IF(ISERROR(VLOOKUP(C164,AS!$A:$H,7,FALSE)),\"\",VLOOKUP(C164,AS!$A:$H,7,FALSE))","v":""},{"$f":"IF(ISERROR(VLOOKUP(C164,AS!$A:$H,8,FALSE)),\"\",VLOOKUP(C164,AS!$A:$H,8,FALSE))","v":""},null,null,null,null,{"$f":"IF(ISERROR(VLOOKUP(I164,AS!$A:$H,7,FALSE)),\"\",VLOOKUP(I164,AS!$A:$H,7,FALSE))","v":""},{"$f":"IF(ISERROR(VLOOKUP(I164,AS!$A:$H,8,FALSE)),\"\",VLOOKUP(I164,AS!$A:$H,8,FALSE))","v":""},null,null,null,null,{"$f":"IF(ISERROR(VLOOKUP(O164,AS!$A:$H,7,FALSE)),\"\",VLOOKUP(O164,AS!$A:$H,7,FALSE))","v":""},{"$f":"IF(ISERROR(VLOOKUP(O164,AS!$A:$H,8,FALSE)),\"\",VLOOKUP(O164,AS!$A:$H,8,FALSE))","v":""},null,null,null,null,{"$f":"IF(ISERROR(VLOOKUP(U164,AS!$A:$H,7,FALSE)),\"\",VLOOKUP(U164,AS!$A:$H,7,FALSE))","v":""},{"$f":"IF(ISERROR(VLOOKUP(U164,AS!$A:$H,8,FALSE)),\"\",VLOOKUP(U164,AS!$A:$H,8,FALSE))","v":""},null,null,null,null,{"$f":"IF(ISERROR(VLOOKUP(AA164,AS!$A:$H,7,FALSE)),\"\",VLOOKUP(AA164,AS!$A:$H,7,FALSE))","v":""},{"$f":"IF(ISERROR(VLOOKUP(AA164,AS!$A:$H,8,FALSE)),\"\",VLOOKUP(AA164,AS!$A:$H,8,FALSE))","v":""},null,null,null,"",null,{"$f":"IF(AI164=\"\",\"\",IF(OFFSET('Fiche score'!$A$2,VLOOKUP(RIGHT(AI164,2),Feuil1!A:C,2,FALSE),VLOOKUP(RIGHT(AI164,2),Feuil1!A:C,3,FALSE))=A164 & CHAR(10) & C164,2,IF(OFFSET('Fiche score'!$A$2,VLOOKUP(RIGHT(AI164,2),Feuil1!A:C,2,FALSE)+1,VLOOKUP(RIGHT(AI164,2),Feuil1!A:C,3,FALSE))=A164 & CHAR(10) & C164,2,IF(OFFSET('Fiche score'!$A$2,VLOOKUP(RIGHT(AI164,2),Feuil1!A:C,2,FALSE)-1,VLOOKUP(RIGHT(AI164,2),Feuil1!A:C,3,FALSE))=A164 & CHAR(10) & C164,1,IF(OFFSET('Fiche score'!$A$2,VLOOKUP(RIGHT(AI164,2),Feuil1!A:C,2,FALSE)-2,VLOOKUP(RIGHT(AI164,2),Feuil1!A:C,3,FALSE))=A164 & CHAR(10) & C164,1,\"0\")))))","v":""},{"$f":"IF(ISERROR(VLOOKUP(A164 & CHAR(10) &C164,'Fiche tirage dirigé'!I:I,1,FALSE)),0,1)","v":0},{"$f":"IF(ISERROR(VLOOKUP(A164& CHAR(10) &C164,Cadrage!H:H,1,FALSE)),0,1)","v":0},{"$f":"IF(ISERROR(VLOOKUP(A164 & CHAR(10) &C164,'Tableau final'!V:V,1,FALSE)),0,1)","v":0},{"$f":"IF(ISERROR(VLOOKUP(A164 & CHAR(10) &C164,'Tableau final'!W:W,1,FALSE)),0,1)","v":0},{"$f":"IF(ISERROR(VLOOKUP(A164 & CHAR(10) &C164,'Tableau final'!X:X,1,FALSE)),0,1)","v":0},{"$f":"IF(ISERROR(VLOOKUP(A164 & CHAR(10) &C164,'Tableau final'!Y:Y,1,FALSE)),0,1)","v":0},{"$f":"IF(ISERROR(VLOOKUP(A164 & CHAR(10) &C164,'Tableau final'!Z:Z,1,FALSE)),0,1)","v":0},{"$f":"IF('Tableau final'!$A$1<>\"\",IF('Tableau final'!$B$5=\"Qualifiés\",IF(ISERROR(VLOOKUP(A164 & CHAR(10) &C164,'Tableau final'!C:F,1,FALSE)),\"\",IF(AND(VLOOKUP(A164 & CHAR(10) &C164,'Tableau final'!C:F,3,FALSE)<>\"\",VLOOKUP(A164 & CHAR(10) &C164,'Tableau final'!C:F,4,FALSE)=\"x\"),1,\"\")),IF('Tableau final'!$G$5=\"Qualifiés\",IF(ISERROR(VLOOKUP(A164 & CHAR(10) &C164,'Tableau final'!H:K,1,FALSE)),\"\",IF(AND(VLOOKUP(A164 & CHAR(10) &C164,'Tableau final'!H:K,3,FALSE)<>\"\",VLOOKUP(A164 & CHAR(10) &C164,'Tableau final'!H:K,4,FALSE)=\"x\"),1,\"\")),IF('Tableau final'!$L$5=\"Qualifiés\",IF(ISERROR(VLOOKUP(A164 & CHAR(10) &C164,'Tableau final'!M:P,1,FALSE)),\"\",IF(AND(VLOOKUP(A164 & CHAR(10) &C164,'Tableau final'!M:P,3,FALSE)<>\"\",VLOOKUP(A164 & CHAR(10) &C164,'Tableau final'!M:P,4,FALSE)=\"x\"),1,\"\")),\"\"))),\"\")","v":""},"0",{"$f":"IF(ISERROR(VLOOKUP(AI164,Tirage!A:J,1,FALSE)),\"\",IF(VLOOKUP(AI164,Tirage!A:J,1,FALSE)=\"Office \",3,4))","v":""},{"$f":"IF(AJ164=\"0\",4,IF(AJ164=1,3,IF(AJ164=2,IF(OFFSET('Fiche score'!$A$2,VLOOKUP(RIGHT(AI164,2),Feuil1!A:C,2,FALSE),VLOOKUP(RIGHT(AI164,2),Feuil1!A:C,3,FALSE))=A164 & CHAR(10) & C164,1,2),\"\")))","v":""}]
[null,null,null,null,{"$f":"IF(ISERROR(VLOOKUP(C165,AS!$A:$H,7,FALSE)),\"\",VLOOKUP(C165,AS!$A:$H,7,FALSE))","v":""},{"$f":"IF(ISERROR(VLOOKUP(C165,AS!$A:$H,8,FALSE)),\"\",VLOOKUP(C165,AS!$A:$H,8,FALSE))","v":""},null,null,null,null,{"$f":"IF(ISERROR(VLOOKUP(I165,AS!$A:$H,7,FALSE)),\"\",VLOOKUP(I165,AS!$A:$H,7,FALSE))","v":""},{"$f":"IF(ISERROR(VLOOKUP(I165,AS!$A:$H,8,FALSE)),\"\",VLOOKUP(I165,AS!$A:$H,8,FALSE))","v":""},null,null,null,null,{"$f":"IF(ISERROR(VLOOKUP(O165,AS!$A:$H,7,FALSE)),\"\",VLOOKUP(O165,AS!$A:$H,7,FALSE))","v":""},{"$f":"IF(ISERROR(VLOOKUP(O165,AS!$A:$H,8,FALSE)),\"\",VLOOKUP(O165,AS!$A:$H,8,FALSE))","v":""},null,null,null,null,{"$f":"IF(ISERROR(VLOOKUP(U165,AS!$A:$H,7,FALSE)),\"\",VLOOKUP(U165,AS!$A:$H,7,FALSE))","v":""},{"$f":"IF(ISERROR(VLOOKUP(U165,AS!$A:$H,8,FALSE)),\"\",VLOOKUP(U165,AS!$A:$H,8,FALSE))","v":""},null,null,null,null,{"$f":"IF(ISERROR(VLOOKUP(AA165,AS!$A:$H,7,FALSE)),\"\",VLOOKUP(AA165,AS!$A:$H,7,FALSE))","v":""},{"$f":"IF(ISERROR(VLOOKUP(AA165,AS!$A:$H,8,FALSE)),\"\",VLOOKUP(AA165,AS!$A:$H,8,FALSE))","v":""},null,null,null,"",null,{"$f":"IF(AI165=\"\",\"\",IF(OFFSET('Fiche score'!$A$2,VLOOKUP(RIGHT(AI165,2),Feuil1!A:C,2,FALSE),VLOOKUP(RIGHT(AI165,2),Feuil1!A:C,3,FALSE))=A165 & CHAR(10) & C165,2,IF(OFFSET('Fiche score'!$A$2,VLOOKUP(RIGHT(AI165,2),Feuil1!A:C,2,FALSE)+1,VLOOKUP(RIGHT(AI165,2),Feuil1!A:C,3,FALSE))=A165 & CHAR(10) & C165,2,IF(OFFSET('Fiche score'!$A$2,VLOOKUP(RIGHT(AI165,2),Feuil1!A:C,2,FALSE)-1,VLOOKUP(RIGHT(AI165,2),Feuil1!A:C,3,FALSE))=A165 & CHAR(10) & C165,1,IF(OFFSET('Fiche score'!$A$2,VLOOKUP(RIGHT(AI165,2),Feuil1!A:C,2,FALSE)-2,VLOOKUP(RIGHT(AI165,2),Feuil1!A:C,3,FALSE))=A165 & CHAR(10) & C165,1,\"0\")))))","v":""},{"$f":"IF(ISERROR(VLOOKUP(A165 & CHAR(10) &C165,'Fiche tirage dirigé'!I:I,1,FALSE)),0,1)","v":0},{"$f":"IF(ISERROR(VLOOKUP(A165& CHAR(10) &C165,Cadrage!H:H,1,FALSE)),0,1)","v":0},{"$f":"IF(ISERROR(VLOOKUP(A165 & CHAR(10) &C165,'Tableau final'!V:V,1,FALSE)),0,1)","v":0},{"$f":"IF(ISERROR(VLOOKUP(A165 & CHAR(10) &C165,'Tableau final'!W:W,1,FALSE)),0,1)","v":0},{"$f":"IF(ISERROR(VLOOKUP(A165 & CHAR(10) &C165,'Tableau final'!X:X,1,FALSE)),0,1)","v":0},{"$f":"IF(ISERROR(VLOOKUP(A165 & CHAR(10) &C165,'Tableau final'!Y:Y,1,FALSE)),0,1)","v":0},{"$f":"IF(ISERROR(VLOOKUP(A165 & CHAR(10) &C165,'Tableau final'!Z:Z,1,FALSE)),0,1)","v":0},{"$f":"IF('Tableau final'!$A$1<>\"\",IF('Tableau final'!$B$5=\"Qualifiés\",IF(ISERROR(VLOOKUP(A165 & CHAR(10) &C165,'Tableau final'!C:F,1,FALSE)),\"\",IF(AND(VLOOKUP(A165 & CHAR(10) &C165,'Tableau final'!C:F,3,FALSE)<>\"\",VLOOKUP(A165 & CHAR(10) &C165,'Tableau final'!C:F,4,FALSE)=\"x\"),1,\"\")),IF('Tableau final'!$G$5=\"Qualifiés\",IF(ISERROR(VLOOKUP(A165 & CHAR(10) &C165,'Tableau final'!H:K,1,FALSE)),\"\",IF(AND(VLOOKUP(A165 & CHAR(10) &C165,'Tableau final'!H:K,3,FALSE)<>\"\",VLOOKUP(A165 & CHAR(10) &C165,'Tableau final'!H:K,4,FALSE)=\"x\"),1,\"\")),IF('Tableau final'!$L$5=\"Qualifiés\",IF(ISERROR(VLOOKUP(A165 & CHAR(10) &C165,'Tableau final'!M:P,1,FALSE)),\"\",IF(AND(VLOOKUP(A165 & CHAR(10) &C165,'Tableau final'!M:P,3,FALSE)<>\"\",VLOOKUP(A165 & CHAR(10) &C165,'Tableau final'!M:P,4,FALSE)=\"x\"),1,\"\")),\"\"))),\"\")","v":""},"0",{"$f":"IF(ISERROR(VLOOKUP(AI165,Tirage!A:J,1,FALSE)),\"\",IF(VLOOKUP(AI165,Tirage!A:J,1,FALSE)=\"Office \",3,4))","v":""},{"$f":"IF(AJ165=\"0\",4,IF(AJ165=1,3,IF(AJ165=2,IF(OFFSET('Fiche score'!$A$2,VLOOKUP(RIGHT(AI165,2),Feuil1!A:C,2,FALSE),VLOOKUP(RIGHT(AI165,2),Feuil1!A:C,3,FALSE))=A165 & CHAR(10) & C165,1,2),\"\")))","v":""}]
[null,null,null,null,{"$f":"IF(ISERROR(VLOOKUP(C166,AS!$A:$H,7,FALSE)),\"\",VLOOKUP(C166,AS!$A:$H,7,FALSE))","v":""},{"$f":"IF(ISERROR(VLOOKUP(C166,AS!$A:$H,8,FALSE)),\"\",VLOOKUP(C166,AS!$A:$H,8,FALSE))","v":""},null,null,null,null,{"$f":"IF(ISERROR(VLOOKUP(I166,AS!$A:$H,7,FALSE)),\"\",VLOOKUP(I166,AS!$A:$H,7,FALSE))","v":""},{"$f":"IF(ISERROR(VLOOKUP(I166,AS!$A:$H,8,FALSE)),\"\",VLOOKUP(I166,AS!$A:$H,8,FALSE))","v":""},null,null,null,null,{"$f":"IF(ISERROR(VLOOKUP(O166,AS!$A:$H,7,FALSE)),\"\",VLOOKUP(O166,AS!$A:$H,7,FALSE))","v":""},{"$f":"IF(ISERROR(VLOOKUP(O166,AS!$A:$H,8,FALSE)),\"\",VLOOKUP(O166,AS!$A:$H,8,FALSE))","v":""},null,null,null,null,{"$f":"IF(ISERROR(VLOOKUP(U166,AS!$A:$H,7,FALSE)),\"\",VLOOKUP(U166,AS!$A:$H,7,FALSE))","v":""},{"$f":"IF(ISERROR(VLOOKUP(U166,AS!$A:$H,8,FALSE)),\"\",VLOOKUP(U166,AS!$A:$H,8,FALSE))","v":""},null,null,null,null,{"$f":"IF(ISERROR(VLOOKUP(AA166,AS!$A:$H,7,FALSE)),\"\",VLOOKUP(AA166,AS!$A:$H,7,FALSE))","v":""},{"$f":"IF(ISERROR(VLOOKUP(AA166,AS!$A:$H,8,FALSE)),\"\",VLOOKUP(AA166,AS!$A:$H,8,FALSE))","v":""},null,null,null,"",null,{"$f":"IF(AI166=\"\",\"\",IF(OFFSET('Fiche score'!$A$2,VLOOKUP(RIGHT(AI166,2),Feuil1!A:C,2,FALSE),VLOOKUP(RIGHT(AI166,2),Feuil1!A:C,3,FALSE))=A166 & CHAR(10) & C166,2,IF(OFFSET('Fiche score'!$A$2,VLOOKUP(RIGHT(AI166,2),Feuil1!A:C,2,FALSE)+1,VLOOKUP(RIGHT(AI166,2),Feuil1!A:C,3,FALSE))=A166 & CHAR(10) & C166,2,IF(OFFSET('Fiche score'!$A$2,VLOOKUP(RIGHT(AI166,2),Feuil1!A:C,2,FALSE)-1,VLOOKUP(RIGHT(AI166,2),Feuil1!A:C,3,FALSE))=A166 & CHAR(10) & C166,1,IF(OFFSET('Fiche score'!$A$2,VLOOKUP(RIGHT(AI166,2),Feuil1!A:C,2,FALSE)-2,VLOOKUP(RIGHT(AI166,2),Feuil1!A:C,3,FALSE))=A166 & CHAR(10) & C166,1,\"0\")))))","v":""},{"$f":"IF(ISERROR(VLOOKUP(A166 & CHAR(10) &C166,'Fiche tirage dirigé'!I:I,1,FALSE)),0,1)","v":0},{"$f":"IF(ISERROR(VLOOKUP(A166& CHAR(10) &C166,Cadrage!H:H,1,FALSE)),0,1)","v":0},{"$f":"IF(ISERROR(VLOOKUP(A166 & CHAR(10) &C166,'Tableau final'!V:V,1,FALSE)),0,1)","v":0},{"$f":"IF(ISERROR(VLOOKUP(A166 & CHAR(10) &C166,'Tableau final'!W:W,1,FALSE)),0,1)","v":0},{"$f":"IF(ISERROR(VLOOKUP(A166 & CHAR(10) &C166,'Tableau final'!X:X,1,FALSE)),0,1)","v":0},{"$f":"IF(ISERROR(VLOOKUP(A166 & CHAR(10) &C166,'Tableau final'!Y:Y,1,FALSE)),0,1)","v":0},{"$f":"IF(ISERROR(VLOOKUP(A166 & CHAR(10) &C166,'Tableau final'!Z:Z,1,FALSE)),0,1)","v":0},{"$f":"IF('Tableau final'!$A$1<>\"\",IF('Tableau final'!$B$5=\"Qualifiés\",IF(ISERROR(VLOOKUP(A166 & CHAR(10) &C166,'Tableau final'!C:F,1,FALSE)),\"\",IF(AND(VLOOKUP(A166 & CHAR(10) &C166,'Tableau final'!C:F,3,FALSE)<>\"\",VLOOKUP(A166 & CHAR(10) &C166,'Tableau final'!C:F,4,FALSE)=\"x\"),1,\"\")),IF('Tableau final'!$G$5=\"Qualifiés\",IF(ISERROR(VLOOKUP(A166 & CHAR(10) &C166,'Tableau final'!H:K,1,FALSE)),\"\",IF(AND(VLOOKUP(A166 & CHAR(10) &C166,'Tableau final'!H:K,3,FALSE)<>\"\",VLOOKUP(A166 & CHAR(10) &C166,'Tableau final'!H:K,4,FALSE)=\"x\"),1,\"\")),IF('Tableau final'!$L$5=\"Qualifiés\",IF(ISERROR(VLOOKUP(A166 & CHAR(10) &C166,'Tableau final'!M:P,1,FALSE)),\"\",IF(AND(VLOOKUP(A166 & CHAR(10) &C166,'Tableau final'!M:P,3,FALSE)<>\"\",VLOOKUP(A166 & CHAR(10) &C166,'Tableau final'!M:P,4,FALSE)=\"x\"),1,\"\")),\"\"))),\"\")","v":""},"0",{"$f":"IF(ISERROR(VLOOKUP(AI166,Tirage!A:J,1,FALSE)),\"\",IF(VLOOKUP(AI166,Tirage!A:J,1,FALSE)=\"Office \",3,4))","v":""},{"$f":"IF(AJ166=\"0\",4,IF(AJ166=1,3,IF(AJ166=2,IF(OFFSET('Fiche score'!$A$2,VLOOKUP(RIGHT(AI166,2),Feuil1!A:C,2,FALSE),VLOOKUP(RIGHT(AI166,2),Feuil1!A:C,3,FALSE))=A166 & CHAR(10) & C166,1,2),\"\")))","v":""}]
[null,null,null,null,{"$f":"IF(ISERROR(VLOOKUP(C167,AS!$A:$H,7,FALSE)),\"\",VLOOKUP(C167,AS!$A:$H,7,FALSE))","v":""},{"$f":"IF(ISERROR(VLOOKUP(C167,AS!$A:$H,8,FALSE)),\"\",VLOOKUP(C167,AS!$A:$H,8,FALSE))","v":""},null,null,null,null,{"$f":"IF(ISERROR(VLOOKUP(I167,AS!$A:$H,7,FALSE)),\"\",VLOOKUP(I167,AS!$A:$H,7,FALSE))","v":""},{"$f":"IF(ISERROR(VLOOKUP(I167,AS!$A:$H,8,FALSE)),\"\",VLOOKUP(I167,AS!$A:$H,8,FALSE))","v":""},null,null,null,null,{"$f":"IF(ISERROR(VLOOKUP(O167,AS!$A:$H,7,FALSE)),\"\",VLOOKUP(O167,AS!$A:$H,7,FALSE))","v":""},{"$f":"IF(ISERROR(VLOOKUP(O167,AS!$A:$H,8,FALSE)),\"\",VLOOKUP(O167,AS!$A:$H,8,FALSE))","v":""},null,null,null,null,{"$f":"IF(ISERROR(VLOOKUP(U167,AS!$A:$H,7,FALSE)),\"\",VLOOKUP(U167,AS!$A:$H,7,FALSE))","v":""},{"$f":"IF(ISERROR(VLOOKUP(U167,AS!$A:$H,8,FALSE)),\"\",VLOOKUP(U167,AS!$A:$H,8,FALSE))","v":""},null,null,null,null,{"$f":"IF(ISERROR(VLOOKUP(AA167,AS!$A:$H,7,FALSE)),\"\",VLOOKUP(AA167,AS!$A:$H,7,FALSE))","v":""},{"$f":"IF(ISERROR(VLOOKUP(AA167,AS!$A:$H,8,FALSE)),\"\",VLOOKUP(AA167,AS!$A:$H,8,FALSE))","v":""},null,null,null,"",null,{"$f":"IF(AI167=\"\",\"\",IF(OFFSET('Fiche score'!$A$2,VLOOKUP(RIGHT(AI167,2),Feuil1!A:C,2,FALSE),VLOOKUP(RIGHT(AI167,2),Feuil1!A:C,3,FALSE))=A167 & CHAR(10) & C167,2,IF(OFFSET('Fiche score'!$A$2,VLOOKUP(RIGHT(AI167,2),Feuil1!A:C,2,FALSE)+1,VLOOKUP(RIGHT(AI167,2),Feuil1!A:C,3,FALSE))=A167 & CHAR(10) & C167,2,IF(OFFSET('Fiche score'!$A$2,VLOOKUP(RIGHT(AI167,2),Feuil1!A:C,2,FALSE)-1,VLOOKUP(RIGHT(AI167,2),Feuil1!A:C,3,FALSE))=A167 & CHAR(10) & C167,1,IF(OFFSET('Fiche score'!$A$2,VLOOKUP(RIGHT(AI167,2),Feuil1!A:C,2,FALSE)-2,VLOOKUP(RIGHT(AI167,2),Feuil1!A:C,3,FALSE))=A167 & CHAR(10) & C167,1,\"0\")))))","v":""},{"$f":"IF(ISERROR(VLOOKUP(A167 & CHAR(10) &C167,'Fiche tirage dirigé'!I:I,1,FALSE)),0,1)","v":0},{"$f":"IF(ISERROR(VLOOKUP(A167& CHAR(10) &C167,Cadrage!H:H,1,FALSE)),0,1)","v":0},{"$f":"IF(ISERROR(VLOOKUP(A167 & CHAR(10) &C167,'Tableau final'!V:V,1,FALSE)),0,1)","v":0},{"$f":"IF(ISERROR(VLOOKUP(A167 & CHAR(10) &C167,'Tableau final'!W:W,1,FALSE)),0,1)","v":0},{"$f":"IF(ISERROR(VLOOKUP(A167 & CHAR(10) &C167,'Tableau final'!X:X,1,FALSE)),0,1)","v":0},{"$f":"IF(ISERROR(VLOOKUP(A167 & CHAR(10) &C167,'Tableau final'!Y:Y,1,FALSE)),0,1)","v":0},{"$f":"IF(ISERROR(VLOOKUP(A167 & CHAR(10) &C167,'Tableau final'!Z:Z,1,FALSE)),0,1)","v":0},{"$f":"IF('Tableau final'!$A$1<>\"\",IF('Tableau final'!$B$5=\"Qualifiés\",IF(ISERROR(VLOOKUP(A167 & CHAR(10) &C167,'Tableau final'!C:F,1,FALSE)),\"\",IF(AND(VLOOKUP(A167 & CHAR(10) &C167,'Tableau final'!C:F,3,FALSE)<>\"\",VLOOKUP(A167 & CHAR(10) &C167,'Tableau final'!C:F,4,FALSE)=\"x\"),1,\"\")),IF('Tableau final'!$G$5=\"Qualifiés\",IF(ISERROR(VLOOKUP(A167 & CHAR(10) &C167,'Tableau final'!H:K,1,FALSE)),\"\",IF(AND(VLOOKUP(A167 & CHAR(10) &C167,'Tableau final'!H:K,3,FALSE)<>\"\",VLOOKUP(A167 & CHAR(10) &C167,'Tableau final'!H:K,4,FALSE)=\"x\"),1,\"\")),IF('Tableau final'!$L$5=\"Qualifiés\",IF(ISERROR(VLOOKUP(A167 & CHAR(10) &C167,'Tableau final'!M:P,1,FALSE)),\"\",IF(AND(VLOOKUP(A167 & CHAR(10) &C167,'Tableau final'!M:P,3,FALSE)<>\"\",VLOOKUP(A167 & CHAR(10) &C167,'Tableau final'!M:P,4,FALSE)=\"x\"),1,\"\")),\"\"))),\"\")","v":""},"0",{"$f":"IF(ISERROR(VLOOKUP(AI167,Tirage!A:J,1,FALSE)),\"\",IF(VLOOKUP(AI167,Tirage!A:J,1,FALSE)=\"Office \",3,4))","v":""},{"$f":"IF(AJ167=\"0\",4,IF(AJ167=1,3,IF(AJ167=2,IF(OFFSET('Fiche score'!$A$2,VLOOKUP(RIGHT(AI167,2),Feuil1!A:C,2,FALSE),VLOOKUP(RIGHT(AI167,2),Feuil1!A:C,3,FALSE))=A167 & CHAR(10) & C167,1,2),\"\")))","v":""}]
[null,null,null,null,{"$f":"IF(ISERROR(VLOOKUP(C168,AS!$A:$H,7,FALSE)),\"\",VLOOKUP(C168,AS!$A:$H,7,FALSE))","v":""},{"$f":"IF(ISERROR(VLOOKUP(C168,AS!$A:$H,8,FALSE)),\"\",VLOOKUP(C168,AS!$A:$H,8,FALSE))","v":""},null,null,null,null,{"$f":"IF(ISERROR(VLOOKUP(I168,AS!$A:$H,7,FALSE)),\"\",VLOOKUP(I168,AS!$A:$H,7,FALSE))","v":""},{"$f":"IF(ISERROR(VLOOKUP(I168,AS!$A:$H,8,FALSE)),\"\",VLOOKUP(I168,AS!$A:$H,8,FALSE))","v":""},null,null,null,null,{"$f":"IF(ISERROR(VLOOKUP(O168,AS!$A:$H,7,FALSE)),\"\",VLOOKUP(O168,AS!$A:$H,7,FALSE))","v":""},{"$f":"IF(ISERROR(VLOOKUP(O168,AS!$A:$H,8,FALSE)),\"\",VLOOKUP(O168,AS!$A:$H,8,FALSE))","v":""},null,null,null,null,{"$f":"IF(ISERROR(VLOOKUP(U168,AS!$A:$H,7,FALSE)),\"\",VLOOKUP(U168,AS!$A:$H,7,FALSE))","v":""},{"$f":"IF(ISERROR(VLOOKUP(U168,AS!$A:$H,8,FALSE)),\"\",VLOOKUP(U168,AS!$A:$H,8,FALSE))","v":""},null,null,null,null,{"$f":"IF(ISERROR(VLOOKUP(AA168,AS!$A:$H,7,FALSE)),\"\",VLOOKUP(AA168,AS!$A:$H,7,FALSE))","v":""},{"$f":"IF(ISERROR(VLOOKUP(AA168,AS!$A:$H,8,FALSE)),\"\",VLOOKUP(AA168,AS!$A:$H,8,FALSE))","v":""},null,null,null,"",null,{"$f":"IF(AI168=\"\",\"\",IF(OFFSET('Fiche score'!$A$2,VLOOKUP(RIGHT(AI168,2),Feuil1!A:C,2,FALSE),VLOOKUP(RIGHT(AI168,2),Feuil1!A:C,3,FALSE))=A168 & CHAR(10) & C168,2,IF(OFFSET('Fiche score'!$A$2,VLOOKUP(RIGHT(AI168,2),Feuil1!A:C,2,FALSE)+1,VLOOKUP(RIGHT(AI168,2),Feuil1!A:C,3,FALSE))=A168 & CHAR(10) & C168,2,IF(OFFSET('Fiche score'!$A$2,VLOOKUP(RIGHT(AI168,2),Feuil1!A:C,2,FALSE)-1,VLOOKUP(RIGHT(AI168,2),Feuil1!A:C,3,FALSE))=A168 & CHAR(10) & C168,1,IF(OFFSET('Fiche score'!$A$2,VLOOKUP(RIGHT(AI168,2),Feuil1!A:C,2,FALSE)-2,VLOOKUP(RIGHT(AI168,2),Feuil1!A:C,3,FALSE))=A168 & CHAR(10) & C168,1,\"0\")))))","v":""},{"$f":"IF(ISERROR(VLOOKUP(A168 & CHAR(10) &C168,'Fiche tirage dirigé'!I:I,1,FALSE)),0,1)","v":0},{"$f":"IF(ISERROR(VLOOKUP(A168& CHAR(10) &C168,Cadrage!H:H,1,FALSE)),0,1)","v":0},{"$f":"IF(ISERROR(VLOOKUP(A168 & CHAR(10) &C168,'Tableau final'!V:V,1,FALSE)),0,1)","v":0},{"$f":"IF(ISERROR(VLOOKUP(A168 & CHAR(10) &C168,'Tableau final'!W:W,1,FALSE)),0,1)","v":0},{"$f":"IF(ISERROR(VLOOKUP(A168 & CHAR(10) &C168,'Tableau final'!X:X,1,FALSE)),0,1)","v":0},{"$f":"IF(ISERROR(VLOOKUP(A168 & CHAR(10) &C168,'Tableau final'!Y:Y,1,FALSE)),0,1)","v":0},{"$f":"IF(ISERROR(VLOOKUP(A168 & CHAR(10) &C168,'Tableau final'!Z:Z,1,FALSE)),0,1)","v":0},{"$f":"IF('Tableau final'!$A$1<>\"\",IF('Tableau final'!$B$5=\"Qualifiés\",IF(ISERROR(VLOOKUP(A168 & CHAR(10) &C168,'Tableau final'!C:F,1,FALSE)),\"\",IF(AND(VLOOKUP(A168 & CHAR(10) &C168,'Tableau final'!C:F,3,FALSE)<>\"\",VLOOKUP(A168 & CHAR(10) &C168,'Tableau final'!C:F,4,FALSE)=\"x\"),1,\"\")),IF('Tableau final'!$G$5=\"Qualifiés\",IF(ISERROR(VLOOKUP(A168 & CHAR(10) &C168,'Tableau final'!H:K,1,FALSE)),\"\",IF(AND(VLOOKUP(A168 & CHAR(10) &C168,'Tableau final'!H:K,3,FALSE)<>\"\",VLOOKUP(A168 & CHAR(10) &C168,'Tableau final'!H:K,4,FALSE)=\"x\"),1,\"\")),IF('Tableau final'!$L$5=\"Qualifiés\",IF(ISERROR(VLOOKUP(A168 & CHAR(10) &C168,'Tableau final'!M:P,1,FALSE)),\"\",IF(AND(VLOOKUP(A168 & CHAR(10) &C168,'Tableau final'!M:P,3,FALSE)<>\"\",VLOOKUP(A168 & CHAR(10) &C168,'Tableau final'!M:P,4,FALSE)=\"x\"),1,\"\")),\"\"))),\"\")","v":""},"0",{"$f":"IF(ISERROR(VLOOKUP(AI168,Tirage!A:J,1,FALSE)),\"\",IF(VLOOKUP(AI168,Tirage!A:J,1,FALSE)=\"Office \",3,4))","v":""},{"$f":"IF(AJ168=\"0\",4,IF(AJ168=1,3,IF(AJ168=2,IF(OFFSET('Fiche score'!$A$2,VLOOKUP(RIGHT(AI168,2),Feuil1!A:C,2,FALSE),VLOOKUP(RIGHT(AI168,2),Feuil1!A:C,3,FALSE))=A168 & CHAR(10) & C168,1,2),\"\")))","v":""}]
[null,null,null,null,{"$f":"IF(ISERROR(VLOOKUP(C169,AS!$A:$H,7,FALSE)),\"\",VLOOKUP(C169,AS!$A:$H,7,FALSE))","v":""},{"$f":"IF(ISERROR(VLOOKUP(C169,AS!$A:$H,8,FALSE)),\"\",VLOOKUP(C169,AS!$A:$H,8,FALSE))","v":""},null,null,null,null,{"$f":"IF(ISERROR(VLOOKUP(I169,AS!$A:$H,7,FALSE)),\"\",VLOOKUP(I169,AS!$A:$H,7,FALSE))","v":""},{"$f":"IF(ISERROR(VLOOKUP(I169,AS!$A:$H,8,FALSE)),\"\",VLOOKUP(I169,AS!$A:$H,8,FALSE))","v":""},null,null,null,null,{"$f":"IF(ISERROR(VLOOKUP(O169,AS!$A:$H,7,FALSE)),\"\",VLOOKUP(O169,AS!$A:$H,7,FALSE))","v":""},{"$f":"IF(ISERROR(VLOOKUP(O169,AS!$A:$H,8,FALSE)),\"\",VLOOKUP(O169,AS!$A:$H,8,FALSE))","v":""},null,null,null,null,{"$f":"IF(ISERROR(VLOOKUP(U169,AS!$A:$H,7,FALSE)),\"\",VLOOKUP(U169,AS!$A:$H,7,FALSE))","v":""},{"$f":"IF(ISERROR(VLOOKUP(U169,AS!$A:$H,8,FALSE)),\"\",VLOOKUP(U169,AS!$A:$H,8,FALSE))","v":""},null,null,null,null,{"$f":"IF(ISERROR(VLOOKUP(AA169,AS!$A:$H,7,FALSE)),\"\",VLOOKUP(AA169,AS!$A:$H,7,FALSE))","v":""},{"$f":"IF(ISERROR(VLOOKUP(AA169,AS!$A:$H,8,FALSE)),\"\",VLOOKUP(AA169,AS!$A:$H,8,FALSE))","v":""},null,null,null,"",null,{"$f":"IF(AI169=\"\",\"\",IF(OFFSET('Fiche score'!$A$2,VLOOKUP(RIGHT(AI169,2),Feuil1!A:C,2,FALSE),VLOOKUP(RIGHT(AI169,2),Feuil1!A:C,3,FALSE))=A169 & CHAR(10) & C169,2,IF(OFFSET('Fiche score'!$A$2,VLOOKUP(RIGHT(AI169,2),Feuil1!A:C,2,FALSE)+1,VLOOKUP(RIGHT(AI169,2),Feuil1!A:C,3,FALSE))=A169 & CHAR(10) & C169,2,IF(OFFSET('Fiche score'!$A$2,VLOOKUP(RIGHT(AI169,2),Feuil1!A:C,2,FALSE)-1,VLOOKUP(RIGHT(AI169,2),Feuil1!A:C,3,FALSE))=A169 & CHAR(10) & C169,1,IF(OFFSET('Fiche score'!$A$2,VLOOKUP(RIGHT(AI169,2),Feuil1!A:C,2,FALSE)-2,VLOOKUP(RIGHT(AI169,2),Feuil1!A:C,3,FALSE))=A169 & CHAR(10) & C169,1,\"0\")))))","v":""},{"$f":"IF(ISERROR(VLOOKUP(A169 & CHAR(10) &C169,'Fiche tirage dirigé'!I:I,1,FALSE)),0,1)","v":0},{"$f":"IF(ISERROR(VLOOKUP(A169& CHAR(10) &C169,Cadrage!H:H,1,FALSE)),0,1)","v":0},{"$f":"IF(ISERROR(VLOOKUP(A169 & CHAR(10) &C169,'Tableau final'!V:V,1,FALSE)),0,1)","v":0},{"$f":"IF(ISERROR(VLOOKUP(A169 & CHAR(10) &C169,'Tableau final'!W:W,1,FALSE)),0,1)","v":0},{"$f":"IF(ISERROR(VLOOKUP(A169 & CHAR(10) &C169,'Tableau final'!X:X,1,FALSE)),0,1)","v":0},{"$f":"IF(ISERROR(VLOOKUP(A169 & CHAR(10) &C169,'Tableau final'!Y:Y,1,FALSE)),0,1)","v":0},{"$f":"IF(ISERROR(VLOOKUP(A169 & CHAR(10) &C169,'Tableau final'!Z:Z,1,FALSE)),0,1)","v":0},{"$f":"IF('Tableau final'!$A$1<>\"\",IF('Tableau final'!$B$5=\"Qualifiés\",IF(ISERROR(VLOOKUP(A169 & CHAR(10) &C169,'Tableau final'!C:F,1,FALSE)),\"\",IF(AND(VLOOKUP(A169 & CHAR(10) &C169,'Tableau final'!C:F,3,FALSE)<>\"\",VLOOKUP(A169 & CHAR(10) &C169,'Tableau final'!C:F,4,FALSE)=\"x\"),1,\"\")),IF('Tableau final'!$G$5=\"Qualifiés\",IF(ISERROR(VLOOKUP(A169 & CHAR(10) &C169,'Tableau final'!H:K,1,FALSE)),\"\",IF(AND(VLOOKUP(A169 & CHAR(10) &C169,'Tableau final'!H:K,3,FALSE)<>\"\",VLOOKUP(A169 & CHAR(10) &C169,'Tableau final'!H:K,4,FALSE)=\"x\"),1,\"\")),IF('Tableau final'!$L$5=\"Qualifiés\",IF(ISERROR(VLOOKUP(A169 & CHAR(10) &C169,'Tableau final'!M:P,1,FALSE)),\"\",IF(AND(VLOOKUP(A169 & CHAR(10) &C169,'Tableau final'!M:P,3,FALSE)<>\"\",VLOOKUP(A169 & CHAR(10) &C169,'Tableau final'!M:P,4,FALSE)=\"x\"),1,\"\")),\"\"))),\"\")","v":""},"0",{"$f":"IF(ISERROR(VLOOKUP(AI169,Tirage!A:J,1,FALSE)),\"\",IF(VLOOKUP(AI169,Tirage!A:J,1,FALSE)=\"Office \",3,4))","v":""},{"$f":"IF(AJ169=\"0\",4,IF(AJ169=1,3,IF(AJ169=2,IF(OFFSET('Fiche score'!$A$2,VLOOKUP(RIGHT(AI169,2),Feuil1!A:C,2,FALSE),VLOOKUP(RIGHT(AI169,2),Feuil1!A:C,3,FALSE))=A169 & CHAR(10) & C169,1,2),\"\")))","v":""}]
[null,null,null,null,{"$f":"IF(ISERROR(VLOOKUP(C170,AS!$A:$H,7,FALSE)),\"\",VLOOKUP(C170,AS!$A:$H,7,FALSE))","v":""},{"$f":"IF(ISERROR(VLOOKUP(C170,AS!$A:$H,8,FALSE)),\"\",VLOOKUP(C170,AS!$A:$H,8,FALSE))","v":""},null,null,null,null,{"$f":"IF(ISERROR(VLOOKUP(I170,AS!$A:$H,7,FALSE)),\"\",VLOOKUP(I170,AS!$A:$H,7,FALSE))","v":""},{"$f":"IF(ISERROR(VLOOKUP(I170,AS!$A:$H,8,FALSE)),\"\",VLOOKUP(I170,AS!$A:$H,8,FALSE))","v":""},null,null,null,null,{"$f":"IF(ISERROR(VLOOKUP(O170,AS!$A:$H,7,FALSE)),\"\",VLOOKUP(O170,AS!$A:$H,7,FALSE))","v":""},{"$f":"IF(ISERROR(VLOOKUP(O170,AS!$A:$H,8,FALSE)),\"\",VLOOKUP(O170,AS!$A:$H,8,FALSE))","v":""},null,null,null,null,{"$f":"IF(ISERROR(VLOOKUP(U170,AS!$A:$H,7,FALSE)),\"\",VLOOKUP(U170,AS!$A:$H,7,FALSE))","v":""},{"$f":"IF(ISERROR(VLOOKUP(U170,AS!$A:$H,8,FALSE)),\"\",VLOOKUP(U170,AS!$A:$H,8,FALSE))","v":""},null,null,null,null,{"$f":"IF(ISERROR(VLOOKUP(AA170,AS!$A:$H,7,FALSE)),\"\",VLOOKUP(AA170,AS!$A:$H,7,FALSE))","v":""},{"$f":"IF(ISERROR(VLOOKUP(AA170,AS!$A:$H,8,FALSE)),\"\",VLOOKUP(AA170,AS!$A:$H,8,FALSE))","v":""},null,null,null,"",null,{"$f":"IF(AI170=\"\",\"\",IF(OFFSET('Fiche score'!$A$2,VLOOKUP(RIGHT(AI170,2),Feuil1!A:C,2,FALSE),VLOOKUP(RIGHT(AI170,2),Feuil1!A:C,3,FALSE))=A170 & CHAR(10) & C170,2,IF(OFFSET('Fiche score'!$A$2,VLOOKUP(RIGHT(AI170,2),Feuil1!A:C,2,FALSE)+1,VLOOKUP(RIGHT(AI170,2),Feuil1!A:C,3,FALSE))=A170 & CHAR(10) & C170,2,IF(OFFSET('Fiche score'!$A$2,VLOOKUP(RIGHT(AI170,2),Feuil1!A:C,2,FALSE)-1,VLOOKUP(RIGHT(AI170,2),Feuil1!A:C,3,FALSE))=A170 & CHAR(10) & C170,1,IF(OFFSET('Fiche score'!$A$2,VLOOKUP(RIGHT(AI170,2),Feuil1!A:C,2,FALSE)-2,VLOOKUP(RIGHT(AI170,2),Feuil1!A:C,3,FALSE))=A170 & CHAR(10) & C170,1,\"0\")))))","v":""},{"$f":"IF(ISERROR(VLOOKUP(A170 & CHAR(10) &C170,'Fiche tirage dirigé'!I:I,1,FALSE)),0,1)","v":0},{"$f":"IF(ISERROR(VLOOKUP(A170& CHAR(10) &C170,Cadrage!H:H,1,FALSE)),0,1)","v":0},{"$f":"IF(ISERROR(VLOOKUP(A170 & CHAR(10) &C170,'Tableau final'!V:V,1,FALSE)),0,1)","v":0},{"$f":"IF(ISERROR(VLOOKUP(A170 & CHAR(10) &C170,'Tableau final'!W:W,1,FALSE)),0,1)","v":0},{"$f":"IF(ISERROR(VLOOKUP(A170 & CHAR(10) &C170,'Tableau final'!X:X,1,FALSE)),0,1)","v":0},{"$f":"IF(ISERROR(VLOOKUP(A170 & CHAR(10) &C170,'Tableau final'!Y:Y,1,FALSE)),0,1)","v":0},{"$f":"IF(ISERROR(VLOOKUP(A170 & CHAR(10) &C170,'Tableau final'!Z:Z,1,FALSE)),0,1)","v":0},{"$f":"IF('Tableau final'!$A$1<>\"\",IF('Tableau final'!$B$5=\"Qualifiés\",IF(ISERROR(VLOOKUP(A170 & CHAR(10) &C170,'Tableau final'!C:F,1,FALSE)),\"\",IF(AND(VLOOKUP(A170 & CHAR(10) &C170,'Tableau final'!C:F,3,FALSE)<>\"\",VLOOKUP(A170 & CHAR(10) &C170,'Tableau final'!C:F,4,FALSE)=\"x\"),1,\"\")),IF('Tableau final'!$G$5=\"Qualifiés\",IF(ISERROR(VLOOKUP(A170 & CHAR(10) &C170,'Tableau final'!H:K,1,FALSE)),\"\",IF(AND(VLOOKUP(A170 & CHAR(10) &C170,'Tableau final'!H:K,3,FALSE)<>\"\",VLOOKUP(A170 & CHAR(10) &C170,'Tableau final'!H:K,4,FALSE)=\"x\"),1,\"\")),IF('Tableau final'!$L$5=\"Qualifiés\",IF(ISERROR(VLOOKUP(A170 & CHAR(10) &C170,'Tableau final'!M:P,1,FALSE)),\"\",IF(AND(VLOOKUP(A170 & CHAR(10) &C170,'Tableau final'!M:P,3,FALSE)<>\"\",VLOOKUP(A170 & CHAR(10) &C170,'Tableau final'!M:P,4,FALSE)=\"x\"),1,\"\")),\"\"))),\"\")","v":""},"0",{"$f":"IF(ISERROR(VLOOKUP(AI170,Tirage!A:J,1,FALSE)),\"\",IF(VLOOKUP(AI170,Tirage!A:J,1,FALSE)=\"Office \",3,4))","v":""},{"$f":"IF(AJ170=\"0\",4,IF(AJ170=1,3,IF(AJ170=2,IF(OFFSET('Fiche score'!$A$2,VLOOKUP(RIGHT(AI170,2),Feuil1!A:C,2,FALSE),VLOOKUP(RIGHT(AI170,2),Feuil1!A:C,3,FALSE))=A170 & CHAR(10) & C170,1,2),\"\")))","v":""}]
[null,null,null,null,{"$f":"IF(ISERROR(VLOOKUP(C171,AS!$A:$H,7,FALSE)),\"\",VLOOKUP(C171,AS!$A:$H,7,FALSE))","v":""},{"$f":"IF(ISERROR(VLOOKUP(C171,AS!$A:$H,8,FALSE)),\"\",VLOOKUP(C171,AS!$A:$H,8,FALSE))","v":""},null,null,null,null,{"$f":"IF(ISERROR(VLOOKUP(I171,AS!$A:$H,7,FALSE)),\"\",VLOOKUP(I171,AS!$A:$H,7,FALSE))","v":""},{"$f":"IF(ISERROR(VLOOKUP(I171,AS!$A:$H,8,FALSE)),\"\",VLOOKUP(I171,AS!$A:$H,8,FALSE))","v":""},null,null,null,null,{"$f":"IF(ISERROR(VLOOKUP(O171,AS!$A:$H,7,FALSE)),\"\",VLOOKUP(O171,AS!$A:$H,7,FALSE))","v":""},{"$f":"IF(ISERROR(VLOOKUP(O171,AS!$A:$H,8,FALSE)),\"\",VLOOKUP(O171,AS!$A:$H,8,FALSE))","v":""},null,null,null,null,{"$f":"IF(ISERROR(VLOOKUP(U171,AS!$A:$H,7,FALSE)),\"\",VLOOKUP(U171,AS!$A:$H,7,FALSE))","v":""},{"$f":"IF(ISERROR(VLOOKUP(U171,AS!$A:$H,8,FALSE)),\"\",VLOOKUP(U171,AS!$A:$H,8,FALSE))","v":""},null,null,null,null,{"$f":"IF(ISERROR(VLOOKUP(AA171,AS!$A:$H,7,FALSE)),\"\",VLOOKUP(AA171,AS!$A:$H,7,FALSE))","v":""},{"$f":"IF(ISERROR(VLOOKUP(AA171,AS!$A:$H,8,FALSE)),\"\",VLOOKUP(AA171,AS!$A:$H,8,FALSE))","v":""},null,null,null,"",null,{"$f":"IF(AI171=\"\",\"\",IF(OFFSET('Fiche score'!$A$2,VLOOKUP(RIGHT(AI171,2),Feuil1!A:C,2,FALSE),VLOOKUP(RIGHT(AI171,2),Feuil1!A:C,3,FALSE))=A171 & CHAR(10) & C171,2,IF(OFFSET('Fiche score'!$A$2,VLOOKUP(RIGHT(AI171,2),Feuil1!A:C,2,FALSE)+1,VLOOKUP(RIGHT(AI171,2),Feuil1!A:C,3,FALSE))=A171 & CHAR(10) & C171,2,IF(OFFSET('Fiche score'!$A$2,VLOOKUP(RIGHT(AI171,2),Feuil1!A:C,2,FALSE)-1,VLOOKUP(RIGHT(AI171,2),Feuil1!A:C,3,FALSE))=A171 & CHAR(10) & C171,1,IF(OFFSET('Fiche score'!$A$2,VLOOKUP(RIGHT(AI171,2),Feuil1!A:C,2,FALSE)-2,VLOOKUP(RIGHT(AI171,2),Feuil1!A:C,3,FALSE))=A171 & CHAR(10) & C171,1,\"0\")))))","v":""},{"$f":"IF(ISERROR(VLOOKUP(A171 & CHAR(10) &C171,'Fiche tirage dirigé'!I:I,1,FALSE)),0,1)","v":0},{"$f":"IF(ISERROR(VLOOKUP(A171& CHAR(10) &C171,Cadrage!H:H,1,FALSE)),0,1)","v":0},{"$f":"IF(ISERROR(VLOOKUP(A171 & CHAR(10) &C171,'Tableau final'!V:V,1,FALSE)),0,1)","v":0},{"$f":"IF(ISERROR(VLOOKUP(A171 & CHAR(10) &C171,'Tableau final'!W:W,1,FALSE)),0,1)","v":0},{"$f":"IF(ISERROR(VLOOKUP(A171 & CHAR(10) &C171,'Tableau final'!X:X,1,FALSE)),0,1)","v":0},{"$f":"IF(ISERROR(VLOOKUP(A171 & CHAR(10) &C171,'Tableau final'!Y:Y,1,FALSE)),0,1)","v":0},{"$f":"IF(ISERROR(VLOOKUP(A171 & CHAR(10) &C171,'Tableau final'!Z:Z,1,FALSE)),0,1)","v":0},{"$f":"IF('Tableau final'!$A$1<>\"\",IF('Tableau final'!$B$5=\"Qualifiés\",IF(ISERROR(VLOOKUP(A171 & CHAR(10) &C171,'Tableau final'!C:F,1,FALSE)),\"\",IF(AND(VLOOKUP(A171 & CHAR(10) &C171,'Tableau final'!C:F,3,FALSE)<>\"\",VLOOKUP(A171 & CHAR(10) &C171,'Tableau final'!C:F,4,FALSE)=\"x\"),1,\"\")),IF('Tableau final'!$G$5=\"Qualifiés\",IF(ISERROR(VLOOKUP(A171 & CHAR(10) &C171,'Tableau final'!H:K,1,FALSE)),\"\",IF(AND(VLOOKUP(A171 & CHAR(10) &C171,'Tableau final'!H:K,3,FALSE)<>\"\",VLOOKUP(A171 & CHAR(10) &C171,'Tableau final'!H:K,4,FALSE)=\"x\"),1,\"\")),IF('Tableau final'!$L$5=\"Qualifiés\",IF(ISERROR(VLOOKUP(A171 & CHAR(10) &C171,'Tableau final'!M:P,1,FALSE)),\"\",IF(AND(VLOOKUP(A171 & CHAR(10) &C171,'Tableau final'!M:P,3,FALSE)<>\"\",VLOOKUP(A171 & CHAR(10) &C171,'Tableau final'!M:P,4,FALSE)=\"x\"),1,\"\")),\"\"))),\"\")","v":""},"0",{"$f":"IF(ISERROR(VLOOKUP(AI171,Tirage!A:J,1,FALSE)),\"\",IF(VLOOKUP(AI171,Tirage!A:J,1,FALSE)=\"Office \",3,4))","v":""},{"$f":"IF(AJ171=\"0\",4,IF(AJ171=1,3,IF(AJ171=2,IF(OFFSET('Fiche score'!$A$2,VLOOKUP(RIGHT(AI171,2),Feuil1!A:C,2,FALSE),VLOOKUP(RIGHT(AI171,2),Feuil1!A:C,3,FALSE))=A171 & CHAR(10) & C171,1,2),\"\")))","v":""}]
[null,null,null,null,{"$f":"IF(ISERROR(VLOOKUP(C172,AS!$A:$H,7,FALSE)),\"\",VLOOKUP(C172,AS!$A:$H,7,FALSE))","v":""},{"$f":"IF(ISERROR(VLOOKUP(C172,AS!$A:$H,8,FALSE)),\"\",VLOOKUP(C172,AS!$A:$H,8,FALSE))","v":""},null,null,null,null,{"$f":"IF(ISERROR(VLOOKUP(I172,AS!$A:$H,7,FALSE)),\"\",VLOOKUP(I172,AS!$A:$H,7,FALSE))","v":""},{"$f":"IF(ISERROR(VLOOKUP(I172,AS!$A:$H,8,FALSE)),\"\",VLOOKUP(I172,AS!$A:$H,8,FALSE))","v":""},null,null,null,null,{"$f":"IF(ISERROR(VLOOKUP(O172,AS!$A:$H,7,FALSE)),\"\",VLOOKUP(O172,AS!$A:$H,7,FALSE))","v":""},{"$f":"IF(ISERROR(VLOOKUP(O172,AS!$A:$H,8,FALSE)),\"\",VLOOKUP(O172,AS!$A:$H,8,FALSE))","v":""},null,null,null,null,{"$f":"IF(ISERROR(VLOOKUP(U172,AS!$A:$H,7,FALSE)),\"\",VLOOKUP(U172,AS!$A:$H,7,FALSE))","v":""},{"$f":"IF(ISERROR(VLOOKUP(U172,AS!$A:$H,8,FALSE)),\"\",VLOOKUP(U172,AS!$A:$H,8,FALSE))","v":""},null,null,null,null,{"$f":"IF(ISERROR(VLOOKUP(AA172,AS!$A:$H,7,FALSE)),\"\",VLOOKUP(AA172,AS!$A:$H,7,FALSE))","v":""},{"$f":"IF(ISERROR(VLOOKUP(AA172,AS!$A:$H,8,FALSE)),\"\",VLOOKUP(AA172,AS!$A:$H,8,FALSE))","v":""},null,null,null,"",null,{"$f":"IF(AI172=\"\",\"\",IF(OFFSET('Fiche score'!$A$2,VLOOKUP(RIGHT(AI172,2),Feuil1!A:C,2,FALSE),VLOOKUP(RIGHT(AI172,2),Feuil1!A:C,3,FALSE))=A172 & CHAR(10) & C172,2,IF(OFFSET('Fiche score'!$A$2,VLOOKUP(RIGHT(AI172,2),Feuil1!A:C,2,FALSE)+1,VLOOKUP(RIGHT(AI172,2),Feuil1!A:C,3,FALSE))=A172 & CHAR(10) & C172,2,IF(OFFSET('Fiche score'!$A$2,VLOOKUP(RIGHT(AI172,2),Feuil1!A:C,2,FALSE)-1,VLOOKUP(RIGHT(AI172,2),Feuil1!A:C,3,FALSE))=A172 & CHAR(10) & C172,1,IF(OFFSET('Fiche score'!$A$2,VLOOKUP(RIGHT(AI172,2),Feuil1!A:C,2,FALSE)-2,VLOOKUP(RIGHT(AI172,2),Feuil1!A:C,3,FALSE))=A172 & CHAR(10) & C172,1,\"0\")))))","v":""},{"$f":"IF(ISERROR(VLOOKUP(A172 & CHAR(10) &C172,'Fiche tirage dirigé'!I:I,1,FALSE)),0,1)","v":0},{"$f":"IF(ISERROR(VLOOKUP(A172& CHAR(10) &C172,Cadrage!H:H,1,FALSE)),0,1)","v":0},{"$f":"IF(ISERROR(VLOOKUP(A172 & CHAR(10) &C172,'Tableau final'!V:V,1,FALSE)),0,1)","v":0},{"$f":"IF(ISERROR(VLOOKUP(A172 & CHAR(10) &C172,'Tableau final'!W:W,1,FALSE)),0,1)","v":0},{"$f":"IF(ISERROR(VLOOKUP(A172 & CHAR(10) &C172,'Tableau final'!X:X,1,FALSE)),0,1)","v":0},{"$f":"IF(ISERROR(VLOOKUP(A172 & CHAR(10) &C172,'Tableau final'!Y:Y,1,FALSE)),0,1)","v":0},{"$f":"IF(ISERROR(VLOOKUP(A172 & CHAR(10) &C172,'Tableau final'!Z:Z,1,FALSE)),0,1)","v":0},{"$f":"IF('Tableau final'!$A$1<>\"\",IF('Tableau final'!$B$5=\"Qualifiés\",IF(ISERROR(VLOOKUP(A172 & CHAR(10) &C172,'Tableau final'!C:F,1,FALSE)),\"\",IF(AND(VLOOKUP(A172 & CHAR(10) &C172,'Tableau final'!C:F,3,FALSE)<>\"\",VLOOKUP(A172 & CHAR(10) &C172,'Tableau final'!C:F,4,FALSE)=\"x\"),1,\"\")),IF('Tableau final'!$G$5=\"Qualifiés\",IF(ISERROR(VLOOKUP(A172 & CHAR(10) &C172,'Tableau final'!H:K,1,FALSE)),\"\",IF(AND(VLOOKUP(A172 & CHAR(10) &C172,'Tableau final'!H:K,3,FALSE)<>\"\",VLOOKUP(A172 & CHAR(10) &C172,'Tableau final'!H:K,4,FALSE)=\"x\"),1,\"\")),IF('Tableau final'!$L$5=\"Qualifiés\",IF(ISERROR(VLOOKUP(A172 & CHAR(10) &C172,'Tableau final'!M:P,1,FALSE)),\"\",IF(AND(VLOOKUP(A172 & CHAR(10) &C172,'Tableau final'!M:P,3,FALSE)<>\"\",VLOOKUP(A172 & CHAR(10) &C172,'Tableau final'!M:P,4,FALSE)=\"x\"),1,\"\")),\"\"))),\"\")","v":""},"0",{"$f":"IF(ISERROR(VLOOKUP(AI172,Tirage!A:J,1,FALSE)),\"\",IF(VLOOKUP(AI172,Tirage!A:J,1,FALSE)=\"Office \",3,4))","v":""},{"$f":"IF(AJ172=\"0\",4,IF(AJ172=1,3,IF(AJ172=2,IF(OFFSET('Fiche score'!$A$2,VLOOKUP(RIGHT(AI172,2),Feuil1!A:C,2,FALSE),VLOOKUP(RIGHT(AI172,2),Feuil1!A:C,3,FALSE))=A172 & CHAR(10) & C172,1,2),\"\")))","v":""}]
[null,null,null,null,{"$f":"IF(ISERROR(VLOOKUP(C173,AS!$A:$H,7,FALSE)),\"\",VLOOKUP(C173,AS!$A:$H,7,FALSE))","v":""},{"$f":"IF(ISERROR(VLOOKUP(C173,AS!$A:$H,8,FALSE)),\"\",VLOOKUP(C173,AS!$A:$H,8,FALSE))","v":""},null,null,null,null,{"$f":"IF(ISERROR(VLOOKUP(I173,AS!$A:$H,7,FALSE)),\"\",VLOOKUP(I173,AS!$A:$H,7,FALSE))","v":""},{"$f":"IF(ISERROR(VLOOKUP(I173,AS!$A:$H,8,FALSE)),\"\",VLOOKUP(I173,AS!$A:$H,8,FALSE))","v":""},null,null,null,null,{"$f":"IF(ISERROR(VLOOKUP(O173,AS!$A:$H,7,FALSE)),\"\",VLOOKUP(O173,AS!$A:$H,7,FALSE))","v":""},{"$f":"IF(ISERROR(VLOOKUP(O173,AS!$A:$H,8,FALSE)),\"\",VLOOKUP(O173,AS!$A:$H,8,FALSE))","v":""},null,null,null,null,{"$f":"IF(ISERROR(VLOOKUP(U173,AS!$A:$H,7,FALSE)),\"\",VLOOKUP(U173,AS!$A:$H,7,FALSE))","v":""},{"$f":"IF(ISERROR(VLOOKUP(U173,AS!$A:$H,8,FALSE)),\"\",VLOOKUP(U173,AS!$A:$H,8,FALSE))","v":""},null,null,null,null,{"$f":"IF(ISERROR(VLOOKUP(AA173,AS!$A:$H,7,FALSE)),\"\",VLOOKUP(AA173,AS!$A:$H,7,FALSE))","v":""},{"$f":"IF(ISERROR(VLOOKUP(AA173,AS!$A:$H,8,FALSE)),\"\",VLOOKUP(AA173,AS!$A:$H,8,FALSE))","v":""},null,null,null,"",null,{"$f":"IF(AI173=\"\",\"\",IF(OFFSET('Fiche score'!$A$2,VLOOKUP(RIGHT(AI173,2),Feuil1!A:C,2,FALSE),VLOOKUP(RIGHT(AI173,2),Feuil1!A:C,3,FALSE))=A173 & CHAR(10) & C173,2,IF(OFFSET('Fiche score'!$A$2,VLOOKUP(RIGHT(AI173,2),Feuil1!A:C,2,FALSE)+1,VLOOKUP(RIGHT(AI173,2),Feuil1!A:C,3,FALSE))=A173 & CHAR(10) & C173,2,IF(OFFSET('Fiche score'!$A$2,VLOOKUP(RIGHT(AI173,2),Feuil1!A:C,2,FALSE)-1,VLOOKUP(RIGHT(AI173,2),Feuil1!A:C,3,FALSE))=A173 & CHAR(10) & C173,1,IF(OFFSET('Fiche score'!$A$2,VLOOKUP(RIGHT(AI173,2),Feuil1!A:C,2,FALSE)-2,VLOOKUP(RIGHT(AI173,2),Feuil1!A:C,3,FALSE))=A173 & CHAR(10) & C173,1,\"0\")))))","v":""},{"$f":"IF(ISERROR(VLOOKUP(A173 & CHAR(10) &C173,'Fiche tirage dirigé'!I:I,1,FALSE)),0,1)","v":0},{"$f":"IF(ISERROR(VLOOKUP(A173& CHAR(10) &C173,Cadrage!H:H,1,FALSE)),0,1)","v":0},{"$f":"IF(ISERROR(VLOOKUP(A173 & CHAR(10) &C173,'Tableau final'!V:V,1,FALSE)),0,1)","v":0},{"$f":"IF(ISERROR(VLOOKUP(A173 & CHAR(10) &C173,'Tableau final'!W:W,1,FALSE)),0,1)","v":0},{"$f":"IF(ISERROR(VLOOKUP(A173 & CHAR(10) &C173,'Tableau final'!X:X,1,FALSE)),0,1)","v":0},{"$f":"IF(ISERROR(VLOOKUP(A173 & CHAR(10) &C173,'Tableau final'!Y:Y,1,FALSE)),0,1)","v":0},{"$f":"IF(ISERROR(VLOOKUP(A173 & CHAR(10) &C173,'Tableau final'!Z:Z,1,FALSE)),0,1)","v":0},{"$f":"IF('Tableau final'!$A$1<>\"\",IF('Tableau final'!$B$5=\"Qualifiés\",IF(ISERROR(VLOOKUP(A173 & CHAR(10) &C173,'Tableau final'!C:F,1,FALSE)),\"\",IF(AND(VLOOKUP(A173 & CHAR(10) &C173,'Tableau final'!C:F,3,FALSE)<>\"\",VLOOKUP(A173 & CHAR(10) &C173,'Tableau final'!C:F,4,FALSE)=\"x\"),1,\"\")),IF('Tableau final'!$G$5=\"Qualifiés\",IF(ISERROR(VLOOKUP(A173 & CHAR(10) &C173,'Tableau final'!H:K,1,FALSE)),\"\",IF(AND(VLOOKUP(A173 & CHAR(10) &C173,'Tableau final'!H:K,3,FALSE)<>\"\",VLOOKUP(A173 & CHAR(10) &C173,'Tableau final'!H:K,4,FALSE)=\"x\"),1,\"\")),IF('Tableau final'!$L$5=\"Qualifiés\",IF(ISERROR(VLOOKUP(A173 & CHAR(10) &C173,'Tableau final'!M:P,1,FALSE)),\"\",IF(AND(VLOOKUP(A173 & CHAR(10) &C173,'Tableau final'!M:P,3,FALSE)<>\"\",VLOOKUP(A173 & CHAR(10) &C173,'Tableau final'!M:P,4,FALSE)=\"x\"),1,\"\")),\"\"))),\"\")","v":""},"0",{"$f":"IF(ISERROR(VLOOKUP(AI173,Tirage!A:J,1,FALSE)),\"\",IF(VLOOKUP(AI173,Tirage!A:J,1,FALSE)=\"Office \",3,4))","v":""},{"$f":"IF(AJ173=\"0\",4,IF(AJ173=1,3,IF(AJ173=2,IF(OFFSET('Fiche score'!$A$2,VLOOKUP(RIGHT(AI173,2),Feuil1!A:C,2,FALSE),VLOOKUP(RIGHT(AI173,2),Feuil1!A:C,3,FALSE))=A173 & CHAR(10) & C173,1,2),\"\")))","v":""}]
[null,null,null,null,{"$f":"IF(ISERROR(VLOOKUP(C174,AS!$A:$H,7,FALSE)),\"\",VLOOKUP(C174,AS!$A:$H,7,FALSE))","v":""},{"$f":"IF(ISERROR(VLOOKUP(C174,AS!$A:$H,8,FALSE)),\"\",VLOOKUP(C174,AS!$A:$H,8,FALSE))","v":""},null,null,null,null,{"$f":"IF(ISERROR(VLOOKUP(I174,AS!$A:$H,7,FALSE)),\"\",VLOOKUP(I174,AS!$A:$H,7,FALSE))","v":""},{"$f":"IF(ISERROR(VLOOKUP(I174,AS!$A:$H,8,FALSE)),\"\",VLOOKUP(I174,AS!$A:$H,8,FALSE))","v":""},null,null,null,null,{"$f":"IF(ISERROR(VLOOKUP(O174,AS!$A:$H,7,FALSE)),\"\",VLOOKUP(O174,AS!$A:$H,7,FALSE))","v":""},{"$f":"IF(ISERROR(VLOOKUP(O174,AS!$A:$H,8,FALSE)),\"\",VLOOKUP(O174,AS!$A:$H,8,FALSE))","v":""},null,null,null,null,{"$f":"IF(ISERROR(VLOOKUP(U174,AS!$A:$H,7,FALSE)),\"\",VLOOKUP(U174,AS!$A:$H,7,FALSE))","v":""},{"$f":"IF(ISERROR(VLOOKUP(U174,AS!$A:$H,8,FALSE)),\"\",VLOOKUP(U174,AS!$A:$H,8,FALSE))","v":""},null,null,null,null,{"$f":"IF(ISERROR(VLOOKUP(AA174,AS!$A:$H,7,FALSE)),\"\",VLOOKUP(AA174,AS!$A:$H,7,FALSE))","v":""},{"$f":"IF(ISERROR(VLOOKUP(AA174,AS!$A:$H,8,FALSE)),\"\",VLOOKUP(AA174,AS!$A:$H,8,FALSE))","v":""},null,null,null,"",null,{"$f":"IF(AI174=\"\",\"\",IF(OFFSET('Fiche score'!$A$2,VLOOKUP(RIGHT(AI174,2),Feuil1!A:C,2,FALSE),VLOOKUP(RIGHT(AI174,2),Feuil1!A:C,3,FALSE))=A174 & CHAR(10) & C174,2,IF(OFFSET('Fiche score'!$A$2,VLOOKUP(RIGHT(AI174,2),Feuil1!A:C,2,FALSE)+1,VLOOKUP(RIGHT(AI174,2),Feuil1!A:C,3,FALSE))=A174 & CHAR(10) & C174,2,IF(OFFSET('Fiche score'!$A$2,VLOOKUP(RIGHT(AI174,2),Feuil1!A:C,2,FALSE)-1,VLOOKUP(RIGHT(AI174,2),Feuil1!A:C,3,FALSE))=A174 & CHAR(10) & C174,1,IF(OFFSET('Fiche score'!$A$2,VLOOKUP(RIGHT(AI174,2),Feuil1!A:C,2,FALSE)-2,VLOOKUP(RIGHT(AI174,2),Feuil1!A:C,3,FALSE))=A174 & CHAR(10) & C174,1,\"0\")))))","v":""},{"$f":"IF(ISERROR(VLOOKUP(A174 & CHAR(10) &C174,'Fiche tirage dirigé'!I:I,1,FALSE)),0,1)","v":0},{"$f":"IF(ISERROR(VLOOKUP(A174& CHAR(10) &C174,Cadrage!H:H,1,FALSE)),0,1)","v":0},{"$f":"IF(ISERROR(VLOOKUP(A174 & CHAR(10) &C174,'Tableau final'!V:V,1,FALSE)),0,1)","v":0},{"$f":"IF(ISERROR(VLOOKUP(A174 & CHAR(10) &C174,'Tableau final'!W:W,1,FALSE)),0,1)","v":0},{"$f":"IF(ISERROR(VLOOKUP(A174 & CHAR(10) &C174,'Tableau final'!X:X,1,FALSE)),0,1)","v":0},{"$f":"IF(ISERROR(VLOOKUP(A174 & CHAR(10) &C174,'Tableau final'!Y:Y,1,FALSE)),0,1)","v":0},{"$f":"IF(ISERROR(VLOOKUP(A174 & CHAR(10) &C174,'Tableau final'!Z:Z,1,FALSE)),0,1)","v":0},{"$f":"IF('Tableau final'!$A$1<>\"\",IF('Tableau final'!$B$5=\"Qualifiés\",IF(ISERROR(VLOOKUP(A174 & CHAR(10) &C174,'Tableau final'!C:F,1,FALSE)),\"\",IF(AND(VLOOKUP(A174 & CHAR(10) &C174,'Tableau final'!C:F,3,FALSE)<>\"\",VLOOKUP(A174 & CHAR(10) &C174,'Tableau final'!C:F,4,FALSE)=\"x\"),1,\"\")),IF('Tableau final'!$G$5=\"Qualifiés\",IF(ISERROR(VLOOKUP(A174 & CHAR(10) &C174,'Tableau final'!H:K,1,FALSE)),\"\",IF(AND(VLOOKUP(A174 & CHAR(10) &C174,'Tableau final'!H:K,3,FALSE)<>\"\",VLOOKUP(A174 & CHAR(10) &C174,'Tableau final'!H:K,4,FALSE)=\"x\"),1,\"\")),IF('Tableau final'!$L$5=\"Qualifiés\",IF(ISERROR(VLOOKUP(A174 & CHAR(10) &C174,'Tableau final'!M:P,1,FALSE)),\"\",IF(AND(VLOOKUP(A174 & CHAR(10) &C174,'Tableau final'!M:P,3,FALSE)<>\"\",VLOOKUP(A174 & CHAR(10) &C174,'Tableau final'!M:P,4,FALSE)=\"x\"),1,\"\")),\"\"))),\"\")","v":""},"0",{"$f":"IF(ISERROR(VLOOKUP(AI174,Tirage!A:J,1,FALSE)),\"\",IF(VLOOKUP(AI174,Tirage!A:J,1,FALSE)=\"Office \",3,4))","v":""},{"$f":"IF(AJ174=\"0\",4,IF(AJ174=1,3,IF(AJ174=2,IF(OFFSET('Fiche score'!$A$2,VLOOKUP(RIGHT(AI174,2),Feuil1!A:C,2,FALSE),VLOOKUP(RIGHT(AI174,2),Feuil1!A:C,3,FALSE))=A174 & CHAR(10) & C174,1,2),\"\")))","v":""}]
[null,null,null,null,{"$f":"IF(ISERROR(VLOOKUP(C175,AS!$A:$H,7,FALSE)),\"\",VLOOKUP(C175,AS!$A:$H,7,FALSE))","v":""},{"$f":"IF(ISERROR(VLOOKUP(C175,AS!$A:$H,8,FALSE)),\"\",VLOOKUP(C175,AS!$A:$H,8,FALSE))","v":""},null,null,null,null,{"$f":"IF(ISERROR(VLOOKUP(I175,AS!$A:$H,7,FALSE)),\"\",VLOOKUP(I175,AS!$A:$H,7,FALSE))","v":""},{"$f":"IF(ISERROR(VLOOKUP(I175,AS!$A:$H,8,FALSE)),\"\",VLOOKUP(I175,AS!$A:$H,8,FALSE))","v":""},null,null,null,null,{"$f":"IF(ISERROR(VLOOKUP(O175,AS!$A:$H,7,FALSE)),\"\",VLOOKUP(O175,AS!$A:$H,7,FALSE))","v":""},{"$f":"IF(ISERROR(VLOOKUP(O175,AS!$A:$H,8,FALSE)),\"\",VLOOKUP(O175,AS!$A:$H,8,FALSE))","v":""},null,null,null,null,{"$f":"IF(ISERROR(VLOOKUP(U175,AS!$A:$H,7,FALSE)),\"\",VLOOKUP(U175,AS!$A:$H,7,FALSE))","v":""},{"$f":"IF(ISERROR(VLOOKUP(U175,AS!$A:$H,8,FALSE)),\"\",VLOOKUP(U175,AS!$A:$H,8,FALSE))","v":""},null,null,null,null,{"$f":"IF(ISERROR(VLOOKUP(AA175,AS!$A:$H,7,FALSE)),\"\",VLOOKUP(AA175,AS!$A:$H,7,FALSE))","v":""},{"$f":"IF(ISERROR(VLOOKUP(AA175,AS!$A:$H,8,FALSE)),\"\",VLOOKUP(AA175,AS!$A:$H,8,FALSE))","v":""},null,null,null,"",null,{"$f":"IF(AI175=\"\",\"\",IF(OFFSET('Fiche score'!$A$2,VLOOKUP(RIGHT(AI175,2),Feuil1!A:C,2,FALSE),VLOOKUP(RIGHT(AI175,2),Feuil1!A:C,3,FALSE))=A175 & CHAR(10) & C175,2,IF(OFFSET('Fiche score'!$A$2,VLOOKUP(RIGHT(AI175,2),Feuil1!A:C,2,FALSE)+1,VLOOKUP(RIGHT(AI175,2),Feuil1!A:C,3,FALSE))=A175 & CHAR(10) & C175,2,IF(OFFSET('Fiche score'!$A$2,VLOOKUP(RIGHT(AI175,2),Feuil1!A:C,2,FALSE)-1,VLOOKUP(RIGHT(AI175,2),Feuil1!A:C,3,FALSE))=A175 & CHAR(10) & C175,1,IF(OFFSET('Fiche score'!$A$2,VLOOKUP(RIGHT(AI175,2),Feuil1!A:C,2,FALSE)-2,VLOOKUP(RIGHT(AI175,2),Feuil1!A:C,3,FALSE))=A175 & CHAR(10) & C175,1,\"0\")))))","v":""},{"$f":"IF(ISERROR(VLOOKUP(A175 & CHAR(10) &C175,'Fiche tirage dirigé'!I:I,1,FALSE)),0,1)","v":0},{"$f":"IF(ISERROR(VLOOKUP(A175& CHAR(10) &C175,Cadrage!H:H,1,FALSE)),0,1)","v":0},{"$f":"IF(ISERROR(VLOOKUP(A175 & CHAR(10) &C175,'Tableau final'!V:V,1,FALSE)),0,1)","v":0},{"$f":"IF(ISERROR(VLOOKUP(A175 & CHAR(10) &C175,'Tableau final'!W:W,1,FALSE)),0,1)","v":0},{"$f":"IF(ISERROR(VLOOKUP(A175 & CHAR(10) &C175,'Tableau final'!X:X,1,FALSE)),0,1)","v":0},{"$f":"IF(ISERROR(VLOOKUP(A175 & CHAR(10) &C175,'Tableau final'!Y:Y,1,FALSE)),0,1)","v":0},{"$f":"IF(ISERROR(VLOOKUP(A175 & CHAR(10) &C175,'Tableau final'!Z:Z,1,FALSE)),0,1)","v":0},{"$f":"IF('Tableau final'!$A$1<>\"\",IF('Tableau final'!$B$5=\"Qualifiés\",IF(ISERROR(VLOOKUP(A175 & CHAR(10) &C175,'Tableau final'!C:F,1,FALSE)),\"\",IF(AND(VLOOKUP(A175 & CHAR(10) &C175,'Tableau final'!C:F,3,FALSE)<>\"\",VLOOKUP(A175 & CHAR(10) &C175,'Tableau final'!C:F,4,FALSE)=\"x\"),1,\"\")),IF('Tableau final'!$G$5=\"Qualifiés\",IF(ISERROR(VLOOKUP(A175 & CHAR(10) &C175,'Tableau final'!H:K,1,FALSE)),\"\",IF(AND(VLOOKUP(A175 & CHAR(10) &C175,'Tableau final'!H:K,3,FALSE)<>\"\",VLOOKUP(A175 & CHAR(10) &C175,'Tableau final'!H:K,4,FALSE)=\"x\"),1,\"\")),IF('Tableau final'!$L$5=\"Qualifiés\",IF(ISERROR(VLOOKUP(A175 & CHAR(10) &C175,'Tableau final'!M:P,1,FALSE)),\"\",IF(AND(VLOOKUP(A175 & CHAR(10) &C175,'Tableau final'!M:P,3,FALSE)<>\"\",VLOOKUP(A175 & CHAR(10) &C175,'Tableau final'!M:P,4,FALSE)=\"x\"),1,\"\")),\"\"))),\"\")","v":""},"0",{"$f":"IF(ISERROR(VLOOKUP(AI175,Tirage!A:J,1,FALSE)),\"\",IF(VLOOKUP(AI175,Tirage!A:J,1,FALSE)=\"Office \",3,4))","v":""},{"$f":"IF(AJ175=\"0\",4,IF(AJ175=1,3,IF(AJ175=2,IF(OFFSET('Fiche score'!$A$2,VLOOKUP(RIGHT(AI175,2),Feuil1!A:C,2,FALSE),VLOOKUP(RIGHT(AI175,2),Feuil1!A:C,3,FALSE))=A175 & CHAR(10) & C175,1,2),\"\")))","v":""}]
[null,null,null,null,{"$f":"IF(ISERROR(VLOOKUP(C176,AS!$A:$H,7,FALSE)),\"\",VLOOKUP(C176,AS!$A:$H,7,FALSE))","v":""},{"$f":"IF(ISERROR(VLOOKUP(C176,AS!$A:$H,8,FALSE)),\"\",VLOOKUP(C176,AS!$A:$H,8,FALSE))","v":""},null,null,null,null,{"$f":"IF(ISERROR(VLOOKUP(I176,AS!$A:$H,7,FALSE)),\"\",VLOOKUP(I176,AS!$A:$H,7,FALSE))","v":""},{"$f":"IF(ISERROR(VLOOKUP(I176,AS!$A:$H,8,FALSE)),\"\",VLOOKUP(I176,AS!$A:$H,8,FALSE))","v":""},null,null,null,null,{"$f":"IF(ISERROR(VLOOKUP(O176,AS!$A:$H,7,FALSE)),\"\",VLOOKUP(O176,AS!$A:$H,7,FALSE))","v":""},{"$f":"IF(ISERROR(VLOOKUP(O176,AS!$A:$H,8,FALSE)),\"\",VLOOKUP(O176,AS!$A:$H,8,FALSE))","v":""},null,null,null,null,{"$f":"IF(ISERROR(VLOOKUP(U176,AS!$A:$H,7,FALSE)),\"\",VLOOKUP(U176,AS!$A:$H,7,FALSE))","v":""},{"$f":"IF(ISERROR(VLOOKUP(U176,AS!$A:$H,8,FALSE)),\"\",VLOOKUP(U176,AS!$A:$H,8,FALSE))","v":""},null,null,null,null,{"$f":"IF(ISERROR(VLOOKUP(AA176,AS!$A:$H,7,FALSE)),\"\",VLOOKUP(AA176,AS!$A:$H,7,FALSE))","v":""},{"$f":"IF(ISERROR(VLOOKUP(AA176,AS!$A:$H,8,FALSE)),\"\",VLOOKUP(AA176,AS!$A:$H,8,FALSE))","v":""},null,null,null,"",null,{"$f":"IF(AI176=\"\",\"\",IF(OFFSET('Fiche score'!$A$2,VLOOKUP(RIGHT(AI176,2),Feuil1!A:C,2,FALSE),VLOOKUP(RIGHT(AI176,2),Feuil1!A:C,3,FALSE))=A176 & CHAR(10) & C176,2,IF(OFFSET('Fiche score'!$A$2,VLOOKUP(RIGHT(AI176,2),Feuil1!A:C,2,FALSE)+1,VLOOKUP(RIGHT(AI176,2),Feuil1!A:C,3,FALSE))=A176 & CHAR(10) & C176,2,IF(OFFSET('Fiche score'!$A$2,VLOOKUP(RIGHT(AI176,2),Feuil1!A:C,2,FALSE)-1,VLOOKUP(RIGHT(AI176,2),Feuil1!A:C,3,FALSE))=A176 & CHAR(10) & C176,1,IF(OFFSET('Fiche score'!$A$2,VLOOKUP(RIGHT(AI176,2),Feuil1!A:C,2,FALSE)-2,VLOOKUP(RIGHT(AI176,2),Feuil1!A:C,3,FALSE))=A176 & CHAR(10) & C176,1,\"0\")))))","v":""},{"$f":"IF(ISERROR(VLOOKUP(A176 & CHAR(10) &C176,'Fiche tirage dirigé'!I:I,1,FALSE)),0,1)","v":0},{"$f":"IF(ISERROR(VLOOKUP(A176& CHAR(10) &C176,Cadrage!H:H,1,FALSE)),0,1)","v":0},{"$f":"IF(ISERROR(VLOOKUP(A176 & CHAR(10) &C176,'Tableau final'!V:V,1,FALSE)),0,1)","v":0},{"$f":"IF(ISERROR(VLOOKUP(A176 & CHAR(10) &C176,'Tableau final'!W:W,1,FALSE)),0,1)","v":0},{"$f":"IF(ISERROR(VLOOKUP(A176 & CHAR(10) &C176,'Tableau final'!X:X,1,FALSE)),0,1)","v":0},{"$f":"IF(ISERROR(VLOOKUP(A176 & CHAR(10) &C176,'Tableau final'!Y:Y,1,FALSE)),0,1)","v":0},{"$f":"IF(ISERROR(VLOOKUP(A176 & CHAR(10) &C176,'Tableau final'!Z:Z,1,FALSE)),0,1)","v":0},{"$f":"IF('Tableau final'!$A$1<>\"\",IF('Tableau final'!$B$5=\"Qualifiés\",IF(ISERROR(VLOOKUP(A176 & CHAR(10) &C176,'Tableau final'!C:F,1,FALSE)),\"\",IF(AND(VLOOKUP(A176 & CHAR(10) &C176,'Tableau final'!C:F,3,FALSE)<>\"\",VLOOKUP(A176 & CHAR(10) &C176,'Tableau final'!C:F,4,FALSE)=\"x\"),1,\"\")),IF('Tableau final'!$G$5=\"Qualifiés\",IF(ISERROR(VLOOKUP(A176 & CHAR(10) &C176,'Tableau final'!H:K,1,FALSE)),\"\",IF(AND(VLOOKUP(A176 & CHAR(10) &C176,'Tableau final'!H:K,3,FALSE)<>\"\",VLOOKUP(A176 & CHAR(10) &C176,'Tableau final'!H:K,4,FALSE)=\"x\"),1,\"\")),IF('Tableau final'!$L$5=\"Qualifiés\",IF(ISERROR(VLOOKUP(A176 & CHAR(10) &C176,'Tableau final'!M:P,1,FALSE)),\"\",IF(AND(VLOOKUP(A176 & CHAR(10) &C176,'Tableau final'!M:P,3,FALSE)<>\"\",VLOOKUP(A176 & CHAR(10) &C176,'Tableau final'!M:P,4,FALSE)=\"x\"),1,\"\")),\"\"))),\"\")","v":""},"0",{"$f":"IF(ISERROR(VLOOKUP(AI176,Tirage!A:J,1,FALSE)),\"\",IF(VLOOKUP(AI176,Tirage!A:J,1,FALSE)=\"Office \",3,4))","v":""},{"$f":"IF(AJ176=\"0\",4,IF(AJ176=1,3,IF(AJ176=2,IF(OFFSET('Fiche score'!$A$2,VLOOKUP(RIGHT(AI176,2),Feuil1!A:C,2,FALSE),VLOOKUP(RIGHT(AI176,2),Feuil1!A:C,3,FALSE))=A176 & CHAR(10) & C176,1,2),\"\")))","v":""}]
[null,null,null,null,{"$f":"IF(ISERROR(VLOOKUP(C177,AS!$A:$H,7,FALSE)),\"\",VLOOKUP(C177,AS!$A:$H,7,FALSE))","v":""},{"$f":"IF(ISERROR(VLOOKUP(C177,AS!$A:$H,8,FALSE)),\"\",VLOOKUP(C177,AS!$A:$H,8,FALSE))","v":""},null,null,null,null,{"$f":"IF(ISERROR(VLOOKUP(I177,AS!$A:$H,7,FALSE)),\"\",VLOOKUP(I177,AS!$A:$H,7,FALSE))","v":""},{"$f":"IF(ISERROR(VLOOKUP(I177,AS!$A:$H,8,FALSE)),\"\",VLOOKUP(I177,AS!$A:$H,8,FALSE))","v":""},null,null,null,null,{"$f":"IF(ISERROR(VLOOKUP(O177,AS!$A:$H,7,FALSE)),\"\",VLOOKUP(O177,AS!$A:$H,7,FALSE))","v":""},{"$f":"IF(ISERROR(VLOOKUP(O177,AS!$A:$H,8,FALSE)),\"\",VLOOKUP(O177,AS!$A:$H,8,FALSE))","v":""},null,null,null,null,{"$f":"IF(ISERROR(VLOOKUP(U177,AS!$A:$H,7,FALSE)),\"\",VLOOKUP(U177,AS!$A:$H,7,FALSE))","v":""},{"$f":"IF(ISERROR(VLOOKUP(U177,AS!$A:$H,8,FALSE)),\"\",VLOOKUP(U177,AS!$A:$H,8,FALSE))","v":""},null,null,null,null,{"$f":"IF(ISERROR(VLOOKUP(AA177,AS!$A:$H,7,FALSE)),\"\",VLOOKUP(AA177,AS!$A:$H,7,FALSE))","v":""},{"$f":"IF(ISERROR(VLOOKUP(AA177,AS!$A:$H,8,FALSE)),\"\",VLOOKUP(AA177,AS!$A:$H,8,FALSE))","v":""},null,null,null,"",null,{"$f":"IF(AI177=\"\",\"\",IF(OFFSET('Fiche score'!$A$2,VLOOKUP(RIGHT(AI177,2),Feuil1!A:C,2,FALSE),VLOOKUP(RIGHT(AI177,2),Feuil1!A:C,3,FALSE))=A177 & CHAR(10) & C177,2,IF(OFFSET('Fiche score'!$A$2,VLOOKUP(RIGHT(AI177,2),Feuil1!A:C,2,FALSE)+1,VLOOKUP(RIGHT(AI177,2),Feuil1!A:C,3,FALSE))=A177 & CHAR(10) & C177,2,IF(OFFSET('Fiche score'!$A$2,VLOOKUP(RIGHT(AI177,2),Feuil1!A:C,2,FALSE)-1,VLOOKUP(RIGHT(AI177,2),Feuil1!A:C,3,FALSE))=A177 & CHAR(10) & C177,1,IF(OFFSET('Fiche score'!$A$2,VLOOKUP(RIGHT(AI177,2),Feuil1!A:C,2,FALSE)-2,VLOOKUP(RIGHT(AI177,2),Feuil1!A:C,3,FALSE))=A177 & CHAR(10) & C177,1,\"0\")))))","v":""},{"$f":"IF(ISERROR(VLOOKUP(A177 & CHAR(10) &C177,'Fiche tirage dirigé'!I:I,1,FALSE)),0,1)","v":0},{"$f":"IF(ISERROR(VLOOKUP(A177& CHAR(10) &C177,Cadrage!H:H,1,FALSE)),0,1)","v":0},{"$f":"IF(ISERROR(VLOOKUP(A177 & CHAR(10) &C177,'Tableau final'!V:V,1,FALSE)),0,1)","v":0},{"$f":"IF(ISERROR(VLOOKUP(A177 & CHAR(10) &C177,'Tableau final'!W:W,1,FALSE)),0,1)","v":0},{"$f":"IF(ISERROR(VLOOKUP(A177 & CHAR(10) &C177,'Tableau final'!X:X,1,FALSE)),0,1)","v":0},{"$f":"IF(ISERROR(VLOOKUP(A177 & CHAR(10) &C177,'Tableau final'!Y:Y,1,FALSE)),0,1)","v":0},{"$f":"IF(ISERROR(VLOOKUP(A177 & CHAR(10) &C177,'Tableau final'!Z:Z,1,FALSE)),0,1)","v":0},{"$f":"IF('Tableau final'!$A$1<>\"\",IF('Tableau final'!$B$5=\"Qualifiés\",IF(ISERROR(VLOOKUP(A177 & CHAR(10) &C177,'Tableau final'!C:F,1,FALSE)),\"\",IF(AND(VLOOKUP(A177 & CHAR(10) &C177,'Tableau final'!C:F,3,FALSE)<>\"\",VLOOKUP(A177 & CHAR(10) &C177,'Tableau final'!C:F,4,FALSE)=\"x\"),1,\"\")),IF('Tableau final'!$G$5=\"Qualifiés\",IF(ISERROR(VLOOKUP(A177 & CHAR(10) &C177,'Tableau final'!H:K,1,FALSE)),\"\",IF(AND(VLOOKUP(A177 & CHAR(10) &C177,'Tableau final'!H:K,3,FALSE)<>\"\",VLOOKUP(A177 & CHAR(10) &C177,'Tableau final'!H:K,4,FALSE)=\"x\"),1,\"\")),IF('Tableau final'!$L$5=\"Qualifiés\",IF(ISERROR(VLOOKUP(A177 & CHAR(10) &C177,'Tableau final'!M:P,1,FALSE)),\"\",IF(AND(VLOOKUP(A177 & CHAR(10) &C177,'Tableau final'!M:P,3,FALSE)<>\"\",VLOOKUP(A177 & CHAR(10) &C177,'Tableau final'!M:P,4,FALSE)=\"x\"),1,\"\")),\"\"))),\"\")","v":""},"0",{"$f":"IF(ISERROR(VLOOKUP(AI177,Tirage!A:J,1,FALSE)),\"\",IF(VLOOKUP(AI177,Tirage!A:J,1,FALSE)=\"Office \",3,4))","v":""},{"$f":"IF(AJ177=\"0\",4,IF(AJ177=1,3,IF(AJ177=2,IF(OFFSET('Fiche score'!$A$2,VLOOKUP(RIGHT(AI177,2),Feuil1!A:C,2,FALSE),VLOOKUP(RIGHT(AI177,2),Feuil1!A:C,3,FALSE))=A177 & CHAR(10) & C177,1,2),\"\")))","v":""}]
[null,null,null,null,{"$f":"IF(ISERROR(VLOOKUP(C178,AS!$A:$H,7,FALSE)),\"\",VLOOKUP(C178,AS!$A:$H,7,FALSE))","v":""},{"$f":"IF(ISERROR(VLOOKUP(C178,AS!$A:$H,8,FALSE)),\"\",VLOOKUP(C178,AS!$A:$H,8,FALSE))","v":""},null,null,null,null,{"$f":"IF(ISERROR(VLOOKUP(I178,AS!$A:$H,7,FALSE)),\"\",VLOOKUP(I178,AS!$A:$H,7,FALSE))","v":""},{"$f":"IF(ISERROR(VLOOKUP(I178,AS!$A:$H,8,FALSE)),\"\",VLOOKUP(I178,AS!$A:$H,8,FALSE))","v":""},null,null,null,null,{"$f":"IF(ISERROR(VLOOKUP(O178,AS!$A:$H,7,FALSE)),\"\",VLOOKUP(O178,AS!$A:$H,7,FALSE))","v":""},{"$f":"IF(ISERROR(VLOOKUP(O178,AS!$A:$H,8,FALSE)),\"\",VLOOKUP(O178,AS!$A:$H,8,FALSE))","v":""},null,null,null,null,{"$f":"IF(ISERROR(VLOOKUP(U178,AS!$A:$H,7,FALSE)),\"\",VLOOKUP(U178,AS!$A:$H,7,FALSE))","v":""},{"$f":"IF(ISERROR(VLOOKUP(U178,AS!$A:$H,8,FALSE)),\"\",VLOOKUP(U178,AS!$A:$H,8,FALSE))","v":""},null,null,null,null,{"$f":"IF(ISERROR(VLOOKUP(AA178,AS!$A:$H,7,FALSE)),\"\",VLOOKUP(AA178,AS!$A:$H,7,FALSE))","v":""},{"$f":"IF(ISERROR(VLOOKUP(AA178,AS!$A:$H,8,FALSE)),\"\",VLOOKUP(AA178,AS!$A:$H,8,FALSE))","v":""},null,null,null,"",null,{"$f":"IF(AI178=\"\",\"\",IF(OFFSET('Fiche score'!$A$2,VLOOKUP(RIGHT(AI178,2),Feuil1!A:C,2,FALSE),VLOOKUP(RIGHT(AI178,2),Feuil1!A:C,3,FALSE))=A178 & CHAR(10) & C178,2,IF(OFFSET('Fiche score'!$A$2,VLOOKUP(RIGHT(AI178,2),Feuil1!A:C,2,FALSE)+1,VLOOKUP(RIGHT(AI178,2),Feuil1!A:C,3,FALSE))=A178 & CHAR(10) & C178,2,IF(OFFSET('Fiche score'!$A$2,VLOOKUP(RIGHT(AI178,2),Feuil1!A:C,2,FALSE)-1,VLOOKUP(RIGHT(AI178,2),Feuil1!A:C,3,FALSE))=A178 & CHAR(10) & C178,1,IF(OFFSET('Fiche score'!$A$2,VLOOKUP(RIGHT(AI178,2),Feuil1!A:C,2,FALSE)-2,VLOOKUP(RIGHT(AI178,2),Feuil1!A:C,3,FALSE))=A178 & CHAR(10) & C178,1,\"0\")))))","v":""},{"$f":"IF(ISERROR(VLOOKUP(A178 & CHAR(10) &C178,'Fiche tirage dirigé'!I:I,1,FALSE)),0,1)","v":0},{"$f":"IF(ISERROR(VLOOKUP(A178& CHAR(10) &C178,Cadrage!H:H,1,FALSE)),0,1)","v":0},{"$f":"IF(ISERROR(VLOOKUP(A178 & CHAR(10) &C178,'Tableau final'!V:V,1,FALSE)),0,1)","v":0},{"$f":"IF(ISERROR(VLOOKUP(A178 & CHAR(10) &C178,'Tableau final'!W:W,1,FALSE)),0,1)","v":0},{"$f":"IF(ISERROR(VLOOKUP(A178 & CHAR(10) &C178,'Tableau final'!X:X,1,FALSE)),0,1)","v":0},{"$f":"IF(ISERROR(VLOOKUP(A178 & CHAR(10) &C178,'Tableau final'!Y:Y,1,FALSE)),0,1)","v":0},{"$f":"IF(ISERROR(VLOOKUP(A178 & CHAR(10) &C178,'Tableau final'!Z:Z,1,FALSE)),0,1)","v":0},{"$f":"IF('Tableau final'!$A$1<>\"\",IF('Tableau final'!$B$5=\"Qualifiés\",IF(ISERROR(VLOOKUP(A178 & CHAR(10) &C178,'Tableau final'!C:F,1,FALSE)),\"\",IF(AND(VLOOKUP(A178 & CHAR(10) &C178,'Tableau final'!C:F,3,FALSE)<>\"\",VLOOKUP(A178 & CHAR(10) &C178,'Tableau final'!C:F,4,FALSE)=\"x\"),1,\"\")),IF('Tableau final'!$G$5=\"Qualifiés\",IF(ISERROR(VLOOKUP(A178 & CHAR(10) &C178,'Tableau final'!H:K,1,FALSE)),\"\",IF(AND(VLOOKUP(A178 & CHAR(10) &C178,'Tableau final'!H:K,3,FALSE)<>\"\",VLOOKUP(A178 & CHAR(10) &C178,'Tableau final'!H:K,4,FALSE)=\"x\"),1,\"\")),IF('Tableau final'!$L$5=\"Qualifiés\",IF(ISERROR(VLOOKUP(A178 & CHAR(10) &C178,'Tableau final'!M:P,1,FALSE)),\"\",IF(AND(VLOOKUP(A178 & CHAR(10) &C178,'Tableau final'!M:P,3,FALSE)<>\"\",VLOOKUP(A178 & CHAR(10) &C178,'Tableau final'!M:P,4,FALSE)=\"x\"),1,\"\")),\"\"))),\"\")","v":""},"0",{"$f":"IF(ISERROR(VLOOKUP(AI178,Tirage!A:J,1,FALSE)),\"\",IF(VLOOKUP(AI178,Tirage!A:J,1,FALSE)=\"Office \",3,4))","v":""},{"$f":"IF(AJ178=\"0\",4,IF(AJ178=1,3,IF(AJ178=2,IF(OFFSET('Fiche score'!$A$2,VLOOKUP(RIGHT(AI178,2),Feuil1!A:C,2,FALSE),VLOOKUP(RIGHT(AI178,2),Feuil1!A:C,3,FALSE))=A178 & CHAR(10) & C178,1,2),\"\")))","v":""}]
[null,null,null,null,{"$f":"IF(ISERROR(VLOOKUP(C179,AS!$A:$H,7,FALSE)),\"\",VLOOKUP(C179,AS!$A:$H,7,FALSE))","v":""},{"$f":"IF(ISERROR(VLOOKUP(C179,AS!$A:$H,8,FALSE)),\"\",VLOOKUP(C179,AS!$A:$H,8,FALSE))","v":""},null,null,null,null,{"$f":"IF(ISERROR(VLOOKUP(I179,AS!$A:$H,7,FALSE)),\"\",VLOOKUP(I179,AS!$A:$H,7,FALSE))","v":""},{"$f":"IF(ISERROR(VLOOKUP(I179,AS!$A:$H,8,FALSE)),\"\",VLOOKUP(I179,AS!$A:$H,8,FALSE))","v":""},null,null,null,null,{"$f":"IF(ISERROR(VLOOKUP(O179,AS!$A:$H,7,FALSE)),\"\",VLOOKUP(O179,AS!$A:$H,7,FALSE))","v":""},{"$f":"IF(ISERROR(VLOOKUP(O179,AS!$A:$H,8,FALSE)),\"\",VLOOKUP(O179,AS!$A:$H,8,FALSE))","v":""},null,null,null,null,{"$f":"IF(ISERROR(VLOOKUP(U179,AS!$A:$H,7,FALSE)),\"\",VLOOKUP(U179,AS!$A:$H,7,FALSE))","v":""},{"$f":"IF(ISERROR(VLOOKUP(U179,AS!$A:$H,8,FALSE)),\"\",VLOOKUP(U179,AS!$A:$H,8,FALSE))","v":""},null,null,null,null,{"$f":"IF(ISERROR(VLOOKUP(AA179,AS!$A:$H,7,FALSE)),\"\",VLOOKUP(AA179,AS!$A:$H,7,FALSE))","v":""},{"$f":"IF(ISERROR(VLOOKUP(AA179,AS!$A:$H,8,FALSE)),\"\",VLOOKUP(AA179,AS!$A:$H,8,FALSE))","v":""},null,null,null,"",null,{"$f":"IF(AI179=\"\",\"\",IF(OFFSET('Fiche score'!$A$2,VLOOKUP(RIGHT(AI179,2),Feuil1!A:C,2,FALSE),VLOOKUP(RIGHT(AI179,2),Feuil1!A:C,3,FALSE))=A179 & CHAR(10) & C179,2,IF(OFFSET('Fiche score'!$A$2,VLOOKUP(RIGHT(AI179,2),Feuil1!A:C,2,FALSE)+1,VLOOKUP(RIGHT(AI179,2),Feuil1!A:C,3,FALSE))=A179 & CHAR(10) & C179,2,IF(OFFSET('Fiche score'!$A$2,VLOOKUP(RIGHT(AI179,2),Feuil1!A:C,2,FALSE)-1,VLOOKUP(RIGHT(AI179,2),Feuil1!A:C,3,FALSE))=A179 & CHAR(10) & C179,1,IF(OFFSET('Fiche score'!$A$2,VLOOKUP(RIGHT(AI179,2),Feuil1!A:C,2,FALSE)-2,VLOOKUP(RIGHT(AI179,2),Feuil1!A:C,3,FALSE))=A179 & CHAR(10) & C179,1,\"0\")))))","v":""},{"$f":"IF(ISERROR(VLOOKUP(A179 & CHAR(10) &C179,'Fiche tirage dirigé'!I:I,1,FALSE)),0,1)","v":0},{"$f":"IF(ISERROR(VLOOKUP(A179& CHAR(10) &C179,Cadrage!H:H,1,FALSE)),0,1)","v":0},{"$f":"IF(ISERROR(VLOOKUP(A179 & CHAR(10) &C179,'Tableau final'!V:V,1,FALSE)),0,1)","v":0},{"$f":"IF(ISERROR(VLOOKUP(A179 & CHAR(10) &C179,'Tableau final'!W:W,1,FALSE)),0,1)","v":0},{"$f":"IF(ISERROR(VLOOKUP(A179 & CHAR(10) &C179,'Tableau final'!X:X,1,FALSE)),0,1)","v":0},{"$f":"IF(ISERROR(VLOOKUP(A179 & CHAR(10) &C179,'Tableau final'!Y:Y,1,FALSE)),0,1)","v":0},{"$f":"IF(ISERROR(VLOOKUP(A179 & CHAR(10) &C179,'Tableau final'!Z:Z,1,FALSE)),0,1)","v":0},{"$f":"IF('Tableau final'!$A$1<>\"\",IF('Tableau final'!$B$5=\"Qualifiés\",IF(ISERROR(VLOOKUP(A179 & CHAR(10) &C179,'Tableau final'!C:F,1,FALSE)),\"\",IF(AND(VLOOKUP(A179 & CHAR(10) &C179,'Tableau final'!C:F,3,FALSE)<>\"\",VLOOKUP(A179 & CHAR(10) &C179,'Tableau final'!C:F,4,FALSE)=\"x\"),1,\"\")),IF('Tableau final'!$G$5=\"Qualifiés\",IF(ISERROR(VLOOKUP(A179 & CHAR(10) &C179,'Tableau final'!H:K,1,FALSE)),\"\",IF(AND(VLOOKUP(A179 & CHAR(10) &C179,'Tableau final'!H:K,3,FALSE)<>\"\",VLOOKUP(A179 & CHAR(10) &C179,'Tableau final'!H:K,4,FALSE)=\"x\"),1,\"\")),IF('Tableau final'!$L$5=\"Qualifiés\",IF(ISERROR(VLOOKUP(A179 & CHAR(10) &C179,'Tableau final'!M:P,1,FALSE)),\"\",IF(AND(VLOOKUP(A179 & CHAR(10) &C179,'Tableau final'!M:P,3,FALSE)<>\"\",VLOOKUP(A179 & CHAR(10) &C179,'Tableau final'!M:P,4,FALSE)=\"x\"),1,\"\")),\"\"))),\"\")","v":""},"0",{"$f":"IF(ISERROR(VLOOKUP(AI179,Tirage!A:J,1,FALSE)),\"\",IF(VLOOKUP(AI179,Tirage!A:J,1,FALSE)=\"Office \",3,4))","v":""},{"$f":"IF(AJ179=\"0\",4,IF(AJ179=1,3,IF(AJ179=2,IF(OFFSET('Fiche score'!$A$2,VLOOKUP(RIGHT(AI179,2),Feuil1!A:C,2,FALSE),VLOOKUP(RIGHT(AI179,2),Feuil1!A:C,3,FALSE))=A179 & CHAR(10) & C179,1,2),\"\")))","v":""}]
[null,null,null,null,{"$f":"IF(ISERROR(VLOOKUP(C180,AS!$A:$H,7,FALSE)),\"\",VLOOKUP(C180,AS!$A:$H,7,FALSE))","v":""},{"$f":"IF(ISERROR(VLOOKUP(C180,AS!$A:$H,8,FALSE)),\"\",VLOOKUP(C180,AS!$A:$H,8,FALSE))","v":""},null,null,null,null,{"$f":"IF(ISERROR(VLOOKUP(I180,AS!$A:$H,7,FALSE)),\"\",VLOOKUP(I180,AS!$A:$H,7,FALSE))","v":""},{"$f":"IF(ISERROR(VLOOKUP(I180,AS!$A:$H,8,FALSE)),\"\",VLOOKUP(I180,AS!$A:$H,8,FALSE))","v":""},null,null,null,null,{"$f":"IF(ISERROR(VLOOKUP(O180,AS!$A:$H,7,FALSE)),\"\",VLOOKUP(O180,AS!$A:$H,7,FALSE))","v":""},{"$f":"IF(ISERROR(VLOOKUP(O180,AS!$A:$H,8,FALSE)),\"\",VLOOKUP(O180,AS!$A:$H,8,FALSE))","v":""},null,null,null,null,{"$f":"IF(ISERROR(VLOOKUP(U180,AS!$A:$H,7,FALSE)),\"\",VLOOKUP(U180,AS!$A:$H,7,FALSE))","v":""},{"$f":"IF(ISERROR(VLOOKUP(U180,AS!$A:$H,8,FALSE)),\"\",VLOOKUP(U180,AS!$A:$H,8,FALSE))","v":""},null,null,null,null,{"$f":"IF(ISERROR(VLOOKUP(AA180,AS!$A:$H,7,FALSE)),\"\",VLOOKUP(AA180,AS!$A:$H,7,FALSE))","v":""},{"$f":"IF(ISERROR(VLOOKUP(AA180,AS!$A:$H,8,FALSE)),\"\",VLOOKUP(AA180,AS!$A:$H,8,FALSE))","v":""},null,null,null,"",null,{"$f":"IF(AI180=\"\",\"\",IF(OFFSET('Fiche score'!$A$2,VLOOKUP(RIGHT(AI180,2),Feuil1!A:C,2,FALSE),VLOOKUP(RIGHT(AI180,2),Feuil1!A:C,3,FALSE))=A180 & CHAR(10) & C180,2,IF(OFFSET('Fiche score'!$A$2,VLOOKUP(RIGHT(AI180,2),Feuil1!A:C,2,FALSE)+1,VLOOKUP(RIGHT(AI180,2),Feuil1!A:C,3,FALSE))=A180 & CHAR(10) & C180,2,IF(OFFSET('Fiche score'!$A$2,VLOOKUP(RIGHT(AI180,2),Feuil1!A:C,2,FALSE)-1,VLOOKUP(RIGHT(AI180,2),Feuil1!A:C,3,FALSE))=A180 & CHAR(10) & C180,1,IF(OFFSET('Fiche score'!$A$2,VLOOKUP(RIGHT(AI180,2),Feuil1!A:C,2,FALSE)-2,VLOOKUP(RIGHT(AI180,2),Feuil1!A:C,3,FALSE))=A180 & CHAR(10) & C180,1,\"0\")))))","v":""},{"$f":"IF(ISERROR(VLOOKUP(A180 & CHAR(10) &C180,'Fiche tirage dirigé'!I:I,1,FALSE)),0,1)","v":0},{"$f":"IF(ISERROR(VLOOKUP(A180& CHAR(10) &C180,Cadrage!H:H,1,FALSE)),0,1)","v":0},{"$f":"IF(ISERROR(VLOOKUP(A180 & CHAR(10) &C180,'Tableau final'!V:V,1,FALSE)),0,1)","v":0},{"$f":"IF(ISERROR(VLOOKUP(A180 & CHAR(10) &C180,'Tableau final'!W:W,1,FALSE)),0,1)","v":0},{"$f":"IF(ISERROR(VLOOKUP(A180 & CHAR(10) &C180,'Tableau final'!X:X,1,FALSE)),0,1)","v":0},{"$f":"IF(ISERROR(VLOOKUP(A180 & CHAR(10) &C180,'Tableau final'!Y:Y,1,FALSE)),0,1)","v":0},{"$f":"IF(ISERROR(VLOOKUP(A180 & CHAR(10) &C180,'Tableau final'!Z:Z,1,FALSE)),0,1)","v":0},{"$f":"IF('Tableau final'!$A$1<>\"\",IF('Tableau final'!$B$5=\"Qualifiés\",IF(ISERROR(VLOOKUP(A180 & CHAR(10) &C180,'Tableau final'!C:F,1,FALSE)),\"\",IF(AND(VLOOKUP(A180 & CHAR(10) &C180,'Tableau final'!C:F,3,FALSE)<>\"\",VLOOKUP(A180 & CHAR(10) &C180,'Tableau final'!C:F,4,FALSE)=\"x\"),1,\"\")),IF('Tableau final'!$G$5=\"Qualifiés\",IF(ISERROR(VLOOKUP(A180 & CHAR(10) &C180,'Tableau final'!H:K,1,FALSE)),\"\",IF(AND(VLOOKUP(A180 & CHAR(10) &C180,'Tableau final'!H:K,3,FALSE)<>\"\",VLOOKUP(A180 & CHAR(10) &C180,'Tableau final'!H:K,4,FALSE)=\"x\"),1,\"\")),IF('Tableau final'!$L$5=\"Qualifiés\",IF(ISERROR(VLOOKUP(A180 & CHAR(10) &C180,'Tableau final'!M:P,1,FALSE)),\"\",IF(AND(VLOOKUP(A180 & CHAR(10) &C180,'Tableau final'!M:P,3,FALSE)<>\"\",VLOOKUP(A180 & CHAR(10) &C180,'Tableau final'!M:P,4,FALSE)=\"x\"),1,\"\")),\"\"))),\"\")","v":""},"0",{"$f":"IF(ISERROR(VLOOKUP(AI180,Tirage!A:J,1,FALSE)),\"\",IF(VLOOKUP(AI180,Tirage!A:J,1,FALSE)=\"Office \",3,4))","v":""},{"$f":"IF(AJ180=\"0\",4,IF(AJ180=1,3,IF(AJ180=2,IF(OFFSET('Fiche score'!$A$2,VLOOKUP(RIGHT(AI180,2),Feuil1!A:C,2,FALSE),VLOOKUP(RIGHT(AI180,2),Feuil1!A:C,3,FALSE))=A180 & CHAR(10) & C180,1,2),\"\")))","v":""}]
[null,null,null,null,{"$f":"IF(ISERROR(VLOOKUP(C181,AS!$A:$H,7,FALSE)),\"\",VLOOKUP(C181,AS!$A:$H,7,FALSE))","v":""},{"$f":"IF(ISERROR(VLOOKUP(C181,AS!$A:$H,8,FALSE)),\"\",VLOOKUP(C181,AS!$A:$H,8,FALSE))","v":""},null,null,null,null,{"$f":"IF(ISERROR(VLOOKUP(I181,AS!$A:$H,7,FALSE)),\"\",VLOOKUP(I181,AS!$A:$H,7,FALSE))","v":""},{"$f":"IF(ISERROR(VLOOKUP(I181,AS!$A:$H,8,FALSE)),\"\",VLOOKUP(I181,AS!$A:$H,8,FALSE))","v":""},null,null,null,null,{"$f":"IF(ISERROR(VLOOKUP(O181,AS!$A:$H,7,FALSE)),\"\",VLOOKUP(O181,AS!$A:$H,7,FALSE))","v":""},{"$f":"IF(ISERROR(VLOOKUP(O181,AS!$A:$H,8,FALSE)),\"\",VLOOKUP(O181,AS!$A:$H,8,FALSE))","v":""},null,null,null,null,{"$f":"IF(ISERROR(VLOOKUP(U181,AS!$A:$H,7,FALSE)),\"\",VLOOKUP(U181,AS!$A:$H,7,FALSE))","v":""},{"$f":"IF(ISERROR(VLOOKUP(U181,AS!$A:$H,8,FALSE)),\"\",VLOOKUP(U181,AS!$A:$H,8,FALSE))","v":""},null,null,null,null,{"$f":"IF(ISERROR(VLOOKUP(AA181,AS!$A:$H,7,FALSE)),\"\",VLOOKUP(AA181,AS!$A:$H,7,FALSE))","v":""},{"$f":"IF(ISERROR(VLOOKUP(AA181,AS!$A:$H,8,FALSE)),\"\",VLOOKUP(AA181,AS!$A:$H,8,FALSE))","v":""},null,null,null,"",null,{"$f":"IF(AI181=\"\",\"\",IF(OFFSET('Fiche score'!$A$2,VLOOKUP(RIGHT(AI181,2),Feuil1!A:C,2,FALSE),VLOOKUP(RIGHT(AI181,2),Feuil1!A:C,3,FALSE))=A181 & CHAR(10) & C181,2,IF(OFFSET('Fiche score'!$A$2,VLOOKUP(RIGHT(AI181,2),Feuil1!A:C,2,FALSE)+1,VLOOKUP(RIGHT(AI181,2),Feuil1!A:C,3,FALSE))=A181 & CHAR(10) & C181,2,IF(OFFSET('Fiche score'!$A$2,VLOOKUP(RIGHT(AI181,2),Feuil1!A:C,2,FALSE)-1,VLOOKUP(RIGHT(AI181,2),Feuil1!A:C,3,FALSE))=A181 & CHAR(10) & C181,1,IF(OFFSET('Fiche score'!$A$2,VLOOKUP(RIGHT(AI181,2),Feuil1!A:C,2,FALSE)-2,VLOOKUP(RIGHT(AI181,2),Feuil1!A:C,3,FALSE))=A181 & CHAR(10) & C181,1,\"0\")))))","v":""},{"$f":"IF(ISERROR(VLOOKUP(A181 & CHAR(10) &C181,'Fiche tirage dirigé'!I:I,1,FALSE)),0,1)","v":0},{"$f":"IF(ISERROR(VLOOKUP(A181& CHAR(10) &C181,Cadrage!H:H,1,FALSE)),0,1)","v":0},{"$f":"IF(ISERROR(VLOOKUP(A181 & CHAR(10) &C181,'Tableau final'!V:V,1,FALSE)),0,1)","v":0},{"$f":"IF(ISERROR(VLOOKUP(A181 & CHAR(10) &C181,'Tableau final'!W:W,1,FALSE)),0,1)","v":0},{"$f":"IF(ISERROR(VLOOKUP(A181 & CHAR(10) &C181,'Tableau final'!X:X,1,FALSE)),0,1)","v":0},{"$f":"IF(ISERROR(VLOOKUP(A181 & CHAR(10) &C181,'Tableau final'!Y:Y,1,FALSE)),0,1)","v":0},{"$f":"IF(ISERROR(VLOOKUP(A181 & CHAR(10) &C181,'Tableau final'!Z:Z,1,FALSE)),0,1)","v":0},{"$f":"IF('Tableau final'!$A$1<>\"\",IF('Tableau final'!$B$5=\"Qualifiés\",IF(ISERROR(VLOOKUP(A181 & CHAR(10) &C181,'Tableau final'!C:F,1,FALSE)),\"\",IF(AND(VLOOKUP(A181 & CHAR(10) &C181,'Tableau final'!C:F,3,FALSE)<>\"\",VLOOKUP(A181 & CHAR(10) &C181,'Tableau final'!C:F,4,FALSE)=\"x\"),1,\"\")),IF('Tableau final'!$G$5=\"Qualifiés\",IF(ISERROR(VLOOKUP(A181 & CHAR(10) &C181,'Tableau final'!H:K,1,FALSE)),\"\",IF(AND(VLOOKUP(A181 & CHAR(10) &C181,'Tableau final'!H:K,3,FALSE)<>\"\",VLOOKUP(A181 & CHAR(10) &C181,'Tableau final'!H:K,4,FALSE)=\"x\"),1,\"\")),IF('Tableau final'!$L$5=\"Qualifiés\",IF(ISERROR(VLOOKUP(A181 & CHAR(10) &C181,'Tableau final'!M:P,1,FALSE)),\"\",IF(AND(VLOOKUP(A181 & CHAR(10) &C181,'Tableau final'!M:P,3,FALSE)<>\"\",VLOOKUP(A181 & CHAR(10) &C181,'Tableau final'!M:P,4,FALSE)=\"x\"),1,\"\")),\"\"))),\"\")","v":""},"0",{"$f":"IF(ISERROR(VLOOKUP(AI181,Tirage!A:J,1,FALSE)),\"\",IF(VLOOKUP(AI181,Tirage!A:J,1,FALSE)=\"Office \",3,4))","v":""},{"$f":"IF(AJ181=\"0\",4,IF(AJ181=1,3,IF(AJ181=2,IF(OFFSET('Fiche score'!$A$2,VLOOKUP(RIGHT(AI181,2),Feuil1!A:C,2,FALSE),VLOOKUP(RIGHT(AI181,2),Feuil1!A:C,3,FALSE))=A181 & CHAR(10) & C181,1,2),\"\")))","v":""}]
[null,null,null,null,{"$f":"IF(ISERROR(VLOOKUP(C182,AS!$A:$H,7,FALSE)),\"\",VLOOKUP(C182,AS!$A:$H,7,FALSE))","v":""},{"$f":"IF(ISERROR(VLOOKUP(C182,AS!$A:$H,8,FALSE)),\"\",VLOOKUP(C182,AS!$A:$H,8,FALSE))","v":""},null,null,null,null,{"$f":"IF(ISERROR(VLOOKUP(I182,AS!$A:$H,7,FALSE)),\"\",VLOOKUP(I182,AS!$A:$H,7,FALSE))","v":""},{"$f":"IF(ISERROR(VLOOKUP(I182,AS!$A:$H,8,FALSE)),\"\",VLOOKUP(I182,AS!$A:$H,8,FALSE))","v":""},null,null,null,null,{"$f":"IF(ISERROR(VLOOKUP(O182,AS!$A:$H,7,FALSE)),\"\",VLOOKUP(O182,AS!$A:$H,7,FALSE))","v":""},{"$f":"IF(ISERROR(VLOOKUP(O182,AS!$A:$H,8,FALSE)),\"\",VLOOKUP(O182,AS!$A:$H,8,FALSE))","v":""},null,null,null,null,{"$f":"IF(ISERROR(VLOOKUP(U182,AS!$A:$H,7,FALSE)),\"\",VLOOKUP(U182,AS!$A:$H,7,FALSE))","v":""},{"$f":"IF(ISERROR(VLOOKUP(U182,AS!$A:$H,8,FALSE)),\"\",VLOOKUP(U182,AS!$A:$H,8,FALSE))","v":""},null,null,null,null,{"$f":"IF(ISERROR(VLOOKUP(AA182,AS!$A:$H,7,FALSE)),\"\",VLOOKUP(AA182,AS!$A:$H,7,FALSE))","v":""},{"$f":"IF(ISERROR(VLOOKUP(AA182,AS!$A:$H,8,FALSE)),\"\",VLOOKUP(AA182,AS!$A:$H,8,FALSE))","v":""},null,null,null,"",null,{"$f":"IF(AI182=\"\",\"\",IF(OFFSET('Fiche score'!$A$2,VLOOKUP(RIGHT(AI182,2),Feuil1!A:C,2,FALSE),VLOOKUP(RIGHT(AI182,2),Feuil1!A:C,3,FALSE))=A182 & CHAR(10) & C182,2,IF(OFFSET('Fiche score'!$A$2,VLOOKUP(RIGHT(AI182,2),Feuil1!A:C,2,FALSE)+1,VLOOKUP(RIGHT(AI182,2),Feuil1!A:C,3,FALSE))=A182 & CHAR(10) & C182,2,IF(OFFSET('Fiche score'!$A$2,VLOOKUP(RIGHT(AI182,2),Feuil1!A:C,2,FALSE)-1,VLOOKUP(RIGHT(AI182,2),Feuil1!A:C,3,FALSE))=A182 & CHAR(10) & C182,1,IF(OFFSET('Fiche score'!$A$2,VLOOKUP(RIGHT(AI182,2),Feuil1!A:C,2,FALSE)-2,VLOOKUP(RIGHT(AI182,2),Feuil1!A:C,3,FALSE))=A182 & CHAR(10) & C182,1,\"0\")))))","v":""},{"$f":"IF(ISERROR(VLOOKUP(A182 & CHAR(10) &C182,'Fiche tirage dirigé'!I:I,1,FALSE)),0,1)","v":0},{"$f":"IF(ISERROR(VLOOKUP(A182& CHAR(10) &C182,Cadrage!H:H,1,FALSE)),0,1)","v":0},{"$f":"IF(ISERROR(VLOOKUP(A182 & CHAR(10) &C182,'Tableau final'!V:V,1,FALSE)),0,1)","v":0},{"$f":"IF(ISERROR(VLOOKUP(A182 & CHAR(10) &C182,'Tableau final'!W:W,1,FALSE)),0,1)","v":0},{"$f":"IF(ISERROR(VLOOKUP(A182 & CHAR(10) &C182,'Tableau final'!X:X,1,FALSE)),0,1)","v":0},{"$f":"IF(ISERROR(VLOOKUP(A182 & CHAR(10) &C182,'Tableau final'!Y:Y,1,FALSE)),0,1)","v":0},{"$f":"IF(ISERROR(VLOOKUP(A182 & CHAR(10) &C182,'Tableau final'!Z:Z,1,FALSE)),0,1)","v":0},{"$f":"IF('Tableau final'!$A$1<>\"\",IF('Tableau final'!$B$5=\"Qualifiés\",IF(ISERROR(VLOOKUP(A182 & CHAR(10) &C182,'Tableau final'!C:F,1,FALSE)),\"\",IF(AND(VLOOKUP(A182 & CHAR(10) &C182,'Tableau final'!C:F,3,FALSE)<>\"\",VLOOKUP(A182 & CHAR(10) &C182,'Tableau final'!C:F,4,FALSE)=\"x\"),1,\"\")),IF('Tableau final'!$G$5=\"Qualifiés\",IF(ISERROR(VLOOKUP(A182 & CHAR(10) &C182,'Tableau final'!H:K,1,FALSE)),\"\",IF(AND(VLOOKUP(A182 & CHAR(10) &C182,'Tableau final'!H:K,3,FALSE)<>\"\",VLOOKUP(A182 & CHAR(10) &C182,'Tableau final'!H:K,4,FALSE)=\"x\"),1,\"\")),IF('Tableau final'!$L$5=\"Qualifiés\",IF(ISERROR(VLOOKUP(A182 & CHAR(10) &C182,'Tableau final'!M:P,1,FALSE)),\"\",IF(AND(VLOOKUP(A182 & CHAR(10) &C182,'Tableau final'!M:P,3,FALSE)<>\"\",VLOOKUP(A182 & CHAR(10) &C182,'Tableau final'!M:P,4,FALSE)=\"x\"),1,\"\")),\"\"))),\"\")","v":""},"0",{"$f":"IF(ISERROR(VLOOKUP(AI182,Tirage!A:J,1,FALSE)),\"\",IF(VLOOKUP(AI182,Tirage!A:J,1,FALSE)=\"Office \",3,4))","v":""},{"$f":"IF(AJ182=\"0\",4,IF(AJ182=1,3,IF(AJ182=2,IF(OFFSET('Fiche score'!$A$2,VLOOKUP(RIGHT(AI182,2),Feuil1!A:C,2,FALSE),VLOOKUP(RIGHT(AI182,2),Feuil1!A:C,3,FALSE))=A182 & CHAR(10) & C182,1,2),\"\")))","v":""}]
[null,null,null,null,{"$f":"IF(ISERROR(VLOOKUP(C183,AS!$A:$H,7,FALSE)),\"\",VLOOKUP(C183,AS!$A:$H,7,FALSE))","v":""},{"$f":"IF(ISERROR(VLOOKUP(C183,AS!$A:$H,8,FALSE)),\"\",VLOOKUP(C183,AS!$A:$H,8,FALSE))","v":""},null,null,null,null,{"$f":"IF(ISERROR(VLOOKUP(I183,AS!$A:$H,7,FALSE)),\"\",VLOOKUP(I183,AS!$A:$H,7,FALSE))","v":""},{"$f":"IF(ISERROR(VLOOKUP(I183,AS!$A:$H,8,FALSE)),\"\",VLOOKUP(I183,AS!$A:$H,8,FALSE))","v":""},null,null,null,null,{"$f":"IF(ISERROR(VLOOKUP(O183,AS!$A:$H,7,FALSE)),\"\",VLOOKUP(O183,AS!$A:$H,7,FALSE))","v":""},{"$f":"IF(ISERROR(VLOOKUP(O183,AS!$A:$H,8,FALSE)),\"\",VLOOKUP(O183,AS!$A:$H,8,FALSE))","v":""},null,null,null,null,{"$f":"IF(ISERROR(VLOOKUP(U183,AS!$A:$H,7,FALSE)),\"\",VLOOKUP(U183,AS!$A:$H,7,FALSE))","v":""},{"$f":"IF(ISERROR(VLOOKUP(U183,AS!$A:$H,8,FALSE)),\"\",VLOOKUP(U183,AS!$A:$H,8,FALSE))","v":""},null,null,null,null,{"$f":"IF(ISERROR(VLOOKUP(AA183,AS!$A:$H,7,FALSE)),\"\",VLOOKUP(AA183,AS!$A:$H,7,FALSE))","v":""},{"$f":"IF(ISERROR(VLOOKUP(AA183,AS!$A:$H,8,FALSE)),\"\",VLOOKUP(AA183,AS!$A:$H,8,FALSE))","v":""},null,null,null,"",null,{"$f":"IF(AI183=\"\",\"\",IF(OFFSET('Fiche score'!$A$2,VLOOKUP(RIGHT(AI183,2),Feuil1!A:C,2,FALSE),VLOOKUP(RIGHT(AI183,2),Feuil1!A:C,3,FALSE))=A183 & CHAR(10) & C183,2,IF(OFFSET('Fiche score'!$A$2,VLOOKUP(RIGHT(AI183,2),Feuil1!A:C,2,FALSE)+1,VLOOKUP(RIGHT(AI183,2),Feuil1!A:C,3,FALSE))=A183 & CHAR(10) & C183,2,IF(OFFSET('Fiche score'!$A$2,VLOOKUP(RIGHT(AI183,2),Feuil1!A:C,2,FALSE)-1,VLOOKUP(RIGHT(AI183,2),Feuil1!A:C,3,FALSE))=A183 & CHAR(10) & C183,1,IF(OFFSET('Fiche score'!$A$2,VLOOKUP(RIGHT(AI183,2),Feuil1!A:C,2,FALSE)-2,VLOOKUP(RIGHT(AI183,2),Feuil1!A:C,3,FALSE))=A183 & CHAR(10) & C183,1,\"0\")))))","v":""},{"$f":"IF(ISERROR(VLOOKUP(A183 & CHAR(10) &C183,'Fiche tirage dirigé'!I:I,1,FALSE)),0,1)","v":0},{"$f":"IF(ISERROR(VLOOKUP(A183& CHAR(10) &C183,Cadrage!H:H,1,FALSE)),0,1)","v":0},{"$f":"IF(ISERROR(VLOOKUP(A183 & CHAR(10) &C183,'Tableau final'!V:V,1,FALSE)),0,1)","v":0},{"$f":"IF(ISERROR(VLOOKUP(A183 & CHAR(10) &C183,'Tableau final'!W:W,1,FALSE)),0,1)","v":0},{"$f":"IF(ISERROR(VLOOKUP(A183 & CHAR(10) &C183,'Tableau final'!X:X,1,FALSE)),0,1)","v":0},{"$f":"IF(ISERROR(VLOOKUP(A183 & CHAR(10) &C183,'Tableau final'!Y:Y,1,FALSE)),0,1)","v":0},{"$f":"IF(ISERROR(VLOOKUP(A183 & CHAR(10) &C183,'Tableau final'!Z:Z,1,FALSE)),0,1)","v":0},{"$f":"IF('Tableau final'!$A$1<>\"\",IF('Tableau final'!$B$5=\"Qualifiés\",IF(ISERROR(VLOOKUP(A183 & CHAR(10) &C183,'Tableau final'!C:F,1,FALSE)),\"\",IF(AND(VLOOKUP(A183 & CHAR(10) &C183,'Tableau final'!C:F,3,FALSE)<>\"\",VLOOKUP(A183 & CHAR(10) &C183,'Tableau final'!C:F,4,FALSE)=\"x\"),1,\"\")),IF('Tableau final'!$G$5=\"Qualifiés\",IF(ISERROR(VLOOKUP(A183 & CHAR(10) &C183,'Tableau final'!H:K,1,FALSE)),\"\",IF(AND(VLOOKUP(A183 & CHAR(10) &C183,'Tableau final'!H:K,3,FALSE)<>\"\",VLOOKUP(A183 & CHAR(10) &C183,'Tableau final'!H:K,4,FALSE)=\"x\"),1,\"\")),IF('Tableau final'!$L$5=\"Qualifiés\",IF(ISERROR(VLOOKUP(A183 & CHAR(10) &C183,'Tableau final'!M:P,1,FALSE)),\"\",IF(AND(VLOOKUP(A183 & CHAR(10) &C183,'Tableau final'!M:P,3,FALSE)<>\"\",VLOOKUP(A183 & CHAR(10) &C183,'Tableau final'!M:P,4,FALSE)=\"x\"),1,\"\")),\"\"))),\"\")","v":""},"0",{"$f":"IF(ISERROR(VLOOKUP(AI183,Tirage!A:J,1,FALSE)),\"\",IF(VLOOKUP(AI183,Tirage!A:J,1,FALSE)=\"Office \",3,4))","v":""},{"$f":"IF(AJ183=\"0\",4,IF(AJ183=1,3,IF(AJ183=2,IF(OFFSET('Fiche score'!$A$2,VLOOKUP(RIGHT(AI183,2),Feuil1!A:C,2,FALSE),VLOOKUP(RIGHT(AI183,2),Feuil1!A:C,3,FALSE))=A183 & CHAR(10) & C183,1,2),\"\")))","v":""}]
[null,null,null,null,{"$f":"IF(ISERROR(VLOOKUP(C184,AS!$A:$H,7,FALSE)),\"\",VLOOKUP(C184,AS!$A:$H,7,FALSE))","v":""},{"$f":"IF(ISERROR(VLOOKUP(C184,AS!$A:$H,8,FALSE)),\"\",VLOOKUP(C184,AS!$A:$H,8,FALSE))","v":""},null,null,null,null,{"$f":"IF(ISERROR(VLOOKUP(I184,AS!$A:$H,7,FALSE)),\"\",VLOOKUP(I184,AS!$A:$H,7,FALSE))","v":""},{"$f":"IF(ISERROR(VLOOKUP(I184,AS!$A:$H,8,FALSE)),\"\",VLOOKUP(I184,AS!$A:$H,8,FALSE))","v":""},null,null,null,null,{"$f":"IF(ISERROR(VLOOKUP(O184,AS!$A:$H,7,FALSE)),\"\",VLOOKUP(O184,AS!$A:$H,7,FALSE))","v":""},{"$f":"IF(ISERROR(VLOOKUP(O184,AS!$A:$H,8,FALSE)),\"\",VLOOKUP(O184,AS!$A:$H,8,FALSE))","v":""},null,null,null,null,{"$f":"IF(ISERROR(VLOOKUP(U184,AS!$A:$H,7,FALSE)),\"\",VLOOKUP(U184,AS!$A:$H,7,FALSE))","v":""},{"$f":"IF(ISERROR(VLOOKUP(U184,AS!$A:$H,8,FALSE)),\"\",VLOOKUP(U184,AS!$A:$H,8,FALSE))","v":""},null,null,null,null,{"$f":"IF(ISERROR(VLOOKUP(AA184,AS!$A:$H,7,FALSE)),\"\",VLOOKUP(AA184,AS!$A:$H,7,FALSE))","v":""},{"$f":"IF(ISERROR(VLOOKUP(AA184,AS!$A:$H,8,FALSE)),\"\",VLOOKUP(AA184,AS!$A:$H,8,FALSE))","v":""},null,null,null,"",null,{"$f":"IF(AI184=\"\",\"\",IF(OFFSET('Fiche score'!$A$2,VLOOKUP(RIGHT(AI184,2),Feuil1!A:C,2,FALSE),VLOOKUP(RIGHT(AI184,2),Feuil1!A:C,3,FALSE))=A184 & CHAR(10) & C184,2,IF(OFFSET('Fiche score'!$A$2,VLOOKUP(RIGHT(AI184,2),Feuil1!A:C,2,FALSE)+1,VLOOKUP(RIGHT(AI184,2),Feuil1!A:C,3,FALSE))=A184 & CHAR(10) & C184,2,IF(OFFSET('Fiche score'!$A$2,VLOOKUP(RIGHT(AI184,2),Feuil1!A:C,2,FALSE)-1,VLOOKUP(RIGHT(AI184,2),Feuil1!A:C,3,FALSE))=A184 & CHAR(10) & C184,1,IF(OFFSET('Fiche score'!$A$2,VLOOKUP(RIGHT(AI184,2),Feuil1!A:C,2,FALSE)-2,VLOOKUP(RIGHT(AI184,2),Feuil1!A:C,3,FALSE))=A184 & CHAR(10) & C184,1,\"0\")))))","v":""},{"$f":"IF(ISERROR(VLOOKUP(A184 & CHAR(10) &C184,'Fiche tirage dirigé'!I:I,1,FALSE)),0,1)","v":0},{"$f":"IF(ISERROR(VLOOKUP(A184& CHAR(10) &C184,Cadrage!H:H,1,FALSE)),0,1)","v":0},{"$f":"IF(ISERROR(VLOOKUP(A184 & CHAR(10) &C184,'Tableau final'!V:V,1,FALSE)),0,1)","v":0},{"$f":"IF(ISERROR(VLOOKUP(A184 & CHAR(10) &C184,'Tableau final'!W:W,1,FALSE)),0,1)","v":0},{"$f":"IF(ISERROR(VLOOKUP(A184 & CHAR(10) &C184,'Tableau final'!X:X,1,FALSE)),0,1)","v":0},{"$f":"IF(ISERROR(VLOOKUP(A184 & CHAR(10) &C184,'Tableau final'!Y:Y,1,FALSE)),0,1)","v":0},{"$f":"IF(ISERROR(VLOOKUP(A184 & CHAR(10) &C184,'Tableau final'!Z:Z,1,FALSE)),0,1)","v":0},{"$f":"IF('Tableau final'!$A$1<>\"\",IF('Tableau final'!$B$5=\"Qualifiés\",IF(ISERROR(VLOOKUP(A184 & CHAR(10) &C184,'Tableau final'!C:F,1,FALSE)),\"\",IF(AND(VLOOKUP(A184 & CHAR(10) &C184,'Tableau final'!C:F,3,FALSE)<>\"\",VLOOKUP(A184 & CHAR(10) &C184,'Tableau final'!C:F,4,FALSE)=\"x\"),1,\"\")),IF('Tableau final'!$G$5=\"Qualifiés\",IF(ISERROR(VLOOKUP(A184 & CHAR(10) &C184,'Tableau final'!H:K,1,FALSE)),\"\",IF(AND(VLOOKUP(A184 & CHAR(10) &C184,'Tableau final'!H:K,3,FALSE)<>\"\",VLOOKUP(A184 & CHAR(10) &C184,'Tableau final'!H:K,4,FALSE)=\"x\"),1,\"\")),IF('Tableau final'!$L$5=\"Qualifiés\",IF(ISERROR(VLOOKUP(A184 & CHAR(10) &C184,'Tableau final'!M:P,1,FALSE)),\"\",IF(AND(VLOOKUP(A184 & CHAR(10) &C184,'Tableau final'!M:P,3,FALSE)<>\"\",VLOOKUP(A184 & CHAR(10) &C184,'Tableau final'!M:P,4,FALSE)=\"x\"),1,\"\")),\"\"))),\"\")","v":""},"0",{"$f":"IF(ISERROR(VLOOKUP(AI184,Tirage!A:J,1,FALSE)),\"\",IF(VLOOKUP(AI184,Tirage!A:J,1,FALSE)=\"Office \",3,4))","v":""},{"$f":"IF(AJ184=\"0\",4,IF(AJ184=1,3,IF(AJ184=2,IF(OFFSET('Fiche score'!$A$2,VLOOKUP(RIGHT(AI184,2),Feuil1!A:C,2,FALSE),VLOOKUP(RIGHT(AI184,2),Feuil1!A:C,3,FALSE))=A184 & CHAR(10) & C184,1,2),\"\")))","v":""}]
[null,null,null,null,{"$f":"IF(ISERROR(VLOOKUP(C185,AS!$A:$H,7,FALSE)),\"\",VLOOKUP(C185,AS!$A:$H,7,FALSE))","v":""},{"$f":"IF(ISERROR(VLOOKUP(C185,AS!$A:$H,8,FALSE)),\"\",VLOOKUP(C185,AS!$A:$H,8,FALSE))","v":""},null,null,null,null,{"$f":"IF(ISERROR(VLOOKUP(I185,AS!$A:$H,7,FALSE)),\"\",VLOOKUP(I185,AS!$A:$H,7,FALSE))","v":""},{"$f":"IF(ISERROR(VLOOKUP(I185,AS!$A:$H,8,FALSE)),\"\",VLOOKUP(I185,AS!$A:$H,8,FALSE))","v":""},null,null,null,null,{"$f":"IF(ISERROR(VLOOKUP(O185,AS!$A:$H,7,FALSE)),\"\",VLOOKUP(O185,AS!$A:$H,7,FALSE))","v":""},{"$f":"IF(ISERROR(VLOOKUP(O185,AS!$A:$H,8,FALSE)),\"\",VLOOKUP(O185,AS!$A:$H,8,FALSE))","v":""},null,null,null,null,{"$f":"IF(ISERROR(VLOOKUP(U185,AS!$A:$H,7,FALSE)),\"\",VLOOKUP(U185,AS!$A:$H,7,FALSE))","v":""},{"$f":"IF(ISERROR(VLOOKUP(U185,AS!$A:$H,8,FALSE)),\"\",VLOOKUP(U185,AS!$A:$H,8,FALSE))","v":""},null,null,null,null,{"$f":"IF(ISERROR(VLOOKUP(AA185,AS!$A:$H,7,FALSE)),\"\",VLOOKUP(AA185,AS!$A:$H,7,FALSE))","v":""},{"$f":"IF(ISERROR(VLOOKUP(AA185,AS!$A:$H,8,FALSE)),\"\",VLOOKUP(AA185,AS!$A:$H,8,FALSE))","v":""},null,null,null,"",null,{"$f":"IF(AI185=\"\",\"\",IF(OFFSET('Fiche score'!$A$2,VLOOKUP(RIGHT(AI185,2),Feuil1!A:C,2,FALSE),VLOOKUP(RIGHT(AI185,2),Feuil1!A:C,3,FALSE))=A185 & CHAR(10) & C185,2,IF(OFFSET('Fiche score'!$A$2,VLOOKUP(RIGHT(AI185,2),Feuil1!A:C,2,FALSE)+1,VLOOKUP(RIGHT(AI185,2),Feuil1!A:C,3,FALSE))=A185 & CHAR(10) & C185,2,IF(OFFSET('Fiche score'!$A$2,VLOOKUP(RIGHT(AI185,2),Feuil1!A:C,2,FALSE)-1,VLOOKUP(RIGHT(AI185,2),Feuil1!A:C,3,FALSE))=A185 & CHAR(10) & C185,1,IF(OFFSET('Fiche score'!$A$2,VLOOKUP(RIGHT(AI185,2),Feuil1!A:C,2,FALSE)-2,VLOOKUP(RIGHT(AI185,2),Feuil1!A:C,3,FALSE))=A185 & CHAR(10) & C185,1,\"0\")))))","v":""},{"$f":"IF(ISERROR(VLOOKUP(A185 & CHAR(10) &C185,'Fiche tirage dirigé'!I:I,1,FALSE)),0,1)","v":0},{"$f":"IF(ISERROR(VLOOKUP(A185& CHAR(10) &C185,Cadrage!H:H,1,FALSE)),0,1)","v":0},{"$f":"IF(ISERROR(VLOOKUP(A185 & CHAR(10) &C185,'Tableau final'!V:V,1,FALSE)),0,1)","v":0},{"$f":"IF(ISERROR(VLOOKUP(A185 & CHAR(10) &C185,'Tableau final'!W:W,1,FALSE)),0,1)","v":0},{"$f":"IF(ISERROR(VLOOKUP(A185 & CHAR(10) &C185,'Tableau final'!X:X,1,FALSE)),0,1)","v":0},{"$f":"IF(ISERROR(VLOOKUP(A185 & CHAR(10) &C185,'Tableau final'!Y:Y,1,FALSE)),0,1)","v":0},{"$f":"IF(ISERROR(VLOOKUP(A185 & CHAR(10) &C185,'Tableau final'!Z:Z,1,FALSE)),0,1)","v":0},{"$f":"IF('Tableau final'!$A$1<>\"\",IF('Tableau final'!$B$5=\"Qualifiés\",IF(ISERROR(VLOOKUP(A185 & CHAR(10) &C185,'Tableau final'!C:F,1,FALSE)),\"\",IF(AND(VLOOKUP(A185 & CHAR(10) &C185,'Tableau final'!C:F,3,FALSE)<>\"\",VLOOKUP(A185 & CHAR(10) &C185,'Tableau final'!C:F,4,FALSE)=\"x\"),1,\"\")),IF('Tableau final'!$G$5=\"Qualifiés\",IF(ISERROR(VLOOKUP(A185 & CHAR(10) &C185,'Tableau final'!H:K,1,FALSE)),\"\",IF(AND(VLOOKUP(A185 & CHAR(10) &C185,'Tableau final'!H:K,3,FALSE)<>\"\",VLOOKUP(A185 & CHAR(10) &C185,'Tableau final'!H:K,4,FALSE)=\"x\"),1,\"\")),IF('Tableau final'!$L$5=\"Qualifiés\",IF(ISERROR(VLOOKUP(A185 & CHAR(10) &C185,'Tableau final'!M:P,1,FALSE)),\"\",IF(AND(VLOOKUP(A185 & CHAR(10) &C185,'Tableau final'!M:P,3,FALSE)<>\"\",VLOOKUP(A185 & CHAR(10) &C185,'Tableau final'!M:P,4,FALSE)=\"x\"),1,\"\")),\"\"))),\"\")","v":""},"0",{"$f":"IF(ISERROR(VLOOKUP(AI185,Tirage!A:J,1,FALSE)),\"\",IF(VLOOKUP(AI185,Tirage!A:J,1,FALSE)=\"Office \",3,4))","v":""},{"$f":"IF(AJ185=\"0\",4,IF(AJ185=1,3,IF(AJ185=2,IF(OFFSET('Fiche score'!$A$2,VLOOKUP(RIGHT(AI185,2),Feuil1!A:C,2,FALSE),VLOOKUP(RIGHT(AI185,2),Feuil1!A:C,3,FALSE))=A185 & CHAR(10) & C185,1,2),\"\")))","v":""}]
[null,null,null,null,{"$f":"IF(ISERROR(VLOOKUP(C186,AS!$A:$H,7,FALSE)),\"\",VLOOKUP(C186,AS!$A:$H,7,FALSE))","v":""},{"$f":"IF(ISERROR(VLOOKUP(C186,AS!$A:$H,8,FALSE)),\"\",VLOOKUP(C186,AS!$A:$H,8,FALSE))","v":""},null,null,null,null,{"$f":"IF(ISERROR(VLOOKUP(I186,AS!$A:$H,7,FALSE)),\"\",VLOOKUP(I186,AS!$A:$H,7,FALSE))","v":""},{"$f":"IF(ISERROR(VLOOKUP(I186,AS!$A:$H,8,FALSE)),\"\",VLOOKUP(I186,AS!$A:$H,8,FALSE))","v":""},null,null,null,null,{"$f":"IF(ISERROR(VLOOKUP(O186,AS!$A:$H,7,FALSE)),\"\",VLOOKUP(O186,AS!$A:$H,7,FALSE))","v":""},{"$f":"IF(ISERROR(VLOOKUP(O186,AS!$A:$H,8,FALSE)),\"\",VLOOKUP(O186,AS!$A:$H,8,FALSE))","v":""},null,null,null,null,{"$f":"IF(ISERROR(VLOOKUP(U186,AS!$A:$H,7,FALSE)),\"\",VLOOKUP(U186,AS!$A:$H,7,FALSE))","v":""},{"$f":"IF(ISERROR(VLOOKUP(U186,AS!$A:$H,8,FALSE)),\"\",VLOOKUP(U186,AS!$A:$H,8,FALSE))","v":""},null,null,null,null,{"$f":"IF(ISERROR(VLOOKUP(AA186,AS!$A:$H,7,FALSE)),\"\",VLOOKUP(AA186,AS!$A:$H,7,FALSE))","v":""},{"$f":"IF(ISERROR(VLOOKUP(AA186,AS!$A:$H,8,FALSE)),\"\",VLOOKUP(AA186,AS!$A:$H,8,FALSE))","v":""},null,null,null,"",null,{"$f":"IF(AI186=\"\",\"\",IF(OFFSET('Fiche score'!$A$2,VLOOKUP(RIGHT(AI186,2),Feuil1!A:C,2,FALSE),VLOOKUP(RIGHT(AI186,2),Feuil1!A:C,3,FALSE))=A186 & CHAR(10) & C186,2,IF(OFFSET('Fiche score'!$A$2,VLOOKUP(RIGHT(AI186,2),Feuil1!A:C,2,FALSE)+1,VLOOKUP(RIGHT(AI186,2),Feuil1!A:C,3,FALSE))=A186 & CHAR(10) & C186,2,IF(OFFSET('Fiche score'!$A$2,VLOOKUP(RIGHT(AI186,2),Feuil1!A:C,2,FALSE)-1,VLOOKUP(RIGHT(AI186,2),Feuil1!A:C,3,FALSE))=A186 & CHAR(10) & C186,1,IF(OFFSET('Fiche score'!$A$2,VLOOKUP(RIGHT(AI186,2),Feuil1!A:C,2,FALSE)-2,VLOOKUP(RIGHT(AI186,2),Feuil1!A:C,3,FALSE))=A186 & CHAR(10) & C186,1,\"0\")))))","v":""},{"$f":"IF(ISERROR(VLOOKUP(A186 & CHAR(10) &C186,'Fiche tirage dirigé'!I:I,1,FALSE)),0,1)","v":0},{"$f":"IF(ISERROR(VLOOKUP(A186& CHAR(10) &C186,Cadrage!H:H,1,FALSE)),0,1)","v":0},{"$f":"IF(ISERROR(VLOOKUP(A186 & CHAR(10) &C186,'Tableau final'!V:V,1,FALSE)),0,1)","v":0},{"$f":"IF(ISERROR(VLOOKUP(A186 & CHAR(10) &C186,'Tableau final'!W:W,1,FALSE)),0,1)","v":0},{"$f":"IF(ISERROR(VLOOKUP(A186 & CHAR(10) &C186,'Tableau final'!X:X,1,FALSE)),0,1)","v":0},{"$f":"IF(ISERROR(VLOOKUP(A186 & CHAR(10) &C186,'Tableau final'!Y:Y,1,FALSE)),0,1)","v":0},{"$f":"IF(ISERROR(VLOOKUP(A186 & CHAR(10) &C186,'Tableau final'!Z:Z,1,FALSE)),0,1)","v":0},{"$f":"IF('Tableau final'!$A$1<>\"\",IF('Tableau final'!$B$5=\"Qualifiés\",IF(ISERROR(VLOOKUP(A186 & CHAR(10) &C186,'Tableau final'!C:F,1,FALSE)),\"\",IF(AND(VLOOKUP(A186 & CHAR(10) &C186,'Tableau final'!C:F,3,FALSE)<>\"\",VLOOKUP(A186 & CHAR(10) &C186,'Tableau final'!C:F,4,FALSE)=\"x\"),1,\"\")),IF('Tableau final'!$G$5=\"Qualifiés\",IF(ISERROR(VLOOKUP(A186 & CHAR(10) &C186,'Tableau final'!H:K,1,FALSE)),\"\",IF(AND(VLOOKUP(A186 & CHAR(10) &C186,'Tableau final'!H:K,3,FALSE)<>\"\",VLOOKUP(A186 & CHAR(10) &C186,'Tableau final'!H:K,4,FALSE)=\"x\"),1,\"\")),IF('Tableau final'!$L$5=\"Qualifiés\",IF(ISERROR(VLOOKUP(A186 & CHAR(10) &C186,'Tableau final'!M:P,1,FALSE)),\"\",IF(AND(VLOOKUP(A186 & CHAR(10) &C186,'Tableau final'!M:P,3,FALSE)<>\"\",VLOOKUP(A186 & CHAR(10) &C186,'Tableau final'!M:P,4,FALSE)=\"x\"),1,\"\")),\"\"))),\"\")","v":""},"0",{"$f":"IF(ISERROR(VLOOKUP(AI186,Tirage!A:J,1,FALSE)),\"\",IF(VLOOKUP(AI186,Tirage!A:J,1,FALSE)=\"Office \",3,4))","v":""},{"$f":"IF(AJ186=\"0\",4,IF(AJ186=1,3,IF(AJ186=2,IF(OFFSET('Fiche score'!$A$2,VLOOKUP(RIGHT(AI186,2),Feuil1!A:C,2,FALSE),VLOOKUP(RIGHT(AI186,2),Feuil1!A:C,3,FALSE))=A186 & CHAR(10) & C186,1,2),\"\")))","v":""}]
[null,null,null,null,null,null,null,null,null,null,null,null,null,null,null,null,null,null,null,null,null,null,null,null,null,null,null,null,null,null,null,null,null,"",null,{"$f":"IF(AI187=\"\",\"\",IF(OFFSET('Fiche score'!$A$2,VLOOKUP(RIGHT(AI187,2),Feuil1!A:C,2,FALSE),VLOOKUP(RIGHT(AI187,2),Feuil1!A:C,3,FALSE))=A187 & CHAR(10) & C187,2,IF(OFFSET('Fiche score'!$A$2,VLOOKUP(RIGHT(AI187,2),Feuil1!A:C,2,FALSE)+1,VLOOKUP(RIGHT(AI187,2),Feuil1!A:C,3,FALSE))=A187 & CHAR(10) & C187,2,IF(OFFSET('Fiche score'!$A$2,VLOOKUP(RIGHT(AI187,2),Feuil1!A:C,2,FALSE)-1,VLOOKUP(RIGHT(AI187,2),Feuil1!A:C,3,FALSE))=A187 & CHAR(10) & C187,1,IF(OFFSET('Fiche score'!$A$2,VLOOKUP(RIGHT(AI187,2),Feuil1!A:C,2,FALSE)-2,VLOOKUP(RIGHT(AI187,2),Feuil1!A:C,3,FALSE))=A187 & CHAR(10) & C187,1,\"0\")))))","v":""},{"$f":"IF(ISERROR(VLOOKUP(A187 & CHAR(10) &C187,'Fiche tirage dirigé'!I:I,1,FALSE)),0,1)","v":0},{"$f":"IF(ISERROR(VLOOKUP(A187& CHAR(10) &C187,Cadrage!H:H,1,FALSE)),0,1)","v":0},{"$f":"IF(ISERROR(VLOOKUP(A187 & CHAR(10) &C187,'Tableau final'!V:V,1,FALSE)),0,1)","v":0},{"$f":"IF(ISERROR(VLOOKUP(A187 & CHAR(10) &C187,'Tableau final'!W:W,1,FALSE)),0,1)","v":0},{"$f":"IF(ISERROR(VLOOKUP(A187 & CHAR(10) &C187,'Tableau final'!X:X,1,FALSE)),0,1)","v":0},{"$f":"IF(ISERROR(VLOOKUP(A187 & CHAR(10) &C187,'Tableau final'!Y:Y,1,FALSE)),0,1)","v":0},{"$f":"IF(ISERROR(VLOOKUP(A187 & CHAR(10) &C187,'Tableau final'!Z:Z,1,FALSE)),0,1)","v":0},{"$f":"IF('Tableau final'!$A$1<>\"\",IF('Tableau final'!$B$5=\"Qualifiés\",IF(ISERROR(VLOOKUP(A187 & CHAR(10) &C187,'Tableau final'!C:F,1,FALSE)),\"\",IF(AND(VLOOKUP(A187 & CHAR(10) &C187,'Tableau final'!C:F,3,FALSE)<>\"\",VLOOKUP(A187 & CHAR(10) &C187,'Tableau final'!C:F,4,FALSE)=\"x\"),1,\"\")),IF('Tableau final'!$G$5=\"Qualifiés\",IF(ISERROR(VLOOKUP(A187 & CHAR(10) &C187,'Tableau final'!H:K,1,FALSE)),\"\",IF(AND(VLOOKUP(A187 & CHAR(10) &C187,'Tableau final'!H:K,3,FALSE)<>\"\",VLOOKUP(A187 & CHAR(10) &C187,'Tableau final'!H:K,4,FALSE)=\"x\"),1,\"\")),IF('Tableau final'!$L$5=\"Qualifiés\",IF(ISERROR(VLOOKUP(A187 & CHAR(10) &C187,'Tableau final'!M:P,1,FALSE)),\"\",IF(AND(VLOOKUP(A187 & CHAR(10) &C187,'Tableau final'!M:P,3,FALSE)<>\"\",VLOOKUP(A187 & CHAR(10) &C187,'Tableau final'!M:P,4,FALSE)=\"x\"),1,\"\")),\"\"))),\"\")","v":""},"0",{"$f":"IF(ISERROR(VLOOKUP(AI187,Tirage!A:J,1,FALSE)),\"\",IF(VLOOKUP(AI187,Tirage!A:J,1,FALSE)=\"Office \",3,4))","v":""},{"$f":"IF(AJ187=\"0\",4,IF(AJ187=1,3,IF(AJ187=2,IF(OFFSET('Fiche score'!$A$2,VLOOKUP(RIGHT(AI187,2),Feuil1!A:C,2,FALSE),VLOOKUP(RIGHT(AI187,2),Feuil1!A:C,3,FALSE))=A187 & CHAR(10) & C187,1,2),\"\")))","v":""}]
[null,null,null,null,null,null,null,null,null,null,null,null,null,null,null,null,null,null,null,null,null,null,null,null,null,null,null,null,null,null,null,null,null,"",null,{"$f":"IF(AI188=\"\",\"\",IF(OFFSET('Fiche score'!$A$2,VLOOKUP(RIGHT(AI188,2),Feuil1!A:C,2,FALSE),VLOOKUP(RIGHT(AI188,2),Feuil1!A:C,3,FALSE))=A188 & CHAR(10) & C188,2,IF(OFFSET('Fiche score'!$A$2,VLOOKUP(RIGHT(AI188,2),Feuil1!A:C,2,FALSE)+1,VLOOKUP(RIGHT(AI188,2),Feuil1!A:C,3,FALSE))=A188 & CHAR(10) & C188,2,IF(OFFSET('Fiche score'!$A$2,VLOOKUP(RIGHT(AI188,2),Feuil1!A:C,2,FALSE)-1,VLOOKUP(RIGHT(AI188,2),Feuil1!A:C,3,FALSE))=A188 & CHAR(10) & C188,1,IF(OFFSET('Fiche score'!$A$2,VLOOKUP(RIGHT(AI188,2),Feuil1!A:C,2,FALSE)-2,VLOOKUP(RIGHT(AI188,2),Feuil1!A:C,3,FALSE))=A188 & CHAR(10) & C188,1,\"0\")))))","v":""},{"$f":"IF(ISERROR(VLOOKUP(A188 & CHAR(10) &C188,'Fiche tirage dirigé'!I:I,1,FALSE)),0,1)","v":0},{"$f":"IF(ISERROR(VLOOKUP(A188& CHAR(10) &C188,Cadrage!H:H,1,FALSE)),0,1)","v":0},{"$f":"IF(ISERROR(VLOOKUP(A188 & CHAR(10) &C188,'Tableau final'!V:V,1,FALSE)),0,1)","v":0},{"$f":"IF(ISERROR(VLOOKUP(A188 & CHAR(10) &C188,'Tableau final'!W:W,1,FALSE)),0,1)","v":0},{"$f":"IF(ISERROR(VLOOKUP(A188 & CHAR(10) &C188,'Tableau final'!X:X,1,FALSE)),0,1)","v":0},{"$f":"IF(ISERROR(VLOOKUP(A188 & CHAR(10) &C188,'Tableau final'!Y:Y,1,FALSE)),0,1)","v":0},{"$f":"IF(ISERROR(VLOOKUP(A188 & CHAR(10) &C188,'Tableau final'!Z:Z,1,FALSE)),0,1)","v":0},{"$f":"IF('Tableau final'!$A$1<>\"\",IF('Tableau final'!$B$5=\"Qualifiés\",IF(ISERROR(VLOOKUP(A188 & CHAR(10) &C188,'Tableau final'!C:F,1,FALSE)),\"\",IF(AND(VLOOKUP(A188 & CHAR(10) &C188,'Tableau final'!C:F,3,FALSE)<>\"\",VLOOKUP(A188 & CHAR(10) &C188,'Tableau final'!C:F,4,FALSE)=\"x\"),1,\"\")),IF('Tableau final'!$G$5=\"Qualifiés\",IF(ISERROR(VLOOKUP(A188 & CHAR(10) &C188,'Tableau final'!H:K,1,FALSE)),\"\",IF(AND(VLOOKUP(A188 & CHAR(10) &C188,'Tableau final'!H:K,3,FALSE)<>\"\",VLOOKUP(A188 & CHAR(10) &C188,'Tableau final'!H:K,4,FALSE)=\"x\"),1,\"\")),IF('Tableau final'!$L$5=\"Qualifiés\",IF(ISERROR(VLOOKUP(A188 & CHAR(10) &C188,'Tableau final'!M:P,1,FALSE)),\"\",IF(AND(VLOOKUP(A188 & CHAR(10) &C188,'Tableau final'!M:P,3,FALSE)<>\"\",VLOOKUP(A188 & CHAR(10) &C188,'Tableau final'!M:P,4,FALSE)=\"x\"),1,\"\")),\"\"))),\"\")","v":""},"0",{"$f":"IF(ISERROR(VLOOKUP(AI188,Tirage!A:J,1,FALSE)),\"\",IF(VLOOKUP(AI188,Tirage!A:J,1,FALSE)=\"Office \",3,4))","v":""},{"$f":"IF(AJ188=\"0\",4,IF(AJ188=1,3,IF(AJ188=2,IF(OFFSET('Fiche score'!$A$2,VLOOKUP(RIGHT(AI188,2),Feuil1!A:C,2,FALSE),VLOOKUP(RIGHT(AI188,2),Feuil1!A:C,3,FALSE))=A188 & CHAR(10) & C188,1,2),\"\")))","v":""}]
[null,null,null,null,null,null,null,null,null,null,null,null,null,null,null,null,null,null,null,null,null,null,null,null,null,null,null,null,null,null,null,null,null,"",null,{"$f":"IF(AI189=\"\",\"\",IF(OFFSET('Fiche score'!$A$2,VLOOKUP(RIGHT(AI189,2),Feuil1!A:C,2,FALSE),VLOOKUP(RIGHT(AI189,2),Feuil1!A:C,3,FALSE))=A189 & CHAR(10) & C189,2,IF(OFFSET('Fiche score'!$A$2,VLOOKUP(RIGHT(AI189,2),Feuil1!A:C,2,FALSE)+1,VLOOKUP(RIGHT(AI189,2),Feuil1!A:C,3,FALSE))=A189 & CHAR(10) & C189,2,IF(OFFSET('Fiche score'!$A$2,VLOOKUP(RIGHT(AI189,2),Feuil1!A:C,2,FALSE)-1,VLOOKUP(RIGHT(AI189,2),Feuil1!A:C,3,FALSE))=A189 & CHAR(10) & C189,1,IF(OFFSET('Fiche score'!$A$2,VLOOKUP(RIGHT(AI189,2),Feuil1!A:C,2,FALSE)-2,VLOOKUP(RIGHT(AI189,2),Feuil1!A:C,3,FALSE))=A189 & CHAR(10) & C189,1,\"0\")))))","v":""},{"$f":"IF(ISERROR(VLOOKUP(A189 & CHAR(10) &C189,'Fiche tirage dirigé'!I:I,1,FALSE)),0,1)","v":0},{"$f":"IF(ISERROR(VLOOKUP(A189& CHAR(10) &C189,Cadrage!H:H,1,FALSE)),0,1)","v":0},{"$f":"IF(ISERROR(VLOOKUP(A189 & CHAR(10) &C189,'Tableau final'!V:V,1,FALSE)),0,1)","v":0},{"$f":"IF(ISERROR(VLOOKUP(A189 & CHAR(10) &C189,'Tableau final'!W:W,1,FALSE)),0,1)","v":0},{"$f":"IF(ISERROR(VLOOKUP(A189 & CHAR(10) &C189,'Tableau final'!X:X,1,FALSE)),0,1)","v":0},{"$f":"IF(ISERROR(VLOOKUP(A189 & CHAR(10) &C189,'Tableau final'!Y:Y,1,FALSE)),0,1)","v":0},{"$f":"IF(ISERROR(VLOOKUP(A189 & CHAR(10) &C189,'Tableau final'!Z:Z,1,FALSE)),0,1)","v":0},{"$f":"IF('Tableau final'!$A$1<>\"\",IF('Tableau final'!$B$5=\"Qualifiés\",IF(ISERROR(VLOOKUP(A189 & CHAR(10) &C189,'Tableau final'!C:F,1,FALSE)),\"\",IF(AND(VLOOKUP(A189 & CHAR(10) &C189,'Tableau final'!C:F,3,FALSE)<>\"\",VLOOKUP(A189 & CHAR(10) &C189,'Tableau final'!C:F,4,FALSE)=\"x\"),1,\"\")),IF('Tableau final'!$G$5=\"Qualifiés\",IF(ISERROR(VLOOKUP(A189 & CHAR(10) &C189,'Tableau final'!H:K,1,FALSE)),\"\",IF(AND(VLOOKUP(A189 & CHAR(10) &C189,'Tableau final'!H:K,3,FALSE)<>\"\",VLOOKUP(A189 & CHAR(10) &C189,'Tableau final'!H:K,4,FALSE)=\"x\"),1,\"\")),IF('Tableau final'!$L$5=\"Qualifiés\",IF(ISERROR(VLOOKUP(A189 & CHAR(10) &C189,'Tableau final'!M:P,1,FALSE)),\"\",IF(AND(VLOOKUP(A189 & CHAR(10) &C189,'Tableau final'!M:P,3,FALSE)<>\"\",VLOOKUP(A189 & CHAR(10) &C189,'Tableau final'!M:P,4,FALSE)=\"x\"),1,\"\")),\"\"))),\"\")","v":""},"0",{"$f":"IF(ISERROR(VLOOKUP(AI189,Tirage!A:J,1,FALSE)),\"\",IF(VLOOKUP(AI189,Tirage!A:J,1,FALSE)=\"Office \",3,4))","v":""},{"$f":"IF(AJ189=\"0\",4,IF(AJ189=1,3,IF(AJ189=2,IF(OFFSET('Fiche score'!$A$2,VLOOKUP(RIGHT(AI189,2),Feuil1!A:C,2,FALSE),VLOOKUP(RIGHT(AI189,2),Feuil1!A:C,3,FALSE))=A189 & CHAR(10) & C189,1,2),\"\")))","v":""}]
[null,null,null,null,null,null,null,null,null,null,null,null,null,null,null,null,null,null,null,null,null,null,null,null,null,null,null,null,null,null,null,null,null,"",null,{"$f":"IF(AI190=\"\",\"\",IF(OFFSET('Fiche score'!$A$2,VLOOKUP(RIGHT(AI190,2),Feuil1!A:C,2,FALSE),VLOOKUP(RIGHT(AI190,2),Feuil1!A:C,3,FALSE))=A190 & CHAR(10) & C190,2,IF(OFFSET('Fiche score'!$A$2,VLOOKUP(RIGHT(AI190,2),Feuil1!A:C,2,FALSE)+1,VLOOKUP(RIGHT(AI190,2),Feuil1!A:C,3,FALSE))=A190 & CHAR(10) & C190,2,IF(OFFSET('Fiche score'!$A$2,VLOOKUP(RIGHT(AI190,2),Feuil1!A:C,2,FALSE)-1,VLOOKUP(RIGHT(AI190,2),Feuil1!A:C,3,FALSE))=A190 & CHAR(10) & C190,1,IF(OFFSET('Fiche score'!$A$2,VLOOKUP(RIGHT(AI190,2),Feuil1!A:C,2,FALSE)-2,VLOOKUP(RIGHT(AI190,2),Feuil1!A:C,3,FALSE))=A190 & CHAR(10) & C190,1,\"0\")))))","v":""},{"$f":"IF(ISERROR(VLOOKUP(A190 & CHAR(10) &C190,'Fiche tirage dirigé'!I:I,1,FALSE)),0,1)","v":0},{"$f":"IF(ISERROR(VLOOKUP(A190& CHAR(10) &C190,Cadrage!H:H,1,FALSE)),0,1)","v":0},{"$f":"IF(ISERROR(VLOOKUP(A190 & CHAR(10) &C190,'Tableau final'!V:V,1,FALSE)),0,1)","v":0},{"$f":"IF(ISERROR(VLOOKUP(A190 & CHAR(10) &C190,'Tableau final'!W:W,1,FALSE)),0,1)","v":0},{"$f":"IF(ISERROR(VLOOKUP(A190 & CHAR(10) &C190,'Tableau final'!X:X,1,FALSE)),0,1)","v":0},{"$f":"IF(ISERROR(VLOOKUP(A190 & CHAR(10) &C190,'Tableau final'!Y:Y,1,FALSE)),0,1)","v":0},{"$f":"IF(ISERROR(VLOOKUP(A190 & CHAR(10) &C190,'Tableau final'!Z:Z,1,FALSE)),0,1)","v":0},{"$f":"IF('Tableau final'!$A$1<>\"\",IF('Tableau final'!$B$5=\"Qualifiés\",IF(ISERROR(VLOOKUP(A190 & CHAR(10) &C190,'Tableau final'!C:F,1,FALSE)),\"\",IF(AND(VLOOKUP(A190 & CHAR(10) &C190,'Tableau final'!C:F,3,FALSE)<>\"\",VLOOKUP(A190 & CHAR(10) &C190,'Tableau final'!C:F,4,FALSE)=\"x\"),1,\"\")),IF('Tableau final'!$G$5=\"Qualifiés\",IF(ISERROR(VLOOKUP(A190 & CHAR(10) &C190,'Tableau final'!H:K,1,FALSE)),\"\",IF(AND(VLOOKUP(A190 & CHAR(10) &C190,'Tableau final'!H:K,3,FALSE)<>\"\",VLOOKUP(A190 & CHAR(10) &C190,'Tableau final'!H:K,4,FALSE)=\"x\"),1,\"\")),IF('Tableau final'!$L$5=\"Qualifiés\",IF(ISERROR(VLOOKUP(A190 & CHAR(10) &C190,'Tableau final'!M:P,1,FALSE)),\"\",IF(AND(VLOOKUP(A190 & CHAR(10) &C190,'Tableau final'!M:P,3,FALSE)<>\"\",VLOOKUP(A190 & CHAR(10) &C190,'Tableau final'!M:P,4,FALSE)=\"x\"),1,\"\")),\"\"))),\"\")","v":""},"0",{"$f":"IF(ISERROR(VLOOKUP(AI190,Tirage!A:J,1,FALSE)),\"\",IF(VLOOKUP(AI190,Tirage!A:J,1,FALSE)=\"Office \",3,4))","v":""},{"$f":"IF(AJ190=\"0\",4,IF(AJ190=1,3,IF(AJ190=2,IF(OFFSET('Fiche score'!$A$2,VLOOKUP(RIGHT(AI190,2),Feuil1!A:C,2,FALSE),VLOOKUP(RIGHT(AI190,2),Feuil1!A:C,3,FALSE))=A190 & CHAR(10) & C190,1,2),\"\")))","v":""}]
[null,null,null,null,null,null,null,null,null,null,null,null,null,null,null,null,null,null,null,null,null,null,null,null,null,null,null,null,null,null,null,null,null,"",null,{"$f":"IF(AI191=\"\",\"\",IF(OFFSET('Fiche score'!$A$2,VLOOKUP(RIGHT(AI191,2),Feuil1!A:C,2,FALSE),VLOOKUP(RIGHT(AI191,2),Feuil1!A:C,3,FALSE))=A191 & CHAR(10) & C191,2,IF(OFFSET('Fiche score'!$A$2,VLOOKUP(RIGHT(AI191,2),Feuil1!A:C,2,FALSE)+1,VLOOKUP(RIGHT(AI191,2),Feuil1!A:C,3,FALSE))=A191 & CHAR(10) & C191,2,IF(OFFSET('Fiche score'!$A$2,VLOOKUP(RIGHT(AI191,2),Feuil1!A:C,2,FALSE)-1,VLOOKUP(RIGHT(AI191,2),Feuil1!A:C,3,FALSE))=A191 & CHAR(10) & C191,1,IF(OFFSET('Fiche score'!$A$2,VLOOKUP(RIGHT(AI191,2),Feuil1!A:C,2,FALSE)-2,VLOOKUP(RIGHT(AI191,2),Feuil1!A:C,3,FALSE))=A191 & CHAR(10) & C191,1,\"0\")))))","v":""},{"$f":"IF(ISERROR(VLOOKUP(A191 & CHAR(10) &C191,'Fiche tirage dirigé'!I:I,1,FALSE)),0,1)","v":0},{"$f":"IF(ISERROR(VLOOKUP(A191& CHAR(10) &C191,Cadrage!H:H,1,FALSE)),0,1)","v":0},{"$f":"IF(ISERROR(VLOOKUP(A191 & CHAR(10) &C191,'Tableau final'!V:V,1,FALSE)),0,1)","v":0},{"$f":"IF(ISERROR(VLOOKUP(A191 & CHAR(10) &C191,'Tableau final'!W:W,1,FALSE)),0,1)","v":0},{"$f":"IF(ISERROR(VLOOKUP(A191 & CHAR(10) &C191,'Tableau final'!X:X,1,FALSE)),0,1)","v":0},{"$f":"IF(ISERROR(VLOOKUP(A191 & CHAR(10) &C191,'Tableau final'!Y:Y,1,FALSE)),0,1)","v":0},{"$f":"IF(ISERROR(VLOOKUP(A191 & CHAR(10) &C191,'Tableau final'!Z:Z,1,FALSE)),0,1)","v":0},{"$f":"IF('Tableau final'!$A$1<>\"\",IF('Tableau final'!$B$5=\"Qualifiés\",IF(ISERROR(VLOOKUP(A191 & CHAR(10) &C191,'Tableau final'!C:F,1,FALSE)),\"\",IF(AND(VLOOKUP(A191 & CHAR(10) &C191,'Tableau final'!C:F,3,FALSE)<>\"\",VLOOKUP(A191 & CHAR(10) &C191,'Tableau final'!C:F,4,FALSE)=\"x\"),1,\"\")),IF('Tableau final'!$G$5=\"Qualifiés\",IF(ISERROR(VLOOKUP(A191 & CHAR(10) &C191,'Tableau final'!H:K,1,FALSE)),\"\",IF(AND(VLOOKUP(A191 & CHAR(10) &C191,'Tableau final'!H:K,3,FALSE)<>\"\",VLOOKUP(A191 & CHAR(10) &C191,'Tableau final'!H:K,4,FALSE)=\"x\"),1,\"\")),IF('Tableau final'!$L$5=\"Qualifiés\",IF(ISERROR(VLOOKUP(A191 & CHAR(10) &C191,'Tableau final'!M:P,1,FALSE)),\"\",IF(AND(VLOOKUP(A191 & CHAR(10) &C191,'Tableau final'!M:P,3,FALSE)<>\"\",VLOOKUP(A191 & CHAR(10) &C191,'Tableau final'!M:P,4,FALSE)=\"x\"),1,\"\")),\"\"))),\"\")","v":""},"0",{"$f":"IF(ISERROR(VLOOKUP(AI191,Tirage!A:J,1,FALSE)),\"\",IF(VLOOKUP(AI191,Tirage!A:J,1,FALSE)=\"Office \",3,4))","v":""},{"$f":"IF(AJ191=\"0\",4,IF(AJ191=1,3,IF(AJ191=2,IF(OFFSET('Fiche score'!$A$2,VLOOKUP(RIGHT(AI191,2),Feuil1!A:C,2,FALSE),VLOOKUP(RIGHT(AI191,2),Feuil1!A:C,3,FALSE))=A191 & CHAR(10) & C191,1,2),\"\")))","v":""}]
[null,null,null,null,null,null,null,null,null,null,null,null,null,null,null,null,null,null,null,null,null,null,null,null,null,null,null,null,null,null,null,null,null,"",null,{"$f":"IF(AI192=\"\",\"\",IF(OFFSET('Fiche score'!$A$2,VLOOKUP(RIGHT(AI192,2),Feuil1!A:C,2,FALSE),VLOOKUP(RIGHT(AI192,2),Feuil1!A:C,3,FALSE))=A192 & CHAR(10) & C192,2,IF(OFFSET('Fiche score'!$A$2,VLOOKUP(RIGHT(AI192,2),Feuil1!A:C,2,FALSE)+1,VLOOKUP(RIGHT(AI192,2),Feuil1!A:C,3,FALSE))=A192 & CHAR(10) & C192,2,IF(OFFSET('Fiche score'!$A$2,VLOOKUP(RIGHT(AI192,2),Feuil1!A:C,2,FALSE)-1,VLOOKUP(RIGHT(AI192,2),Feuil1!A:C,3,FALSE))=A192 & CHAR(10) & C192,1,IF(OFFSET('Fiche score'!$A$2,VLOOKUP(RIGHT(AI192,2),Feuil1!A:C,2,FALSE)-2,VLOOKUP(RIGHT(AI192,2),Feuil1!A:C,3,FALSE))=A192 & CHAR(10) & C192,1,\"0\")))))","v":""},{"$f":"IF(ISERROR(VLOOKUP(A192 & CHAR(10) &C192,'Fiche tirage dirigé'!I:I,1,FALSE)),0,1)","v":0},{"$f":"IF(ISERROR(VLOOKUP(A192& CHAR(10) &C192,Cadrage!H:H,1,FALSE)),0,1)","v":0},{"$f":"IF(ISERROR(VLOOKUP(A192 & CHAR(10) &C192,'Tableau final'!V:V,1,FALSE)),0,1)","v":0},{"$f":"IF(ISERROR(VLOOKUP(A192 & CHAR(10) &C192,'Tableau final'!W:W,1,FALSE)),0,1)","v":0},{"$f":"IF(ISERROR(VLOOKUP(A192 & CHAR(10) &C192,'Tableau final'!X:X,1,FALSE)),0,1)","v":0},{"$f":"IF(ISERROR(VLOOKUP(A192 & CHAR(10) &C192,'Tableau final'!Y:Y,1,FALSE)),0,1)","v":0},{"$f":"IF(ISERROR(VLOOKUP(A192 & CHAR(10) &C192,'Tableau final'!Z:Z,1,FALSE)),0,1)","v":0},{"$f":"IF('Tableau final'!$A$1<>\"\",IF('Tableau final'!$B$5=\"Qualifiés\",IF(ISERROR(VLOOKUP(A192 & CHAR(10) &C192,'Tableau final'!C:F,1,FALSE)),\"\",IF(AND(VLOOKUP(A192 & CHAR(10) &C192,'Tableau final'!C:F,3,FALSE)<>\"\",VLOOKUP(A192 & CHAR(10) &C192,'Tableau final'!C:F,4,FALSE)=\"x\"),1,\"\")),IF('Tableau final'!$G$5=\"Qualifiés\",IF(ISERROR(VLOOKUP(A192 & CHAR(10) &C192,'Tableau final'!H:K,1,FALSE)),\"\",IF(AND(VLOOKUP(A192 & CHAR(10) &C192,'Tableau final'!H:K,3,FALSE)<>\"\",VLOOKUP(A192 & CHAR(10) &C192,'Tableau final'!H:K,4,FALSE)=\"x\"),1,\"\")),IF('Tableau final'!$L$5=\"Qualifiés\",IF(ISERROR(VLOOKUP(A192 & CHAR(10) &C192,'Tableau final'!M:P,1,FALSE)),\"\",IF(AND(VLOOKUP(A192 & CHAR(10) &C192,'Tableau final'!M:P,3,FALSE)<>\"\",VLOOKUP(A192 & CHAR(10) &C192,'Tableau final'!M:P,4,FALSE)=\"x\"),1,\"\")),\"\"))),\"\")","v":""},"0",{"$f":"IF(ISERROR(VLOOKUP(AI192,Tirage!A:J,1,FALSE)),\"\",IF(VLOOKUP(AI192,Tirage!A:J,1,FALSE)=\"Office \",3,4))","v":""},{"$f":"IF(AJ192=\"0\",4,IF(AJ192=1,3,IF(AJ192=2,IF(OFFSET('Fiche score'!$A$2,VLOOKUP(RIGHT(AI192,2),Feuil1!A:C,2,FALSE),VLOOKUP(RIGHT(AI192,2),Feuil1!A:C,3,FALSE))=A192 & CHAR(10) & C192,1,2),\"\")))","v":""}]
[null,null,null,null,null,null,null,null,null,null,null,null,null,null,null,null,null,null,null,null,null,null,null,null,null,null,null,null,null,null,null,null,null,"",null,{"$f":"IF(AI193=\"\",\"\",IF(OFFSET('Fiche score'!$A$2,VLOOKUP(RIGHT(AI193,2),Feuil1!A:C,2,FALSE),VLOOKUP(RIGHT(AI193,2),Feuil1!A:C,3,FALSE))=A193 & CHAR(10) & C193,2,IF(OFFSET('Fiche score'!$A$2,VLOOKUP(RIGHT(AI193,2),Feuil1!A:C,2,FALSE)+1,VLOOKUP(RIGHT(AI193,2),Feuil1!A:C,3,FALSE))=A193 & CHAR(10) & C193,2,IF(OFFSET('Fiche score'!$A$2,VLOOKUP(RIGHT(AI193,2),Feuil1!A:C,2,FALSE)-1,VLOOKUP(RIGHT(AI193,2),Feuil1!A:C,3,FALSE))=A193 & CHAR(10) & C193,1,IF(OFFSET('Fiche score'!$A$2,VLOOKUP(RIGHT(AI193,2),Feuil1!A:C,2,FALSE)-2,VLOOKUP(RIGHT(AI193,2),Feuil1!A:C,3,FALSE))=A193 & CHAR(10) & C193,1,\"0\")))))","v":""},{"$f":"IF(ISERROR(VLOOKUP(A193 & CHAR(10) &C193,'Fiche tirage dirigé'!I:I,1,FALSE)),0,1)","v":0},{"$f":"IF(ISERROR(VLOOKUP(A193& CHAR(10) &C193,Cadrage!H:H,1,FALSE)),0,1)","v":0},{"$f":"IF(ISERROR(VLOOKUP(A193 & CHAR(10) &C193,'Tableau final'!V:V,1,FALSE)),0,1)","v":0},{"$f":"IF(ISERROR(VLOOKUP(A193 & CHAR(10) &C193,'Tableau final'!W:W,1,FALSE)),0,1)","v":0},{"$f":"IF(ISERROR(VLOOKUP(A193 & CHAR(10) &C193,'Tableau final'!X:X,1,FALSE)),0,1)","v":0},{"$f":"IF(ISERROR(VLOOKUP(A193 & CHAR(10) &C193,'Tableau final'!Y:Y,1,FALSE)),0,1)","v":0},{"$f":"IF(ISERROR(VLOOKUP(A193 & CHAR(10) &C193,'Tableau final'!Z:Z,1,FALSE)),0,1)","v":0},{"$f":"IF('Tableau final'!$A$1<>\"\",IF('Tableau final'!$B$5=\"Qualifiés\",IF(ISERROR(VLOOKUP(A193 & CHAR(10) &C193,'Tableau final'!C:F,1,FALSE)),\"\",IF(AND(VLOOKUP(A193 & CHAR(10) &C193,'Tableau final'!C:F,3,FALSE)<>\"\",VLOOKUP(A193 & CHAR(10) &C193,'Tableau final'!C:F,4,FALSE)=\"x\"),1,\"\")),IF('Tableau final'!$G$5=\"Qualifiés\",IF(ISERROR(VLOOKUP(A193 & CHAR(10) &C193,'Tableau final'!H:K,1,FALSE)),\"\",IF(AND(VLOOKUP(A193 & CHAR(10) &C193,'Tableau final'!H:K,3,FALSE)<>\"\",VLOOKUP(A193 & CHAR(10) &C193,'Tableau final'!H:K,4,FALSE)=\"x\"),1,\"\")),IF('Tableau final'!$L$5=\"Qualifiés\",IF(ISERROR(VLOOKUP(A193 & CHAR(10) &C193,'Tableau final'!M:P,1,FALSE)),\"\",IF(AND(VLOOKUP(A193 & CHAR(10) &C193,'Tableau final'!M:P,3,FALSE)<>\"\",VLOOKUP(A193 & CHAR(10) &C193,'Tableau final'!M:P,4,FALSE)=\"x\"),1,\"\")),\"\"))),\"\")","v":""},"0",{"$f":"IF(ISERROR(VLOOKUP(AI193,Tirage!A:J,1,FALSE)),\"\",IF(VLOOKUP(AI193,Tirage!A:J,1,FALSE)=\"Office \",3,4))","v":""},{"$f":"IF(AJ193=\"0\",4,IF(AJ193=1,3,IF(AJ193=2,IF(OFFSET('Fiche score'!$A$2,VLOOKUP(RIGHT(AI193,2),Feuil1!A:C,2,FALSE),VLOOKUP(RIGHT(AI193,2),Feuil1!A:C,3,FALSE))=A193 & CHAR(10) & C193,1,2),\"\")))","v":""}]
[null,null,null,null,null,null,null,null,null,null,null,null,null,null,null,null,null,null,null,null,null,null,null,null,null,null,null,null,null,null,null,null,null,"",null,{"$f":"IF(AI194=\"\",\"\",IF(OFFSET('Fiche score'!$A$2,VLOOKUP(RIGHT(AI194,2),Feuil1!A:C,2,FALSE),VLOOKUP(RIGHT(AI194,2),Feuil1!A:C,3,FALSE))=A194 & CHAR(10) & C194,2,IF(OFFSET('Fiche score'!$A$2,VLOOKUP(RIGHT(AI194,2),Feuil1!A:C,2,FALSE)+1,VLOOKUP(RIGHT(AI194,2),Feuil1!A:C,3,FALSE))=A194 & CHAR(10) & C194,2,IF(OFFSET('Fiche score'!$A$2,VLOOKUP(RIGHT(AI194,2),Feuil1!A:C,2,FALSE)-1,VLOOKUP(RIGHT(AI194,2),Feuil1!A:C,3,FALSE))=A194 & CHAR(10) & C194,1,IF(OFFSET('Fiche score'!$A$2,VLOOKUP(RIGHT(AI194,2),Feuil1!A:C,2,FALSE)-2,VLOOKUP(RIGHT(AI194,2),Feuil1!A:C,3,FALSE))=A194 & CHAR(10) & C194,1,\"0\")))))","v":""},{"$f":"IF(ISERROR(VLOOKUP(A194 & CHAR(10) &C194,'Fiche tirage dirigé'!I:I,1,FALSE)),0,1)","v":0},{"$f":"IF(ISERROR(VLOOKUP(A194& CHAR(10) &C194,Cadrage!H:H,1,FALSE)),0,1)","v":0},{"$f":"IF(ISERROR(VLOOKUP(A194 & CHAR(10) &C194,'Tableau final'!V:V,1,FALSE)),0,1)","v":0},{"$f":"IF(ISERROR(VLOOKUP(A194 & CHAR(10) &C194,'Tableau final'!W:W,1,FALSE)),0,1)","v":0},{"$f":"IF(ISERROR(VLOOKUP(A194 & CHAR(10) &C194,'Tableau final'!X:X,1,FALSE)),0,1)","v":0},{"$f":"IF(ISERROR(VLOOKUP(A194 & CHAR(10) &C194,'Tableau final'!Y:Y,1,FALSE)),0,1)","v":0},{"$f":"IF(ISERROR(VLOOKUP(A194 & CHAR(10) &C194,'Tableau final'!Z:Z,1,FALSE)),0,1)","v":0},{"$f":"IF('Tableau final'!$A$1<>\"\",IF('Tableau final'!$B$5=\"Qualifiés\",IF(ISERROR(VLOOKUP(A194 & CHAR(10) &C194,'Tableau final'!C:F,1,FALSE)),\"\",IF(AND(VLOOKUP(A194 & CHAR(10) &C194,'Tableau final'!C:F,3,FALSE)<>\"\",VLOOKUP(A194 & CHAR(10) &C194,'Tableau final'!C:F,4,FALSE)=\"x\"),1,\"\")),IF('Tableau final'!$G$5=\"Qualifiés\",IF(ISERROR(VLOOKUP(A194 & CHAR(10) &C194,'Tableau final'!H:K,1,FALSE)),\"\",IF(AND(VLOOKUP(A194 & CHAR(10) &C194,'Tableau final'!H:K,3,FALSE)<>\"\",VLOOKUP(A194 & CHAR(10) &C194,'Tableau final'!H:K,4,FALSE)=\"x\"),1,\"\")),IF('Tableau final'!$L$5=\"Qualifiés\",IF(ISERROR(VLOOKUP(A194 & CHAR(10) &C194,'Tableau final'!M:P,1,FALSE)),\"\",IF(AND(VLOOKUP(A194 & CHAR(10) &C194,'Tableau final'!M:P,3,FALSE)<>\"\",VLOOKUP(A194 & CHAR(10) &C194,'Tableau final'!M:P,4,FALSE)=\"x\"),1,\"\")),\"\"))),\"\")","v":""},"0",{"$f":"IF(ISERROR(VLOOKUP(AI194,Tirage!A:J,1,FALSE)),\"\",IF(VLOOKUP(AI194,Tirage!A:J,1,FALSE)=\"Office \",3,4))","v":""},{"$f":"IF(AJ194=\"0\",4,IF(AJ194=1,3,IF(AJ194=2,IF(OFFSET('Fiche score'!$A$2,VLOOKUP(RIGHT(AI194,2),Feuil1!A:C,2,FALSE),VLOOKUP(RIGHT(AI194,2),Feuil1!A:C,3,FALSE))=A194 & CHAR(10) & C194,1,2),\"\")))","v":""}]
[null,null,null,null,null,null,null,null,null,null,null,null,null,null,null,null,null,null,null,null,null,null,null,null,null,null,null,null,null,null,null,null,null,{"$f":"A195&E195&F195","v":""},null,{"$f":"IF(AI195=\"\",\"\",IF(OFFSET('Fiche score'!$A$2,VLOOKUP(RIGHT(AI195,2),Feuil1!A:C,2,FALSE),VLOOKUP(RIGHT(AI195,2),Feuil1!A:C,3,FALSE))=A195 & CHAR(10) & C195,2,IF(OFFSET('Fiche score'!$A$2,VLOOKUP(RIGHT(AI195,2),Feuil1!A:C,2,FALSE)+1,VLOOKUP(RIGHT(AI195,2),Feuil1!A:C,3,FALSE))=A195 & CHAR(10) & C195,2,IF(OFFSET('Fiche score'!$A$2,VLOOKUP(RIGHT(AI195,2),Feuil1!A:C,2,FALSE)-1,VLOOKUP(RIGHT(AI195,2),Feuil1!A:C,3,FALSE))=A195 & CHAR(10) & C195,1,IF(OFFSET('Fiche score'!$A$2,VLOOKUP(RIGHT(AI195,2),Feuil1!A:C,2,FALSE)-2,VLOOKUP(RIGHT(AI195,2),Feuil1!A:C,3,FALSE))=A195 & CHAR(10) & C195,1,\"0\")))))","v":""},{"$f":"IF(ISERROR(VLOOKUP(A195 & CHAR(10) &C195,'Fiche tirage dirigé'!I:I,1,FALSE)),0,1)","v":0},{"$f":"IF(ISERROR(VLOOKUP(A195& CHAR(10) &C195,Cadrage!H:H,1,FALSE)),0,1)","v":0},{"$f":"IF(ISERROR(VLOOKUP(A195 & CHAR(10) &C195,'Tableau final'!V:V,1,FALSE)),0,1)","v":0},{"$f":"IF(ISERROR(VLOOKUP(A195 & CHAR(10) &C195,'Tableau final'!W:W,1,FALSE)),0,1)","v":0},{"$f":"IF(ISERROR(VLOOKUP(A195 & CHAR(10) &C195,'Tableau final'!X:X,1,FALSE)),0,1)","v":0},{"$f":"IF(ISERROR(VLOOKUP(A195 & CHAR(10) &C195,'Tableau final'!Y:Y,1,FALSE)),0,1)","v":0},{"$f":"IF(ISERROR(VLOOKUP(A195 & CHAR(10) &C195,'Tableau final'!Z:Z,1,FALSE)),0,1)","v":0},{"$f":"IF('Tableau final'!$A$1<>\"\",IF('Tableau final'!$B$5=\"Qualifiés\",IF(ISERROR(VLOOKUP(A195 & CHAR(10) &C195,'Tableau final'!C:F,1,FALSE)),\"\",IF(AND(VLOOKUP(A195 & CHAR(10) &C195,'Tableau final'!C:F,3,FALSE)<>\"\",VLOOKUP(A195 & CHAR(10) &C195,'Tableau final'!C:F,4,FALSE)=\"x\"),1,\"\")),IF('Tableau final'!$G$5=\"Qualifiés\",IF(ISERROR(VLOOKUP(A195 & CHAR(10) &C195,'Tableau final'!H:K,1,FALSE)),\"\",IF(AND(VLOOKUP(A195 & CHAR(10) &C195,'Tableau final'!H:K,3,FALSE)<>\"\",VLOOKUP(A195 & CHAR(10) &C195,'Tableau final'!H:K,4,FALSE)=\"x\"),1,\"\")),IF('Tableau final'!$L$5=\"Qualifiés\",IF(ISERROR(VLOOKUP(A195 & CHAR(10) &C195,'Tableau final'!M:P,1,FALSE)),\"\",IF(AND(VLOOKUP(A195 & CHAR(10) &C195,'Tableau final'!M:P,3,FALSE)<>\"\",VLOOKUP(A195 & CHAR(10) &C195,'Tableau final'!M:P,4,FALSE)=\"x\"),1,\"\")),\"\"))),\"\")","v":""},{"$f":"IF(SUM(AK195:AR195)=0,\"0\",SUM(AK195:AR195))","v":"0"},{"$f":"IF(ISERROR(VLOOKUP(AI195,Tirage!A:J,1,FALSE)),\"\",IF(VLOOKUP(AI195,Tirage!A:J,1,FALSE)=\"Office \",3,4))","v":""},{"$f":"IF(AJ195=\"0\",4,IF(AJ195=1,3,IF(AJ195=2,IF(OFFSET('Fiche score'!$A$2,VLOOKUP(RIGHT(AI195,2),Feuil1!A:C,2,FALSE),VLOOKUP(RIGHT(AI195,2),Feuil1!A:C,3,FALSE))=A195 & CHAR(10) & C195,1,2),\"\")))","v":""}]
[null,null,null,null,null,null,null,null,null,null,null,null,null,null,null,null,null,null,null,null,null,null,null,null,null,null,null,null,null,null,null,null,null,"",null,{"$f":"IF(AI196=\"\",\"\",IF(OFFSET('Fiche score'!$A$2,VLOOKUP(RIGHT(AI196,2),Feuil1!A:C,2,FALSE),VLOOKUP(RIGHT(AI196,2),Feuil1!A:C,3,FALSE))=A196 & CHAR(10) & C196,2,IF(OFFSET('Fiche score'!$A$2,VLOOKUP(RIGHT(AI196,2),Feuil1!A:C,2,FALSE)+1,VLOOKUP(RIGHT(AI196,2),Feuil1!A:C,3,FALSE))=A196 & CHAR(10) & C196,2,IF(OFFSET('Fiche score'!$A$2,VLOOKUP(RIGHT(AI196,2),Feuil1!A:C,2,FALSE)-1,VLOOKUP(RIGHT(AI196,2),Feuil1!A:C,3,FALSE))=A196 & CHAR(10) & C196,1,IF(OFFSET('Fiche score'!$A$2,VLOOKUP(RIGHT(AI196,2),Feuil1!A:C,2,FALSE)-2,VLOOKUP(RIGHT(AI196,2),Feuil1!A:C,3,FALSE))=A196 & CHAR(10) & C196,1,\"0\")))))","v":""},{"$f":"IF(ISERROR(VLOOKUP(A196 & CHAR(10) &C196,'Fiche tirage dirigé'!I:I,1,FALSE)),0,1)","v":0},{"$f":"IF(ISERROR(VLOOKUP(A196& CHAR(10) &C196,Cadrage!H:H,1,FALSE)),0,1)","v":0},{"$f":"IF(ISERROR(VLOOKUP(A196 & CHAR(10) &C196,'Tableau final'!V:V,1,FALSE)),0,1)","v":0},{"$f":"IF(ISERROR(VLOOKUP(A196 & CHAR(10) &C196,'Tableau final'!W:W,1,FALSE)),0,1)","v":0},{"$f":"IF(ISERROR(VLOOKUP(A196 & CHAR(10) &C196,'Tableau final'!X:X,1,FALSE)),0,1)","v":0},{"$f":"IF(ISERROR(VLOOKUP(A196 & CHAR(10) &C196,'Tableau final'!Y:Y,1,FALSE)),0,1)","v":0},{"$f":"IF(ISERROR(VLOOKUP(A196 & CHAR(10) &C196,'Tableau final'!Z:Z,1,FALSE)),0,1)","v":0},{"$f":"IF('Tableau final'!$A$1<>\"\",IF('Tableau final'!$B$5=\"Qualifiés\",IF(ISERROR(VLOOKUP(A196 & CHAR(10) &C196,'Tableau final'!C:F,1,FALSE)),\"\",IF(AND(VLOOKUP(A196 & CHAR(10) &C196,'Tableau final'!C:F,3,FALSE)<>\"\",VLOOKUP(A196 & CHAR(10) &C196,'Tableau final'!C:F,4,FALSE)=\"x\"),1,\"\")),IF('Tableau final'!$G$5=\"Qualifiés\",IF(ISERROR(VLOOKUP(A196 & CHAR(10) &C196,'Tableau final'!H:K,1,FALSE)),\"\",IF(AND(VLOOKUP(A196 & CHAR(10) &C196,'Tableau final'!H:K,3,FALSE)<>\"\",VLOOKUP(A196 & CHAR(10) &C196,'Tableau final'!H:K,4,FALSE)=\"x\"),1,\"\")),IF('Tableau final'!$L$5=\"Qualifiés\",IF(ISERROR(VLOOKUP(A196 & CHAR(10) &C196,'Tableau final'!M:P,1,FALSE)),\"\",IF(AND(VLOOKUP(A196 & CHAR(10) &C196,'Tableau final'!M:P,3,FALSE)<>\"\",VLOOKUP(A196 & CHAR(10) &C196,'Tableau final'!M:P,4,FALSE)=\"x\"),1,\"\")),\"\"))),\"\")","v":""},"0",{"$f":"IF(ISERROR(VLOOKUP(AI196,Tirage!A:J,1,FALSE)),\"\",IF(VLOOKUP(AI196,Tirage!A:J,1,FALSE)=\"Office \",3,4))","v":""},{"$f":"IF(AJ196=\"0\",4,IF(AJ196=1,3,IF(AJ196=2,IF(OFFSET('Fiche score'!$A$2,VLOOKUP(RIGHT(AI196,2),Feuil1!A:C,2,FALSE),VLOOKUP(RIGHT(AI196,2),Feuil1!A:C,3,FALSE))=A196 & CHAR(10) & C196,1,2),\"\")))","v":""}]
[null,null,null,null,null,null,null,null,null,null,null,null,null,null,null,null,null,null,null,null,null,null,null,null,null,null,null,null,null,null,null,null,null,"",null,{"$f":"IF(AI197=\"\",\"\",IF(OFFSET('Fiche score'!$A$2,VLOOKUP(RIGHT(AI197,2),Feuil1!A:C,2,FALSE),VLOOKUP(RIGHT(AI197,2),Feuil1!A:C,3,FALSE))=A197 & CHAR(10) & C197,2,IF(OFFSET('Fiche score'!$A$2,VLOOKUP(RIGHT(AI197,2),Feuil1!A:C,2,FALSE)+1,VLOOKUP(RIGHT(AI197,2),Feuil1!A:C,3,FALSE))=A197 & CHAR(10) & C197,2,IF(OFFSET('Fiche score'!$A$2,VLOOKUP(RIGHT(AI197,2),Feuil1!A:C,2,FALSE)-1,VLOOKUP(RIGHT(AI197,2),Feuil1!A:C,3,FALSE))=A197 & CHAR(10) & C197,1,IF(OFFSET('Fiche score'!$A$2,VLOOKUP(RIGHT(AI197,2),Feuil1!A:C,2,FALSE)-2,VLOOKUP(RIGHT(AI197,2),Feuil1!A:C,3,FALSE))=A197 & CHAR(10) & C197,1,\"0\")))))","v":""},{"$f":"IF(ISERROR(VLOOKUP(A197 & CHAR(10) &C197,'Fiche tirage dirigé'!I:I,1,FALSE)),0,1)","v":0},{"$f":"IF(ISERROR(VLOOKUP(A197& CHAR(10) &C197,Cadrage!H:H,1,FALSE)),0,1)","v":0},{"$f":"IF(ISERROR(VLOOKUP(A197 & CHAR(10) &C197,'Tableau final'!V:V,1,FALSE)),0,1)","v":0},{"$f":"IF(ISERROR(VLOOKUP(A197 & CHAR(10) &C197,'Tableau final'!W:W,1,FALSE)),0,1)","v":0},{"$f":"IF(ISERROR(VLOOKUP(A197 & CHAR(10) &C197,'Tableau final'!X:X,1,FALSE)),0,1)","v":0},{"$f":"IF(ISERROR(VLOOKUP(A197 & CHAR(10) &C197,'Tableau final'!Y:Y,1,FALSE)),0,1)","v":0},{"$f":"IF(ISERROR(VLOOKUP(A197 & CHAR(10) &C197,'Tableau final'!Z:Z,1,FALSE)),0,1)","v":0},{"$f":"IF('Tableau final'!$A$1<>\"\",IF('Tableau final'!$B$5=\"Qualifiés\",IF(ISERROR(VLOOKUP(A197 & CHAR(10) &C197,'Tableau final'!C:F,1,FALSE)),\"\",IF(AND(VLOOKUP(A197 & CHAR(10) &C197,'Tableau final'!C:F,3,FALSE)<>\"\",VLOOKUP(A197 & CHAR(10) &C197,'Tableau final'!C:F,4,FALSE)=\"x\"),1,\"\")),IF('Tableau final'!$G$5=\"Qualifiés\",IF(ISERROR(VLOOKUP(A197 & CHAR(10) &C197,'Tableau final'!H:K,1,FALSE)),\"\",IF(AND(VLOOKUP(A197 & CHAR(10) &C197,'Tableau final'!H:K,3,FALSE)<>\"\",VLOOKUP(A197 & CHAR(10) &C197,'Tableau final'!H:K,4,FALSE)=\"x\"),1,\"\")),IF('Tableau final'!$L$5=\"Qualifiés\",IF(ISERROR(VLOOKUP(A197 & CHAR(10) &C197,'Tableau final'!M:P,1,FALSE)),\"\",IF(AND(VLOOKUP(A197 & CHAR(10) &C197,'Tableau final'!M:P,3,FALSE)<>\"\",VLOOKUP(A197 & CHAR(10) &C197,'Tableau final'!M:P,4,FALSE)=\"x\"),1,\"\")),\"\"))),\"\")","v":""},"0",{"$f":"IF(ISERROR(VLOOKUP(AI197,Tirage!A:J,1,FALSE)),\"\",IF(VLOOKUP(AI197,Tirage!A:J,1,FALSE)=\"Office \",3,4))","v":""},{"$f":"IF(AJ197=\"0\",4,IF(AJ197=1,3,IF(AJ197=2,IF(OFFSET('Fiche score'!$A$2,VLOOKUP(RIGHT(AI197,2),Feuil1!A:C,2,FALSE),VLOOKUP(RIGHT(AI197,2),Feuil1!A:C,3,FALSE))=A197 & CHAR(10) & C197,1,2),\"\")))","v":""}]
[null,null,null,null,null,null,null,null,null,null,null,null,null,null,null,null,null,null,null,null,null,null,null,null,null,null,null,null,null,null,null,null,null,"",null,{"$f":"IF(AI198=\"\",\"\",IF(OFFSET('Fiche score'!$A$2,VLOOKUP(RIGHT(AI198,2),Feuil1!A:C,2,FALSE),VLOOKUP(RIGHT(AI198,2),Feuil1!A:C,3,FALSE))=A198 & CHAR(10) & C198,2,IF(OFFSET('Fiche score'!$A$2,VLOOKUP(RIGHT(AI198,2),Feuil1!A:C,2,FALSE)+1,VLOOKUP(RIGHT(AI198,2),Feuil1!A:C,3,FALSE))=A198 & CHAR(10) & C198,2,IF(OFFSET('Fiche score'!$A$2,VLOOKUP(RIGHT(AI198,2),Feuil1!A:C,2,FALSE)-1,VLOOKUP(RIGHT(AI198,2),Feuil1!A:C,3,FALSE))=A198 & CHAR(10) & C198,1,IF(OFFSET('Fiche score'!$A$2,VLOOKUP(RIGHT(AI198,2),Feuil1!A:C,2,FALSE)-2,VLOOKUP(RIGHT(AI198,2),Feuil1!A:C,3,FALSE))=A198 & CHAR(10) & C198,1,\"0\")))))","v":""},{"$f":"IF(ISERROR(VLOOKUP(A198 & CHAR(10) &C198,'Fiche tirage dirigé'!I:I,1,FALSE)),0,1)","v":0},{"$f":"IF(ISERROR(VLOOKUP(A198& CHAR(10) &C198,Cadrage!H:H,1,FALSE)),0,1)","v":0},{"$f":"IF(ISERROR(VLOOKUP(A198 & CHAR(10) &C198,'Tableau final'!V:V,1,FALSE)),0,1)","v":0},{"$f":"IF(ISERROR(VLOOKUP(A198 & CHAR(10) &C198,'Tableau final'!W:W,1,FALSE)),0,1)","v":0},{"$f":"IF(ISERROR(VLOOKUP(A198 & CHAR(10) &C198,'Tableau final'!X:X,1,FALSE)),0,1)","v":0},{"$f":"IF(ISERROR(VLOOKUP(A198 & CHAR(10) &C198,'Tableau final'!Y:Y,1,FALSE)),0,1)","v":0},{"$f":"IF(ISERROR(VLOOKUP(A198 & CHAR(10) &C198,'Tableau final'!Z:Z,1,FALSE)),0,1)","v":0},{"$f":"IF('Tableau final'!$A$1<>\"\",IF('Tableau final'!$B$5=\"Qualifiés\",IF(ISERROR(VLOOKUP(A198 & CHAR(10) &C198,'Tableau final'!C:F,1,FALSE)),\"\",IF(AND(VLOOKUP(A198 & CHAR(10) &C198,'Tableau final'!C:F,3,FALSE)<>\"\",VLOOKUP(A198 & CHAR(10) &C198,'Tableau final'!C:F,4,FALSE)=\"x\"),1,\"\")),IF('Tableau final'!$G$5=\"Qualifiés\",IF(ISERROR(VLOOKUP(A198 & CHAR(10) &C198,'Tableau final'!H:K,1,FALSE)),\"\",IF(AND(VLOOKUP(A198 & CHAR(10) &C198,'Tableau final'!H:K,3,FALSE)<>\"\",VLOOKUP(A198 & CHAR(10) &C198,'Tableau final'!H:K,4,FALSE)=\"x\"),1,\"\")),IF('Tableau final'!$L$5=\"Qualifiés\",IF(ISERROR(VLOOKUP(A198 & CHAR(10) &C198,'Tableau final'!M:P,1,FALSE)),\"\",IF(AND(VLOOKUP(A198 & CHAR(10) &C198,'Tableau final'!M:P,3,FALSE)<>\"\",VLOOKUP(A198 & CHAR(10) &C198,'Tableau final'!M:P,4,FALSE)=\"x\"),1,\"\")),\"\"))),\"\")","v":""},"0",{"$f":"IF(ISERROR(VLOOKUP(AI198,Tirage!A:J,1,FALSE)),\"\",IF(VLOOKUP(AI198,Tirage!A:J,1,FALSE)=\"Office \",3,4))","v":""},{"$f":"IF(AJ198=\"0\",4,IF(AJ198=1,3,IF(AJ198=2,IF(OFFSET('Fiche score'!$A$2,VLOOKUP(RIGHT(AI198,2),Feuil1!A:C,2,FALSE),VLOOKUP(RIGHT(AI198,2),Feuil1!A:C,3,FALSE))=A198 & CHAR(10) & C198,1,2),\"\")))","v":""}]
[null,null,null,null,null,null,null,null,null,null,null,null,null,null,null,null,null,null,null,null,null,null,null,null,null,null,null,null,null,null,null,null,null,"",null,{"$f":"IF(AI199=\"\",\"\",IF(OFFSET('Fiche score'!$A$2,VLOOKUP(RIGHT(AI199,2),Feuil1!A:C,2,FALSE),VLOOKUP(RIGHT(AI199,2),Feuil1!A:C,3,FALSE))=A199 & CHAR(10) & C199,2,IF(OFFSET('Fiche score'!$A$2,VLOOKUP(RIGHT(AI199,2),Feuil1!A:C,2,FALSE)+1,VLOOKUP(RIGHT(AI199,2),Feuil1!A:C,3,FALSE))=A199 & CHAR(10) & C199,2,IF(OFFSET('Fiche score'!$A$2,VLOOKUP(RIGHT(AI199,2),Feuil1!A:C,2,FALSE)-1,VLOOKUP(RIGHT(AI199,2),Feuil1!A:C,3,FALSE))=A199 & CHAR(10) & C199,1,IF(OFFSET('Fiche score'!$A$2,VLOOKUP(RIGHT(AI199,2),Feuil1!A:C,2,FALSE)-2,VLOOKUP(RIGHT(AI199,2),Feuil1!A:C,3,FALSE))=A199 & CHAR(10) & C199,1,\"0\")))))","v":""},{"$f":"IF(ISERROR(VLOOKUP(A199 & CHAR(10) &C199,'Fiche tirage dirigé'!I:I,1,FALSE)),0,1)","v":0},{"$f":"IF(ISERROR(VLOOKUP(A199& CHAR(10) &C199,Cadrage!H:H,1,FALSE)),0,1)","v":0},{"$f":"IF(ISERROR(VLOOKUP(A199 & CHAR(10) &C199,'Tableau final'!V:V,1,FALSE)),0,1)","v":0},{"$f":"IF(ISERROR(VLOOKUP(A199 & CHAR(10) &C199,'Tableau final'!W:W,1,FALSE)),0,1)","v":0},{"$f":"IF(ISERROR(VLOOKUP(A199 & CHAR(10) &C199,'Tableau final'!X:X,1,FALSE)),0,1)","v":0},{"$f":"IF(ISERROR(VLOOKUP(A199 & CHAR(10) &C199,'Tableau final'!Y:Y,1,FALSE)),0,1)","v":0},{"$f":"IF(ISERROR(VLOOKUP(A199 & CHAR(10) &C199,'Tableau final'!Z:Z,1,FALSE)),0,1)","v":0},{"$f":"IF('Tableau final'!$A$1<>\"\",IF('Tableau final'!$B$5=\"Qualifiés\",IF(ISERROR(VLOOKUP(A199 & CHAR(10) &C199,'Tableau final'!C:F,1,FALSE)),\"\",IF(AND(VLOOKUP(A199 & CHAR(10) &C199,'Tableau final'!C:F,3,FALSE)<>\"\",VLOOKUP(A199 & CHAR(10) &C199,'Tableau final'!C:F,4,FALSE)=\"x\"),1,\"\")),IF('Tableau final'!$G$5=\"Qualifiés\",IF(ISERROR(VLOOKUP(A199 & CHAR(10) &C199,'Tableau final'!H:K,1,FALSE)),\"\",IF(AND(VLOOKUP(A199 & CHAR(10) &C199,'Tableau final'!H:K,3,FALSE)<>\"\",VLOOKUP(A199 & CHAR(10) &C199,'Tableau final'!H:K,4,FALSE)=\"x\"),1,\"\")),IF('Tableau final'!$L$5=\"Qualifiés\",IF(ISERROR(VLOOKUP(A199 & CHAR(10) &C199,'Tableau final'!M:P,1,FALSE)),\"\",IF(AND(VLOOKUP(A199 & CHAR(10) &C199,'Tableau final'!M:P,3,FALSE)<>\"\",VLOOKUP(A199 & CHAR(10) &C199,'Tableau final'!M:P,4,FALSE)=\"x\"),1,\"\")),\"\"))),\"\")","v":""},"0",{"$f":"IF(ISERROR(VLOOKUP(AI199,Tirage!A:J,1,FALSE)),\"\",IF(VLOOKUP(AI199,Tirage!A:J,1,FALSE)=\"Office \",3,4))","v":""},{"$f":"IF(AJ199=\"0\",4,IF(AJ199=1,3,IF(AJ199=2,IF(OFFSET('Fiche score'!$A$2,VLOOKUP(RIGHT(AI199,2),Feuil1!A:C,2,FALSE),VLOOKUP(RIGHT(AI199,2),Feuil1!A:C,3,FALSE))=A199 & CHAR(10) & C199,1,2),\"\")))","v":""}]
[null,null,null,null,null,null,null,null,null,null,null,null,null,null,null,null,null,null,null,null,null,null,null,null,null,null,null,null,null,null,null,null,null,"",null,{"$f":"IF(AI200=\"\",\"\",IF(OFFSET('Fiche score'!$A$2,VLOOKUP(RIGHT(AI200,2),Feuil1!A:C,2,FALSE),VLOOKUP(RIGHT(AI200,2),Feuil1!A:C,3,FALSE))=A200 & CHAR(10) & C200,2,IF(OFFSET('Fiche score'!$A$2,VLOOKUP(RIGHT(AI200,2),Feuil1!A:C,2,FALSE)+1,VLOOKUP(RIGHT(AI200,2),Feuil1!A:C,3,FALSE))=A200 & CHAR(10) & C200,2,IF(OFFSET('Fiche score'!$A$2,VLOOKUP(RIGHT(AI200,2),Feuil1!A:C,2,FALSE)-1,VLOOKUP(RIGHT(AI200,2),Feuil1!A:C,3,FALSE))=A200 & CHAR(10) & C200,1,IF(OFFSET('Fiche score'!$A$2,VLOOKUP(RIGHT(AI200,2),Feuil1!A:C,2,FALSE)-2,VLOOKUP(RIGHT(AI200,2),Feuil1!A:C,3,FALSE))=A200 & CHAR(10) & C200,1,\"0\")))))","v":""},{"$f":"IF(ISERROR(VLOOKUP(A200 & CHAR(10) &C200,'Fiche tirage dirigé'!I:I,1,FALSE)),0,1)","v":0},{"$f":"IF(ISERROR(VLOOKUP(A200& CHAR(10) &C200,Cadrage!H:H,1,FALSE)),0,1)","v":0},{"$f":"IF(ISERROR(VLOOKUP(A200 & CHAR(10) &C200,'Tableau final'!V:V,1,FALSE)),0,1)","v":0},{"$f":"IF(ISERROR(VLOOKUP(A200 & CHAR(10) &C200,'Tableau final'!W:W,1,FALSE)),0,1)","v":0},{"$f":"IF(ISERROR(VLOOKUP(A200 & CHAR(10) &C200,'Tableau final'!X:X,1,FALSE)),0,1)","v":0},{"$f":"IF(ISERROR(VLOOKUP(A200 & CHAR(10) &C200,'Tableau final'!Y:Y,1,FALSE)),0,1)","v":0},{"$f":"IF(ISERROR(VLOOKUP(A200 & CHAR(10) &C200,'Tableau final'!Z:Z,1,FALSE)),0,1)","v":0},{"$f":"IF('Tableau final'!$A$1<>\"\",IF('Tableau final'!$B$5=\"Qualifiés\",IF(ISERROR(VLOOKUP(A200 & CHAR(10) &C200,'Tableau final'!C:F,1,FALSE)),\"\",IF(AND(VLOOKUP(A200 & CHAR(10) &C200,'Tableau final'!C:F,3,FALSE)<>\"\",VLOOKUP(A200 & CHAR(10) &C200,'Tableau final'!C:F,4,FALSE)=\"x\"),1,\"\")),IF('Tableau final'!$G$5=\"Qualifiés\",IF(ISERROR(VLOOKUP(A200 & CHAR(10) &C200,'Tableau final'!H:K,1,FALSE)),\"\",IF(AND(VLOOKUP(A200 & CHAR(10) &C200,'Tableau final'!H:K,3,FALSE)<>\"\",VLOOKUP(A200 & CHAR(10) &C200,'Tableau final'!H:K,4,FALSE)=\"x\"),1,\"\")),IF('Tableau final'!$L$5=\"Qualifiés\",IF(ISERROR(VLOOKUP(A200 & CHAR(10) &C200,'Tableau final'!M:P,1,FALSE)),\"\",IF(AND(VLOOKUP(A200 & CHAR(10) &C200,'Tableau final'!M:P,3,FALSE)<>\"\",VLOOKUP(A200 & CHAR(10) &C200,'Tableau final'!M:P,4,FALSE)=\"x\"),1,\"\")),\"\"))),\"\")","v":""},"0",{"$f":"IF(ISERROR(VLOOKUP(AI200,Tirage!A:J,1,FALSE)),\"\",IF(VLOOKUP(AI200,Tirage!A:J,1,FALSE)=\"Office \",3,4))","v":""},{"$f":"IF(AJ200=\"0\",4,IF(AJ200=1,3,IF(AJ200=2,IF(OFFSET('Fiche score'!$A$2,VLOOKUP(RIGHT(AI200,2),Feuil1!A:C,2,FALSE),VLOOKUP(RIGHT(AI200,2),Feuil1!A:C,3,FALSE))=A200 & CHAR(10) & C200,1,2),\"\")))","v":""}]
[null,null,null,null,null,null,null,null,null,null,null,null,null,null,null,null,null,null,null,null,null,null,null,null,null,null,null,null,null,null,null,null,null,"",null,{"$f":"IF(AI201=\"\",\"\",IF(OFFSET('Fiche score'!$A$2,VLOOKUP(RIGHT(AI201,2),Feuil1!A:C,2,FALSE),VLOOKUP(RIGHT(AI201,2),Feuil1!A:C,3,FALSE))=A201 & CHAR(10) & C201,2,IF(OFFSET('Fiche score'!$A$2,VLOOKUP(RIGHT(AI201,2),Feuil1!A:C,2,FALSE)+1,VLOOKUP(RIGHT(AI201,2),Feuil1!A:C,3,FALSE))=A201 & CHAR(10) & C201,2,IF(OFFSET('Fiche score'!$A$2,VLOOKUP(RIGHT(AI201,2),Feuil1!A:C,2,FALSE)-1,VLOOKUP(RIGHT(AI201,2),Feuil1!A:C,3,FALSE))=A201 & CHAR(10) & C201,1,IF(OFFSET('Fiche score'!$A$2,VLOOKUP(RIGHT(AI201,2),Feuil1!A:C,2,FALSE)-2,VLOOKUP(RIGHT(AI201,2),Feuil1!A:C,3,FALSE))=A201 & CHAR(10) & C201,1,\"0\")))))","v":""},{"$f":"IF(ISERROR(VLOOKUP(A201 & CHAR(10) &C201,'Fiche tirage dirigé'!I:I,1,FALSE)),0,1)","v":0},{"$f":"IF(ISERROR(VLOOKUP(A201& CHAR(10) &C201,Cadrage!H:H,1,FALSE)),0,1)","v":0},{"$f":"IF(ISERROR(VLOOKUP(A201 & CHAR(10) &C201,'Tableau final'!V:V,1,FALSE)),0,1)","v":0},{"$f":"IF(ISERROR(VLOOKUP(A201 & CHAR(10) &C201,'Tableau final'!W:W,1,FALSE)),0,1)","v":0},{"$f":"IF(ISERROR(VLOOKUP(A201 & CHAR(10) &C201,'Tableau final'!X:X,1,FALSE)),0,1)","v":0},{"$f":"IF(ISERROR(VLOOKUP(A201 & CHAR(10) &C201,'Tableau final'!Y:Y,1,FALSE)),0,1)","v":0},{"$f":"IF(ISERROR(VLOOKUP(A201 & CHAR(10) &C201,'Tableau final'!Z:Z,1,FALSE)),0,1)","v":0},{"$f":"IF('Tableau final'!$A$1<>\"\",IF('Tableau final'!$B$5=\"Qualifiés\",IF(ISERROR(VLOOKUP(A201 & CHAR(10) &C201,'Tableau final'!C:F,1,FALSE)),\"\",IF(AND(VLOOKUP(A201 & CHAR(10) &C201,'Tableau final'!C:F,3,FALSE)<>\"\",VLOOKUP(A201 & CHAR(10) &C201,'Tableau final'!C:F,4,FALSE)=\"x\"),1,\"\")),IF('Tableau final'!$G$5=\"Qualifiés\",IF(ISERROR(VLOOKUP(A201 & CHAR(10) &C201,'Tableau final'!H:K,1,FALSE)),\"\",IF(AND(VLOOKUP(A201 & CHAR(10) &C201,'Tableau final'!H:K,3,FALSE)<>\"\",VLOOKUP(A201 & CHAR(10) &C201,'Tableau final'!H:K,4,FALSE)=\"x\"),1,\"\")),IF('Tableau final'!$L$5=\"Qualifiés\",IF(ISERROR(VLOOKUP(A201 & CHAR(10) &C201,'Tableau final'!M:P,1,FALSE)),\"\",IF(AND(VLOOKUP(A201 & CHAR(10) &C201,'Tableau final'!M:P,3,FALSE)<>\"\",VLOOKUP(A201 & CHAR(10) &C201,'Tableau final'!M:P,4,FALSE)=\"x\"),1,\"\")),\"\"))),\"\")","v":""},"0",{"$f":"IF(ISERROR(VLOOKUP(AI201,Tirage!A:J,1,FALSE)),\"\",IF(VLOOKUP(AI201,Tirage!A:J,1,FALSE)=\"Office \",3,4))","v":""},{"$f":"IF(AJ201=\"0\",4,IF(AJ201=1,3,IF(AJ201=2,IF(OFFSET('Fiche score'!$A$2,VLOOKUP(RIGHT(AI201,2),Feuil1!A:C,2,FALSE),VLOOKUP(RIGHT(AI201,2),Feuil1!A:C,3,FALSE))=A201 & CHAR(10) & C201,1,2),\"\")))","v":""}]
[null,null,null,null,null,null,null,null,null,null,null,null,null,null,null,null,null,null,null,null,null,null,null,null,null,null,null,null,null,null,null,null,null,"",null,{"$f":"IF(AI202=\"\",\"\",IF(OFFSET('Fiche score'!$A$2,VLOOKUP(RIGHT(AI202,2),Feuil1!A:C,2,FALSE),VLOOKUP(RIGHT(AI202,2),Feuil1!A:C,3,FALSE))=A202 & CHAR(10) & C202,2,IF(OFFSET('Fiche score'!$A$2,VLOOKUP(RIGHT(AI202,2),Feuil1!A:C,2,FALSE)+1,VLOOKUP(RIGHT(AI202,2),Feuil1!A:C,3,FALSE))=A202 & CHAR(10) & C202,2,IF(OFFSET('Fiche score'!$A$2,VLOOKUP(RIGHT(AI202,2),Feuil1!A:C,2,FALSE)-1,VLOOKUP(RIGHT(AI202,2),Feuil1!A:C,3,FALSE))=A202 & CHAR(10) & C202,1,IF(OFFSET('Fiche score'!$A$2,VLOOKUP(RIGHT(AI202,2),Feuil1!A:C,2,FALSE)-2,VLOOKUP(RIGHT(AI202,2),Feuil1!A:C,3,FALSE))=A202 & CHAR(10) & C202,1,\"0\")))))","v":""},{"$f":"IF(ISERROR(VLOOKUP(A202 & CHAR(10) &C202,'Fiche tirage dirigé'!I:I,1,FALSE)),0,1)","v":0},{"$f":"IF(ISERROR(VLOOKUP(A202& CHAR(10) &C202,Cadrage!H:H,1,FALSE)),0,1)","v":0},{"$f":"IF(ISERROR(VLOOKUP(A202 & CHAR(10) &C202,'Tableau final'!V:V,1,FALSE)),0,1)","v":0},{"$f":"IF(ISERROR(VLOOKUP(A202 & CHAR(10) &C202,'Tableau final'!W:W,1,FALSE)),0,1)","v":0},{"$f":"IF(ISERROR(VLOOKUP(A202 & CHAR(10) &C202,'Tableau final'!X:X,1,FALSE)),0,1)","v":0},{"$f":"IF(ISERROR(VLOOKUP(A202 & CHAR(10) &C202,'Tableau final'!Y:Y,1,FALSE)),0,1)","v":0},{"$f":"IF(ISERROR(VLOOKUP(A202 & CHAR(10) &C202,'Tableau final'!Z:Z,1,FALSE)),0,1)","v":0},{"$f":"IF('Tableau final'!$A$1<>\"\",IF('Tableau final'!$B$5=\"Qualifiés\",IF(ISERROR(VLOOKUP(A202 & CHAR(10) &C202,'Tableau final'!C:F,1,FALSE)),\"\",IF(AND(VLOOKUP(A202 & CHAR(10) &C202,'Tableau final'!C:F,3,FALSE)<>\"\",VLOOKUP(A202 & CHAR(10) &C202,'Tableau final'!C:F,4,FALSE)=\"x\"),1,\"\")),IF('Tableau final'!$G$5=\"Qualifiés\",IF(ISERROR(VLOOKUP(A202 & CHAR(10) &C202,'Tableau final'!H:K,1,FALSE)),\"\",IF(AND(VLOOKUP(A202 & CHAR(10) &C202,'Tableau final'!H:K,3,FALSE)<>\"\",VLOOKUP(A202 & CHAR(10) &C202,'Tableau final'!H:K,4,FALSE)=\"x\"),1,\"\")),IF('Tableau final'!$L$5=\"Qualifiés\",IF(ISERROR(VLOOKUP(A202 & CHAR(10) &C202,'Tableau final'!M:P,1,FALSE)),\"\",IF(AND(VLOOKUP(A202 & CHAR(10) &C202,'Tableau final'!M:P,3,FALSE)<>\"\",VLOOKUP(A202 & CHAR(10) &C202,'Tableau final'!M:P,4,FALSE)=\"x\"),1,\"\")),\"\"))),\"\")","v":""},"0",{"$f":"IF(ISERROR(VLOOKUP(AI202,Tirage!A:J,1,FALSE)),\"\",IF(VLOOKUP(AI202,Tirage!A:J,1,FALSE)=\"Office \",3,4))","v":""},{"$f":"IF(AJ202=\"0\",4,IF(AJ202=1,3,IF(AJ202=2,IF(OFFSET('Fiche score'!$A$2,VLOOKUP(RIGHT(AI202,2),Feuil1!A:C,2,FALSE),VLOOKUP(RIGHT(AI202,2),Feuil1!A:C,3,FALSE))=A202 & CHAR(10) & C202,1,2),\"\")))","v":""}]
[null,null,null,null,null,null,null,null,null,null,null,null,null,null,null,null,null,null,null,null,null,null,null,null,null,null,null,null,null,null,null,null,null,"",null,{"$f":"IF(AI203=\"\",\"\",IF(OFFSET('Fiche score'!$A$2,VLOOKUP(RIGHT(AI203,2),Feuil1!A:C,2,FALSE),VLOOKUP(RIGHT(AI203,2),Feuil1!A:C,3,FALSE))=A203 & CHAR(10) & C203,2,IF(OFFSET('Fiche score'!$A$2,VLOOKUP(RIGHT(AI203,2),Feuil1!A:C,2,FALSE)+1,VLOOKUP(RIGHT(AI203,2),Feuil1!A:C,3,FALSE))=A203 & CHAR(10) & C203,2,IF(OFFSET('Fiche score'!$A$2,VLOOKUP(RIGHT(AI203,2),Feuil1!A:C,2,FALSE)-1,VLOOKUP(RIGHT(AI203,2),Feuil1!A:C,3,FALSE))=A203 & CHAR(10) & C203,1,IF(OFFSET('Fiche score'!$A$2,VLOOKUP(RIGHT(AI203,2),Feuil1!A:C,2,FALSE)-2,VLOOKUP(RIGHT(AI203,2),Feuil1!A:C,3,FALSE))=A203 & CHAR(10) & C203,1,\"0\")))))","v":""},{"$f":"IF(ISERROR(VLOOKUP(A203 & CHAR(10) &C203,'Fiche tirage dirigé'!I:I,1,FALSE)),0,1)","v":0},{"$f":"IF(ISERROR(VLOOKUP(A203& CHAR(10) &C203,Cadrage!H:H,1,FALSE)),0,1)","v":0},{"$f":"IF(ISERROR(VLOOKUP(A203 & CHAR(10) &C203,'Tableau final'!V:V,1,FALSE)),0,1)","v":0},{"$f":"IF(ISERROR(VLOOKUP(A203 & CHAR(10) &C203,'Tableau final'!W:W,1,FALSE)),0,1)","v":0},{"$f":"IF(ISERROR(VLOOKUP(A203 & CHAR(10) &C203,'Tableau final'!X:X,1,FALSE)),0,1)","v":0},{"$f":"IF(ISERROR(VLOOKUP(A203 & CHAR(10) &C203,'Tableau final'!Y:Y,1,FALSE)),0,1)","v":0},{"$f":"IF(ISERROR(VLOOKUP(A203 & CHAR(10) &C203,'Tableau final'!Z:Z,1,FALSE)),0,1)","v":0},{"$f":"IF('Tableau final'!$A$1<>\"\",IF('Tableau final'!$B$5=\"Qualifiés\",IF(ISERROR(VLOOKUP(A203 & CHAR(10) &C203,'Tableau final'!C:F,1,FALSE)),\"\",IF(AND(VLOOKUP(A203 & CHAR(10) &C203,'Tableau final'!C:F,3,FALSE)<>\"\",VLOOKUP(A203 & CHAR(10) &C203,'Tableau final'!C:F,4,FALSE)=\"x\"),1,\"\")),IF('Tableau final'!$G$5=\"Qualifiés\",IF(ISERROR(VLOOKUP(A203 & CHAR(10) &C203,'Tableau final'!H:K,1,FALSE)),\"\",IF(AND(VLOOKUP(A203 & CHAR(10) &C203,'Tableau final'!H:K,3,FALSE)<>\"\",VLOOKUP(A203 & CHAR(10) &C203,'Tableau final'!H:K,4,FALSE)=\"x\"),1,\"\")),IF('Tableau final'!$L$5=\"Qualifiés\",IF(ISERROR(VLOOKUP(A203 & CHAR(10) &C203,'Tableau final'!M:P,1,FALSE)),\"\",IF(AND(VLOOKUP(A203 & CHAR(10) &C203,'Tableau final'!M:P,3,FALSE)<>\"\",VLOOKUP(A203 & CHAR(10) &C203,'Tableau final'!M:P,4,FALSE)=\"x\"),1,\"\")),\"\"))),\"\")","v":""},"0",{"$f":"IF(ISERROR(VLOOKUP(AI203,Tirage!A:J,1,FALSE)),\"\",IF(VLOOKUP(AI203,Tirage!A:J,1,FALSE)=\"Office \",3,4))","v":""},{"$f":"IF(AJ203=\"0\",4,IF(AJ203=1,3,IF(AJ203=2,IF(OFFSET('Fiche score'!$A$2,VLOOKUP(RIGHT(AI203,2),Feuil1!A:C,2,FALSE),VLOOKUP(RIGHT(AI203,2),Feuil1!A:C,3,FALSE))=A203 & CHAR(10) & C203,1,2),\"\")))","v":""}]
[null,null,null,null,null,null,null,null,null,null,null,null,null,null,null,null,null,null,null,null,null,null,null,null,null,null,null,null,null,null,null,null,null,"",null,{"$f":"IF(AI204=\"\",\"\",IF(OFFSET('Fiche score'!$A$2,VLOOKUP(RIGHT(AI204,2),Feuil1!A:C,2,FALSE),VLOOKUP(RIGHT(AI204,2),Feuil1!A:C,3,FALSE))=A204 & CHAR(10) & C204,2,IF(OFFSET('Fiche score'!$A$2,VLOOKUP(RIGHT(AI204,2),Feuil1!A:C,2,FALSE)+1,VLOOKUP(RIGHT(AI204,2),Feuil1!A:C,3,FALSE))=A204 & CHAR(10) & C204,2,IF(OFFSET('Fiche score'!$A$2,VLOOKUP(RIGHT(AI204,2),Feuil1!A:C,2,FALSE)-1,VLOOKUP(RIGHT(AI204,2),Feuil1!A:C,3,FALSE))=A204 & CHAR(10) & C204,1,IF(OFFSET('Fiche score'!$A$2,VLOOKUP(RIGHT(AI204,2),Feuil1!A:C,2,FALSE)-2,VLOOKUP(RIGHT(AI204,2),Feuil1!A:C,3,FALSE))=A204 & CHAR(10) & C204,1,\"0\")))))","v":""},{"$f":"IF(ISERROR(VLOOKUP(A204 & CHAR(10) &C204,'Fiche tirage dirigé'!I:I,1,FALSE)),0,1)","v":0},{"$f":"IF(ISERROR(VLOOKUP(A204& CHAR(10) &C204,Cadrage!H:H,1,FALSE)),0,1)","v":0},{"$f":"IF(ISERROR(VLOOKUP(A204 & CHAR(10) &C204,'Tableau final'!V:V,1,FALSE)),0,1)","v":0},{"$f":"IF(ISERROR(VLOOKUP(A204 & CHAR(10) &C204,'Tableau final'!W:W,1,FALSE)),0,1)","v":0},{"$f":"IF(ISERROR(VLOOKUP(A204 & CHAR(10) &C204,'Tableau final'!X:X,1,FALSE)),0,1)","v":0},{"$f":"IF(ISERROR(VLOOKUP(A204 & CHAR(10) &C204,'Tableau final'!Y:Y,1,FALSE)),0,1)","v":0},{"$f":"IF(ISERROR(VLOOKUP(A204 & CHAR(10) &C204,'Tableau final'!Z:Z,1,FALSE)),0,1)","v":0},{"$f":"IF('Tableau final'!$A$1<>\"\",IF('Tableau final'!$B$5=\"Qualifiés\",IF(ISERROR(VLOOKUP(A204 & CHAR(10) &C204,'Tableau final'!C:F,1,FALSE)),\"\",IF(AND(VLOOKUP(A204 & CHAR(10) &C204,'Tableau final'!C:F,3,FALSE)<>\"\",VLOOKUP(A204 & CHAR(10) &C204,'Tableau final'!C:F,4,FALSE)=\"x\"),1,\"\")),IF('Tableau final'!$G$5=\"Qualifiés\",IF(ISERROR(VLOOKUP(A204 & CHAR(10) &C204,'Tableau final'!H:K,1,FALSE)),\"\",IF(AND(VLOOKUP(A204 & CHAR(10) &C204,'Tableau final'!H:K,3,FALSE)<>\"\",VLOOKUP(A204 & CHAR(10) &C204,'Tableau final'!H:K,4,FALSE)=\"x\"),1,\"\")),IF('Tableau final'!$L$5=\"Qualifiés\",IF(ISERROR(VLOOKUP(A204 & CHAR(10) &C204,'Tableau final'!M:P,1,FALSE)),\"\",IF(AND(VLOOKUP(A204 & CHAR(10) &C204,'Tableau final'!M:P,3,FALSE)<>\"\",VLOOKUP(A204 & CHAR(10) &C204,'Tableau final'!M:P,4,FALSE)=\"x\"),1,\"\")),\"\"))),\"\")","v":""},"0",{"$f":"IF(ISERROR(VLOOKUP(AI204,Tirage!A:J,1,FALSE)),\"\",IF(VLOOKUP(AI204,Tirage!A:J,1,FALSE)=\"Office \",3,4))","v":""},{"$f":"IF(AJ204=\"0\",4,IF(AJ204=1,3,IF(AJ204=2,IF(OFFSET('Fiche score'!$A$2,VLOOKUP(RIGHT(AI204,2),Feuil1!A:C,2,FALSE),VLOOKUP(RIGHT(AI204,2),Feuil1!A:C,3,FALSE))=A204 & CHAR(10) & C204,1,2),\"\")))","v":""}]
[null,null,null,null,null,null,null,null,null,null,null,null,null,null,null,null,null,null,null,null,null,null,null,null,null,null,null,null,null,null,null,null,null,"",null,{"$f":"IF(AI205=\"\",\"\",IF(OFFSET('Fiche score'!$A$2,VLOOKUP(RIGHT(AI205,2),Feuil1!A:C,2,FALSE),VLOOKUP(RIGHT(AI205,2),Feuil1!A:C,3,FALSE))=A205 & CHAR(10) & C205,2,IF(OFFSET('Fiche score'!$A$2,VLOOKUP(RIGHT(AI205,2),Feuil1!A:C,2,FALSE)+1,VLOOKUP(RIGHT(AI205,2),Feuil1!A:C,3,FALSE))=A205 & CHAR(10) & C205,2,IF(OFFSET('Fiche score'!$A$2,VLOOKUP(RIGHT(AI205,2),Feuil1!A:C,2,FALSE)-1,VLOOKUP(RIGHT(AI205,2),Feuil1!A:C,3,FALSE))=A205 & CHAR(10) & C205,1,IF(OFFSET('Fiche score'!$A$2,VLOOKUP(RIGHT(AI205,2),Feuil1!A:C,2,FALSE)-2,VLOOKUP(RIGHT(AI205,2),Feuil1!A:C,3,FALSE))=A205 & CHAR(10) & C205,1,\"0\")))))","v":""},{"$f":"IF(ISERROR(VLOOKUP(A205 & CHAR(10) &C205,'Fiche tirage dirigé'!I:I,1,FALSE)),0,1)","v":0},{"$f":"IF(ISERROR(VLOOKUP(A205& CHAR(10) &C205,Cadrage!H:H,1,FALSE)),0,1)","v":0},{"$f":"IF(ISERROR(VLOOKUP(A205 & CHAR(10) &C205,'Tableau final'!V:V,1,FALSE)),0,1)","v":0},{"$f":"IF(ISERROR(VLOOKUP(A205 & CHAR(10) &C205,'Tableau final'!W:W,1,FALSE)),0,1)","v":0},{"$f":"IF(ISERROR(VLOOKUP(A205 & CHAR(10) &C205,'Tableau final'!X:X,1,FALSE)),0,1)","v":0},{"$f":"IF(ISERROR(VLOOKUP(A205 & CHAR(10) &C205,'Tableau final'!Y:Y,1,FALSE)),0,1)","v":0},{"$f":"IF(ISERROR(VLOOKUP(A205 & CHAR(10) &C205,'Tableau final'!Z:Z,1,FALSE)),0,1)","v":0},{"$f":"IF('Tableau final'!$A$1<>\"\",IF('Tableau final'!$B$5=\"Qualifiés\",IF(ISERROR(VLOOKUP(A205 & CHAR(10) &C205,'Tableau final'!C:F,1,FALSE)),\"\",IF(AND(VLOOKUP(A205 & CHAR(10) &C205,'Tableau final'!C:F,3,FALSE)<>\"\",VLOOKUP(A205 & CHAR(10) &C205,'Tableau final'!C:F,4,FALSE)=\"x\"),1,\"\")),IF('Tableau final'!$G$5=\"Qualifiés\",IF(ISERROR(VLOOKUP(A205 & CHAR(10) &C205,'Tableau final'!H:K,1,FALSE)),\"\",IF(AND(VLOOKUP(A205 & CHAR(10) &C205,'Tableau final'!H:K,3,FALSE)<>\"\",VLOOKUP(A205 & CHAR(10) &C205,'Tableau final'!H:K,4,FALSE)=\"x\"),1,\"\")),IF('Tableau final'!$L$5=\"Qualifiés\",IF(ISERROR(VLOOKUP(A205 & CHAR(10) &C205,'Tableau final'!M:P,1,FALSE)),\"\",IF(AND(VLOOKUP(A205 & CHAR(10) &C205,'Tableau final'!M:P,3,FALSE)<>\"\",VLOOKUP(A205 & CHAR(10) &C205,'Tableau final'!M:P,4,FALSE)=\"x\"),1,\"\")),\"\"))),\"\")","v":""},"0",{"$f":"IF(ISERROR(VLOOKUP(AI205,Tirage!A:J,1,FALSE)),\"\",IF(VLOOKUP(AI205,Tirage!A:J,1,FALSE)=\"Office \",3,4))","v":""},{"$f":"IF(AJ205=\"0\",4,IF(AJ205=1,3,IF(AJ205=2,IF(OFFSET('Fiche score'!$A$2,VLOOKUP(RIGHT(AI205,2),Feuil1!A:C,2,FALSE),VLOOKUP(RIGHT(AI205,2),Feuil1!A:C,3,FALSE))=A205 & CHAR(10) & C205,1,2),\"\")))","v":""}]
[null,null,null,null,null,null,null,null,null,null,null,null,null,null,null,null,null,null,null,null,null,null,null,null,null,null,null,null,null,null,null,null,null,"",null,{"$f":"IF(AI206=\"\",\"\",IF(OFFSET('Fiche score'!$A$2,VLOOKUP(RIGHT(AI206,2),Feuil1!A:C,2,FALSE),VLOOKUP(RIGHT(AI206,2),Feuil1!A:C,3,FALSE))=A206 & CHAR(10) & C206,2,IF(OFFSET('Fiche score'!$A$2,VLOOKUP(RIGHT(AI206,2),Feuil1!A:C,2,FALSE)+1,VLOOKUP(RIGHT(AI206,2),Feuil1!A:C,3,FALSE))=A206 & CHAR(10) & C206,2,IF(OFFSET('Fiche score'!$A$2,VLOOKUP(RIGHT(AI206,2),Feuil1!A:C,2,FALSE)-1,VLOOKUP(RIGHT(AI206,2),Feuil1!A:C,3,FALSE))=A206 & CHAR(10) & C206,1,IF(OFFSET('Fiche score'!$A$2,VLOOKUP(RIGHT(AI206,2),Feuil1!A:C,2,FALSE)-2,VLOOKUP(RIGHT(AI206,2),Feuil1!A:C,3,FALSE))=A206 & CHAR(10) & C206,1,\"0\")))))","v":""},{"$f":"IF(ISERROR(VLOOKUP(A206 & CHAR(10) &C206,'Fiche tirage dirigé'!I:I,1,FALSE)),0,1)","v":0},{"$f":"IF(ISERROR(VLOOKUP(A206& CHAR(10) &C206,Cadrage!H:H,1,FALSE)),0,1)","v":0},{"$f":"IF(ISERROR(VLOOKUP(A206 & CHAR(10) &C206,'Tableau final'!V:V,1,FALSE)),0,1)","v":0},{"$f":"IF(ISERROR(VLOOKUP(A206 & CHAR(10) &C206,'Tableau final'!W:W,1,FALSE)),0,1)","v":0},{"$f":"IF(ISERROR(VLOOKUP(A206 & CHAR(10) &C206,'Tableau final'!X:X,1,FALSE)),0,1)","v":0},{"$f":"IF(ISERROR(VLOOKUP(A206 & CHAR(10) &C206,'Tableau final'!Y:Y,1,FALSE)),0,1)","v":0},{"$f":"IF(ISERROR(VLOOKUP(A206 & CHAR(10) &C206,'Tableau final'!Z:Z,1,FALSE)),0,1)","v":0},{"$f":"IF('Tableau final'!$A$1<>\"\",IF('Tableau final'!$B$5=\"Qualifiés\",IF(ISERROR(VLOOKUP(A206 & CHAR(10) &C206,'Tableau final'!C:F,1,FALSE)),\"\",IF(AND(VLOOKUP(A206 & CHAR(10) &C206,'Tableau final'!C:F,3,FALSE)<>\"\",VLOOKUP(A206 & CHAR(10) &C206,'Tableau final'!C:F,4,FALSE)=\"x\"),1,\"\")),IF('Tableau final'!$G$5=\"Qualifiés\",IF(ISERROR(VLOOKUP(A206 & CHAR(10) &C206,'Tableau final'!H:K,1,FALSE)),\"\",IF(AND(VLOOKUP(A206 & CHAR(10) &C206,'Tableau final'!H:K,3,FALSE)<>\"\",VLOOKUP(A206 & CHAR(10) &C206,'Tableau final'!H:K,4,FALSE)=\"x\"),1,\"\")),IF('Tableau final'!$L$5=\"Qualifiés\",IF(ISERROR(VLOOKUP(A206 & CHAR(10) &C206,'Tableau final'!M:P,1,FALSE)),\"\",IF(AND(VLOOKUP(A206 & CHAR(10) &C206,'Tableau final'!M:P,3,FALSE)<>\"\",VLOOKUP(A206 & CHAR(10) &C206,'Tableau final'!M:P,4,FALSE)=\"x\"),1,\"\")),\"\"))),\"\")","v":""},"0",{"$f":"IF(ISERROR(VLOOKUP(AI206,Tirage!A:J,1,FALSE)),\"\",IF(VLOOKUP(AI206,Tirage!A:J,1,FALSE)=\"Office \",3,4))","v":""},{"$f":"IF(AJ206=\"0\",4,IF(AJ206=1,3,IF(AJ206=2,IF(OFFSET('Fiche score'!$A$2,VLOOKUP(RIGHT(AI206,2),Feuil1!A:C,2,FALSE),VLOOKUP(RIGHT(AI206,2),Feuil1!A:C,3,FALSE))=A206 & CHAR(10) & C206,1,2),\"\")))","v":""}]
[null,null,null,null,null,null,null,null,null,null,null,null,null,null,null,null,null,null,null,null,null,null,null,null,null,null,null,null,null,null,null,null,null,"",null,{"$f":"IF(AI207=\"\",\"\",IF(OFFSET('Fiche score'!$A$2,VLOOKUP(RIGHT(AI207,2),Feuil1!A:C,2,FALSE),VLOOKUP(RIGHT(AI207,2),Feuil1!A:C,3,FALSE))=A207 & CHAR(10) & C207,2,IF(OFFSET('Fiche score'!$A$2,VLOOKUP(RIGHT(AI207,2),Feuil1!A:C,2,FALSE)+1,VLOOKUP(RIGHT(AI207,2),Feuil1!A:C,3,FALSE))=A207 & CHAR(10) & C207,2,IF(OFFSET('Fiche score'!$A$2,VLOOKUP(RIGHT(AI207,2),Feuil1!A:C,2,FALSE)-1,VLOOKUP(RIGHT(AI207,2),Feuil1!A:C,3,FALSE))=A207 & CHAR(10) & C207,1,IF(OFFSET('Fiche score'!$A$2,VLOOKUP(RIGHT(AI207,2),Feuil1!A:C,2,FALSE)-2,VLOOKUP(RIGHT(AI207,2),Feuil1!A:C,3,FALSE))=A207 & CHAR(10) & C207,1,\"0\")))))","v":""},{"$f":"IF(ISERROR(VLOOKUP(A207 & CHAR(10) &C207,'Fiche tirage dirigé'!I:I,1,FALSE)),0,1)","v":0},{"$f":"IF(ISERROR(VLOOKUP(A207& CHAR(10) &C207,Cadrage!H:H,1,FALSE)),0,1)","v":0},{"$f":"IF(ISERROR(VLOOKUP(A207 & CHAR(10) &C207,'Tableau final'!V:V,1,FALSE)),0,1)","v":0},{"$f":"IF(ISERROR(VLOOKUP(A207 & CHAR(10) &C207,'Tableau final'!W:W,1,FALSE)),0,1)","v":0},{"$f":"IF(ISERROR(VLOOKUP(A207 & CHAR(10) &C207,'Tableau final'!X:X,1,FALSE)),0,1)","v":0},{"$f":"IF(ISERROR(VLOOKUP(A207 & CHAR(10) &C207,'Tableau final'!Y:Y,1,FALSE)),0,1)","v":0},{"$f":"IF(ISERROR(VLOOKUP(A207 & CHAR(10) &C207,'Tableau final'!Z:Z,1,FALSE)),0,1)","v":0},{"$f":"IF('Tableau final'!$A$1<>\"\",IF('Tableau final'!$B$5=\"Qualifiés\",IF(ISERROR(VLOOKUP(A207 & CHAR(10) &C207,'Tableau final'!C:F,1,FALSE)),\"\",IF(AND(VLOOKUP(A207 & CHAR(10) &C207,'Tableau final'!C:F,3,FALSE)<>\"\",VLOOKUP(A207 & CHAR(10) &C207,'Tableau final'!C:F,4,FALSE)=\"x\"),1,\"\")),IF('Tableau final'!$G$5=\"Qualifiés\",IF(ISERROR(VLOOKUP(A207 & CHAR(10) &C207,'Tableau final'!H:K,1,FALSE)),\"\",IF(AND(VLOOKUP(A207 & CHAR(10) &C207,'Tableau final'!H:K,3,FALSE)<>\"\",VLOOKUP(A207 & CHAR(10) &C207,'Tableau final'!H:K,4,FALSE)=\"x\"),1,\"\")),IF('Tableau final'!$L$5=\"Qualifiés\",IF(ISERROR(VLOOKUP(A207 & CHAR(10) &C207,'Tableau final'!M:P,1,FALSE)),\"\",IF(AND(VLOOKUP(A207 & CHAR(10) &C207,'Tableau final'!M:P,3,FALSE)<>\"\",VLOOKUP(A207 & CHAR(10) &C207,'Tableau final'!M:P,4,FALSE)=\"x\"),1,\"\")),\"\"))),\"\")","v":""},"0",{"$f":"IF(ISERROR(VLOOKUP(AI207,Tirage!A:J,1,FALSE)),\"\",IF(VLOOKUP(AI207,Tirage!A:J,1,FALSE)=\"Office \",3,4))","v":""},{"$f":"IF(AJ207=\"0\",4,IF(AJ207=1,3,IF(AJ207=2,IF(OFFSET('Fiche score'!$A$2,VLOOKUP(RIGHT(AI207,2),Feuil1!A:C,2,FALSE),VLOOKUP(RIGHT(AI207,2),Feuil1!A:C,3,FALSE))=A207 & CHAR(10) & C207,1,2),\"\")))","v":""}]
[null,null,null,null,null,null,null,null,null,null,null,null,null,null,null,null,null,null,null,null,null,null,null,null,null,null,null,null,null,null,null,null,null,"",null,{"$f":"IF(AI208=\"\",\"\",IF(OFFSET('Fiche score'!$A$2,VLOOKUP(RIGHT(AI208,2),Feuil1!A:C,2,FALSE),VLOOKUP(RIGHT(AI208,2),Feuil1!A:C,3,FALSE))=A208 & CHAR(10) & C208,2,IF(OFFSET('Fiche score'!$A$2,VLOOKUP(RIGHT(AI208,2),Feuil1!A:C,2,FALSE)+1,VLOOKUP(RIGHT(AI208,2),Feuil1!A:C,3,FALSE))=A208 & CHAR(10) & C208,2,IF(OFFSET('Fiche score'!$A$2,VLOOKUP(RIGHT(AI208,2),Feuil1!A:C,2,FALSE)-1,VLOOKUP(RIGHT(AI208,2),Feuil1!A:C,3,FALSE))=A208 & CHAR(10) & C208,1,IF(OFFSET('Fiche score'!$A$2,VLOOKUP(RIGHT(AI208,2),Feuil1!A:C,2,FALSE)-2,VLOOKUP(RIGHT(AI208,2),Feuil1!A:C,3,FALSE))=A208 & CHAR(10) & C208,1,\"0\")))))","v":""},{"$f":"IF(ISERROR(VLOOKUP(A208 & CHAR(10) &C208,'Fiche tirage dirigé'!I:I,1,FALSE)),0,1)","v":0},{"$f":"IF(ISERROR(VLOOKUP(A208& CHAR(10) &C208,Cadrage!H:H,1,FALSE)),0,1)","v":0},{"$f":"IF(ISERROR(VLOOKUP(A208 & CHAR(10) &C208,'Tableau final'!V:V,1,FALSE)),0,1)","v":0},{"$f":"IF(ISERROR(VLOOKUP(A208 & CHAR(10) &C208,'Tableau final'!W:W,1,FALSE)),0,1)","v":0},{"$f":"IF(ISERROR(VLOOKUP(A208 & CHAR(10) &C208,'Tableau final'!X:X,1,FALSE)),0,1)","v":0},{"$f":"IF(ISERROR(VLOOKUP(A208 & CHAR(10) &C208,'Tableau final'!Y:Y,1,FALSE)),0,1)","v":0},{"$f":"IF(ISERROR(VLOOKUP(A208 & CHAR(10) &C208,'Tableau final'!Z:Z,1,FALSE)),0,1)","v":0},{"$f":"IF('Tableau final'!$A$1<>\"\",IF('Tableau final'!$B$5=\"Qualifiés\",IF(ISERROR(VLOOKUP(A208 & CHAR(10) &C208,'Tableau final'!C:F,1,FALSE)),\"\",IF(AND(VLOOKUP(A208 & CHAR(10) &C208,'Tableau final'!C:F,3,FALSE)<>\"\",VLOOKUP(A208 & CHAR(10) &C208,'Tableau final'!C:F,4,FALSE)=\"x\"),1,\"\")),IF('Tableau final'!$G$5=\"Qualifiés\",IF(ISERROR(VLOOKUP(A208 & CHAR(10) &C208,'Tableau final'!H:K,1,FALSE)),\"\",IF(AND(VLOOKUP(A208 & CHAR(10) &C208,'Tableau final'!H:K,3,FALSE)<>\"\",VLOOKUP(A208 & CHAR(10) &C208,'Tableau final'!H:K,4,FALSE)=\"x\"),1,\"\")),IF('Tableau final'!$L$5=\"Qualifiés\",IF(ISERROR(VLOOKUP(A208 & CHAR(10) &C208,'Tableau final'!M:P,1,FALSE)),\"\",IF(AND(VLOOKUP(A208 & CHAR(10) &C208,'Tableau final'!M:P,3,FALSE)<>\"\",VLOOKUP(A208 & CHAR(10) &C208,'Tableau final'!M:P,4,FALSE)=\"x\"),1,\"\")),\"\"))),\"\")","v":""},"0",{"$f":"IF(ISERROR(VLOOKUP(AI208,Tirage!A:J,1,FALSE)),\"\",IF(VLOOKUP(AI208,Tirage!A:J,1,FALSE)=\"Office \",3,4))","v":""},{"$f":"IF(AJ208=\"0\",4,IF(AJ208=1,3,IF(AJ208=2,IF(OFFSET('Fiche score'!$A$2,VLOOKUP(RIGHT(AI208,2),Feuil1!A:C,2,FALSE),VLOOKUP(RIGHT(AI208,2),Feuil1!A:C,3,FALSE))=A208 & CHAR(10) & C208,1,2),\"\")))","v":""}]
[null,null,null,null,null,null,null,null,null,null,null,null,null,null,null,null,null,null,null,null,null,null,null,null,null,null,null,null,null,null,null,null,null,"",null,{"$f":"IF(AI209=\"\",\"\",IF(OFFSET('Fiche score'!$A$2,VLOOKUP(RIGHT(AI209,2),Feuil1!A:C,2,FALSE),VLOOKUP(RIGHT(AI209,2),Feuil1!A:C,3,FALSE))=A209 & CHAR(10) & C209,2,IF(OFFSET('Fiche score'!$A$2,VLOOKUP(RIGHT(AI209,2),Feuil1!A:C,2,FALSE)+1,VLOOKUP(RIGHT(AI209,2),Feuil1!A:C,3,FALSE))=A209 & CHAR(10) & C209,2,IF(OFFSET('Fiche score'!$A$2,VLOOKUP(RIGHT(AI209,2),Feuil1!A:C,2,FALSE)-1,VLOOKUP(RIGHT(AI209,2),Feuil1!A:C,3,FALSE))=A209 & CHAR(10) & C209,1,IF(OFFSET('Fiche score'!$A$2,VLOOKUP(RIGHT(AI209,2),Feuil1!A:C,2,FALSE)-2,VLOOKUP(RIGHT(AI209,2),Feuil1!A:C,3,FALSE))=A209 & CHAR(10) & C209,1,\"0\")))))","v":""},{"$f":"IF(ISERROR(VLOOKUP(A209 & CHAR(10) &C209,'Fiche tirage dirigé'!I:I,1,FALSE)),0,1)","v":0},{"$f":"IF(ISERROR(VLOOKUP(A209& CHAR(10) &C209,Cadrage!H:H,1,FALSE)),0,1)","v":0},{"$f":"IF(ISERROR(VLOOKUP(A209 & CHAR(10) &C209,'Tableau final'!V:V,1,FALSE)),0,1)","v":0},{"$f":"IF(ISERROR(VLOOKUP(A209 & CHAR(10) &C209,'Tableau final'!W:W,1,FALSE)),0,1)","v":0},{"$f":"IF(ISERROR(VLOOKUP(A209 & CHAR(10) &C209,'Tableau final'!X:X,1,FALSE)),0,1)","v":0},{"$f":"IF(ISERROR(VLOOKUP(A209 & CHAR(10) &C209,'Tableau final'!Y:Y,1,FALSE)),0,1)","v":0},{"$f":"IF(ISERROR(VLOOKUP(A209 & CHAR(10) &C209,'Tableau final'!Z:Z,1,FALSE)),0,1)","v":0},{"$f":"IF('Tableau final'!$A$1<>\"\",IF('Tableau final'!$B$5=\"Qualifiés\",IF(ISERROR(VLOOKUP(A209 & CHAR(10) &C209,'Tableau final'!C:F,1,FALSE)),\"\",IF(AND(VLOOKUP(A209 & CHAR(10) &C209,'Tableau final'!C:F,3,FALSE)<>\"\",VLOOKUP(A209 & CHAR(10) &C209,'Tableau final'!C:F,4,FALSE)=\"x\"),1,\"\")),IF('Tableau final'!$G$5=\"Qualifiés\",IF(ISERROR(VLOOKUP(A209 & CHAR(10) &C209,'Tableau final'!H:K,1,FALSE)),\"\",IF(AND(VLOOKUP(A209 & CHAR(10) &C209,'Tableau final'!H:K,3,FALSE)<>\"\",VLOOKUP(A209 & CHAR(10) &C209,'Tableau final'!H:K,4,FALSE)=\"x\"),1,\"\")),IF('Tableau final'!$L$5=\"Qualifiés\",IF(ISERROR(VLOOKUP(A209 & CHAR(10) &C209,'Tableau final'!M:P,1,FALSE)),\"\",IF(AND(VLOOKUP(A209 & CHAR(10) &C209,'Tableau final'!M:P,3,FALSE)<>\"\",VLOOKUP(A209 & CHAR(10) &C209,'Tableau final'!M:P,4,FALSE)=\"x\"),1,\"\")),\"\"))),\"\")","v":""},"0",{"$f":"IF(ISERROR(VLOOKUP(AI209,Tirage!A:J,1,FALSE)),\"\",IF(VLOOKUP(AI209,Tirage!A:J,1,FALSE)=\"Office \",3,4))","v":""},{"$f":"IF(AJ209=\"0\",4,IF(AJ209=1,3,IF(AJ209=2,IF(OFFSET('Fiche score'!$A$2,VLOOKUP(RIGHT(AI209,2),Feuil1!A:C,2,FALSE),VLOOKUP(RIGHT(AI209,2),Feuil1!A:C,3,FALSE))=A209 & CHAR(10) & C209,1,2),\"\")))","v":""}]

{"sheet":"Tirage Poules","index":2,"n_rows":162,"n_cols":6,"rows_kept":162,"cut":false,"hidden":false,"merged":[[10,0,11,0],[13,0,14,0],[16,0,17,0],[1,5,2,5],[3,1,3,4],[4,0,4,5],[52,0,53,0],[0,1,0,4],[1,1,1,4],[2,1,2,4],[43,0,44,0],[46,0,47,0],[49,0,50,0],[37,0,38,0],[40,0,41,0],[28,0,29,0],[31,0,32,0],[34,0,35,0],[19,0,20,0],[22,0,23,0],[25,0,26,0],[7,0,8,0],[88,0,89,0],[55,0,56,0],[58,0,59,0],[61,0,62,0],[64,0,65,0],[67,0,68,0],[70,0,71,0],[73,0,74,0],[76,0,77,0],[79,0,80,0],[82,0,83,0],[85,0,86,0],[157,0,158,0],[160,0,161,0],[127,0,128,0],[130,0,131,0],[133,0,134,0],[136,0,137,0],[139,0,140,0],[142,0,143,0],[145,0,146,0],[148,0,149,0],[151,0,152,0],[154,0,155,0],[124,0,125,0],[91,0,92,0],[94,0,95,0],[97,0,98,0],[100,0,101,0],[103,0,104,0],[109,0,110,0],[112,0,113,0],[115,0,116,0],[118,0,119,0],[121,0,122,0],[106,0,107,0]]}
[null,{"$f":"'Fiche paramétrage concours'!B1","v":0},null,null,null,{"$f":"'Fiche paramétrage concours'!B7","v":0}]
[null,{"$f":"'Fiche paramétrage concours'!B3","v":0},null,null,null,{"$f":"'Fiche paramétrage concours'!B9","v":0}]
[null,"                                TIRAGE POULES"]
[]
[{"$f":"'Fiche paramétrage concours'!B17","v":"Parties en 1h45 - 1ère partie 13h30 à 15h15  - 2ème partie 15h30 à 17h55 - barrages 17h30 à 19h15 - partie qualificative à Polliat dimanche 10h00"}]
["Poule","Nom","AS (N° secteur)","Jeu","Nom","AS (N° secteur)"]
[]
["Poule A ",{"$f":"IF(VLOOKUP(A8,Tirage!A:L,2,FALSE)=\"\",\"\",VLOOKUP(A8,Tirage!A:L,2,FALSE))","v":""},{"$f":"IF(VLOOKUP(A8,Tirage!A:L,2,FALSE)=\"\",\"\",VLOOKUP(A8,Tirage!A:L,3,FALSE))","v":""},{"$f":"IF(VLOOKUP(A8,Tirage!A:L,2,FALSE)=\"\",\"\",VLOOKUP(A8,Tirage!A:L,4,FALSE))","v":""},{"$f":"IF(VLOOKUP(A8,Tirage!A:L,2,FALSE)=\"\",\"\",VLOOKUP(A8,Tirage!A:L,5,FALSE))","v":""},{"$f":"IF(VLOOKUP(A8,Tirage!A:L,2,FALSE)=\"\",\"\",VLOOKUP(A8,Tirage!A:L,6,FALSE))","v":""}]
[null,{"$f":"IF(VLOOKUP(A8,Tirage!A:L,2,FALSE)=\"\",\"\",VLOOKUP(A8,Tirage!A:L,7,FALSE))","v":""},{"$f":"IF(VLOOKUP(A8,Tirage!A:L,2,FALSE)=\"\",\"\",VLOOKUP(A8,Tirage!A:L,8,FALSE))","v":""},{"$f":"IF(VLOOKUP(A8,Tirage!A:L,2,FALSE)=\"\",\"\",VLOOKUP(A8,Tirage!A:L,9,FALSE))","v":""},{"$f":"IF(VLOOKUP(A8,Tirage!A:L,2,FALSE)=\"\",\"\",VLOOKUP(A8,Tirage!A:L,10,FALSE))","v":""},{"$f":"IF(VLOOKUP(A8,Tirage!A:L,2,FALSE)=\"\",\"\",VLOOKUP(A8,Tirage!A:L,11,FALSE))","v":""}]
[]
["Poule B ",{"$f":"IF(VLOOKUP(A11,Tirage!A:L,2,FALSE)=\"\",\"\",VLOOKUP(A11,Tirage!A:L,2,FALSE))","v":""},{"$f":"IF(VLOOKUP(A11,Tirage!A:L,2,FALSE)=\"\",\"\",VLOOKUP(A11,Tirage!A:L,3,FALSE))","v":""},{"$f":"IF(VLOOKUP(A11,Tirage!A:L,2,FALSE)=\"\",\"\",VLOOKUP(A11,Tirage!A:L,4,FALSE))","v":""},{"$f":"IF(VLOOKUP(A11,Tirage!A:L,2,FALSE)=\"\",\"\",VLOOKUP(A11,Tirage!A:L,5,FALSE))","v":""},{"$f":"IF(VLOOKUP(A11,Tirage!A:L,2,FALSE)=\"\",\"\",VLOOKUP(A11,Tirage!A:L,6,FALSE))","v":""}]
[null,{"$f":"IF(VLOOKUP(A11,Tirage!A:L,2,FALSE)=\"\",\"\",VLOOKUP(A11,Tirage!A:L,7,FALSE))","v":""},{"$f":"IF(VLOOKUP(A11,Tirage!A:L,2,FALSE)=\"\",\"\",VLOOKUP(A11,Tirage!A:L,8,FALSE))","v":""},{"$f":"IF(VLOOKUP(A11,Tirage!A:L,2,FALSE)=\"\",\"\",VLOOKUP(A11,Tirage!A:L,9,FALSE))","v":""},{"$f":"IF(VLOOKUP(A11,Tirage!A:L,2,FALSE)=\"\",\"\",VLOOKUP(A11,Tirage!A:L,10,FALSE))","v":""},{"$f":"IF(VLOOKUP(A11,Tirage!A:L,2,FALSE)=\"\",\"\",VLOOKUP(A11,Tirage!A:L,11,FALSE))","v":""}]
[]
["Poule C ",{"$f":"IF(VLOOKUP(A14,Tirage!A:L,2,FALSE)=\"\",\"\",VLOOKUP(A14,Tirage!A:L,2,FALSE))","v":""},{"$f":"IF(VLOOKUP(A14,Tirage!A:L,2,FALSE)=\"\",\"\",VLOOKUP(A14,Tirage!A:L,3,FALSE))","v":""},{"$f":"IF(VLOOKUP(A14,Tirage!A:L,2,FALSE)=\"\",\"\",VLOOKUP(A14,Tirage!A:L,4,FALSE))","v":""},{"$f":"IF(VLOOKUP(A14,Tirage!A:L,2,FALSE)=\"\",\"\",VLOOKUP(A14,Tirage!A:L,5,FALSE))","v":""},{"$f":"IF(VLOOKUP(A14,Tirage!A:L,2,FALSE)=\"\",\"\",VLOOKUP(A14,Tirage!A:L,6,FALSE))","v":""}]
[null,{"$f":"IF(VLOOKUP(A14,Tirage!A:L,2,FALSE)=\"\",\"\",VLOOKUP(A14,Tirage!A:L,7,FALSE))","v":""},{"$f":"IF(VLOOKUP(A14,Tirage!A:L,2,FALSE)=\"\",\"\",VLOOKUP(A14,Tirage!A:L,8,FALSE))","v":""},{"$f":"IF(VLOOKUP(A14,Tirage!A:L,2,FALSE)=\"\",\"\",VLOOKUP(A14,Tirage!A:L,9,FALSE))","v":""},{"$f":"IF(VLOOKUP(A14,Tirage!A:L,2,FALSE)=\"\",\"\",VLOOKUP(A14,Tirage!A:L,10,FALSE))","v":""},{"$f":"IF(VLOOKUP(A14,Tirage!A:L,2,FALSE)=\"\",\"\",VLOOKUP(A14,Tirage!A:L,11,FALSE))","v":""}]
[]
["Poule D ",{"$f":"IF(VLOOKUP(A17,Tirage!A:L,2,FALSE)=\"\",\"\",VLOOKUP(A17,Tirage!A:L,2,FALSE))","v":""},{"$f":"IF(VLOOKUP(A17,Tirage!A:L,2,FALSE)=\"\",\"\",VLOOKUP(A17,Tirage!A:L,3,FALSE))","v":""},{"$f":"IF(VLOOKUP(A17,Tirage!A:L,2,FALSE)=\"\",\"\",VLOOKUP(A17,Tirage!A:L,4,FALSE))","v":""},{"$f":"IF(VLOOKUP(A17,Tirage!A:L,2,FALSE)=\"\",\"\",VLOOKUP(A17,Tirage!A:L,5,FALSE))","v":""},{"$f":"IF(VLOOKUP(A17,Tirage!A:L,2,FALSE)=\"\",\"\",VLOOKUP(A17,Tirage!A:L,6,FALSE))","v":""}]
[null,{"$f":"IF(VLOOKUP(A17,Tirage!A:L,2,FALSE)=\"\",\"\",VLOOKUP(A17,Tirage!A:L,7,FALSE))","v":""},{"$f":"IF(VLOOKUP(A17,Tirage!A:L,2,FALSE)=\"\",\"\",VLOOKUP(A17,Tirage!A:L,8,FALSE))","v":""},{"$f":"IF(VLOOKUP(A17,Tirage!A:L,2,FALSE)=\"\",\"\",VLOOKUP(A17,Tirage!A:L,9,FALSE))","v":""},{"$f":"IF(VLOOKUP(A17,Tirage!A:L,2,FALSE)=\"\",\"\",VLOOKUP(A17,Tirage!A:L,10,FALSE))","v":""},{"$f":"IF(VLOOKUP(A17,Tirage!A:L,2,FALSE)=\"\",\"\",VLOOKUP(A17,Tirage!A:L,11,FALSE))","v":""}]
[]
["Poule E ",{"$f":"IF(VLOOKUP(A20,Tirage!A:L,2,FALSE)=\"\",\"\",VLOOKUP(A20,Tirage!A:L,2,FALSE))","v":""},{"$f":"IF(VLOOKUP(A20,Tirage!A:L,2,FALSE)=\"\",\"\",VLOOKUP(A20,Tirage!A:L,3,FALSE))","v":""},{"$f":"IF(VLOOKUP(A20,Tirage!A:L,2,FALSE)=\"\",\"\",VLOOKUP(A20,Tirage!A:L,4,FALSE))","v":""},{"$f":"IF(VLOOKUP(A20,Tirage!A:L,2,FALSE)=\"\",\"\",VLOOKUP(A20,Tirage!A:L,5,FALSE))","v":""},{"$f":"IF(VLOOKUP(A20,Tirage!A:L,2,FALSE)=\"\",\"\",VLOOKUP(A20,Tirage!A:L,6,FALSE))","v":""}]
[null,{"$f":"IF(VLOOKUP(A20,Tirage!A:L,2,FALSE)=\"\",\"\",VLOOKUP(A20,Tirage!A:L,7,FALSE))","v":""},{"$f":"IF(VLOOKUP(A20,Tirage!A:L,2,FALSE)=\"\",\"\",VLOOKUP(A20,Tirage!A:L,8,FALSE))","v":""},{"$f":"IF(VLOOKUP(A20,Tirage!A:L,2,FALSE)=\"\",\"\",VLOOKUP(A20,Tirage!A:L,9,FALSE))","v":""},{"$f":"IF(VLOOKUP(A20,Tirage!A:L,2,FALSE)=\"\",\"\",VLOOKUP(A20,Tirage!A:L,10,FALSE))","v":""},{"$f":"IF(VLOOKUP(A20,Tirage!A:L,2,FALSE)=\"\",\"\",VLOOKUP(A20,Tirage!A:L,11,FALSE))","v":""}]
[]
["Poule F ",{"$f":"IF(VLOOKUP(A23,Tirage!A:L,2,FALSE)=\"\",\"\",VLOOKUP(A23,Tirage!A:L,2,FALSE))","v":""},{"$f":"IF(VLOOKUP(A23,Tirage!A:L,2,FALSE)=\"\",\"\",VLOOKUP(A23,Tirage!A:L,3,FALSE))","v":""},{"$f":"IF(VLOOKUP(A23,Tirage!A:L,2,FALSE)=\"\",\"\",VLOOKUP(A23,Tirage!A:L,4,FALSE))","v":""},{"$f":"IF(VLOOKUP(A23,Tirage!A:L,2,FALSE)=\"\",\"\",VLOOKUP(A23,Tirage!A:L,5,FALSE))","v":""},{"$f":"IF(VLOOKUP(A23,Tirage!A:L,2,FALSE)=\"\",\"\",VLOOKUP(A23,Tirage!A:L,6,FALSE))","v":""}]
[null,{"$f":"IF(VLOOKUP(A23,Tirage!A:L,2,FALSE)=\"\",\"\",VLOOKUP(A23,Tirage!A:L,7,FALSE))","v":""},{"$f":"IF(VLOOKUP(A23,Tirage!A:L,2,FALSE)=\"\",\"\",VLOOKUP(A23,Tirage!A:L,8,FALSE))","v":""},{"$f":"IF(VLOOKUP(A23,Tirage!A:L,2,FALSE)=\"\",\"\",VLOOKUP(A23,Tirage!A:L,9,FALSE))","v":""},{"$f":"IF(VLOOKUP(A23,Tirage!A:L,2,FALSE)=\"\",\"\",VLOOKUP(A23,Tirage!A:L,10,FALSE))","v":""},{"$f":"IF(VLOOKUP(A23,Tirage!A:L,2,FALSE)=\"\",\"\",VLOOKUP(A23,Tirage!A:L,11,FALSE))","v":""}]
[]
["Poule G ",{"$f":"IF(VLOOKUP(A26,Tirage!A:L,2,FALSE)=\"\",\"\",VLOOKUP(A26,Tirage!A:L,2,FALSE))","v":""},{"$f":"IF(VLOOKUP(A26,Tirage!A:L,2,FALSE)=\"\",\"\",VLOOKUP(A26,Tirage!A:L,3,FALSE))","v":""},{"$f":"IF(VLOOKUP(A26,Tirage!A:L,2,FALSE)=\"\",\"\",VLOOKUP(A26,Tirage!A:L,4,FALSE))","v":""},{"$f":"IF(VLOOKUP(A26,Tirage!A:L,2,FALSE)=\"\",\"\",VLOOKUP(A26,Tirage!A:L,5,FALSE))","v":""},{"$f":"IF(VLOOKUP(A26,Tirage!A:L,2,FALSE)=\"\",\"\",VLOOKUP(A26,Tirage!A:L,6,FALSE))","v":""}]
[null,{"$f":"IF(VLOOKUP(A26,Tirage!A:L,2,FALSE)=\"\",\"\",VLOOKUP(A26,Tirage!A:L,7,FALSE))","v":""},{"$f":"IF(VLOOKUP(A26,Tirage!A:L,2,FALSE)=\"\",\"\",VLOOKUP(A26,Tirage!A:L,8,FALSE))","v":""},{"$f":"IF(VLOOKUP(A26,Tirage!A:L,2,FALSE)=\"\",\"\",VLOOKUP(A26,Tirage!A:L,9,FALSE))","v":""},{"$f":"IF(VLOOKUP(A26,Tirage!A:L,2,FALSE)=\"\",\"\",VLOOKUP(A26,Tirage!A:L,10,FALSE))","v":""},{"$f":"IF(VLOOKUP(A26,Tirage!A:L,2,FALSE)=\"\",\"\",VLOOKUP(A26,Tirage!A:L,11,FALSE))","v":""}]
[]
["Poule H ",{"$f":"IF(VLOOKUP(A29,Tirage!A:L,2,FALSE)=\"\",\"\",VLOOKUP(A29,Tirage!A:L,2,FALSE))","v":""},{"$f":"IF(VLOOKUP(A29,Tirage!A:L,2,FALSE)=\"\",\"\",VLOOKUP(A29,Tirage!A:L,3,FALSE))","v":""},{"$f":"IF(VLOOKUP(A29,Tirage!A:L,2,FALSE)=\"\",\"\",VLOOKUP(A29,Tirage!A:L,4,FALSE))","v":""},{"$f":"IF(VLOOKUP(A29,Tirage!A:L,2,FALSE)=\"\",\"\",VLOOKUP(A29,Tirage!A:L,5,FALSE))","v":""},{"$f":"IF(VLOOKUP(A29,Tirage!A:L,2,FALSE)=\"\",\"\",VLOOKUP(A29,Tirage!A:L,6,FALSE))","v":""}]
[null,{"$f":"IF(VLOOKUP(A29,Tirage!A:L,2,FALSE)=\"\",\"\",VLOOKUP(A29,Tirage!A:L,7,FALSE))","v":""},{"$f":"IF(VLOOKUP(A29,Tirage!A:L,2,FALSE)=\"\",\"\",VLOOKUP(A29,Tirage!A:L,8,FALSE))","v":""},{"$f":"IF(VLOOKUP(A29,Tirage!A:L,2,FALSE)=\"\",\"\",VLOOKUP(A29,Tirage!A:L,9,FALSE))","v":""},{"$f":"IF(VLOOKUP(A29,Tirage!A:L,2,FALSE)=\"\",\"\",VLOOKUP(A29,Tirage!A:L,10,FALSE))","v":""},{"$f":"IF(VLOOKUP(A29,Tirage!A:L,2,FALSE)=\"\",\"\",VLOOKUP(A29,Tirage!A:L,11,FALSE))","v":""}]
[]
["Poule I ",{"$f":"IF(VLOOKUP(A32,Tirage!A:L,2,FALSE)=\"\",\"\",VLOOKUP(A32,Tirage!A:L,2,FALSE))","v":""},{"$f":"IF(VLOOKUP(A32,Tirage!A:L,2,FALSE)=\"\",\"\",VLOOKUP(A32,Tirage!A:L,3,FALSE))","v":""},{"$f":"IF(VLOOKUP(A32,Tirage!A:L,2,FALSE)=\"\",\"\",VLOOKUP(A32,Tirage!A:L,4,FALSE))","v":""},{"$f":"IF(VLOOKUP(A32,Tirage!A:L,2,FALSE)=\"\",\"\",VLOOKUP(A32,Tirage!A:L,5,FALSE))","v":""},{"$f":"IF(VLOOKUP(A32,Tirage!A:L,2,FALSE)=\"\",\"\",VLOOKUP(A32,Tirage!A:L,6,FALSE))","v":""}]
[null,{"$f":"IF(VLOOKUP(A32,Tirage!A:L,2,FALSE)=\"\",\"\",VLOOKUP(A32,Tirage!A:L,7,FALSE))","v":""},{"$f":"IF(VLOOKUP(A32,Tirage!A:L,2,FALSE)=\"\",\"\",VLOOKUP(A32,Tirage!A:L,8,FALSE))","v":""},{"$f":"IF(VLOOKUP(A32,Tirage!A:L,2,FALSE)=\"\",\"\",VLOOKUP(A32,Tirage!A:L,9,FALSE))","v":""},{"$f":"IF(VLOOKUP(A32,Tirage!A:L,2,FALSE)=\"\",\"\",VLOOKUP(A32,Tirage!A:L,10,FALSE))","v":""},{"$f":"IF(VLOOKUP(A32,Tirage!A:L,2,FALSE)=\"\",\"\",VLOOKUP(A32,Tirage!A:L,11,FALSE))","v":""}]
[]
["Poule J ",{"$f":"IF(VLOOKUP(A35,Tirage!A:L,2,FALSE)=\"\",\"\",VLOOKUP(A35,Tirage!A:L,2,FALSE))","v":""},{"$f":"IF(VLOOKUP(A35,Tirage!A:L,2,FALSE)=\"\",\"\",VLOOKUP(A35,Tirage!A:L,3,FALSE))","v":""},{"$f":"IF(VLOOKUP(A35,Tirage!A:L,2,FALSE)=\"\",\"\",VLOOKUP(A35,Tirage!A:L,4,FALSE))","v":""},{"$f":"IF(VLOOKUP(A35,Tirage!A:L,2,FALSE)=\"\",\"\",VLOOKUP(A35,Tirage!A:L,5,FALSE))","v":""},{"$f":"IF(VLOOKUP(A35,Tirage!A:L,2,FALSE)=\"\",\"\",VLOOKUP(A35,Tirage!A:L,6,FALSE))","v":""}]
[null,{"$f":"IF(VLOOKUP(A35,Tirage!A:L,2,FALSE)=\"\",\"\",VLOOKUP(A35,Tirage!A:L,7,FALSE))","v":""},{"$f":"IF(VLOOKUP(A35,Tirage!A:L,2,FALSE)=\"\",\"\",VLOOKUP(A35,Tirage!A:L,8,FALSE))","v":""},{"$f":"IF(VLOOKUP(A35,Tirage!A:L,2,FALSE)=\"\",\"\",VLOOKUP(A35,Tirage!A:L,9,FALSE))","v":""},{"$f":"IF(VLOOKUP(A35,Tirage!A:L,2,FALSE)=\"\",\"\",VLOOKUP(A35,Tirage!A:L,10,FALSE))","v":""},{"$f":"IF(VLOOKUP(A35,Tirage!A:L,2,FALSE)=\"\",\"\",VLOOKUP(A35,Tirage!A:L,11,FALSE))","v":""}]
[]
["Poule K ",{"$f":"IF(VLOOKUP(A38,Tirage!A:L,2,FALSE)=\"\",\"\",VLOOKUP(A38,Tirage!A:L,2,FALSE))","v":""},{"$f":"IF(VLOOKUP(A38,Tirage!A:L,2,FALSE)=\"\",\"\",VLOOKUP(A38,Tirage!A:L,3,FALSE))","v":""},{"$f":"IF(VLOOKUP(A38,Tirage!A:L,2,FALSE)=\"\",\"\",VLOOKUP(A38,Tirage!A:L,4,FALSE))","v":""},{"$f":"IF(VLOOKUP(A38,Tirage!A:L,2,FALSE)=\"\",\"\",VLOOKUP(A38,Tirage!A:L,5,FALSE))","v":""},{"$f":"IF(VLOOKUP(A38,Tirage!A:L,2,FALSE)=\"\",\"\",VLOOKUP(A38,Tirage!A:L,6,FALSE))","v":""}]
[null,{"$f":"IF(VLOOKUP(A38,Tirage!A:L,2,FALSE)=\"\",\"\",VLOOKUP(A38,Tirage!A:L,7,FALSE))","v":""},{"$f":"IF(VLOOKUP(A38,Tirage!A:L,2,FALSE)=\"\",\"\",VLOOKUP(A38,Tirage!A:L,8,FALSE))","v":""},{"$f":"IF(VLOOKUP(A38,Tirage!A:L,2,FALSE)=\"\",\"\",VLOOKUP(A38,Tirage!A:L,9,FALSE))","v":""},{"$f":"IF(VLOOKUP(A38,Tirage!A:L,2,FALSE)=\"\",\"\",VLOOKUP(A38,Tirage!A:L,10,FALSE))","v":""},{"$f":"IF(VLOOKUP(A38,Tirage!A:L,2,FALSE)=\"\",\"\",VLOOKUP(A38,Tirage!A:L,11,FALSE))","v":""}]
[]
["Poule L ",{"$f":"IF(VLOOKUP(A41,Tirage!A:L,2,FALSE)=\"\",\"\",VLOOKUP(A41,Tirage!A:L,2,FALSE))","v":""},{"$f":"IF(VLOOKUP(A41,Tirage!A:L,2,FALSE)=\"\",\"\",VLOOKUP(A41,Tirage!A:L,3,FALSE))","v":""},{"$f":"IF(VLOOKUP(A41,Tirage!A:L,2,FALSE)=\"\",\"\",VLOOKUP(A41,Tirage!A:L,4,FALSE))","v":""},{"$f":"IF(VLOOKUP(A41,Tirage!A:L,2,FALSE)=\"\",\"\",VLOOKUP(A41,Tirage!A:L,5,FALSE))","v":""},{"$f":"IF(VLOOKUP(A41,Tirage!A:L,2,FALSE)=\"\",\"\",VLOOKUP(A41,Tirage!A:L,6,FALSE))","v":""}]
[null,{"$f":"IF(VLOOKUP(A41,Tirage!A:L,2,FALSE)=\"\",\"\",VLOOKUP(A41,Tirage!A:L,7,FALSE))","v":""},{"$f":"IF(VLOOKUP(A41,Tirage!A:L,2,FALSE)=\"\",\"\",VLOOKUP(A41,Tirage!A:L,8,FALSE))","v":""},{"$f":"IF(VLOOKUP(A41,Tirage!A:L,2,FALSE)=\"\",\"\",VLOOKUP(A41,Tirage!A:L,9,FALSE))","v":""},{"$f":"IF(VLOOKUP(A41,Tirage!A:L,2,FALSE)=\"\",\"\",VLOOKUP(A41,Tirage!A:L,10,FALSE))","v":""},{"$f":"IF(VLOOKUP(A41,Tirage!A:L,2,FALSE)=\"\",\"\",VLOOKUP(A41,Tirage!A:L,11,FALSE))","v":""}]
[]
["Poule M ",{"$f":"IF(VLOOKUP(A44,Tirage!A:L,2,FALSE)=\"\",\"\",VLOOKUP(A44,Tirage!A:L,2,FALSE))","v":""},{"$f":"IF(VLOOKUP(A44,Tirage!A:L,2,FALSE)=\"\",\"\",VLOOKUP(A44,Tirage!A:L,3,FALSE))","v":""},{"$f":"IF(VLOOKUP(A44,Tirage!A:L,2,FALSE)=\"\",\"\",VLOOKUP(A44,Tirage!A:L,4,FALSE))","v":""},{"$f":"IF(VLOOKUP(A44,Tirage!A:L,2,FALSE)=\"\",\"\",VLOOKUP(A44,Tirage!A:L,5,FALSE))","v":""},{"$f":"IF(VLOOKUP(A44,Tirage!A:L,2,FALSE)=\"\",\"\",VLOOKUP(A44,Tirage!A:L,6,FALSE))","v":""}]
[null,{"$f":"IF(VLOOKUP(A44,Tirage!A:L,2,FALSE)=\"\",\"\",VLOOKUP(A44,Tirage!A:L,7,FALSE))","v":""},{"$f":"IF(VLOOKUP(A44,Tirage!A:L,2,FALSE)=\"\",\"\",VLOOKUP(A44,Tirage!A:L,8,FALSE))","v":""},{"$f":"IF(VLOOKUP(A44,Tirage!A:L,2,FALSE)=\"\",\"\",VLOOKUP(A44,Tirage!A:L,9,FALSE))","v":""},{"$f":"IF(VLOOKUP(A44,Tirage!A:L,2,FALSE)=\"\",\"\",VLOOKUP(A44,Tirage!A:L,10,FALSE))","v":""},{"$f":"IF(VLOOKUP(A44,Tirage!A:L,2,FALSE)=\"\",\"\",VLOOKUP(A44,Tirage!A:L,11,FALSE))","v":""}]
[]
["Poule N ",{"$f":"IF(VLOOKUP(A47,Tirage!A:L,2,FALSE)=\"\",\"\",VLOOKUP(A47,Tirage!A:L,2,FALSE))","v":""},{"$f":"IF(VLOOKUP(A47,Tirage!A:L,2,FALSE)=\"\",\"\",VLOOKUP(A47,Tirage!A:L,3,FALSE))","v":""},{"$f":"IF(VLOOKUP(A47,Tirage!A:L,2,FALSE)=\"\",\"\",VLOOKUP(A47,Tirage!A:L,4,FALSE))","v":""},{"$f":"IF(VLOOKUP(A47,Tirage!A:L,2,FALSE)=\"\",\"\",VLOOKUP(A47,Tirage!A:L,5,FALSE))","v":""},{"$f":"IF(VLOOKUP(A47,Tirage!A:L,2,FALSE)=\"\",\"\",VLOOKUP(A47,Tirage!A:L,6,FALSE))","v":""}]
[null,{"$f":"IF(VLOOKUP(A47,Tirage!A:L,2,FALSE)=\"\",\"\",VLOOKUP(A47,Tirage!A:L,7,FALSE))","v":""},{"$f":"IF(VLOOKUP(A47,Tirage!A:L,2,FALSE)=\"\",\"\",VLOOKUP(A47,Tirage!A:L,8,FALSE))","v":""},{"$f":"IF(VLOOKUP(A47,Tirage!A:L,2,FALSE)=\"\",\"\",VLOOKUP(A47,Tirage!A:L,9,FALSE))","v":""},{"$f":"IF(VLOOKUP(A47,Tirage!A:L,2,FALSE)=\"\",\"\",VLOOKUP(A47,Tirage!A:L,10,FALSE))","v":""},{"$f":"IF(VLOOKUP(A47,Tirage!A:L,2,FALSE)=\"\",\"\",VLOOKUP(A47,Tirage!A:L,11,FALSE))","v":""}]
[]
["Poule O ",{"$f":"IF(VLOOKUP(A50,Tirage!A:L,2,FALSE)=\"\",\"\",VLOOKUP(A50,Tirage!A:L,2,FALSE))","v":""},{"$f":"IF(VLOOKUP(A50,Tirage!A:L,2,FALSE)=\"\",\"\",VLOOKUP(A50,Tirage!A:L,3,FALSE))","v":""},{"$f":"IF(VLOOKUP(A50,Tirage!A:L,2,FALSE)=\"\",\"\",VLOOKUP(A50,Tirage!A:L,4,FALSE))","v":""},{"$f":"IF(VLOOKUP(A50,Tirage!A:L,2,FALSE)=\"\",\"\",VLOOKUP(A50,Tirage!A:L,5,FALSE))","v":""},{"$f":"IF(VLOOKUP(A50,Tirage!A:L,2,FALSE)=\"\",\"\",VLOOKUP(A50,Tirage!A:L,6,FALSE))","v":""}]
[null,{"$f":"IF(VLOOKUP(A50,Tirage!A:L,2,FALSE)=\"\",\"\",VLOOKUP(A50,Tirage!A:L,7,FALSE))","v":""},{"$f":"IF(VLOOKUP(A50,Tirage!A:L,2,FALSE)=\"\",\"\",VLOOKUP(A50,Tirage!A:L,8,FALSE))","v":""},{"$f":"IF(VLOOKUP(A50,Tirage!A:L,2,FALSE)=\"\",\"\",VLOOKUP(A50,Tirage!A:L,9,FALSE))","v":""},{"$f":"IF(VLOOKUP(A50,Tirage!A:L,2,FALSE)=\"\",\"\",VLOOKUP(A50,Tirage!A:L,10,FALSE))","v":""},{"$f":"IF(VLOOKUP(A50,Tirage!A:L,2,FALSE)=\"\",\"\",VLOOKUP(A50,Tirage!A:L,11,FALSE))","v":""}]
[]
["Poule P ",{"$f":"IF(VLOOKUP(A53,Tirage!A:L,2,FALSE)=\"\",\"\",VLOOKUP(A53,Tirage!A:L,2,FALSE))","v":""},{"$f":"IF(VLOOKUP(A53,Tirage!A:L,2,FALSE)=\"\",\"\",VLOOKUP(A53,Tirage!A:L,3,FALSE))","v":""},{"$f":"IF(VLOOKUP(A53,Tirage!A:L,2,FALSE)=\"\",\"\",VLOOKUP(A53,Tirage!A:L,4,FALSE))","v":""},{"$f":"IF(VLOOKUP(A53,Tirage!A:L,2,FALSE)=\"\",\"\",VLOOKUP(A53,Tirage!A:L,5,FALSE))","v":""},{"$f":"IF(VLOOKUP(A53,Tirage!A:L,2,FALSE)=\"\",\"\",VLOOKUP(A53,Tirage!A:L,6,FALSE))","v":""}]
[null,{"$f":"IF(VLOOKUP(A53,Tirage!A:L,2,FALSE)=\"\",\"\",VLOOKUP(A53,Tirage!A:L,7,FALSE))","v":""},{"$f":"IF(VLOOKUP(A53,Tirage!A:L,2,FALSE)=\"\",\"\",VLOOKUP(A53,Tirage!A:L,8,FALSE))","v":""},{"$f":"IF(VLOOKUP(A53,Tirage!A:L,2,FALSE)=\"\",\"\",VLOOKUP(A53,Tirage!A:L,9,FALSE))","v":""},{"$f":"IF(VLOOKUP(A53,Tirage!A:L,2,FALSE)=\"\",\"\",VLOOKUP(A53,Tirage!A:L,10,FALSE))","v":""},{"$f":"IF(VLOOKUP(A53,Tirage!A:L,2,FALSE)=\"\",\"\",VLOOKUP(A53,Tirage!A:L,11,FALSE))","v":""}]
[]
["Poule Q ",{"$f":"IF(VLOOKUP(A56,Tirage!A:L,2,FALSE)=\"\",\"\",VLOOKUP(A56,Tirage!A:L,2,FALSE))","v":""},{"$f":"IF(VLOOKUP(A56,Tirage!A:L,2,FALSE)=\"\",\"\",VLOOKUP(A56,Tirage!A:L,3,FALSE))","v":""},{"$f":"IF(VLOOKUP(A56,Tirage!A:L,2,FALSE)=\"\",\"\",VLOOKUP(A56,Tirage!A:L,4,FALSE))","v":""},{"$f":"IF(VLOOKUP(A56,Tirage!A:L,2,FALSE)=\"\",\"\",VLOOKUP(A56,Tirage!A:L,5,FALSE))","v":""},{"$f":"IF(VLOOKUP(A56,Tirage!A:L,2,FALSE)=\"\",\"\",VLOOKUP(A56,Tirage!A:L,6,FALSE))","v":""}]
[null,{"$f":"IF(VLOOKUP(A56,Tirage!A:L,2,FALSE)=\"\",\"\",VLOOKUP(A56,Tirage!A:L,7,FALSE))","v":""},{"$f":"IF(VLOOKUP(A56,Tirage!A:L,2,FALSE)=\"\",\"\",VLOOKUP(A56,Tirage!A:L,8,FALSE))","v":""},{"$f":"IF(VLOOKUP(A56,Tirage!A:L,2,FALSE)=\"\",\"\",VLOOKUP(A56,Tirage!A:L,9,FALSE))","v":""},{"$f":"IF(VLOOKUP(A56,Tirage!A:L,2,FALSE)=\"\",\"\",VLOOKUP(A56,Tirage!A:L,10,FALSE))","v":""},{"$f":"IF(VLOOKUP(A56,Tirage!A:L,2,FALSE)=\"\",\"\",VLOOKUP(A56,Tirage!A:L,11,FALSE))","v":""}]
[]
["Poule R ",{"$f":"IF(VLOOKUP(A59,Tirage!A:L,2,FALSE)=\"\",\"\",VLOOKUP(A59,Tirage!A:L,2,FALSE))","v":""},{"$f":"IF(VLOOKUP(A59,Tirage!A:L,2,FALSE)=\"\",\"\",VLOOKUP(A59,Tirage!A:L,3,FALSE))","v":""},{"$f":"IF(VLOOKUP(A59,Tirage!A:L,2,FALSE)=\"\",\"\",VLOOKUP(A59,Tirage!A:L,4,FALSE))","v":""},{"$f":"IF(VLOOKUP(A59,Tirage!A:L,2,FALSE)=\"\",\"\",VLOOKUP(A59,Tirage!A:L,5,FALSE))","v":""},{"$f":"IF(VLOOKUP(A59,Tirage!A:L,2,FALSE)=\"\",\"\",VLOOKUP(A59,Tirage!A:L,6,FALSE))","v":""}]
[null,{"$f":"IF(VLOOKUP(A59,Tirage!A:L,2,FALSE)=\"\",\"\",VLOOKUP(A59,Tirage!A:L,7,FALSE))","v":""},{"$f":"IF(VLOOKUP(A59,Tirage!A:L,2,FALSE)=\"\",\"\",VLOOKUP(A59,Tirage!A:L,8,FALSE))","v":""},{"$f":"IF(VLOOKUP(A59,Tirage!A:L,2,FALSE)=\"\",\"\",VLOOKUP(A59,Tirage!A:L,9,FALSE))","v":""},{"$f":"IF(VLOOKUP(A59,Tirage!A:L,2,FALSE)=\"\",\"\",VLOOKUP(A59,Tirage!A:L,10,FALSE))","v":""},{"$f":"IF(VLOOKUP(A59,Tirage!A:L,2,FALSE)=\"\",\"\",VLOOKUP(A59,Tirage!A:L,11,FALSE))","v":""}]
[]
["Poule S ",{"$f":"IF(VLOOKUP(A62,Tirage!A:L,2,FALSE)=\"\",\"\",VLOOKUP(A62,Tirage!A:L,2,FALSE))","v":""},{"$f":"IF(VLOOKUP(A62,Tirage!A:L,2,FALSE)=\"\",\"\",VLOOKUP(A62,Tirage!A:L,3,FALSE))","v":""},{"$f":"IF(VLOOKUP(A62,Tirage!A:L,2,FALSE)=\"\",\"\",VLOOKUP(A62,Tirage!A:L,4,FALSE))","v":""},{"$f":"IF(VLOOKUP(A62,Tirage!A:L,2,FALSE)=\"\",\"\",VLOOKUP(A62,Tirage!A:L,5,FALSE))","v":""},{"$f":"IF(VLOOKUP(A62,Tirage!A:L,2,FALSE)=\"\",\"\",VLOOKUP(A62,Tirage!A:L,6,FALSE))","v":""}]
[null,{"$f":"IF(VLOOKUP(A62,Tirage!A:L,2,FALSE)=\"\",\"\",VLOOKUP(A62,Tirage!A:L,7,FALSE))","v":""},{"$f":"IF(VLOOKUP(A62,Tirage!A:L,2,FALSE)=\"\",\"\",VLOOKUP(A62,Tirage!A:L,8,FALSE))","v":""},{"$f":"IF(VLOOKUP(A62,Tirage!A:L,2,FALSE)=\"\",\"\",VLOOKUP(A62,Tirage!A:L,9,FALSE))","v":""},{"$f":"IF(VLOOKUP(A62,Tirage!A:L,2,FALSE)=\"\",\"\",VLOOKUP(A62,Tirage!A:L,10,FALSE))","v":""},{"$f":"IF(VLOOKUP(A62,Tirage!A:L,2,FALSE)=\"\",\"\",VLOOKUP(A62,Tirage!A:L,11,FALSE))","v":""}]
[]
["Poule T ",{"$f":"IF(VLOOKUP(A65,Tirage!A:L,2,FALSE)=\"\",\"\",VLOOKUP(A65,Tirage!A:L,2,FALSE))","v":""},{"$f":"IF(VLOOKUP(A65,Tirage!A:L,2,FALSE)=\"\",\"\",VLOOKUP(A65,Tirage!A:L,3,FALSE))","v":""},{"$f":"IF(VLOOKUP(A65,Tirage!A:L,2,FALSE)=\"\",\"\",VLOOKUP(A65,Tirage!A:L,4,FALSE))","v":""},{"$f":"IF(VLOOKUP(A65,Tirage!A:L,2,FALSE)=\"\",\"\",VLOOKUP(A65,Tirage!A:L,5,FALSE))","v":""},{"$f":"IF(VLOOKUP(A65,Tirage!A:L,2,FALSE)=\"\",\"\",VLOOKUP(A65,Tirage!A:L,6,FALSE))","v":""}]
[null,{"$f":"IF(VLOOKUP(A65,Tirage!A:L,2,FALSE)=\"\",\"\",VLOOKUP(A65,Tirage!A:L,7,FALSE))","v":""},{"$f":"IF(VLOOKUP(A65,Tirage!A:L,2,FALSE)=\"\",\"\",VLOOKUP(A65,Tirage!A:L,8,FALSE))","v":""},{"$f":"IF(VLOOKUP(A65,Tirage!A:L,2,FALSE)=\"\",\"\",VLOOKUP(A65,Tirage!A:L,9,FALSE))","v":""},{"$f":"IF(VLOOKUP(A65,Tirage!A:L,2,FALSE)=\"\",\"\",VLOOKUP(A65,Tirage!A:L,10,FALSE))","v":""},{"$f":"IF(VLOOKUP(A65,Tirage!A:L,2,FALSE)=\"\",\"\",VLOOKUP(A65,Tirage!A:L,11,FALSE))","v":""}]
[]
["Poule U ",{"$f":"IF(VLOOKUP(A68,Tirage!A:L,2,FALSE)=\"\",\"\",VLOOKUP(A68,Tirage!A:L,2,FALSE))","v":""},{"$f":"IF(VLOOKUP(A68,Tirage!A:L,2,FALSE)=\"\",\"\",VLOOKUP(A68,Tirage!A:L,3,FALSE))","v":""},{"$f":"IF(VLOOKUP(A68,Tirage!A:L,2,FALSE)=\"\",\"\",VLOOKUP(A68,Tirage!A:L,4,FALSE))","v":""},{"$f":"IF(VLOOKUP(A68,Tirage!A:L,2,FALSE)=\"\",\"\",VLOOKUP(A68,Tirage!A:L,5,FALSE))","v":""},{"$f":"IF(VLOOKUP(A68,Tirage!A:L,2,FALSE)=\"\",\"\",VLOOKUP(A68,Tirage!A:L,6,FALSE))","v":""}]
[null,{"$f":"IF(VLOOKUP(A68,Tirage!A:L,2,FALSE)=\"\",\"\",VLOOKUP(A68,Tirage!A:L,7,FALSE))","v":""},{"$f":"IF(VLOOKUP(A68,Tirage!A:L,2,FALSE)=\"\",\"\",VLOOKUP(A68,Tirage!A:L,8,FALSE))","v":""},{"$f":"IF(VLOOKUP(A68,Tirage!A:L,2,FALSE)=\"\",\"\",VLOOKUP(A68,Tirage!A:L,9,FALSE))","v":""},{"$f":"IF(VLOOKUP(A68,Tirage!A:L,2,FALSE)=\"\",\"\",VLOOKUP(A68,Tirage!A:L,10,FALSE))","v":""},{"$f":"IF(VLOOKUP(A68,Tirage!A:L,2,FALSE)=\"\",\"\",VLOOKUP(A68,Tirage!A:L,11,FALSE))","v":""}]
[]
["Poule V ",{"$f":"IF(VLOOKUP(A71,Tirage!A:L,2,FALSE)=\"\",\"\",VLOOKUP(A71,Tirage!A:L,2,FALSE))","v":""},{"$f":"IF(VLOOKUP(A71,Tirage!A:L,2,FALSE)=\"\",\"\",VLOOKUP(A71,Tirage!A:L,3,FALSE))","v":""},{"$f":"IF(VLOOKUP(A71,Tirage!A:L,2,FALSE)=\"\",\"\",VLOOKUP(A71,Tirage!A:L,4,FALSE))","v":""},{"$f":"IF(VLOOKUP(A71,Tirage!A:L,2,FALSE)=\"\",\"\",VLOOKUP(A71,Tirage!A:L,5,FALSE))","v":""},{"$f":"IF(VLOOKUP(A71,Tirage!A:L,2,FALSE)=\"\",\"\",VLOOKUP(A71,Tirage!A:L,6,FALSE))","v":""}]
[null,{"$f":"IF(VLOOKUP(A71,Tirage!A:L,2,FALSE)=\"\",\"\",VLOOKUP(A71,Tirage!A:L,7,FALSE))","v":""},{"$f":"IF(VLOOKUP(A71,Tirage!A:L,2,FALSE)=\"\",\"\",VLOOKUP(A71,Tirage!A:L,8,FALSE))","v":""},{"$f":"IF(VLOOKUP(A71,Tirage!A:L,2,FALSE)=\"\",\"\",VLOOKUP(A71,Tirage!A:L,9,FALSE))","v":""},{"$f":"IF(VLOOKUP(A71,Tirage!A:L,2,FALSE)=\"\",\"\",VLOOKUP(A71,Tirage!A:L,10,FALSE))","v":""},{"$f":"IF(VLOOKUP(A71,Tirage!A:L,2,FALSE)=\"\",\"\",VLOOKUP(A71,Tirage!A:L,11,FALSE))","v":""}]
[]
["Poule W ",{"$f":"IF(VLOOKUP(A74,Tirage!A:L,2,FALSE)=\"\",\"\",VLOOKUP(A74,Tirage!A:L,2,FALSE))","v":""},{"$f":"IF(VLOOKUP(A74,Tirage!A:L,2,FALSE)=\"\",\"\",VLOOKUP(A74,Tirage!A:L,3,FALSE))","v":""},{"$f":"IF(VLOOKUP(A74,Tirage!A:L,2,FALSE)=\"\",\"\",VLOOKUP(A74,Tirage!A:L,4,FALSE))","v":""},{"$f":"IF(VLOOKUP(A74,Tirage!A:L,2,FALSE)=\"\",\"\",VLOOKUP(A74,Tirage!A:L,5,FALSE))","v":""},{"$f":"IF(VLOOKUP(A74,Tirage!A:L,2,FALSE)=\"\",\"\",VLOOKUP(A74,Tirage!A:L,6,FALSE))","v":""}]
[null,{"$f":"IF(VLOOKUP(A74,Tirage!A:L,2,FALSE)=\"\",\"\",VLOOKUP(A74,Tirage!A:L,7,FALSE))","v":""},{"$f":"IF(VLOOKUP(A74,Tirage!A:L,2,FALSE)=\"\",\"\",VLOOKUP(A74,Tirage!A:L,8,FALSE))","v":""},{"$f":"IF(VLOOKUP(A74,Tirage!A:L,2,FALSE)=\"\",\"\",VLOOKUP(A74,Tirage!A:L,9,FALSE))","v":""},{"$f":"IF(VLOOKUP(A74,Tirage!A:L,2,FALSE)=\"\",\"\",VLOOKUP(A74,Tirage!A:L,10,FALSE))","v":""},{"$f":"IF(VLOOKUP(A74,Tirage!A:L,2,FALSE)=\"\",\"\",VLOOKUP(A74,Tirage!A:L,11,FALSE))","v":""}]
[]
["Poule X ",{"$f":"IF(VLOOKUP(A77,Tirage!A:L,2,FALSE)=\"\",\"\",VLOOKUP(A77,Tirage!A:L,2,FALSE))","v":""},{"$f":"IF(VLOOKUP(A77,Tirage!A:L,2,FALSE)=\"\",\"\",VLOOKUP(A77,Tirage!A:L,3,FALSE))","v":""},{"$f":"IF(VLOOKUP(A77,Tirage!A:L,2,FALSE)=\"\",\"\",VLOOKUP(A77,Tirage!A:L,4,FALSE))","v":""},{"$f":"IF(VLOOKUP(A77,Tirage!A:L,2,FALSE)=\"\",\"\",VLOOKUP(A77,Tirage!A:L,5,FALSE))","v":""},{"$f":"IF(VLOOKUP(A77,Tirage!A:L,2,FALSE)=\"\",\"\",VLOOKUP(A77,Tirage!A:L,6,FALSE))","v":""}]
[null,{"$f":"IF(VLOOKUP(A77,Tirage!A:L,2,FALSE)=\"\",\"\",VLOOKUP(A77,Tirage!A:L,7,FALSE))","v":""},{"$f":"IF(VLOOKUP(A77,Tirage!A:L,2,FALSE)=\"\",\"\",VLOOKUP(A77,Tirage!A:L,8,FALSE))","v":""},{"$f":"IF(VLOOKUP(A77,Tirage!A:L,2,FALSE)=\"\",\"\",VLOOKUP(A77,Tirage!A:L,9,FALSE))","v":""},{"$f":"IF(VLOOKUP(A77,Tirage!A:L,2,FALSE)=\"\",\"\",VLOOKUP(A77,Tirage!A:L,10,FALSE))","v":""},{"$f":"IF(VLOOKUP(A77,Tirage!A:L,2,FALSE)=\"\",\"\",VLOOKUP(A77,Tirage!A:L,11,FALSE))","v":""}]
[]
["Poule Y ",{"$f":"IF(VLOOKUP(A80,Tirage!A:L,2,FALSE)=\"\",\"\",VLOOKUP(A80,Tirage!A:L,2,FALSE))","v":""},{"$f":"IF(VLOOKUP(A80,Tirage!A:L,2,FALSE)=\"\",\"\",VLOOKUP(A80,Tirage!A:L,3,FALSE))","v":""},{"$f":"IF(VLOOKUP(A80,Tirage!A:L,2,FALSE)=\"\",\"\",VLOOKUP(A80,Tirage!A:L,4,FALSE))","v":""},{"$f":"IF(VLOOKUP(A80,Tirage!A:L,2,FALSE)=\"\",\"\",VLOOKUP(A80,Tirage!A:L,5,FALSE))","v":""},{"$f":"IF(VLOOKUP(A80,Tirage!A:L,2,FALSE)=\"\",\"\",VLOOKUP(A80,Tirage!A:L,6,FALSE))","v":""}]
[null,{"$f":"IF(VLOOKUP(A80,Tirage!A:L,2,FALSE)=\"\",\"\",VLOOKUP(A80,Tirage!A:L,7,FALSE))","v":""},{"$f":"IF(VLOOKUP(A80,Tirage!A:L,2,FALSE)=\"\",\"\",VLOOKUP(A80,Tirage!A:L,8,FALSE))","v":""},{"$f":"IF(VLOOKUP(A80,Tirage!A:L,2,FALSE)=\"\",\"\",VLOOKUP(A80,Tirage!A:L,9,FALSE))","v":""},{"$f":"IF(VLOOKUP(A80,Tirage!A:L,2,FALSE)=\"\",\"\",VLOOKUP(A80,Tirage!A:L,10,FALSE))","v":""},{"$f":"IF(VLOOKUP(A80,Tirage!A:L,2,FALSE)=\"\",\"\",VLOOKUP(A80,Tirage!A:L,11,FALSE))","v":""}]
[]
["Poule Z ",{"$f":"IF(VLOOKUP(A83,Tirage!A:L,2,FALSE)=\"\",\"\",VLOOKUP(A83,Tirage!A:L,2,FALSE))","v":""},{"$f":"IF(VLOOKUP(A83,Tirage!A:L,2,FALSE)=\"\",\"\",VLOOKUP(A83,Tirage!A:L,3,FALSE))","v":""},{"$f":"IF(VLOOKUP(A83,Tirage!A:L,2,FALSE)=\"\",\"\",VLOOKUP(A83,Tirage!A:L,4,FALSE))","v":""},{"$f":"IF(VLOOKUP(A83,Tirage!A:L,2,FALSE)=\"\",\"\",VLOOKUP(A83,Tirage!A:L,5,FALSE))","v":""},{"$f":"IF(VLOOKUP(A83,Tirage!A:L,2,FALSE)=\"\",\"\",VLOOKUP(A83,Tirage!A:L,6,FALSE))","v":""}]
[null,{"$f":"IF(VLOOKUP(A83,Tirage!A:L,2,FALSE)=\"\",\"\",VLOOKUP(A83,Tirage!A:L,7,FALSE))","v":""},{"$f":"IF(VLOOKUP(A83,Tirage!A:L,2,FALSE)=\"\",\"\",VLOOKUP(A83,Tirage!A:L,8,FALSE))","v":""},{"$f":"IF(VLOOKUP(A83,Tirage!A:L,2,FALSE)=\"\",\"\",VLOOKUP(A83,Tirage!A:L,9,FALSE))","v":""},{"$f":"IF(VLOOKUP(A83,Tirage!A:L,2,FALSE)=\"\",\"\",VLOOKUP(A83,Tirage!A:L,10,FALSE))","v":""},{"$f":"IF(VLOOKUP(A83,Tirage!A:L,2,FALSE)=\"\",\"\",VLOOKUP(A83,Tirage!A:L,11,FALSE))","v":""}]
[]
["Poule AA",{"$f":"IF(VLOOKUP(A86,Tirage!A:L,2,FALSE)=\"\",\"\",VLOOKUP(A86,Tirage!A:L,2,FALSE))","v":""},{"$f":"IF(VLOOKUP(A86,Tirage!A:L,2,FALSE)=\"\",\"\",VLOOKUP(A86,Tirage!A:L,3,FALSE))","v":""},{"$f":"IF(VLOOKUP(A86,Tirage!A:L,2,FALSE)=\"\",\"\",VLOOKUP(A86,Tirage!A:L,4,FALSE))","v":""},{"$f":"IF(VLOOKUP(A86,Tirage!A:L,2,FALSE)=\"\",\"\",VLOOKUP(A86,Tirage!A:L,5,FALSE))","v":""},{"$f":"IF(VLOOKUP(A86,Tirage!A:L,2,FALSE)=\"\",\"\",VLOOKUP(A86,Tirage!A:L,6,FALSE))","v":""}]
[null,{"$f":"IF(VLOOKUP(A86,Tirage!A:L,2,FALSE)=\"\",\"\",VLOOKUP(A86,Tirage!A:L,7,FALSE))","v":""},{"$f":"IF(VLOOKUP(A86,Tirage!A:L,2,FALSE)=\"\",\"\",VLOOKUP(A86,Tirage!A:L,8,FALSE))","v":""},{"$f":"IF(VLOOKUP(A86,Tirage!A:L,2,FALSE)=\"\",\"\",VLOOKUP(A86,Tirage!A:L,9,FALSE))","v":""},{"$f":"IF(VLOOKUP(A86,Tirage!A:L,2,FALSE)=\"\",\"\",VLOOKUP(A86,Tirage!A:L,10,FALSE))","v":""},{"$f":"IF(VLOOKUP(A86,Tirage!A:L,2,FALSE)=\"\",\"\",VLOOKUP(A86,Tirage!A:L,11,FALSE))","v":""}]
[]
["Poule AB",{"$f":"IF(VLOOKUP(A89,Tirage!A:L,2,FALSE)=\"\",\"\",VLOOKUP(A89,Tirage!A:L,2,FALSE))","v":""},{"$f":"IF(VLOOKUP(A89,Tirage!A:L,2,FALSE)=\"\",\"\",VLOOKUP(A89,Tirage!A:L,3,FALSE))","v":""},{"$f":"IF(VLOOKUP(A89,Tirage!A:L,2,FALSE)=\"\",\"\",VLOOKUP(A89,Tirage!A:L,4,FALSE))","v":""},{"$f":"IF(VLOOKUP(A89,Tirage!A:L,2,FALSE)=\"\",\"\",VLOOKUP(A89,Tirage!A:L,5,FALSE))","v":""},{"$f":"IF(VLOOKUP(A89,Tirage!A:L,2,FALSE)=\"\",\"\",VLOOKUP(A89,Tirage!A:L,6,FALSE))","v":""}]
[null,{"$f":"IF(VLOOKUP(A89,Tirage!A:L,2,FALSE)=\"\",\"\",VLOOKUP(A89,Tirage!A:L,7,FALSE))","v":""},{"$f":"IF(VLOOKUP(A89,Tirage!A:L,2,FALSE)=\"\",\"\",VLOOKUP(A89,Tirage!A:L,8,FALSE))","v":""},{"$f":"IF(VLOOKUP(A89,Tirage!A:L,2,FALSE)=\"\",\"\",VLOOKUP(A89,Tirage!A:L,9,FALSE))","v":""},{"$f":"IF(VLOOKUP(A89,Tirage!A:L,2,FALSE)=\"\",\"\",VLOOKUP(A89,Tirage!A:L,10,FALSE))","v":""},{"$f":"IF(VLOOKUP(A89,Tirage!A:L,2,FALSE)=\"\",\"\",VLOOKUP(A89,Tirage!A:L,11,FALSE))","v":""}]
[]
["Poule AC",{"$f":"IF(VLOOKUP(A92,Tirage!A:L,2,FALSE)=\"\",\"\",VLOOKUP(A92,Tirage!A:L,2,FALSE))","v":""},{"$f":"IF(VLOOKUP(A92,Tirage!A:L,2,FALSE)=\"\",\"\",VLOOKUP(A92,Tirage!A:L,3,FALSE))","v":""},{"$f":"IF(VLOOKUP(A92,Tirage!A:L,2,FALSE)=\"\",\"\",VLOOKUP(A92,Tirage!A:L,4,FALSE))","v":""},{"$f":"IF(VLOOKUP(A92,Tirage!A:L,2,FALSE)=\"\",\"\",VLOOKUP(A92,Tirage!A:L,5,FALSE))","v":""},{"$f":"IF(VLOOKUP(A92,Tirage!A:L,2,FALSE)=\"\",\"\",VLOOKUP(A92,Tirage!A:L,6,FALSE))","v":""}]
[null,{"$f":"IF(VLOOKUP(A92,Tirage!A:L,2,FALSE)=\"\",\"\",VLOOKUP(A92,Tirage!A:L,7,FALSE))","v":""},{"$f":"IF(VLOOKUP(A92,Tirage!A:L,2,FALSE)=\"\",\"\",VLOOKUP(A92,Tirage!A:L,8,FALSE))","v":""},{"$f":"IF(VLOOKUP(A92,Tirage!A:L,2,FALSE)=\"\",\"\",VLOOKUP(A92,Tirage!A:L,9,FALSE))","v":""},{"$f":"IF(VLOOKUP(A92,Tirage!A:L,2,FALSE)=\"\",\"\",VLOOKUP(A92,Tirage!A:L,10,FALSE))","v":""},{"$f":"IF(VLOOKUP(A92,Tirage!A:L,2,FALSE)=\"\",\"\",VLOOKUP(A92,Tirage!A:L,11,FALSE))","v":""}]
[]
["Poule AD",{"$f":"IF(VLOOKUP(A95,Tirage!A:L,2,FALSE)=\"\",\"\",VLOOKUP(A95,Tirage!A:L,2,FALSE))","v":""},{"$f":"IF(VLOOKUP(A95,Tirage!A:L,2,FALSE)=\"\",\"\",VLOOKUP(A95,Tirage!A:L,3,FALSE))","v":""},{"$f":"IF(VLOOKUP(A95,Tirage!A:L,2,FALSE)=\"\",\"\",VLOOKUP(A95,Tirage!A:L,4,FALSE))","v":""},{"$f":"IF(VLOOKUP(A95,Tirage!A:L,2,FALSE)=\"\",\"\",VLOOKUP(A95,Tirage!A:L,5,FALSE))","v":""},{"$f":"IF(VLOOKUP(A95,Tirage!A:L,2,FALSE)=\"\",\"\",VLOOKUP(A95,Tirage!A:L,6,FALSE))","v":""}]
[null,{"$f":"IF(VLOOKUP(A95,Tirage!A:L,2,FALSE)=\"\",\"\",VLOOKUP(A95,Tirage!A:L,7,FALSE))","v":""},{"$f":"IF(VLOOKUP(A95,Tirage!A:L,2,FALSE)=\"\",\"\",VLOOKUP(A95,Tirage!A:L,8,FALSE))","v":""},{"$f":"IF(VLOOKUP(A95,Tirage!A:L,2,FALSE)=\"\",\"\",VLOOKUP(A95,Tirage!A:L,9,FALSE))","v":""},{"$f":"IF(VLOOKUP(A95,Tirage!A:L,2,FALSE)=\"\",\"\",VLOOKUP(A95,Tirage!A:L,10,FALSE))","v":""},{"$f":"IF(VLOOKUP(A95,Tirage!A:L,2,FALSE)=\"\",\"\",VLOOKUP(A95,Tirage!A:L,11,FALSE))","v":""}]
[]
["Poule AE",{"$f":"IF(VLOOKUP(A98,Tirage!A:L,2,FALSE)=\"\",\"\",VLOOKUP(A98,Tirage!A:L,2,FALSE))","v":""},{"$f":"IF(VLOOKUP(A98,Tirage!A:L,2,FALSE)=\"\",\"\",VLOOKUP(A98,Tirage!A:L,3,FALSE))","v":""},{"$f":"IF(VLOOKUP(A98,Tirage!A:L,2,FALSE)=\"\",\"\",VLOOKUP(A98,Tirage!A:L,4,FALSE))","v":""},{"$f":"IF(VLOOKUP(A98,Tirage!A:L,2,FALSE)=\"\",\"\",VLOOKUP(A98,Tirage!A:L,5,FALSE))","v":""},{"$f":"IF(VLOOKUP(A98,Tirage!A:L,2,FALSE)=\"\",\"\",VLOOKUP(A98,Tirage!A:L,6,FALSE))","v":""}]
[null,{"$f":"IF(VLOOKUP(A98,Tirage!A:L,2,FALSE)=\"\",\"\",VLOOKUP(A98,Tirage!A:L,7,FALSE))","v":""},{"$f":"IF(VLOOKUP(A98,Tirage!A:L,2,FALSE)=\"\",\"\",VLOOKUP(A98,Tirage!A:L,8,FALSE))","v":""},{"$f":"IF(VLOOKUP(A98,Tirage!A:L,2,FALSE)=\"\",\"\",VLOOKUP(A98,Tirage!A:L,9,FALSE))","v":""},{"$f":"IF(VLOOKUP(A98,Tirage!A:L,2,FALSE)=\"\",\"\",VLOOKUP(A98,Tirage!A:L,10,FALSE))","v":""},{"$f":"IF(VLOOKUP(A98,Tirage!A:L,2,FALSE)=\"\",\"\",VLOOKUP(A98,Tirage!A:L,11,FALSE))","v":""}]
[]
["Poule AF",{"$f":"IF(VLOOKUP(A101,Tirage!A:L,2,FALSE)=\"\",\"\",VLOOKUP(A101,Tirage!A:L,2,FALSE))","v":""},{"$f":"IF(VLOOKUP(A101,Tirage!A:L,2,FALSE)=\"\",\"\",VLOOKUP(A101,Tirage!A:L,3,FALSE))","v":""},{"$f":"IF(VLOOKUP(A101,Tirage!A:L,2,FALSE)=\"\",\"\",VLOOKUP(A101,Tirage!A:L,4,FALSE))","v":""},{"$f":"IF(VLOOKUP(A101,Tirage!A:L,2,FALSE)=\"\",\"\",VLOOKUP(A101,Tirage!A:L,5,FALSE))","v":""},{"$f":"IF(VLOOKUP(A101,Tirage!A:L,2,FALSE)=\"\",\"\",VLOOKUP(A101,Tirage!A:L,6,FALSE))","v":""}]
[null,{"$f":"IF(VLOOKUP(A101,Tirage!A:L,2,FALSE)=\"\",\"\",VLOOKUP(A101,Tirage!A:L,7,FALSE))","v":""},{"$f":"IF(VLOOKUP(A101,Tirage!A:L,2,FALSE)=\"\",\"\",VLOOKUP(A101,Tirage!A:L,8,FALSE))","v":""},{"$f":"IF(VLOOKUP(A101,Tirage!A:L,2,FALSE)=\"\",\"\",VLOOKUP(A101,Tirage!A:L,9,FALSE))","v":""},{"$f":"IF(VLOOKUP(A101,Tirage!A:L,2,FALSE)=\"\",\"\",VLOOKUP(A101,Tirage!A:L,10,FALSE))","v":""},{"$f":"IF(VLOOKUP(A101,Tirage!A:L,2,FALSE)=\"\",\"\",VLOOKUP(A101,Tirage!A:L,11,FALSE))","v":""}]
[]
["Poule AG",{"$f":"IF(VLOOKUP(A104,Tirage!A:L,2,FALSE)=\"\",\"\",VLOOKUP(A104,Tirage!A:L,2,FALSE))","v":""},{"$f":"IF(VLOOKUP(A104,Tirage!A:L,2,FALSE)=\"\",\"\",VLOOKUP(A104,Tirage!A:L,3,FALSE))","v":""},{"$f":"IF(VLOOKUP(A104,Tirage!A:L,2,FALSE)=\"\",\"\",VLOOKUP(A104,Tirage!A:L,4,FALSE))","v":""},{"$f":"IF(VLOOKUP(A104,Tirage!A:L,2,FALSE)=\"\",\"\",VLOOKUP(A104,Tirage!A:L,5,FALSE))","v":""},{"$f":"IF(VLOOKUP(A104,Tirage!A:L,2,FALSE)=\"\",\"\",VLOOKUP(A104,Tirage!A:L,6,FALSE))","v":""}]
[null,{"$f":"IF(VLOOKUP(A104,Tirage!A:L,2,FALSE)=\"\",\"\",VLOOKUP(A104,Tirage!A:L,7,FALSE))","v":""},{"$f":"IF(VLOOKUP(A104,Tirage!A:L,2,FALSE)=\"\",\"\",VLOOKUP(A104,Tirage!A:L,8,FALSE))","v":""},{"$f":"IF(VLOOKUP(A104,Tirage!A:L,2,FALSE)=\"\",\"\",VLOOKUP(A104,Tirage!A:L,9,FALSE))","v":""},{"$f":"IF(VLOOKUP(A104,Tirage!A:L,2,FALSE)=\"\",\"\",VLOOKUP(A104,Tirage!A:L,10,FALSE))","v":""},{"$f":"IF(VLOOKUP(A104,Tirage!A:L,2,FALSE)=\"\",\"\",VLOOKUP(A104,Tirage!A:L,11,FALSE))","v":""}]
[]
["Poule AH",{"$f":"IF(VLOOKUP(A107,Tirage!A:L,2,FALSE)=\"\",\"\",VLOOKUP(A107,Tirage!A:L,2,FALSE))","v":""},{"$f":"IF(VLOOKUP(A107,Tirage!A:L,2,FALSE)=\"\",\"\",VLOOKUP(A107,Tirage!A:L,3,FALSE))","v":""},{"$f":"IF(VLOOKUP(A107,Tirage!A:L,2,FALSE)=\"\",\"\",VLOOKUP(A107,Tirage!A:L,4,FALSE))","v":""},{"$f":"IF(VLOOKUP(A107,Tirage!A:L,2,FALSE)=\"\",\"\",VLOOKUP(A107,Tirage!A:L,5,FALSE))","v":""},{"$f":"IF(VLOOKUP(A107,Tirage!A:L,2,FALSE)=\"\",\"\",VLOOKUP(A107,Tirage!A:L,6,FALSE))","v":""}]
[null,{"$f":"IF(VLOOKUP(A107,Tirage!A:L,2,FALSE)=\"\",\"\",VLOOKUP(A107,Tirage!A:L,7,FALSE))","v":""},{"$f":"IF(VLOOKUP(A107,Tirage!A:L,2,FALSE)=\"\",\"\",VLOOKUP(A107,Tirage!A:L,8,FALSE))","v":""},{"$f":"IF(VLOOKUP(A107,Tirage!A:L,2,FALSE)=\"\",\"\",VLOOKUP(A107,Tirage!A:L,9,FALSE))","v":""},{"$f":"IF(VLOOKUP(A107,Tirage!A:L,2,FALSE)=\"\",\"\",VLOOKUP(A107,Tirage!A:L,10,FALSE))","v":""},{"$f":"IF(VLOOKUP(A107,Tirage!A:L,2,FALSE)=\"\",\"\",VLOOKUP(A107,Tirage!A:L,11,FALSE))","v":""}]
[]
["Poule AI",{"$f":"IF(VLOOKUP(A110,Tirage!A:L,2,FALSE)=\"\",\"\",VLOOKUP(A110,Tirage!A:L,2,FALSE))","v":""},{"$f":"IF(VLOOKUP(A110,Tirage!A:L,2,FALSE)=\"\",\"\",VLOOKUP(A110,Tirage!A:L,3,FALSE))","v":""},{"$f":"IF(VLOOKUP(A110,Tirage!A:L,2,FALSE)=\"\",\"\",VLOOKUP(A110,Tirage!A:L,4,FALSE))","v":""},{"$f":"IF(VLOOKUP(A110,Tirage!A:L,2,FALSE)=\"\",\"\",VLOOKUP(A110,Tirage!A:L,5,FALSE))","v":""},{"$f":"IF(VLOOKUP(A110,Tirage!A:L,2,FALSE)=\"\",\"\",VLOOKUP(A110,Tirage!A:L,6,FALSE))","v":""}]
[null,{"$f":"IF(VLOOKUP(A110,Tirage!A:L,2,FALSE)=\"\",\"\",VLOOKUP(A110,Tirage!A:L,7,FALSE))","v":""},{"$f":"IF(VLOOKUP(A110,Tirage!A:L,2,FALSE)=\"\",\"\",VLOOKUP(A110,Tirage!A:L,8,FALSE))","v":""},{"$f":"IF(VLOOKUP(A110,Tirage!A:L,2,FALSE)=\"\",\"\",VLOOKUP(A110,Tirage!A:L,9,FALSE))","v":""},{"$f":"IF(VLOOKUP(A110,Tirage!A:L,2,FALSE)=\"\",\"\",VLOOKUP(A110,Tirage!A:L,10,FALSE))","v":""},{"$f":"IF(VLOOKUP(A110,Tirage!A:L,2,FALSE)=\"\",\"\",VLOOKUP(A110,Tirage!A:L,11,FALSE))","v":""}]
[]
["Poule AJ",{"$f":"IF(VLOOKUP(A113,Tirage!A:L,2,FALSE)=\"\",\"\",VLOOKUP(A113,Tirage!A:L,2,FALSE))","v":""},{"$f":"IF(VLOOKUP(A113,Tirage!A:L,2,FALSE)=\"\",\"\",VLOOKUP(A113,Tirage!A:L,3,FALSE))","v":""},{"$f":"IF(VLOOKUP(A113,Tirage!A:L,2,FALSE)=\"\",\"\",VLOOKUP(A113,Tirage!A:L,4,FALSE))","v":""},{"$f":"IF(VLOOKUP(A113,Tirage!A:L,2,FALSE)=\"\",\"\",VLOOKUP(A113,Tirage!A:L,5,FALSE))","v":""},{"$f":"IF(VLOOKUP(A113,Tirage!A:L,2,FALSE)=\"\",\"\",VLOOKUP(A113,Tirage!A:L,6,FALSE))","v":""}]
[null,{"$f":"IF(VLOOKUP(A113,Tirage!A:L,2,FALSE)=\"\",\"\",VLOOKUP(A113,Tirage!A:L,7,FALSE))","v":""},{"$f":"IF(VLOOKUP(A113,Tirage!A:L,2,FALSE)=\"\",\"\",VLOOKUP(A113,Tirage!A:L,8,FALSE))","v":""},{"$f":"IF(VLOOKUP(A113,Tirage!A:L,2,FALSE)=\"\",\"\",VLOOKUP(A113,Tirage!A:L,9,FALSE))","v":""},{"$f":"IF(VLOOKUP(A113,Tirage!A:L,2,FALSE)=\"\",\"\",VLOOKUP(A113,Tirage!A:L,10,FALSE))","v":""},{"$f":"IF(VLOOKUP(A113,Tirage!A:L,2,FALSE)=\"\",\"\",VLOOKUP(A113,Tirage!A:L,11,FALSE))","v":""}]
[]
["Poule AK",{"$f":"IF(VLOOKUP(A116,Tirage!A:L,2,FALSE)=\"\",\"\",VLOOKUP(A116,Tirage!A:L,2,FALSE))","v":""},{"$f":"IF(VLOOKUP(A116,Tirage!A:L,2,FALSE)=\"\",\"\",VLOOKUP(A116,Tirage!A:L,3,FALSE))","v":""},{"$f":"IF(VLOOKUP(A116,Tirage!A:L,2,FALSE)=\"\",\"\",VLOOKUP(A116,Tirage!A:L,4,FALSE))","v":""},{"$f":"IF(VLOOKUP(A116,Tirage!A:L,2,FALSE)=\"\",\"\",VLOOKUP(A116,Tirage!A:L,5,FALSE))","v":""},{"$f":"IF(VLOOKUP(A116,Tirage!A:L,2,FALSE)=\"\",\"\",VLOOKUP(A116,Tirage!A:L,6,FALSE))","v":""}]
[null,{"$f":"IF(VLOOKUP(A116,Tirage!A:L,2,FALSE)=\"\",\"\",VLOOKUP(A116,Tirage!A:L,7,FALSE))","v":""},{"$f":"IF(VLOOKUP(A116,Tirage!A:L,2,FALSE)=\"\",\"\",VLOOKUP(A116,Tirage!A:L,8,FALSE))","v":""},{"$f":"IF(VLOOKUP(A116,Tirage!A:L,2,FALSE)=\"\",\"\",VLOOKUP(A116,Tirage!A:L,9,FALSE))","v":""},{"$f":"IF(VLOOKUP(A116,Tirage!A:L,2,FALSE)=\"\",\"\",VLOOKUP(A116,Tirage!A:L,10,FALSE))","v":""},{"$f":"IF(VLOOKUP(A116,Tirage!A:L,2,FALSE)=\"\",\"\",VLOOKUP(A116,Tirage!A:L,11,FALSE))","v":""}]
[]
["Poule AL",{"$f":"IF(VLOOKUP(A119,Tirage!A:L,2,FALSE)=\"\",\"\",VLOOKUP(A119,Tirage!A:L,2,FALSE))","v":""},{"$f":"IF(VLOOKUP(A119,Tirage!A:L,2,FALSE)=\"\",\"\",VLOOKUP(A119,Tirage!A:L,3,FALSE))","v":""},{"$f":"IF(VLOOKUP(A119,Tirage!A:L,2,FALSE)=\"\",\"\",VLOOKUP(A119,Tirage!A:L,4,FALSE))","v":""},{"$f":"IF(VLOOKUP(A119,Tirage!A:L,2,FALSE)=\"\",\"\",VLOOKUP(A119,Tirage!A:L,5,FALSE))","v":""},{"$f":"IF(VLOOKUP(A119,Tirage!A:L,2,FALSE)=\"\",\"\",VLOOKUP(A119,Tirage!A:L,6,FALSE))","v":""}]
[null,{"$f":"IF(VLOOKUP(A119,Tirage!A:L,2,FALSE)=\"\",\"\",VLOOKUP(A119,Tirage!A:L,7,FALSE))","v":""},{"$f":"IF(VLOOKUP(A119,Tirage!A:L,2,FALSE)=\"\",\"\",VLOOKUP(A119,Tirage!A:L,8,FALSE))","v":""},{"$f":"IF(VLOOKUP(A119,Tirage!A:L,2,FALSE)=\"\",\"\",VLOOKUP(A119,Tirage!A:L,9,FALSE))","v":""},{"$f":"IF(VLOOKUP(A119,Tirage!A:L,2,FALSE)=\"\",\"\",VLOOKUP(A119,Tirage!A:L,10,FALSE))","v":""},{"$f":"IF(VLOOKUP(A119,Tirage!A:L,2,FALSE)=\"\",\"\",VLOOKUP(A119,Tirage!A:L,11,FALSE))","v":""}]
[]
["Poule AM",{"$f":"IF(VLOOKUP(A122,Tirage!A:L,2,FALSE)=\"\",\"\",VLOOKUP(A122,Tirage!A:L,2,FALSE))","v":""},{"$f":"IF(VLOOKUP(A122,Tirage!A:L,2,FALSE)=\"\",\"\",VLOOKUP(A122,Tirage!A:L,3,FALSE))","v":""},{"$f":"IF(VLOOKUP(A122,Tirage!A:L,2,FALSE)=\"\",\"\",VLOOKUP(A122,Tirage!A:L,4,FALSE))","v":""},{"$f":"IF(VLOOKUP(A122,Tirage!A:L,2,FALSE)=\"\",\"\",VLOOKUP(A122,Tirage!A:L,5,FALSE))","v":""},{"$f":"IF(VLOOKUP(A122,Tirage!A:L,2,FALSE)=\"\",\"\",VLOOKUP(A122,Tirage!A:L,6,FALSE))","v":""}]
[null,{"$f":"IF(VLOOKUP(A122,Tirage!A:L,2,FALSE)=\"\",\"\",VLOOKUP(A122,Tirage!A:L,7,FALSE))","v":""},{"$f":"IF(VLOOKUP(A122,Tirage!A:L,2,FALSE)=\"\",\"\",VLOOKUP(A122,Tirage!A:L,8,FALSE))","v":""},{"$f":"IF(VLOOKUP(A122,Tirage!A:L,2,FALSE)=\"\",\"\",VLOOKUP(A122,Tirage!A:L,9,FALSE))","v":""},{"$f":"IF(VLOOKUP(A122,Tirage!A:L,2,FALSE)=\"\",\"\",VLOOKUP(A122,Tirage!A:L,10,FALSE))","v":""},{"$f":"IF(VLOOKUP(A122,Tirage!A:L,2,FALSE)=\"\",\"\",VLOOKUP(A122,Tirage!A:L,11,FALSE))","v":""}]
[]
["Poule AN",{"$f":"IF(VLOOKUP(A125,Tirage!A:L,2,FALSE)=\"\",\"\",VLOOKUP(A125,Tirage!A:L,2,FALSE))","v":""},{"$f":"IF(VLOOKUP(A125,Tirage!A:L,2,FALSE)=\"\",\"\",VLOOKUP(A125,Tirage!A:L,3,FALSE))","v":""},{"$f":"IF(VLOOKUP(A125,Tirage!A:L,2,FALSE)=\"\",\"\",VLOOKUP(A125,Tirage!A:L,4,FALSE))","v":""},{"$f":"IF(VLOOKUP(A125,Tirage!A:L,2,FALSE)=\"\",\"\",VLOOKUP(A125,Tirage!A:L,5,FALSE))","v":""},{"$f":"IF(VLOOKUP(A125,Tirage!A:L,2,FALSE)=\"\",\"\",VLOOKUP(A125,Tirage!A:L,6,FALSE))","v":""}]
[null,{"$f":"IF(VLOOKUP(A125,Tirage!A:L,2,FALSE)=\"\",\"\",VLOOKUP(A125,Tirage!A:L,7,FALSE))","v":""},{"$f":"IF(VLOOKUP(A125,Tirage!A:L,2,FALSE)=\"\",\"\",VLOOKUP(A125,Tirage!A:L,8,FALSE))","v":""},{"$f":"IF(VLOOKUP(A125,Tirage!A:L,2,FALSE)=\"\",\"\",VLOOKUP(A125,Tirage!A:L,9,FALSE))","v":""},{"$f":"IF(VLOOKUP(A125,Tirage!A:L,2,FALSE)=\"\",\"\",VLOOKUP(A125,Tirage!A:L,10,FALSE))","v":""},{"$f":"IF(VLOOKUP(A125,Tirage!A:L,2,FALSE)=\"\",\"\",VLOOKUP(A125,Tirage!A:L,11,FALSE))","v":""}]
[]
["Poule AO",{"$f":"IF(VLOOKUP(A128,Tirage!A:L,2,FALSE)=\"\",\"\",VLOOKUP(A128,Tirage!A:L,2,FALSE))","v":""},{"$f":"IF(VLOOKUP(A128,Tirage!A:L,2,FALSE)=\"\",\"\",VLOOKUP(A128,Tirage!A:L,3,FALSE))","v":""},{"$f":"IF(VLOOKUP(A128,Tirage!A:L,2,FALSE)=\"\",\"\",VLOOKUP(A128,Tirage!A:L,4,FALSE))","v":""},{"$f":"IF(VLOOKUP(A128,Tirage!A:L,2,FALSE)=\"\",\"\",VLOOKUP(A128,Tirage!A:L,5,FALSE))","v":""},{"$f":"IF(VLOOKUP(A128,Tirage!A:L,2,FALSE)=\"\",\"\",VLOOKUP(A128,Tirage!A:L,6,FALSE))","v":""}]
[null,{"$f":"IF(VLOOKUP(A128,Tirage!A:L,2,FALSE)=\"\",\"\",VLOOKUP(A128,Tirage!A:L,7,FALSE))","v":""},{"$f":"IF(VLOOKUP(A128,Tirage!A:L,2,FALSE)=\"\",\"\",VLOOKUP(A128,Tirage!A:L,8,FALSE))","v":""},{"$f":"IF(VLOOKUP(A128,Tirage!A:L,2,FALSE)=\"\",\"\",VLOOKUP(A128,Tirage!A:L,9,FALSE))","v":""},{"$f":"IF(VLOOKUP(A128,Tirage!A:L,2,FALSE)=\"\",\"\",VLOOKUP(A128,Tirage!A:L,10,FALSE))","v":""},{"$f":"IF(VLOOKUP(A128,Tirage!A:L,2,FALSE)=\"\",\"\",VLOOKUP(A128,Tirage!A:L,11,FALSE))","v":""}]
[]
["Poule AP",{"$f":"IF(VLOOKUP(A131,Tirage!A:L,2,FALSE)=\"\",\"\",VLOOKUP(A131,Tirage!A:L,2,FALSE))","v":""},{"$f":"IF(VLOOKUP(A131,Tirage!A:L,2,FALSE)=\"\",\"\",VLOOKUP(A131,Tirage!A:L,3,FALSE))","v":""},{"$f":"IF(VLOOKUP(A131,Tirage!A:L,2,FALSE)=\"\",\"\",VLOOKUP(A131,Tirage!A:L,4,FALSE))","v":""},{"$f":"IF(VLOOKUP(A131,Tirage!A:L,2,FALSE)=\"\",\"\",VLOOKUP(A131,Tirage!A:L,5,FALSE))","v":""},{"$f":"IF(VLOOKUP(A131,Tirage!A:L,2,FALSE)=\"\",\"\",VLOOKUP(A131,Tirage!A:L,6,FALSE))","v":""}]
[null,{"$f":"IF(VLOOKUP(A131,Tirage!A:L,2,FALSE)=\"\",\"\",VLOOKUP(A131,Tirage!A:L,7,FALSE))","v":""},{"$f":"IF(VLOOKUP(A131,Tirage!A:L,2,FALSE)=\"\",\"\",VLOOKUP(A131,Tirage!A:L,8,FALSE))","v":""},{"$f":"IF(VLOOKUP(A131,Tirage!A:L,2,FALSE)=\"\",\"\",VLOOKUP(A131,Tirage!A:L,9,FALSE))","v":""},{"$f":"IF(VLOOKUP(A131,Tirage!A:L,2,FALSE)=\"\",\"\",VLOOKUP(A131,Tirage!A:L,10,FALSE))","v":""},{"$f":"IF(VLOOKUP(A131,Tirage!A:L,2,FALSE)=\"\",\"\",VLOOKUP(A131,Tirage!A:L,11,FALSE))","v":""}]
[]
["Poule AQ",{"$f":"IF(VLOOKUP(A134,Tirage!A:L,2,FALSE)=\"\",\"\",VLOOKUP(A134,Tirage!A:L,2,FALSE))","v":""},{"$f":"IF(VLOOKUP(A134,Tirage!A:L,2,FALSE)=\"\",\"\",VLOOKUP(A134,Tirage!A:L,3,FALSE))","v":""},{"$f":"IF(VLOOKUP(A134,Tirage!A:L,2,FALSE)=\"\",\"\",VLOOKUP(A134,Tirage!A:L,4,FALSE))","v":""},{"$f":"IF(VLOOKUP(A134,Tirage!A:L,2,FALSE)=\"\",\"\",VLOOKUP(A134,Tirage!A:L,5,FALSE))","v":""},{"$f":"IF(VLOOKUP(A134,Tirage!A:L,2,FALSE)=\"\",\"\",VLOOKUP(A134,Tirage!A:L,6,FALSE))","v":""}]
[null,{"$f":"IF(VLOOKUP(A134,Tirage!A:L,2,FALSE)=\"\",\"\",VLOOKUP(A134,Tirage!A:L,7,FALSE))","v":""},{"$f":"IF(VLOOKUP(A134,Tirage!A:L,2,FALSE)=\"\",\"\",VLOOKUP(A134,Tirage!A:L,8,FALSE))","v":""},{"$f":"IF(VLOOKUP(A134,Tirage!A:L,2,FALSE)=\"\",\"\",VLOOKUP(A134,Tirage!A:L,9,FALSE))","v":""},{"$f":"IF(VLOOKUP(A134,Tirage!A:L,2,FALSE)=\"\",\"\",VLOOKUP(A134,Tirage!A:L,10,FALSE))","v":""},{"$f":"IF(VLOOKUP(A134,Tirage!A:L,2,FALSE)=\"\",\"\",VLOOKUP(A134,Tirage!A:L,11,FALSE))","v":""}]
[]
["Poule AR",{"$f":"IF(VLOOKUP(A137,Tirage!A:L,2,FALSE)=\"\",\"\",VLOOKUP(A137,Tirage!A:L,2,FALSE))","v":""},{"$f":"IF(VLOOKUP(A137,Tirage!A:L,2,FALSE)=\"\",\"\",VLOOKUP(A137,Tirage!A:L,3,FALSE))","v":""},{"$f":"IF(VLOOKUP(A137,Tirage!A:L,2,FALSE)=\"\",\"\",VLOOKUP(A137,Tirage!A:L,4,FALSE))","v":""},{"$f":"IF(VLOOKUP(A137,Tirage!A:L,2,FALSE)=\"\",\"\",VLOOKUP(A137,Tirage!A:L,5,FALSE))","v":""},{"$f":"IF(VLOOKUP(A137,Tirage!A:L,2,FALSE)=\"\",\"\",VLOOKUP(A137,Tirage!A:L,6,FALSE))","v":""}]
[null,{"$f":"IF(VLOOKUP(A137,Tirage!A:L,2,FALSE)=\"\",\"\",VLOOKUP(A137,Tirage!A:L,7,FALSE))","v":""},{"$f":"IF(VLOOKUP(A137,Tirage!A:L,2,FALSE)=\"\",\"\",VLOOKUP(A137,Tirage!A:L,8,FALSE))","v":""},{"$f":"IF(VLOOKUP(A137,Tirage!A:L,2,FALSE)=\"\",\"\",VLOOKUP(A137,Tirage!A:L,9,FALSE))","v":""},{"$f":"IF(VLOOKUP(A137,Tirage!A:L,2,FALSE)=\"\",\"\",VLOOKUP(A137,Tirage!A:L,10,FALSE))","v":""},{"$f":"IF(VLOOKUP(A137,Tirage!A:L,2,FALSE)=\"\",\"\",VLOOKUP(A137,Tirage!A:L,11,FALSE))","v":""}]
[]
["Poule AS",{"$f":"IF(VLOOKUP(A140,Tirage!A:L,2,FALSE)=\"\",\"\",VLOOKUP(A140,Tirage!A:L,2,FALSE))","v":""},{"$f":"IF(VLOOKUP(A140,Tirage!A:L,2,FALSE)=\"\",\"\",VLOOKUP(A140,Tirage!A:L,3,FALSE))","v":""},{"$f":"IF(VLOOKUP(A140,Tirage!A:L,2,FALSE)=\"\",\"\",VLOOKUP(A140,Tirage!A:L,4,FALSE))","v":""},{"$f":"IF(VLOOKUP(A140,Tirage!A:L,2,FALSE)=\"\",\"\",VLOOKUP(A140,Tirage!A:L,5,FALSE))","v":""},{"$f":"IF(VLOOKUP(A140,Tirage!A:L,2,FALSE)=\"\",\"\",VLOOKUP(A140,Tirage!A:L,6,FALSE))","v":""}]
[null,{"$f":"IF(VLOOKUP(A140,Tirage!A:L,2,FALSE)=\"\",\"\",VLOOKUP(A140,Tirage!A:L,7,FALSE))","v":""},{"$f":"IF(VLOOKUP(A140,Tirage!A:L,2,FALSE)=\"\",\"\",VLOOKUP(A140,Tirage!A:L,8,FALSE))","v":""},{"$f":"IF(VLOOKUP(A140,Tirage!A:L,2,FALSE)=\"\",\"\",VLOOKUP(A140,Tirage!A:L,9,FALSE))","v":""},{"$f":"IF(VLOOKUP(A140,Tirage!A:L,2,FALSE)=\"\",\"\",VLOOKUP(A140,Tirage!A:L,10,FALSE))","v":""},{"$f":"IF(VLOOKUP(A140,Tirage!A:L,2,FALSE)=\"\",\"\",VLOOKUP(A140,Tirage!A:L,11,FALSE))","v":""}]
[]
["Poule AT",{"$f":"IF(VLOOKUP(A143,Tirage!A:L,2,FALSE)=\"\",\"\",VLOOKUP(A143,Tirage!A:L,2,FALSE))","v":""},{"$f":"IF(VLOOKUP(A143,Tirage!A:L,2,FALSE)=\"\",\"\",VLOOKUP(A143,Tirage!A:L,3,FALSE))","v":""},{"$f":"IF(VLOOKUP(A143,Tirage!A:L,2,FALSE)=\"\",\"\",VLOOKUP(A143,Tirage!A:L,4,FALSE))","v":""},{"$f":"IF(VLOOKUP(A143,Tirage!A:L,2,FALSE)=\"\",\"\",VLOOKUP(A143,Tirage!A:L,5,FALSE))","v":""},{"$f":"IF(VLOOKUP(A143,Tirage!A:L,2,FALSE)=\"\",\"\",VLOOKUP(A143,Tirage!A:L,6,FALSE))","v":""}]
[null,{"$f":"IF(VLOOKUP(A143,Tirage!A:L,2,FALSE)=\"\",\"\",VLOOKUP(A143,Tirage!A:L,7,FALSE))","v":""},{"$f":"IF(VLOOKUP(A143,Tirage!A:L,2,FALSE)=\"\",\"\",VLOOKUP(A143,Tirage!A:L,8,FALSE))","v":""},{"$f":"IF(VLOOKUP(A143,Tirage!A:L,2,FALSE)=\"\",\"\",VLOOKUP(A143,Tirage!A:L,9,FALSE))","v":""},{"$f":"IF(VLOOKUP(A143,Tirage!A:L,2,FALSE)=\"\",\"\",VLOOKUP(A143,Tirage!A:L,10,FALSE))","v":""},{"$f":"IF(VLOOKUP(A143,Tirage!A:L,2,FALSE)=\"\",\"\",VLOOKUP(A143,Tirage!A:L,11,FALSE))","v":""}]
[]
["Poule AU",{"$f":"IF(VLOOKUP(A146,Tirage!A:L,2,FALSE)=\"\",\"\",VLOOKUP(A146,Tirage!A:L,2,FALSE))","v":""},{"$f":"IF(VLOOKUP(A146,Tirage!A:L,2,FALSE)=\"\",\"\",VLOOKUP(A146,Tirage!A:L,3,FALSE))","v":""},{"$f":"IF(VLOOKUP(A146,Tirage!A:L,2,FALSE)=\"\",\"\",VLOOKUP(A146,Tirage!A:L,4,FALSE))","v":""},{"$f":"IF(VLOOKUP(A146,Tirage!A:L,2,FALSE)=\"\",\"\",VLOOKUP(A146,Tirage!A:L,5,FALSE))","v":""},{"$f":"IF(VLOOKUP(A146,Tirage!A:L,2,FALSE)=\"\",\"\",VLOOKUP(A146,Tirage!A:L,6,FALSE))","v":""}]
[null,{"$f":"IF(VLOOKUP(A146,Tirage!A:L,2,FALSE)=\"\",\"\",VLOOKUP(A146,Tirage!A:L,7,FALSE))","v":""},{"$f":"IF(VLOOKUP(A146,Tirage!A:L,2,FALSE)=\"\",\"\",VLOOKUP(A146,Tirage!A:L,8,FALSE))","v":""},{"$f":"IF(VLOOKUP(A146,Tirage!A:L,2,FALSE)=\"\",\"\",VLOOKUP(A146,Tirage!A:L,9,FALSE))","v":""},{"$f":"IF(VLOOKUP(A146,Tirage!A:L,2,FALSE)=\"\",\"\",VLOOKUP(A146,Tirage!A:L,10,FALSE))","v":""},{"$f":"IF(VLOOKUP(A146,Tirage!A:L,2,FALSE)=\"\",\"\",VLOOKUP(A146,Tirage!A:L,11,FALSE))","v":""}]
[]
["Poule AV",{"$f":"IF(VLOOKUP(A149,Tirage!A:L,2,FALSE)=\"\",\"\",VLOOKUP(A149,Tirage!A:L,2,FALSE))","v":""},{"$f":"IF(VLOOKUP(A149,Tirage!A:L,2,FALSE)=\"\",\"\",VLOOKUP(A149,Tirage!A:L,3,FALSE))","v":""},{"$f":"IF(VLOOKUP(A149,Tirage!A:L,2,FALSE)=\"\",\"\",VLOOKUP(A149,Tirage!A:L,4,FALSE))","v":""},{"$f":"IF(VLOOKUP(A149,Tirage!A:L,2,FALSE)=\"\",\"\",VLOOKUP(A149,Tirage!A:L,5,FALSE))","v":""},{"$f":"IF(VLOOKUP(A149,Tirage!A:L,2,FALSE)=\"\",\"\",VLOOKUP(A149,Tirage!A:L,6,FALSE))","v":""}]
[null,{"$f":"IF(VLOOKUP(A149,Tirage!A:L,2,FALSE)=\"\",\"\",VLOOKUP(A149,Tirage!A:L,7,FALSE))","v":""},{"$f":"IF(VLOOKUP(A149,Tirage!A:L,2,FALSE)=\"\",\"\",VLOOKUP(A149,Tirage!A:L,8,FALSE))","v":""},{"$f":"IF(VLOOKUP(A149,Tirage!A:L,2,FALSE)=\"\",\"\",VLOOKUP(A149,Tirage!A:L,9,FALSE))","v":""},{"$f":"IF(VLOOKUP(A149,Tirage!A:L,2,FALSE)=\"\",\"\",VLOOKUP(A149,Tirage!A:L,10,FALSE))","v":""},{"$f":"IF(VLOOKUP(A149,Tirage!A:L,2,FALSE)=\"\",\"\",VLOOKUP(A149,Tirage!A:L,11,FALSE))","v":""}]
[]
["Poule AW",{"$f":"IF(VLOOKUP(A152,Tirage!A:L,2,FALSE)=\"\",\"\",VLOOKUP(A152,Tirage!A:L,2,FALSE))","v":""},{"$f":"IF(VLOOKUP(A152,Tirage!A:L,2,FALSE)=\"\",\"\",VLOOKUP(A152,Tirage!A:L,3,FALSE))","v":""},{"$f":"IF(VLOOKUP(A152,Tirage!A:L,2,FALSE)=\"\",\"\",VLOOKUP(A152,Tirage!A:L,4,FALSE))","v":""},{"$f":"IF(VLOOKUP(A152,Tirage!A:L,2,FALSE)=\"\",\"\",VLOOKUP(A152,Tirage!A:L,5,FALSE))","v":""},{"$f":"IF(VLOOKUP(A152,Tirage!A:L,2,FALSE)=\"\",\"\",VLOOKUP(A152,Tirage!A:L,6,FALSE))","v":""}]
[null,{"$f":"IF(VLOOKUP(A152,Tirage!A:L,2,FALSE)=\"\",\"\",VLOOKUP(A152,Tirage!A:L,7,FALSE))","v":""},{"$f":"IF(VLOOKUP(A152,Tirage!A:L,2,FALSE)=\"\",\"\",VLOOKUP(A152,Tirage!A:L,8,FALSE))","v":""},{"$f":"IF(VLOOKUP(A152,Tirage!A:L,2,FALSE)=\"\",\"\",VLOOKUP(A152,Tirage!A:L,9,FALSE))","v":""},{"$f":"IF(VLOOKUP(A152,Tirage!A:L,2,FALSE)=\"\",\"\",VLOOKUP(A152,Tirage!A:L,10,FALSE))","v":""},{"$f":"IF(VLOOKUP(A152,Tirage!A:L,2,FALSE)=\"\",\"\",VLOOKUP(A152,Tirage!A:L,11,FALSE))","v":""}]
[]
["Poule AX",{"$f":"IF(VLOOKUP(A155,Tirage!A:L,2,FALSE)=\"\",\"\",VLOOKUP(A155,Tirage!A:L,2,FALSE))","v":""},{"$f":"IF(VLOOKUP(A155,Tirage!A:L,2,FALSE)=\"\",\"\",VLOOKUP(A155,Tirage!A:L,3,FALSE))","v":""},{"$f":"IF(VLOOKUP(A155,Tirage!A:L,2,FALSE)=\"\",\"\",VLOOKUP(A155,Tirage!A:L,4,FALSE))","v":""},{"$f":"IF(VLOOKUP(A155,Tirage!A:L,2,FALSE)=\"\",\"\",VLOOKUP(A155,Tirage!A:L,5,FALSE))","v":""},{"$f":"IF(VLOOKUP(A155,Tirage!A:L,2,FALSE)=\"\",\"\",VLOOKUP(A155,Tirage!A:L,6,FALSE))","v":""}]
[null,{"$f":"IF(VLOOKUP(A155,Tirage!A:L,2,FALSE)=\"\",\"\",VLOOKUP(A155,Tirage!A:L,7,FALSE))","v":""},{"$f":"IF(VLOOKUP(A155,Tirage!A:L,2,FALSE)=\"\",\"\",VLOOKUP(A155,Tirage!A:L,8,FALSE))","v":""},{"$f":"IF(VLOOKUP(A155,Tirage!A:L,2,FALSE)=\"\",\"\",VLOOKUP(A155,Tirage!A:L,9,FALSE))","v":""},{"$f":"IF(VLOOKUP(A155,Tirage!A:L,2,FALSE)=\"\",\"\",VLOOKUP(A155,Tirage!A:L,10,FALSE))","v":""},{"$f":"IF(VLOOKUP(A155,Tirage!A:L,2,FALSE)=\"\",\"\",VLOOKUP(A155,Tirage!A:L,11,FALSE))","v":""}]
[]
["Poule AY",{"$f":"IF(VLOOKUP(A158,Tirage!A:L,2,FALSE)=\"\",\"\",VLOOKUP(A158,Tirage!A:L,2,FALSE))","v":""},{"$f":"IF(VLOOKUP(A158,Tirage!A:L,2,FALSE)=\"\",\"\",VLOOKUP(A158,Tirage!A:L,3,FALSE))","v":""},{"$f":"IF(VLOOKUP(A158,Tirage!A:L,2,FALSE)=\"\",\"\",VLOOKUP(A158,Tirage!A:L,4,FALSE))","v":""},{"$f":"IF(VLOOKUP(A158,Tirage!A:L,2,FALSE)=\"\",\"\",VLOOKUP(A158,Tirage!A:L,5,FALSE))","v":""},{"$f":"IF(VLOOKUP(A158,Tirage!A:L,2,FALSE)=\"\",\"\",VLOOKUP(A158,Tirage!A:L,6,FALSE))","v":""}]
[null,{"$f":"IF(VLOOKUP(A158,Tirage!A:L,2,FALSE)=\"\",\"\",VLOOKUP(A158,Tirage!A:L,7,FALSE))","v":""},{"$f":"IF(VLOOKUP(A158,Tirage!A:L,2,FALSE)=\"\",\"\",VLOOKUP(A158,Tirage!A:L,8,FALSE))","v":""},{"$f":"IF(VLOOKUP(A158,Tirage!A:L,2,FALSE)=\"\",\"\",VLOOKUP(A158,Tirage!A:L,9,FALSE))","v":""},{"$f":"IF(VLOOKUP(A158,Tirage!A:L,2,FALSE)=\"\",\"\",VLOOKUP(A158,Tirage!A:L,10,FALSE))","v":""},{"$f":"IF(VLOOKUP(A158,Tirage!A:L,2,FALSE)=\"\",\"\",VLOOKUP(A158,Tirage!A:L,11,FALSE))","v":""}]
[]
["Poule AZ",{"$f":"IF(VLOOKUP(A161,Tirage!A:L,2,FALSE)=\"\",\"\",VLOOKUP(A161,Tirage!A:L,2,FALSE))","v":""},{"$f":"IF(VLOOKUP(A161,Tirage!A:L,2,FALSE)=\"\",\"\",VLOOKUP(A161,Tirage!A:L,3,FALSE))","v":""},{"$f":"IF(VLOOKUP(A161,Tirage!A:L,2,FALSE)=\"\",\"\",VLOOKUP(A161,Tirage!A:L,4,FALSE))","v":""},{"$f":"IF(VLOOKUP(A161,Tirage!A:L,2,FALSE)=\"\",\"\",VLOOKUP(A161,Tirage!A:L,5,FALSE))","v":""},{"$f":"IF(VLOOKUP(A161,Tirage!A:L,2,FALSE)=\"\",\"\",VLOOKUP(A161,Tirage!A:L,6,FALSE))","v":""}]
[null,{"$f":"IF(VLOOKUP(A161,Tirage!A:L,2,FALSE)=\"\",\"\",VLOOKUP(A161,Tirage!A:L,7,FALSE))","v":""},{"$f":"IF(VLOOKUP(A161,Tirage!A:L,2,FALSE)=\"\",\"\",VLOOKUP(A161,Tirage!A:L,8,FALSE))","v":""},{"$f":"IF(VLOOKUP(A161,Tirage!A:L,2,FALSE)=\"\",\"\",VLOOKUP(A161,Tirage!A:L,9,FALSE))","v":""},{"$f":"IF(VLOOKUP(A161,Tirage!A:L,2,FALSE)=\"\",\"\",VLOOKUP(A161,Tirage!A:L,10,FALSE))","v":""},{"$f":"IF(VLOOKUP(A161,Tirage!A:L,2,FALSE)=\"\",\"\",VLOOKUP(A161,Tirage!A:L,11,FALSE))","v":""}]

{"sheet":"Fiche score","index":3,"n_rows":170,"n_cols":13,"rows_kept":170,"cut":false,"hidden":false,"merged":[[0,0,0,2],[0,4,0,8],[0,10,0,12],[166,0,167,0],[166,1,167,1],[166,4,167,4],[166,7,167,7],[166,10,167,10],[162,0,165,0],[162,1,163,1],[162,4,163,4],[162,7,163,7],[162,10,163,10],[164,1,165,1],[164,4,165,4],[164,7,165,7],[164,10,165,10],[153,0,154,0],[153,1,154,1],[153,4,154,4],[153,7,154,7],[153,10,154,10],[158,0,161,0],[158,1,159,1],[158,4,159,4],[158,7,159,7],[158,10,159,10],[160,1,161,1],[160,4,161,4],[160,7,161,7],[160,10,161,10],[149,0,152,0],[149,1,150,1],[149,4,150,4],[149,7,150,7],[149,10,150,10],[151,1,152,1],[151,4,152,4],[151,7,152,7],[151,10,152,10],[140,0,141,0],[140,1,141,1],[140,4,141,4],[140,7,141,7],[140,10,141,10],[145,0,148,0],[145,1,146,1],[145,4,146,4],[145,7,146,7],[145,10,146,10],[147,1,148,1],[147,4,148,4],[147,7,148,7],[147,10,148,10],[136,0,139,0],[136,1,137,1],[136,4,137,4],[136,7,137,7],[136,10,137,10],[138,1,139,1],[138,4,139,4],[138,7,139,7],[138,10,139,10],[127,0,128,0],[127,1,128,1],[127,4,128,4],[127,7,128,7],[127,10,128,10],[132,0,135,0],[132,1,133,1],[132,4,133,4],[132,7,133,7],[132,10,133,10],[134,1,135,1],[134,4,135,4],[134,7,135,7],[134,10,135,10],[123,0,126,0],[123,1,124,1],[123,4,124,4],[123,7,124,7],[123,10,124,10],[125,1,126,1],[125,4,126,4],[125,7,126,7],[125,10,126,10],[119,0,122,0],[119,1,120,1],[119,4,120,4],[119,7,120,7],[119,10,120,10],[121,1,122,1],[121,4,122,4],[121,7,122,7],[121,10,122,10],[114,0,115,0],[114,1,115,1],[114,4,115,4],[114,7,115,7],[114,10,115,10],[110,0,113,0],[110,1,111,1],[110,4,111,4],[110,7,111,7],[110,10,111,10],[112,1,113,1],[112,4,113,4],[112,7,113,7],[112,10,113,10],[106,0,109,0],[106,1,107,1],[106,4,107,4],[106,7,107,7],[106,10,107,10],[108,1,109,1],[108,4,109,4],[108,7,109,7],[108,10,109,10],[101,0,102,0],[101,1,102,1],[101,4,102,4],[101,7,102,7],[101,10,102,10],[97,0,100,0],[97,1,98,1],[97,4,98,4],[97,7,98,7],[97,10,98,10],[99,1,100,1],[99,4,100,4],[99,7,100,7],[99,10,100,10],[93,0,96,0],[93,1,94,1],[93,4,94,4],[93,7,94,7],[93,10,94,10],[95,1,96,1],[95,4,96,4],[95,7,96,7],[95,10,96,10],[88,0,89,0],[88,1,89,1],[88,4,89,4],[88,7,89,7],[88,10,89,10],[84,0,87,0],[84,1,85,1],[84,4,85,4],[84,7,85,7],[84,10,85,10],[86,1,87,1],[86,4,87,4],[86,7,87,7],[86,10,87,10],[80,0,83,0],[80,1,81,1],[80,4,81,4],[80,7,81,7],[80,10,81,10],[82,1,83,1],[82,4,83,4],[82,7,83,7],[82,10,83,10],[75,0,76,0],[75,1,76,1],[75,4,76,4],[75,7,76,7],[75,10,76,10],[71,0,74,0],[71,1,72,1],[71,4,72,4],[71,7,72,7],[71,10,72,10],[73,1,74,1],[73,4,74,4],[73,7,74,7],[73,10,74,10],[67,0,70,0],[67,1,68,1],[67,4,68,4],[67,7,68,7],[67,10,68,10],[69,1,70,1],[69,4,70,4],[69,7,70,7],[69,10,70,10],[62,0,63,0],[62,1,63,1],[62,4,63,4],[62,7,63,7],[62,10,63,10],[58,0,61,0],[58,1,59,1],[58,4,59,4],[58,7,59,7],[58,10,59,10],[60,1,61,1],[60,4,61,4],[60,7,61,7],[60,10,61,10],[54,10,55,10],[56,1,57,1],[56,4,57,4],[56,7,57,7],[56,10,57,10],[49,0,50,0],[54,0,57,0],[54,1,55,1],[54,4,55,4],[54,7,55,7],[28,0,31,0],[32,0,35,0],[36,0,37,0],[41,0,44,0],[45,0,48,0],[10,1,11,1],[10,4,11,4],[10,7,11,7],[10,10,11,10],[15,1,16,1],[15,4,16,4],[15,7,16,7],[15,10,16,10],[23,0,24,0],[23,1,24,1],[23,4,24,4],[23,7,24,7],[23,10,24,10],[17,10,18,10],[19,1,20,1],[19,4,20,4],[19,7,20,7],[19,10,20,10],[21,1,22,1],[2,0,5,0],[6,0,9,0],[10,0,11,0],[15,0,18,0],[19,0,22,0],[2,1,3,1],[2,4,3,4],[2,7,3,7],[2,10,3,10],[4,1,5,1],[4,4,5,4],[4,7,5,7],[4,10,5,10],[6,7,7,7],[6,10,7,10],[8,1,9,1],[8,4,9,4],[8,7,9,7],[8,10,9,10],[6,1,7,1],[6,4,7,4],[17,1,18,1],[17,4,18,4],[17,7,18,7],[21,4,22,4],[21,7,22,7],[21,10,22,10],[28,1,29,1],[28,4,29,4],[28,7,29,7],[28,10,29,10],[30,1,31,1],[30,4,31,4],[30,7,31,7],[30,10,31,10],[32,1,33,1],[32,4,33,4],[32,7,33,7],[32,10,33,10],[34,1,35,1],[34,4,35,4],[34,7,35,7],[34,10,35,10],[36,1,37,1],[36,4,37,4],[36,7,37,7],[36,10,37,10],[47,1,48,1],[47,4,48,4],[47,7,48,7],[47,10,48,10],[49,1,50,1],[49,4,50,4],[49,7,50,7],[49,10,50,10],[41,1,42,1],[41,4,42,4],[41,7,42,7],[41,10,42,10],[43,1,44,1],[43,4,44,4],[43,7,44,7],[43,10,44,10],[45,1,46,1],[45,4,46,4],[45,7,46,7],[45,10,46,10]]}
[{"$f":"'Fiche paramétrage concours'!B1","v":0},null,null,null,{"$f":"'Fiche paramétrage concours'!B3","v":0},null,null,null,null,null,{"$f":"'Fiche paramétrage concours'!B1","v":0}]
[null,"Jeu",{"$f":"IF('Liste inscrits'!$AF$7>=(ROW()-2)/13*4+COLUMN()/3,\"POULE \"&IF(64+(((ROW()+11)/13)*4)-3>116,\"B\"&CHAR(12+(((ROW()+11)/13)*4)-3),IF(64+(((ROW()+11)/13)*4)-3>90,\"A\"&CHAR(38+(((ROW()+11)/13)*4)-3),CHAR(64+(((ROW()+11)/13)*4)-3)&\" \")),\"\")","v":""},null,"Jeu",{"$f":"IF('Liste inscrits'!$AF$7>=(ROW()-2)/13*4+COLUMN()/3,\"POULE \"&IF(64+(((ROW()+11)/13)*4)-2>116,\"B\"&CHAR(12+(((ROW()+11)/13)*4)-2),IF(64+(((ROW()+11)/13)*4)-2>90,\"A\"&CHAR(38+(((ROW()+11)/13)*4)-2),CHAR(64+(((ROW()+11)/13)*4)-2)&\" \")),\"\")","v":""},null,"Jeu",{"$f":"IF('Liste inscrits'!$AF$7>=(ROW()-2)/13*4+COLUMN()/3,\"POULE \"&IF(64+(((ROW()+11)/13)*4)-1>116,\"B\"&CHAR(12+(((ROW()+11)/13)*4)-1),IF(64+(((ROW()+11)/13)*4)-1>90,\"A\"&CHAR(38+(((ROW()+11)/13)*4)-1),CHAR(64+(((ROW()+11)/13)*4)-1)&\" \")),\"\")","v":""},null,"Jeu",{"$f":"IF('Liste inscrits'!$AF$7>=(ROW()-2)/13*4+COLUMN()/3,\"POULE \"&IF(64+(((ROW()+11)/13)*4)>116,\"B\"&CHAR(12+(((ROW()+11)/13)*4)),IF(64+(((ROW()+11)/13)*4)>90,\"A\"&CHAR(38+(((ROW()+11)/13)*4)),CHAR(64+(((ROW()+11)/13)*4))&\" \")),\"\")","v":""}]
["1ère phase",{"$f":"IF(C2<>\"\",IF(C3<>\"\",VLOOKUP(LEFT(C3,SEARCH(CHAR(10),C3,1)-1),Tirage!$B:$D,3,FALSE),\"\"),\"\")","v":""},{"$f":"IF(ISERROR(VLOOKUP(C2,Tirage!$A:$G,1,FALSE)),\"\",VLOOKUP(C2,Tirage!$A:$K,2,FALSE)& CHAR(10) & VLOOKUP(C2,Tirage!$A:$K,3,FALSE))","v":""},null,{"$f":"IF(F2<>\"\",IF(F3<>\"\",VLOOKUP(LEFT(F3,SEARCH(CHAR(10),F3,1)-1),Tirage!$B:$D,3,FALSE),\"\"),\"\")","v":""},{"$f":"IF(ISERROR(VLOOKUP(F2,Tirage!$A:$G,1,FALSE)),\"\",VLOOKUP(F2,Tirage!$A:$K,2,FALSE)& CHAR(10) & VLOOKUP(F2,Tirage!$A:$K,3,FALSE))","v":""},null,{"$f":"IF(I2<>\"\",IF(I3<>\"\",VLOOKUP(LEFT(I3,SEARCH(CHAR(10),I3,1)-1),Tirage!$B:$D,3,FALSE),\"\"),\"\")","v":""},{"$f":"IF(ISERROR(VLOOKUP(I2,Tirage!$A:$G,1,FALSE)),\"\",VLOOKUP(I2,Tirage!$A:$K,2,FALSE)& CHAR(10) & VLOOKUP(I2,Tirage!$A:$K,3,FALSE))","v":""},null,{"$f":"IF(L2<>\"\",IF(L3<>\"\",VLOOKUP(LEFT(L3,SEARCH(CHAR(10),L3,1)-1),Tirage!$B:$D,3,FALSE),\"\"),\"\")","v":""},{"$f":"IF(ISERROR(VLOOKUP(L2,Tirage!$A:$G,1,FALSE)),\"\",VLOOKUP(L2,Tirage!$A:$K,2,FALSE)& CHAR(10) & VLOOKUP(L2,Tirage!$A:$K,3,FALSE))","v":""}]
[null,null,{"$f":"IF(ISERROR(VLOOKUP(C2,Tirage!$A:$G,1,FALSE)),\"\",VLOOKUP(C2,Tirage!$A:$K,5,FALSE)& CHAR(10) & VLOOKUP(C2,Tirage!$A:$K,6,FALSE))","v":""},null,null,{"$f":"IF(ISERROR(VLOOKUP(F2,Tirage!$A:$G,1,FALSE)),\"\",VLOOKUP(F2,Tirage!$A:$K,5,FALSE)& CHAR(10) & VLOOKUP(F2,Tirage!$A:$K,6,FALSE))","v":""},null,null,{"$f":"IF(ISERROR(VLOOKUP(I2,Tirage!$A:$G,1,FALSE)),\"\",VLOOKUP(I2,Tirage!$A:$K,5,FALSE)& CHAR(10) & VLOOKUP(I2,Tirage!$A:$K,6,FALSE))","v":""},null,null,{"$f":"IF(ISERROR(VLOOKUP(L2,Tirage!$A:$G,1,FALSE)),\"\",VLOOKUP(L2,Tirage!$A:$K,5,FALSE)& CHAR(10) & VLOOKUP(L2,Tirage!$A:$K,6,FALSE))","v":""}]
[null,{"$f":"IF(C2<>\"\",IF(C5<>\"\",VLOOKUP(LEFT(C5,SEARCH(CHAR(10),C5,1)-1),Tirage!$B:$D,3,FALSE),\"\"),\"\")","v":""},{"$f":"IF(ISERROR(VLOOKUP(C2,Tirage!$A:$G,1,FALSE)),\"\",VLOOKUP(C2,Tirage!$A:$K,7,FALSE)& CHAR(10) & VLOOKUP(C2,Tirage!$A:$K,8,FALSE))","v":""},null,{"$f":"IF(C2<>\"\",IF(F5<>\"\",VLOOKUP(LEFT(F5,SEARCH(CHAR(10),F5,1)-1),Tirage!$B:$D,3,FALSE),\"\"),\"\")","v":""},{"$f":"IF(ISERROR(VLOOKUP(F2,Tirage!$A:$G,1,FALSE)),\"\",VLOOKUP(F2,Tirage!$A:$K,7,FALSE)& CHAR(10) & VLOOKUP(F2,Tirage!$A:$K,8,FALSE))","v":""},null,{"$f":"IF(F2<>\"\",IF(I5<>\"\",VLOOKUP(LEFT(I5,SEARCH(CHAR(10),I5,1)-1),Tirage!$B:$D,3,FALSE),\"\"),\"\")","v":""},{"$f":"IF(ISERROR(VLOOKUP(I2,Tirage!$A:$G,1,FALSE)),\"\",VLOOKUP(I2,Tirage!$A:$K,7,FALSE)& CHAR(10) & VLOOKUP(I2,Tirage!$A:$K,8,FALSE))","v":""},null,{"$f":"IF(I2<>\"\",IF(L5<>\"\",VLOOKUP(LEFT(L5,SEARCH(CHAR(10),L5,1)-1),Tirage!$B:$D,3,FALSE),\"\"),\"\")","v":""},{"$f":"IF(ISERROR(VLOOKUP(L2,Tirage!$A:$G,1,FALSE)),\"\",VLOOKUP(L2,Tirage!$A:$K,7,FALSE)& CHAR(10) & VLOOKUP(L2,Tirage!$A:$K,8,FALSE))","v":""}]
[null,null,{"$f":"IF(ISERROR(VLOOKUP(C2,Tirage!$A:$G,1,FALSE)),\"\",VLOOKUP(C2,Tirage!$A:$K,10,FALSE)& CHAR(10) & VLOOKUP(C2,Tirage!$A:$K,11,FALSE))","v":""},null,null,{"$f":"IF(ISERROR(VLOOKUP(F2,Tirage!$A:$G,1,FALSE)),\"\",VLOOKUP(F2,Tirage!$A:$K,10,FALSE)& CHAR(10) & VLOOKUP(F2,Tirage!$A:$K,11,FALSE))","v":""},null,null,{"$f":"IF(ISERROR(VLOOKUP(I2,Tirage!$A:$G,1,FALSE)),\"\",VLOOKUP(I2,Tirage!$A:$K,10,FALSE)& CHAR(10) & VLOOKUP(I2,Tirage!$A:$K,11,FALSE))","v":""},null,null,{"$f":"IF(ISERROR(VLOOKUP(L2,Tirage!$A:$G,1,FALSE)),\"\",VLOOKUP(L2,Tirage!$A:$K,10,FALSE)& CHAR(10) & VLOOKUP(L2,Tirage!$A:$K,11,FALSE))","v":""}]
["2ème phase",{"$f":"IF(C2<>\"\",IF(B5<>\"\",IF(B5+1>Tirage!$G$1,B5-Tirage!$G$1+1,B5+1),IF(B3+2>Tirage!$G$1,B3+1-Tirage!$G$1+1,B3+2)),\"\")","v":""},{"$f":"IF(AND(D3<>\"\",D4<>\"\"),IF(D3>D4,C3,C4),\"\")","v":""},null,{"$f":"IF(F2<>\"\",IF(E5<>\"\",IF(E5+1>Tirage!$G$1,E5-Tirage!$G$1+1,E5+1),IF(E3+2>Tirage!$G$1,E3+1-Tirage!$G$1+1,E3+2)),\"\")","v":""},{"$f":"IF(AND(G3<>\"\",G4<>\"\"),IF(G3>G4,F3,F4),\"\")","v":""},null,{"$f":"IF(I2<>\"\",IF(H5<>\"\",IF(H5+1>Tirage!$G$1,H5-Tirage!$G$1+1,H5+1),IF(H3+2>Tirage!$G$1,H3+1-Tirage!$G$1+1,H3+2)),\"\")","v":""},{"$f":"IF(AND(J3<>\"\",J4<>\"\"),IF(J3>J4,I3,I4),\"\")","v":""},null,{"$f":"IF(L2<>\"\",IF(K5<>\"\",IF(K5+1>Tirage!$G$1,K5-Tirage!$G$1+1,K5+1),IF(K3+2>Tirage!$G$1,K3+1-Tirage!$G$1+1,K3+2)),\"\")","v":""},{"$f":"IF(AND(M3<>\"\",M4<>\"\"),IF(M3>M4,L3,L4),\"\")","v":""}]
[null,null,{"$f":"IF(AND(D5<>\"\",D6<>\"\"),IF(D5>D6,C5,C6),IF(AND(D3<>\"\",C6=\"office\"&CHAR(10)),C5,\"\"))","v":""},null,null,{"$f":"IF(AND(G5<>\"\",G6<>\"\"),IF(G5>G6,F5,F6),IF(AND(G3<>\"\",F6=\"office\"&CHAR(10)),F5,\"\"))","v":""},null,null,{"$f":"IF(AND(J5<>\"\",J6<>\"\"),IF(J5>J6,I5,I6),IF(AND(J3<>\"\",I6=\"office\"&CHAR(10)),I5,\"\"))","v":""},null,null,{"$f":"IF(AND(M5<>\"\",M6<>\"\"),IF(M5>M6,L5,L6),IF(AND(M3<>\"\",L6=\"office\"&CHAR(10)),L5,\"\"))","v":""}]
[null,{"$f":"IF(C2<>\"\",IF(C6<>\"office\"& CHAR(10),IF(B7<>\"\",IF(B7+1>Tirage!$G$1,B7-Tirage!$G$1+1,B7+1),\"\"),\"\"),\"\")","v":""},{"$f":"IF(AND(D3<>\"\",D4<>\"\"),IF(D3<D4,C3,C4),\"\")","v":""},null,{"$f":"IF(F2<>\"\",IF(F6<>\"office\"& CHAR(10),IF(E7<>\"\",IF(E7+1>Tirage!$G$1,E7-Tirage!$G$1+1,E7+1),\"\"),\"\"),\"\")","v":""},{"$f":"IF(AND(G3<>\"\",G4<>\"\"),IF(G3<G4,F3,F4),\"\")","v":""},null,{"$f":"IF(I2<>\"\",IF(I6<>\"office\"& CHAR(10),IF(H7<>\"\",IF(H7+1>Tirage!$G$1,H7-Tirage!$G$1+1,H7+1),\"\"),\"\"),\"\")","v":""},{"$f":"IF(AND(J3<>\"\",J4<>\"\"),IF(J3<J4,I3,I4),\"\")","v":""},null,{"$f":"IF(L2<>\"\",IF(L6<>\"office\"& CHAR(10),IF(K7<>\"\",IF(K7+1>Tirage!$G$1,K7-Tirage!$G$1+1,K7+1),\"\"),\"\"),\"\")","v":""},{"$f":"IF(AND(M3<>\"\",M4<>\"\"),IF(M3<M4,L3,L4),\"\")","v":""}]
[null,null,{"$f":"IF(AND(D5<>\"\",D6<>\"\"),IF(D5<D6,C5,C6),IF(AND(D3<>\"\",C6=\"office\"&CHAR(10)),\"office\"&CHAR(10),\"\"))","v":""},null,null,{"$f":"IF(AND(G5<>\"\",G6<>\"\"),IF(G5<G6,F5,F6),IF(AND(G3<>\"\",F6=\"office\"&CHAR(10)),\"office\"&CHAR(10),\"\"))","v":""},null,null,{"$f":"IF(AND(J5<>\"\",J6<>\"\"),IF(J5<J6,I5,I6),IF(AND(J3<>\"\",I6=\"office\"&CHAR(10)),\"office\"&CHAR(10),\"\"))","v":""},null,null,{"$f":"IF(AND(M5<>\"\",M6<>\"\"),IF(M5<M6,L5,L6),IF(AND(M3<>\"\",L6=\"office\"&CHAR(10)),\"office\"&CHAR(10),\"\"))","v":""}]
["Barrage",{"$f":"IF(C2<>\"\",IF(B9<>\"\",IF(B9+1>Tirage!$G$1,B9-Tirage!$G$1+1,B9+1),IF(B7+2>Tirage!$G$1,B7+2-Tirage!$G$1,B7+2)),\"\")","v":""},{"$f":"IF(AND(D7<>\"\",D8<>\"\"),IF(D7>D8,C8,C7),\"\")","v":""},null,{"$f":"IF(F2<>\"\",IF(E9<>\"\",IF(E9+1>Tirage!$G$1,E9-Tirage!$G$1+1,E9+1),IF(E7+2>Tirage!$G$1,E7+2-Tirage!$G$1,E7+2)),\"\")","v":""},{"$f":"IF(AND(G7<>\"\",G8<>\"\"),IF(G7>G8,F8,F7),\"\")","v":""},null,{"$f":"IF(I2<>\"\",IF(H9<>\"\",IF(H9+1>Tirage!$G$1,H9-Tirage!$G$1+1,H9+1),IF(H7+2>Tirage!$G$1,H7+2-Tirage!$G$1,H7+2)),\"\")","v":""},{"$f":"IF(AND(J7<>\"\",J8<>\"\"),IF(J7>J8,I8,I7),\"\")","v":""},null,{"$f":"IF(L2<>\"\",IF(K9<>\"\",IF(K9+1>Tirage!$G$1,K9-Tirage!$G$1+1,K9+1),IF(K7+2>Tirage!$G$1,K7+2-Tirage!$G$1,K7+2)),\"\")","v":""},{"$f":"IF(AND(M7<>\"\",M8<>\"\"),IF(M7>M8,L8,L7),\"\")","v":""}]
[null,null,{"$f":"IF(C10<>\"office\"&CHAR(10),IF(AND(D9<>\"\",D10<>\"\"),IF(D9>D10,C9,C10),\"\"),IF(D7<>\"\",C9,\"\"))","v":""},13,null,{"$f":"IF(F10<>\"office\"&CHAR(10),IF(AND(G9<>\"\",G10<>\"\"),IF(G9>G10,F9,F10),\"\"),IF(G7<>\"\",F9,\"\"))","v":""},10,null,{"$f":"IF(I10<>\"office\"&CHAR(10),IF(AND(J9<>\"\",J10<>\"\"),IF(J9>J10,I9,I10),\"\"),IF(J7<>\"\",I9,\"\"))","v":""},13,null,{"$f":"IF(L10<>\"office\"&CHAR(10),IF(AND(M9<>\"\",M10<>\"\"),IF(M9>M10,L9,L10),\"\"),IF(M7<>\"\",L9,\"\"))","v":""},5]
["1er de poule",null,{"$f":"IF(AND(D7<>\"\",D8<>\"\"),IF(D7>D8,C7,C8),\"\")","v":""},null,null,{"$f":"IF(AND(G7<>\"\",G8<>\"\"),IF(G7>G8,F7,F8),\"\")","v":""},null,null,{"$f":"IF(AND(J7<>\"\",J8<>\"\"),IF(J7>J8,I7,I8),\"\")","v":""},null,null,{"$f":"IF(AND(M7<>\"\",M8<>\"\"),IF(M7>M8,L7,L8),\"\")","v":""}]
["2e de poule",null,{"$f":"IF(AND(D11<>\"\",D12<>\"\"),IF(D11>D12,C11,C12),\"\")","v":""},null,null,{"$f":"IF(AND(G11<>\"\",G12<>\"\"),IF(G11>G12,F11,F12),\"\")","v":""},null,null,{"$f":"IF(AND(J11<>\"\",J12<>\"\"),IF(J11>J12,I11,I12),\"\")","v":""},null,null,{"$f":"IF(AND(M11<>\"\",M12<>\"\"),IF(M11>M12,L11,L12),\"\")","v":""}]
[null,"Jeu",{"$f":"IF('Liste inscrits'!$AF$7>=(ROW()-2)/13*4+COLUMN()/3,\"POULE \"&IF(64+(((ROW()+11)/13)*4)-3>116,\"B\"&CHAR(12+(((ROW()+11)/13)*4)-3),IF(64+(((ROW()+11)/13)*4)-3>90,\"A\"&CHAR(38+(((ROW()+11)/13)*4)-3),CHAR(64+(((ROW()+11)/13)*4)-3)&\" \")),\"\")","v":""},null,"Jeu",{"$f":"IF('Liste inscrits'!$AF$7>=(ROW()-2)/13*4+COLUMN()/3,\"POULE \"&IF(64+(((ROW()+11)/13)*4)-2>116,\"B\"&CHAR(12+(((ROW()+11)/13)*4)-2),IF(64+(((ROW()+11)/13)*4)-2>90,\"A\"&CHAR(38+(((ROW()+11)/13)*4)-2),CHAR(64+(((ROW()+11)/13)*4)-2)&\" \")),\"\")","v":""},null,"Jeu",{"$f":"IF('Liste inscrits'!$AF$7>=(ROW()-2)/13*4+COLUMN()/3,\"POULE \"&IF(64+(((ROW()+11)/13)*4)-1>116,\"B\"&CHAR(12+(((ROW()+11)/13)*4)-1),IF(64+(((ROW()+11)/13)*4)-1>90,\"A\"&CHAR(38+(((ROW()+11)/13)*4)-1),CHAR(64+(((ROW()+11)/13)*4)-1)&\" \")),\"\")","v":""},null,"Jeu",{"$f":"IF('Liste inscrits'!$AF$7>=(ROW()-2)/13*4+COLUMN()/3,\"POULE \"&IF(64+(((ROW()+11)/13)*4)>116,\"B\"&CHAR(12+(((ROW()+11)/13)*4)),IF(64+(((ROW()+11)/13)*4)>90,\"A\"&CHAR(38+(((ROW()+11)/13)*4)),CHAR(64+(((ROW()+11)/13)*4))&\" \")),\"\")","v":""}]
["1ère phase",{"$f":"IF(C15<>\"\",IF(C16<>\"\",VLOOKUP(LEFT(C16,SEARCH(CHAR(10),C16,1)-1),Tirage!$B:$D,3,FALSE),\"\"),\"\")","v":""},{"$f":"IF(ISERROR(VLOOKUP(C15,Tirage!$A:$G,1,FALSE)),\"\",VLOOKUP(C15,Tirage!$A:$K,2,FALSE)& CHAR(10) & VLOOKUP(C15,Tirage!$A:$K,3,FALSE))","v":""},null,{"$f":"IF(F15<>\"\",IF(F16<>\"\",VLOOKUP(LEFT(F16,SEARCH(CHAR(10),F16,1)-1),Tirage!$B:$D,3,FALSE),\"\"),\"\")","v":""},{"$f":"IF(ISERROR(VLOOKUP(F15,Tirage!$A:$G,1,FALSE)),\"\",VLOOKUP(F15,Tirage!$A:$K,2,FALSE)& CHAR(10) & VLOOKUP(F15,Tirage!$A:$K,3,FALSE))","v":""},null,{"$f":"IF(I15<>\"\",IF(I16<>\"\",VLOOKUP(LEFT(I16,SEARCH(CHAR(10),I16,1)-1),Tirage!$B:$D,3,FALSE),\"\"),\"\")","v":""},{"$f":"IF(ISERROR(VLOOKUP(I15,Tirage!$A:$G,1,FALSE)),\"\",VLOOKUP(I15,Tirage!$A:$K,2,FALSE)& CHAR(10) & VLOOKUP(I15,Tirage!$A:$K,3,FALSE))","v":""},null,{"$f":"IF(L15<>\"\",IF(L16<>\"\",VLOOKUP(LEFT(L16,SEARCH(CHAR(10),L16,1)-1),Tirage!$B:$D,3,FALSE),\"\"),\"\")","v":""},{"$f":"IF(ISERROR(VLOOKUP(L15,Tirage!$A:$G,1,FALSE)),\"\",VLOOKUP(L15,Tirage!$A:$K,2,FALSE)& CHAR(10) & VLOOKUP(L15,Tirage!$A:$K,3,FALSE))","v":""}]
[null,null,{"$f":"IF(ISERROR(VLOOKUP(C15,Tirage!$A:$G,1,FALSE)),\"\",VLOOKUP(C15,Tirage!$A:$K,5,FALSE)& CHAR(10) & VLOOKUP(C15,Tirage!$A:$K,6,FALSE))","v":""},null,null,{"$f":"IF(ISERROR(VLOOKUP(F15,Tirage!$A:$G,1,FALSE)),\"\",VLOOKUP(F15,Tirage!$A:$K,5,FALSE)& CHAR(10) & VLOOKUP(F15,Tirage!$A:$K,6,FALSE))","v":""},null,null,{"$f":"IF(ISERROR(VLOOKUP(I15,Tirage!$A:$G,1,FALSE)),\"\",VLOOKUP(I15,Tirage!$A:$K,5,FALSE)& CHAR(10) & VLOOKUP(I15,Tirage!$A:$K,6,FALSE))","v":""},null,null,{"$f":"IF(ISERROR(VLOOKUP(L15,Tirage!$A:$G,1,FALSE)),\"\",VLOOKUP(L15,Tirage!$A:$K,5,FALSE)& CHAR(10) & VLOOKUP(L15,Tirage!$A:$K,6,FALSE))","v":""}]
[null,{"$f":"IF(C15<>\"\",IF(C18<>\"\",VLOOKUP(LEFT(C18,SEARCH(CHAR(10),C18,1)-1),Tirage!$B:$D,3,FALSE),\"\"),\"\")","v":""},{"$f":"IF(ISERROR(VLOOKUP(C15,Tirage!$A:$G,1,FALSE)),\"\",VLOOKUP(C15,Tirage!$A:$K,7,FALSE)& CHAR(10) & VLOOKUP(C15,Tirage!$A:$K,8,FALSE))","v":""},null,{"$f":"IF(C15<>\"\",IF(F18<>\"\",VLOOKUP(LEFT(F18,SEARCH(CHAR(10),F18,1)-1),Tirage!$B:$D,3,FALSE),\"\"),\"\")","v":""},{"$f":"IF(ISERROR(VLOOKUP(F15,Tirage!$A:$G,1,FALSE)),\"\",VLOOKUP(F15,Tirage!$A:$K,7,FALSE)& CHAR(10) & VLOOKUP(F15,Tirage!$A:$K,8,FALSE))","v":""},null,{"$f":"IF(F15<>\"\",IF(I18<>\"\",VLOOKUP(LEFT(I18,SEARCH(CHAR(10),I18,1)-1),Tirage!$B:$D,3,FALSE),\"\"),\"\")","v":""},{"$f":"IF(ISERROR(VLOOKUP(I15,Tirage!$A:$G,1,FALSE)),\"\",VLOOKUP(I15,Tirage!$A:$K,7,FALSE)& CHAR(10) & VLOOKUP(I15,Tirage!$A:$K,8,FALSE))","v":""},null,{"$f":"IF(I15<>\"\",IF(L18<>\"\",VLOOKUP(LEFT(L18,SEARCH(CHAR(10),L18,1)-1),Tirage!$B:$D,3,FALSE),\"\"),\"\")","v":""},{"$f":"IF(ISERROR(VLOOKUP(L15,Tirage!$A:$G,1,FALSE)),\"\",VLOOKUP(L15,Tirage!$A:$K,7,FALSE)& CHAR(10) & VLOOKUP(L15,Tirage!$A:$K,8,FALSE))","v":""}]
[null,null,{"$f":"IF(ISERROR(VLOOKUP(C15,Tirage!$A:$G,1,FALSE)),\"\",VLOOKUP(C15,Tirage!$A:$K,10,FALSE)& CHAR(10) & VLOOKUP(C15,Tirage!$A:$K,11,FALSE))","v":""},null,null,{"$f":"IF(ISERROR(VLOOKUP(F15,Tirage!$A:$G,1,FALSE)),\"\",VLOOKUP(F15,Tirage!$A:$K,10,FALSE)& CHAR(10) & VLOOKUP(F15,Tirage!$A:$K,11,FALSE))","v":""},null,null,{"$f":"IF(ISERROR(VLOOKUP(I15,Tirage!$A:$G,1,FALSE)),\"\",VLOOKUP(I15,Tirage!$A:$K,10,FALSE)& CHAR(10) & VLOOKUP(I15,Tirage!$A:$K,11,FALSE))","v":""},null,null,{"$f":"IF(ISERROR(VLOOKUP(L15,Tirage!$A:$G,1,FALSE)),\"\",VLOOKUP(L15,Tirage!$A:$K,10,FALSE)& CHAR(10) & VLOOKUP(L15,Tirage!$A:$K,11,FALSE))","v":""}]
["2ème phase",{"$f":"IF(C15<>\"\",IF(B18<>\"\",IF(B18+1>Tirage!$G$1,B18-Tirage!$G$1+1,B18+1),IF(B16+2>Tirage!$G$1,B16+1-Tirage!$G$1+1,B16+2)),\"\")","v":""},{"$f":"IF(AND(D16<>\"\",D17<>\"\"),IF(D16>D17,C16,C17),\"\")","v":""},null,{"$f":"IF(F15<>\"\",IF(E18<>\"\",IF(E18+1>Tirage!$G$1,E18-Tirage!$G$1+1,E18+1),IF(E16+2>Tirage!$G$1,E16+1-Tirage!$G$1+1,E16+2)),\"\")","v":""},{"$f":"IF(AND(G16<>\"\",G17<>\"\"),IF(G16>G17,F16,F17),\"\")","v":""},null,{"$f":"IF(I15<>\"\",IF(H18<>\"\",IF(H18+1>Tirage!$G$1,H18-Tirage!$G$1+1,H18+1),IF(H16+2>Tirage!$G$1,H16+1-Tirage!$G$1+1,H16+2)),\"\")","v":""},{"$f":"IF(AND(J16<>\"\",J17<>\"\"),IF(J16>J17,I16,I17),\"\")","v":""},null,{"$f":"IF(L15<>\"\",IF(K18<>\"\",IF(K18+1>Tirage!$G$1,K18-Tirage!$G$1+1,K18+1),IF(K16+2>Tirage!$G$1,K16+1-Tirage!$G$1+1,K16+2)),\"\")","v":""},{"$f":"IF(AND(M16<>\"\",M17<>\"\"),IF(M16>M17,L16,L17),\"\")","v":""}]
[null,null,{"$f":"IF(AND(D18<>\"\",D19<>\"\"),IF(D18>D19,C18,C19),IF(AND(D16<>\"\",C19=\"office\"&CHAR(10)),C18,\"\"))","v":""},null,null,{"$f":"IF(AND(G18<>\"\",G19<>\"\"),IF(G18>G19,F18,F19),IF(AND(G16<>\"\",F19=\"office\"&CHAR(10)),F18,\"\"))","v":""},null,null,{"$f":"IF(AND(J18<>\"\",J19<>\"\"),IF(J18>J19,I18,I19),IF(AND(J16<>\"\",I19=\"office\"&CHAR(10)),I18,\"\"))","v":""},null,null,{"$f":"IF(AND(M18<>\"\",M19<>\"\"),IF(M18>M19,L18,L19),IF(AND(M16<>\"\",L19=\"office\"&CHAR(10)),L18,\"\"))","v":""}]
[null,{"$f":"IF(C15<>\"\",IF(C19<>\"office\"& CHAR(10),IF(B20<>\"\",IF(B20+1>Tirage!$G$1,B20-Tirage!$G$1+1,B20+1),\"\"),\"\"),\"\")","v":""},{"$f":"IF(AND(D16<>\"\",D17<>\"\"),IF(D16<D17,C16,C17),\"\")","v":""},null,{"$f":"IF(F15<>\"\",IF(F19<>\"office\"& CHAR(10),IF(E20<>\"\",IF(E20+1>Tirage!$G$1,E20-Tirage!$G$1+1,E20+1),\"\"),\"\"),\"\")","v":""},{"$f":"IF(AND(G16<>\"\",G17<>\"\"),IF(G16<G17,F16,F17),\"\")","v":""},null,{"$f":"IF(I15<>\"\",IF(I19<>\"office\"& CHAR(10),IF(H20<>\"\",IF(H20+1>Tirage!$G$1,H20-Tirage!$G$1+1,H20+1),\"\"),\"\"),\"\")","v":""},{"$f":"IF(AND(J16<>\"\",J17<>\"\"),IF(J16<J17,I16,I17),\"\")","v":""},null,{"$f":"IF(L15<>\"\",IF(L19<>\"office\"& CHAR(10),IF(K20<>\"\",IF(K20+1>Tirage!$G$1,K20-Tirage!$G$1+1,K20+1),\"\"),\"\"),\"\")","v":""},{"$f":"IF(AND(M16<>\"\",M17<>\"\"),IF(M16<M17,L16,L17),\"\")","v":""}]
[null,null,{"$f":"IF(AND(D18<>\"\",D19<>\"\"),IF(D18<D19,C18,C19),IF(AND(D16<>\"\",C19=\"office\"&CHAR(10)),\"office\"&CHAR(10),\"\"))","v":""},null,null,{"$f":"IF(AND(G18<>\"\",G19<>\"\"),IF(G18<G19,F18,F19),IF(AND(G16<>\"\",F19=\"office\"&CHAR(10)),\"office\"&CHAR(10),\"\"))","v":""},null,null,{"$f":"IF(AND(J18<>\"\",J19<>\"\"),IF(J18<J19,I18,I19),IF(AND(J16<>\"\",I19=\"office\"&CHAR(10)),\"office\"&CHAR(10),\"\"))","v":""},null,null,{"$f":"IF(AND(M18<>\"\",M19<>\"\"),IF(M18<M19,L18,L19),IF(AND(M16<>\"\",L19=\"office\"&CHAR(10)),\"office\"&CHAR(10),\"\"))","v":""}]
["Barrage",{"$f":"IF(C15<>\"\",IF(B22<>\"\",IF(B22+1>Tirage!$G$1,B22-Tirage!$G$1+1,B22+1),IF(B20+2>Tirage!$G$1,B20+2-Tirage!$G$1,B20+2)),\"\")","v":""},{"$f":"IF(AND(D20<>\"\",D21<>\"\"),IF(D20>D21,C21,C20),\"\")","v":""},null,{"$f":"IF(F15<>\"\",IF(E22<>\"\",IF(E22+1>Tirage!$G$1,E22-Tirage!$G$1+1,E22+1),IF(E20+2>Tirage!$G$1,E20+2-Tirage!$G$1,E20+2)),\"\")","v":""},{"$f":"IF(AND(G20<>\"\",G21<>\"\"),IF(G20>G21,F21,F20),\"\")","v":""},null,{"$f":"IF(I15<>\"\",IF(H22<>\"\",IF(H22+1>Tirage!$G$1,H22-Tirage!$G$1+1,H22+1),IF(H20+2>Tirage!$G$1,H20+2-Tirage!$G$1,H20+2)),\"\")","v":""},{"$f":"IF(AND(J20<>\"\",J21<>\"\"),IF(J20>J21,I21,I20),\"\")","v":""},null,{"$f":"IF(L15<>\"\",IF(K22<>\"\",IF(K22+1>Tirage!$G$1,K22-Tirage!$G$1+1,K22+1),IF(K20+2>Tirage!$G$1,K20+2-Tirage!$G$1,K20+2)),\"\")","v":""},{"$f":"IF(AND(M20<>\"\",M21<>\"\"),IF(M20>M21,L21,L20),\"\")","v":""}]
[null,null,{"$f":"IF(C23<>\"office\"&CHAR(10),IF(AND(D22<>\"\",D23<>\"\"),IF(D22>D23,C22,C23),\"\"),IF(D20<>\"\",C22,\"\"))","v":""},13,null,{"$f":"IF(F23<>\"office\"&CHAR(10),IF(AND(G22<>\"\",G23<>\"\"),IF(G22>G23,F22,F23),\"\"),IF(G20<>\"\",F22,\"\"))","v":""},null,null,{"$f":"IF(I23<>\"office\"&CHAR(10),IF(AND(J22<>\"\",J23<>\"\"),IF(J22>J23,I22,I23),\"\"),IF(J20<>\"\",I22,\"\"))","v":""},null,null,{"$f":"IF(L23<>\"office\"&CHAR(10),IF(AND(M22<>\"\",M23<>\"\"),IF(M22>M23,L22,L23),\"\"),IF(M20<>\"\",L22,\"\"))","v":""}]
["1er de poule",null,{"$f":"IF(AND(D20<>\"\",D21<>\"\"),IF(D20>D21,C20,C21),\"\")","v":""},null,null,{"$f":"IF(AND(G20<>\"\",G21<>\"\"),IF(G20>G21,F20,F21),\"\")","v":""},null,null,{"$f":"IF(AND(J20<>\"\",J21<>\"\"),IF(J20>J21,I20,I21),\"\")","v":""},null,null,{"$f":"IF(AND(M20<>\"\",M21<>\"\"),IF(M20>M21,L20,L21),\"\")","v":""}]
["2e de poule",null,{"$f":"IF(AND(D24<>\"\",D25<>\"\"),IF(D24>D25,C24,C25),\"\")","v":""},null,null,{"$f":"IF(AND(G24<>\"\",G25<>\"\"),IF(G24>G25,F24,F25),\"\")","v":""},null,null,{"$f":"IF(AND(J24<>\"\",J25<>\"\"),IF(J24>J25,I24,I25),\"\")","v":""},null,null,{"$f":"IF(AND(M24<>\"\",M25<>\"\"),IF(M24>M25,L24,L25),\"\")","v":""}]
[null,"Jeu",{"$f":"IF('Liste inscrits'!$AF$7>=(ROW()-2)/13*4+COLUMN()/3,\"POULE \"&IF(64+(((ROW()+11)/13)*4)-3>116,\"B\"&CHAR(12+(((ROW()+11)/13)*4)-3),IF(64+(((ROW()+11)/13)*4)-3>90,\"A\"&CHAR(38+(((ROW()+11)/13)*4)-3),CHAR(64+(((ROW()+11)/13)*4)-3)&\" \")),\"\")","v":""},null,"Jeu",{"$f":"IF('Liste inscrits'!$AF$7>=(ROW()-2)/13*4+COLUMN()/3,\"POULE \"&IF(64+(((ROW()+11)/13)*4)-2>116,\"B\"&CHAR(12+(((ROW()+11)/13)*4)-2),IF(64+(((ROW()+11)/13)*4)-2>90,\"A\"&CHAR(38+(((ROW()+11)/13)*4)-2),CHAR(64+(((ROW()+11)/13)*4)-2)&\" \")),\"\")","v":""},null,"Jeu",{"$f":"IF('Liste inscrits'!$AF$7>=(ROW()-2)/13*4+COLUMN()/3,\"POULE \"&IF(64+(((ROW()+11)/13)*4)-1>116,\"B\"&CHAR(12+(((ROW()+11)/13)*4)-1),IF(64+(((ROW()+11)/13)*4)-1>90,\"A\"&CHAR(38+(((ROW()+11)/13)*4)-1),CHAR(64+(((ROW()+11)/13)*4)-1)&\" \")),\"\")","v":""},null,"Jeu",{"$f":"IF('Liste inscrits'!$AF$7>=(ROW()-2)/13*4+COLUMN()/3,\"POULE \"&IF(64+(((ROW()+11)/13)*4)>116,\"B\"&CHAR(12+(((ROW()+11)/13)*4)),IF(64+(((ROW()+11)/13)*4)>90,\"A\"&CHAR(38+(((ROW()+11)/13)*4)),CHAR(64+(((ROW()+11)/13)*4))&\" \")),\"\")","v":""}]
["1ère phase",{"$f":"IF(C28<>\"\",IF(C29<>\"\",VLOOKUP(LEFT(C29,SEARCH(CHAR(10),C29,1)-1),Tirage!$B:$D,3,FALSE),\"\"),\"\")","v":""},{"$f":"IF(ISERROR(VLOOKUP(C28,Tirage!$A:$G,1,FALSE)),\"\",VLOOKUP(C28,Tirage!$A:$K,2,FALSE)& CHAR(10) & VLOOKUP(C28,Tirage!$A:$K,3,FALSE))","v":""},null,{"$f":"IF(F28<>\"\",IF(F29<>\"\",VLOOKUP(LEFT(F29,SEARCH(CHAR(10),F29,1)-1),Tirage!$B:$D,3,FALSE),\"\"),\"\")","v":""},{"$f":"IF(ISERROR(VLOOKUP(F28,Tirage!$A:$G,1,FALSE)),\"\",VLOOKUP(F28,Tirage!$A:$K,2,FALSE)& CHAR(10) & VLOOKUP(F28,Tirage!$A:$K,3,FALSE))","v":""},null,{"$f":"IF(I28<>\"\",IF(I29<>\"\",VLOOKUP(LEFT(I29,SEARCH(CHAR(10),I29,1)-1),Tirage!$B:$D,3,FALSE),\"\"),\"\")","v":""},{"$f":"IF(ISERROR(VLOOKUP(I28,Tirage!$A:$G,1,FALSE)),\"\",VLOOKUP(I28,Tirage!$A:$K,2,FALSE)& CHAR(10) & VLOOKUP(I28,Tirage!$A:$K,3,FALSE))","v":""},null,{"$f":"IF(L28<>\"\",IF(L29<>\"\",VLOOKUP(LEFT(L29,SEARCH(CHAR(10),L29,1)-1),Tirage!$B:$D,3,FALSE),\"\"),\"\")","v":""},{"$f":"IF(ISERROR(VLOOKUP(L28,Tirage!$A:$G,1,FALSE)),\"\",VLOOKUP(L28,Tirage!$A:$K,2,FALSE)& CHAR(10) & VLOOKUP(L28,Tirage!$A:$K,3,FALSE))","v":""}]
[null,null,{"$f":"IF(ISERROR(VLOOKUP(C28,Tirage!$A:$G,1,FALSE)),\"\",VLOOKUP(C28,Tirage!$A:$K,5,FALSE)& CHAR(10) & VLOOKUP(C28,Tirage!$A:$K,6,FALSE))","v":""},null,null,{"$f":"IF(ISERROR(VLOOKUP(F28,Tirage!$A:$G,1,FALSE)),\"\",VLOOKUP(F28,Tirage!$A:$K,5,FALSE)& CHAR(10) & VLOOKUP(F28,Tirage!$A:$K,6,FALSE))","v":""},null,null,{"$f":"IF(ISERROR(VLOOKUP(I28,Tirage!$A:$G,1,FALSE)),\"\",VLOOKUP(I28,Tirage!$A:$K,5,FALSE)& CHAR(10) & VLOOKUP(I28,Tirage!$A:$K,6,FALSE))","v":""},null,null,{"$f":"IF(ISERROR(VLOOKUP(L28,Tirage!$A:$G,1,FALSE)),\"\",VLOOKUP(L28,Tirage!$A:$K,5,FALSE)& CHAR(10) & VLOOKUP(L28,Tirage!$A:$K,6,FALSE))","v":""}]
[null,{"$f":"IF(C28<>\"\",IF(C31<>\"\",VLOOKUP(LEFT(C31,SEARCH(CHAR(10),C31,1)-1),Tirage!$B:$D,3,FALSE),\"\"),\"\")","v":""},{"$f":"IF(ISERROR(VLOOKUP(C28,Tirage!$A:$G,1,FALSE)),\"\",VLOOKUP(C28,Tirage!$A:$K,7,FALSE)& CHAR(10) & VLOOKUP(C28,Tirage!$A:$K,8,FALSE))","v":""},null,{"$f":"IF(C28<>\"\",IF(F31<>\"\",VLOOKUP(LEFT(F31,SEARCH(CHAR(10),F31,1)-1),Tirage!$B:$D,3,FALSE),\"\"),\"\")","v":""},{"$f":"IF(ISERROR(VLOOKUP(F28,Tirage!$A:$G,1,FALSE)),\"\",VLOOKUP(F28,Tirage!$A:$K,7,FALSE)& CHAR(10) & VLOOKUP(F28,Tirage!$A:$K,8,FALSE))","v":""},null,{"$f":"IF(F28<>\"\",IF(I31<>\"\",VLOOKUP(LEFT(I31,SEARCH(CHAR(10),I31,1)-1),Tirage!$B:$D,3,FALSE),\"\"),\"\")","v":""},{"$f":"IF(ISERROR(VLOOKUP(I28,Tirage!$A:$G,1,FALSE)),\"\",VLOOKUP(I28,Tirage!$A:$K,7,FALSE)& CHAR(10) & VLOOKUP(I28,Tirage!$A:$K,8,FALSE))","v":""},null,{"$f":"IF(I28<>\"\",IF(L31<>\"\",VLOOKUP(LEFT(L31,SEARCH(CHAR(10),L31,1)-1),Tirage!$B:$D,3,FALSE),\"\"),\"\")","v":""},{"$f":"IF(ISERROR(VLOOKUP(L28,Tirage!$A:$G,1,FALSE)),\"\",VLOOKUP(L28,Tirage!$A:$K,7,FALSE)& CHAR(10) & VLOOKUP(L28,Tirage!$A:$K,8,FALSE))","v":""}]
[null,null,{"$f":"IF(ISERROR(VLOOKUP(C28,Tirage!$A:$G,1,FALSE)),\"\",VLOOKUP(C28,Tirage!$A:$K,10,FALSE)& CHAR(10) & VLOOKUP(C28,Tirage!$A:$K,11,FALSE))","v":""},null,null,{"$f":"IF(ISERROR(VLOOKUP(F28,Tirage!$A:$G,1,FALSE)),\"\",VLOOKUP(F28,Tirage!$A:$K,10,FALSE)& CHAR(10) & VLOOKUP(F28,Tirage!$A:$K,11,FALSE))","v":""},null,null,{"$f":"IF(ISERROR(VLOOKUP(I28,Tirage!$A:$G,1,FALSE)),\"\",VLOOKUP(I28,Tirage!$A:$K,10,FALSE)& CHAR(10) & VLOOKUP(I28,Tirage!$A:$K,11,FALSE))","v":""},null,null,{"$f":"IF(ISERROR(VLOOKUP(L28,Tirage!$A:$G,1,FALSE)),\"\",VLOOKUP(L28,Tirage!$A:$K,10,FALSE)& CHAR(10) & VLOOKUP(L28,Tirage!$A:$K,11,FALSE))","v":""}]
["2ème phase",{"$f":"IF(C28<>\"\",IF(B31<>\"\",IF(B31+1>Tirage!$G$1,B31-Tirage!$G$1+1,B31+1),IF(B29+2>Tirage!$G$1,B29+1-Tirage!$G$1+1,B29+2)),\"\")","v":""},{"$f":"IF(AND(D29<>\"\",D30<>\"\"),IF(D29>D30,C29,C30),\"\")","v":""},null,{"$f":"IF(F28<>\"\",IF(E31<>\"\",IF(E31+1>Tirage!$G$1,E31-Tirage!$G$1+1,E31+1),IF(E29+2>Tirage!$G$1,E29+1-Tirage!$G$1+1,E29+2)),\"\")","v":""},{"$f":"IF(AND(G29<>\"\",G30<>\"\"),IF(G29>G30,F29,F30),\"\")","v":""},null,{"$f":"IF(I28<>\"\",IF(H31<>\"\",IF(H31+1>Tirage!$G$1,H31-Tirage!$G$1+1,H31+1),IF(H29+2>Tirage!$G$1,H29+1-Tirage!$G$1+1,H29+2)),\"\")","v":""},{"$f":"IF(AND(J29<>\"\",J30<>\"\"),IF(J29>J30,I29,I30),\"\")","v":""},null,{"$f":"IF(L28<>\"\",IF(K31<>\"\",IF(K31+1>Tirage!$G$1,K31-Tirage!$G$1+1,K31+1),IF(K29+2>Tirage!$G$1,K29+1-Tirage!$G$1+1,K29+2)),\"\")","v":""},{"$f":"IF(AND(M29<>\"\",M30<>\"\"),IF(M29>M30,L29,L30),\"\")","v":""}]
[null,null,{"$f":"IF(AND(D31<>\"\",D32<>\"\"),IF(D31>D32,C31,C32),IF(AND(D29<>\"\",C32=\"office\"&CHAR(10)),C31,\"\"))","v":""},null,null,{"$f":"IF(AND(G31<>\"\",G32<>\"\"),IF(G31>G32,F31,F32),IF(AND(G29<>\"\",F32=\"office\"&CHAR(10)),F31,\"\"))","v":""},null,null,{"$f":"IF(AND(J31<>\"\",J32<>\"\"),IF(J31>J32,I31,I32),IF(AND(J29<>\"\",I32=\"office\"&CHAR(10)),I31,\"\"))","v":""},null,null,{"$f":"IF(AND(M31<>\"\",M32<>\"\"),IF(M31>M32,L31,L32),IF(AND(M29<>\"\",L32=\"office\"&CHAR(10)),L31,\"\"))","v":""}]
[null,{"$f":"IF(C28<>\"\",IF(C32<>\"office\"& CHAR(10),IF(B33<>\"\",IF(B33+1>Tirage!$G$1,B33-Tirage!$G$1+1,B33+1),\"\"),\"\"),\"\")","v":""},{"$f":"IF(AND(D29<>\"\",D30<>\"\"),IF(D29<D30,C29,C30),\"\")","v":""},null,{"$f":"IF(F28<>\"\",IF(F32<>\"office\"& CHAR(10),IF(E33<>\"\",IF(E33+1>Tirage!$G$1,E33-Tirage!$G$1+1,E33+1),\"\"),\"\"),\"\")","v":""},{"$f":"IF(AND(G29<>\"\",G30<>\"\"),IF(G29<G30,F29,F30),\"\")","v":""},null,{"$f":"IF(I28<>\"\",IF(I32<>\"office\"& CHAR(10),IF(H33<>\"\",IF(H33+1>Tirage!$G$1,H33-Tirage!$G$1+1,H33+1),\"\"),\"\"),\"\")","v":""},{"$f":"IF(AND(J29<>\"\",J30<>\"\"),IF(J29<J30,I29,I30),\"\")","v":""},null,{"$f":"IF(L28<>\"\",IF(L32<>\"office\"& CHAR(10),IF(K33<>\"\",IF(K33+1>Tirage!$G$1,K33-Tirage!$G$1+1,K33+1),\"\"),\"\"),\"\")","v":""},{"$f":"IF(AND(M29<>\"\",M30<>\"\"),IF(M29<M30,L29,L30),\"\")","v":""}]
[null,null,{"$f":"IF(AND(D31<>\"\",D32<>\"\"),IF(D31<D32,C31,C32),IF(AND(D29<>\"\",C32=\"office\"&CHAR(10)),\"office\"&CHAR(10),\"\"))","v":""},null,null,{"$f":"IF(AND(G31<>\"\",G32<>\"\"),IF(G31<G32,F31,F32),IF(AND(G29<>\"\",F32=\"office\"&CHAR(10)),\"office\"&CHAR(10),\"\"))","v":""},null,null,{"$f":"IF(AND(J31<>\"\",J32<>\"\"),IF(J31<J32,I31,I32),IF(AND(J29<>\"\",I32=\"office\"&CHAR(10)),\"office\"&CHAR(10),\"\"))","v":""},null,null,{"$f":"IF(AND(M31<>\"\",M32<>\"\"),IF(M31<M32,L31,L32),IF(AND(M29<>\"\",L32=\"office\"&CHAR(10)),\"office\"&CHAR(10),\"\"))","v":""}]
["Barrage",{"$f":"IF(C28<>\"\",IF(B35<>\"\",IF(B35+1>Tirage!$G$1,B35-Tirage!$G$1+1,B35+1),IF(B33+2>Tirage!$G$1,B33+2-Tirage!$G$1,B33+2)),\"\")","v":""},{"$f":"IF(AND(D33<>\"\",D34<>\"\"),IF(D33>D34,C34,C33),\"\")","v":""},null,{"$f":"IF(F28<>\"\",IF(E35<>\"\",IF(E35+1>Tirage!$G$1,E35-Tirage!$G$1+1,E35+1),IF(E33+2>Tirage!$G$1,E33+2-Tirage!$G$1,E33+2)),\"\")","v":""},{"$f":"IF(AND(G33<>\"\",G34<>\"\"),IF(G33>G34,F34,F33),\"\")","v":""},null,{"$f":"IF(I28<>\"\",IF(H35<>\"\",IF(H35+1>Tirage!$G$1,H35-Tirage!$G$1+1,H35+1),IF(H33+2>Tirage!$G$1,H33+2-Tirage!$G$1,H33+2)),\"\")","v":""},{"$f":"IF(AND(J33<>\"\",J34<>\"\"),IF(J33>J34,I34,I33),\"\")","v":""},null,{"$f":"IF(L28<>\"\",IF(K35<>\"\",IF(K35+1>Tirage!$G$1,K35-Tirage!$G$1+1,K35+1),IF(K33+2>Tirage!$G$1,K33+2-Tirage!$G$1,K33+2)),\"\")","v":""},{"$f":"IF(AND(M33<>\"\",M34<>\"\"),IF(M33>M34,L34,L33),\"\")","v":""}]
[null,null,{"$f":"IF(C36<>\"office\"&CHAR(10),IF(AND(D35<>\"\",D36<>\"\"),IF(D35>D36,C35,C36),\"\"),IF(D33<>\"\",C35,\"\"))","v":""},null,null,{"$f":"IF(F36<>\"office\"&CHAR(10),IF(AND(G35<>\"\",G36<>\"\"),IF(G35>G36,F35,F36),\"\"),IF(G33<>\"\",F35,\"\"))","v":""},null,null,{"$f":"IF(I36<>\"office\"&CHAR(10),IF(AND(J35<>\"\",J36<>\"\"),IF(J35>J36,I35,I36),\"\"),IF(J33<>\"\",I35,\"\"))","v":""},null,null,{"$f":"IF(L36<>\"office\"&CHAR(10),IF(AND(M35<>\"\",M36<>\"\"),IF(M35>M36,L35,L36),\"\"),IF(M33<>\"\",L35,\"\"))","v":""}]
["1er de poule",null,{"$f":"IF(AND(D33<>\"\",D34<>\"\"),IF(D33>D34,C33,C34),\"\")","v":""},null,null,{"$f":"IF(AND(G33<>\"\",G34<>\"\"),IF(G33>G34,F33,F34),\"\")","v":""},null,null,{"$f":"IF(AND(J33<>\"\",J34<>\"\"),IF(J33>J34,I33,I34),\"\")","v":""},null,null,{"$f":"IF(AND(M33<>\"\",M34<>\"\"),IF(M33>M34,L33,L34),\"\")","v":""}]
["2e de poule",null,{"$f":"IF(AND(D37<>\"\",D38<>\"\"),IF(D37>D38,C37,C38),\"\")","v":""},null,null,{"$f":"IF(AND(G37<>\"\",G38<>\"\"),IF(G37>G38,F37,F38),\"\")","v":""},null,null,{"$f":"IF(AND(J37<>\"\",J38<>\"\"),IF(J37>J38,I37,I38),\"\")","v":""},null,null,{"$f":"IF(AND(M37<>\"\",M38<>\"\"),IF(M37>M38,L37,L38),\"\")","v":""}]
[null,"Jeu",{"$f":"IF('Liste inscrits'!$AF$7>=(ROW()-2)/13*4+COLUMN()/3,\"POULE \"&IF(64+(((ROW()+11)/13)*4)-3>116,\"B\"&CHAR(12+(((ROW()+11)/13)*4)-3),IF(64+(((ROW()+11)/13)*4)-3>90,\"A\"&CHAR(38+(((ROW()+11)/13)*4)-3),CHAR(64+(((ROW()+11)/13)*4)-3)&\" \")),\"\")","v":""},null,"Jeu",{"$f":"IF('Liste inscrits'!$AF$7>=(ROW()-2)/13*4+COLUMN()/3,\"POULE \"&IF(64+(((ROW()+11)/13)*4)-2>116,\"B\"&CHAR(12+(((ROW()+11)/13)*4)-2),IF(64+(((ROW()+11)/13)*4)-2>90,\"A\"&CHAR(38+(((ROW()+11)/13)*4)-2),CHAR(64+(((ROW()+11)/13)*4)-2)&\" \")),\"\")","v":""},null,"Jeu",{"$f":"IF('Liste inscrits'!$AF$7>=(ROW()-2)/13*4+COLUMN()/3,\"POULE \"&IF(64+(((ROW()+11)/13)*4)-1>116,\"B\"&CHAR(12+(((ROW()+11)/13)*4)-1),IF(64+(((ROW()+11)/13)*4)-1>90,\"A\"&CHAR(38+(((ROW()+11)/13)*4)-1),CHAR(64+(((ROW()+11)/13)*4)-1)&\" \")),\"\")","v":""},null,"Jeu",{"$f":"IF('Liste inscrits'!$AF$7>=(ROW()-2)/13*4+COLUMN()/3,\"POULE \"&IF(64+(((ROW()+11)/13)*4)>116,\"B\"&CHAR(12+(((ROW()+11)/13)*4)),IF(64+(((ROW()+11)/13)*4)>90,\"A\"&CHAR(38+(((ROW()+11)/13)*4)),CHAR(64+(((ROW()+11)/13)*4))&\" \")),\"\")","v":""}]
["1ère phase",{"$f":"IF(C41<>\"\",IF(C42<>\"\",VLOOKUP(LEFT(C42,SEARCH(CHAR(10),C42,1)-1),Tirage!$B:$D,3,FALSE),\"\"),\"\")","v":""},{"$f":"IF(ISERROR(VLOOKUP(C41,Tirage!$A:$G,1,FALSE)),\"\",VLOOKUP(C41,Tirage!$A:$K,2,FALSE)& CHAR(10) & VLOOKUP(C41,Tirage!$A:$K,3,FALSE))","v":""},null,{"$f":"IF(F41<>\"\",IF(F42<>\"\",VLOOKUP(LEFT(F42,SEARCH(CHAR(10),F42,1)-1),Tirage!$B:$D,3,FALSE),\"\"),\"\")","v":""},{"$f":"IF(ISERROR(VLOOKUP(F41,Tirage!$A:$G,1,FALSE)),\"\",VLOOKUP(F41,Tirage!$A:$K,2,FALSE)& CHAR(10) & VLOOKUP(F41,Tirage!$A:$K,3,FALSE))","v":""},null,{"$f":"IF(I41<>\"\",IF(I42<>\"\",VLOOKUP(LEFT(I42,SEARCH(CHAR(10),I42,1)-1),Tirage!$B:$D,3,FALSE),\"\"),\"\")","v":""},{"$f":"IF(ISERROR(VLOOKUP(I41,Tirage!$A:$G,1,FALSE)),\"\",VLOOKUP(I41,Tirage!$A:$K,2,FALSE)& CHAR(10) & VLOOKUP(I41,Tirage!$A:$K,3,FALSE))","v":""},null,{"$f":"IF(L41<>\"\",IF(L42<>\"\",VLOOKUP(LEFT(L42,SEARCH(CHAR(10),L42,1)-1),Tirage!$B:$D,3,FALSE),\"\"),\"\")","v":""},{"$f":"IF(ISERROR(VLOOKUP(L41,Tirage!$A:$G,1,FALSE)),\"\",VLOOKUP(L41,Tirage!$A:$K,2,FALSE)& CHAR(10) & VLOOKUP(L41,Tirage!$A:$K,3,FALSE))","v":""}]
[null,null,{"$f":"IF(ISERROR(VLOOKUP(C41,Tirage!$A:$G,1,FALSE)),\"\",VLOOKUP(C41,Tirage!$A:$K,5,FALSE)& CHAR(10) & VLOOKUP(C41,Tirage!$A:$K,6,FALSE))","v":""},null,null,{"$f":"IF(ISERROR(VLOOKUP(F41,Tirage!$A:$G,1,FALSE)),\"\",VLOOKUP(F41,Tirage!$A:$K,5,FALSE)& CHAR(10) & VLOOKUP(F41,Tirage!$A:$K,6,FALSE))","v":""},null,null,{"$f":"IF(ISERROR(VLOOKUP(I41,Tirage!$A:$G,1,FALSE)),\"\",VLOOKUP(I41,Tirage!$A:$K,5,FALSE)& CHAR(10) & VLOOKUP(I41,Tirage!$A:$K,6,FALSE))","v":""},null,null,{"$f":"IF(ISERROR(VLOOKUP(L41,Tirage!$A:$G,1,FALSE)),\"\",VLOOKUP(L41,Tirage!$A:$K,5,FALSE)& CHAR(10) & VLOOKUP(L41,Tirage!$A:$K,6,FALSE))","v":""}]
[null,{"$f":"IF(C41<>\"\",IF(C44<>\"\",VLOOKUP(LEFT(C44,SEARCH(CHAR(10),C44,1)-1),Tirage!$B:$D,3,FALSE),\"\"),\"\")","v":""},{"$f":"IF(ISERROR(VLOOKUP(C41,Tirage!$A:$G,1,FALSE)),\"\",VLOOKUP(C41,Tirage!$A:$K,7,FALSE)& CHAR(10) & VLOOKUP(C41,Tirage!$A:$K,8,FALSE))","v":""},null,{"$f":"IF(C41<>\"\",IF(F44<>\"\",VLOOKUP(LEFT(F44,SEARCH(CHAR(10),F44,1)-1),Tirage!$B:$D,3,FALSE),\"\"),\"\")","v":""},{"$f":"IF(ISERROR(VLOOKUP(F41,Tirage!$A:$G,1,FALSE)),\"\",VLOOKUP(F41,Tirage!$A:$K,7,FALSE)& CHAR(10) & VLOOKUP(F41,Tirage!$A:$K,8,FALSE))","v":""},null,{"$f":"IF(F41<>\"\",IF(I44<>\"\",VLOOKUP(LEFT(I44,SEARCH(CHAR(10),I44,1)-1),Tirage!$B:$D,3,FALSE),\"\"),\"\")","v":""},{"$f":"IF(ISERROR(VLOOKUP(I41,Tirage!$A:$G,1,FALSE)),\"\",VLOOKUP(I41,Tirage!$A:$K,7,FALSE)& CHAR(10) & VLOOKUP(I41,Tirage!$A:$K,8,FALSE))","v":""},null,{"$f":"IF(I41<>\"\",IF(L44<>\"\",VLOOKUP(LEFT(L44,SEARCH(CHAR(10),L44,1)-1),Tirage!$B:$D,3,FALSE),\"\"),\"\")","v":""},{"$f":"IF(ISERROR(VLOOKUP(L41,Tirage!$A:$G,1,FALSE)),\"\",VLOOKUP(L41,Tirage!$A:$K,7,FALSE)& CHAR(10) & VLOOKUP(L41,Tirage!$A:$K,8,FALSE))","v":""}]
[null,null,{"$f":"IF(ISERROR(VLOOKUP(C41,Tirage!$A:$G,1,FALSE)),\"\",VLOOKUP(C41,Tirage!$A:$K,10,FALSE)& CHAR(10) & VLOOKUP(C41,Tirage!$A:$K,11,FALSE))","v":""},null,null,{"$f":"IF(ISERROR(VLOOKUP(F41,Tirage!$A:$G,1,FALSE)),\"\",VLOOKUP(F41,Tirage!$A:$K,10,FALSE)& CHAR(10) & VLOOKUP(F41,Tirage!$A:$K,11,FALSE))","v":""},null,null,{"$f":"IF(ISERROR(VLOOKUP(I41,Tirage!$A:$G,1,FALSE)),\"\",VLOOKUP(I41,Tirage!$A:$K,10,FALSE)& CHAR(10) & VLOOKUP(I41,Tirage!$A:$K,11,FALSE))","v":""},null,null,{"$f":"IF(ISERROR(VLOOKUP(L41,Tirage!$A:$G,1,FALSE)),\"\",VLOOKUP(L41,Tirage!$A:$K,10,FALSE)& CHAR(10) & VLOOKUP(L41,Tirage!$A:$K,11,FALSE))","v":""}]
["2ème phase",{"$f":"IF(C41<>\"\",IF(B44<>\"\",IF(B44+1>Tirage!$G$1,B44-Tirage!$G$1+1,B44+1),IF(B42+2>Tirage!$G$1,B42+1-Tirage!$G$1+1,B42+2)),\"\")","v":""},{"$f":"IF(AND(D42<>\"\",D43<>\"\"),IF(D42>D43,C42,C43),\"\")","v":""},null,{"$f":"IF(F41<>\"\",IF(E44<>\"\",IF(E44+1>Tirage!$G$1,E44-Tirage!$G$1+1,E44+1),IF(E42+2>Tirage!$G$1,E42+1-Tirage!$G$1+1,E42+2)),\"\")","v":""},{"$f":"IF(AND(G42<>\"\",G43<>\"\"),IF(G42>G43,F42,F43),\"\")","v":""},null,{"$f":"IF(I41<>\"\",IF(H44<>\"\",IF(H44+1>Tirage!$G$1,H44-Tirage!$G$1+1,H44+1),IF(H42+2>Tirage!$G$1,H42+1-Tirage!$G$1+1,H42+2)),\"\")","v":""},{"$f":"IF(AND(J42<>\"\",J43<>\"\"),IF(J42>J43,I42,I43),\"\")","v":""},null,{"$f":"IF(L41<>\"\",IF(K44<>\"\",IF(K44+1>Tirage!$G$1,K44-Tirage!$G$1+1,K44+1),IF(K42+2>Tirage!$G$1,K42+1-Tirage!$G$1+1,K42+2)),\"\")","v":""},{"$f":"IF(AND(M42<>\"\",M43<>\"\"),IF(M42>M43,L42,L43),\"\")","v":""}]
[null,null,{"$f":"IF(AND(D44<>\"\",D45<>\"\"),IF(D44>D45,C44,C45),IF(AND(D42<>\"\",C45=\"office\"&CHAR(10)),C44,\"\"))","v":""},null,null,{"$f":"IF(AND(G44<>\"\",G45<>\"\"),IF(G44>G45,F44,F45),IF(AND(G42<>\"\",F45=\"office\"&CHAR(10)),F44,\"\"))","v":""},null,null,{"$f":"IF(AND(J44<>\"\",J45<>\"\"),IF(J44>J45,I44,I45),IF(AND(J42<>\"\",I45=\"office\"&CHAR(10)),I44,\"\"))","v":""},null,null,{"$f":"IF(AND(M44<>\"\",M45<>\"\"),IF(M44>M45,L44,L45),IF(AND(M42<>\"\",L45=\"office\"&CHAR(10)),L44,\"\"))","v":""}]
[null,{"$f":"IF(C41<>\"\",IF(C45<>\"office\"& CHAR(10),IF(B46<>\"\",IF(B46+1>Tirage!$G$1,B46-Tirage!$G$1+1,B46+1),\"\"),\"\"),\"\")","v":""},{"$f":"IF(AND(D42<>\"\",D43<>\"\"),IF(D42<D43,C42,C43),\"\")","v":""},null,{"$f":"IF(F41<>\"\",IF(F45<>\"office\"& CHAR(10),IF(E46<>\"\",IF(E46+1>Tirage!$G$1,E46-Tirage!$G$1+1,E46+1),\"\"),\"\"),\"\")","v":""},{"$f":"IF(AND(G42<>\"\",G43<>\"\"),IF(G42<G43,F42,F43),\"\")","v":""},null,{"$f":"IF(I41<>\"\",IF(I45<>\"office\"& CHAR(10),IF(H46<>\"\",IF(H46+1>Tirage!$G$1,H46-Tirage!$G$1+1,H46+1),\"\"),\"\"),\"\")","v":""},{"$f":"IF(AND(J42<>\"\",J43<>\"\"),IF(J42<J43,I42,I43),\"\")","v":""},null,{"$f":"IF(L41<>\"\",IF(L45<>\"office\"& CHAR(10),IF(K46<>\"\",IF(K46+1>Tirage!$G$1,K46-Tirage!$G$1+1,K46+1),\"\"),\"\"),\"\")","v":""},{"$f":"IF(AND(M42<>\"\",M43<>\"\"),IF(M42<M43,L42,L43),\"\")","v":""}]
[null,null,{"$f":"IF(AND(D44<>\"\",D45<>\"\"),IF(D44<D45,C44,C45),IF(AND(D42<>\"\",C45=\"office\"&CHAR(10)),\"office\"&CHAR(10),\"\"))","v":""},null,null,{"$f":"IF(AND(G44<>\"\",G45<>\"\"),IF(G44<G45,F44,F45),IF(AND(G42<>\"\",F45=\"office\"&CHAR(10)),\"office\"&CHAR(10),\"\"))","v":""},null,null,{"$f":"IF(AND(J44<>\"\",J45<>\"\"),IF(J44<J45,I44,I45),IF(AND(J42<>\"\",I45=\"office\"&CHAR(10)),\"office\"&CHAR(10),\"\"))","v":""},null,null,{"$f":"IF(AND(M44<>\"\",M45<>\"\"),IF(M44<M45,L44,L45),IF(AND(M42<>\"\",L45=\"office\"&CHAR(10)),\"office\"&CHAR(10),\"\"))","v":""}]
["Barrage",{"$f":"IF(C41<>\"\",IF(B48<>\"\",IF(B48+1>Tirage!$G$1,B48-Tirage!$G$1+1,B48+1),IF(B46+2>Tirage!$G$1,B46+2-Tirage!$G$1,B46+2)),\"\")","v":""},{"$f":"IF(AND(D46<>\"\",D47<>\"\"),IF(D46>D47,C47,C46),\"\")","v":""},null,{"$f":"IF(F41<>\"\",IF(E48<>\"\",IF(E48+1>Tirage!$G$1,E48-Tirage!$G$1+1,E48+1),IF(E46+2>Tirage!$G$1,E46+2-Tirage!$G$1,E46+2)),\"\")","v":""},{"$f":"IF(AND(G46<>\"\",G47<>\"\"),IF(G46>G47,F47,F46),\"\")","v":""},null,{"$f":"IF(I41<>\"\",IF(H48<>\"\",IF(H48+1>Tirage!$G$1,H48-Tirage!$G$1+1,H48+1),IF(H46+2>Tirage!$G$1,H46+2-Tirage!$G$1,H46+2)),\"\")","v":""},{"$f":"IF(AND(J46<>\"\",J47<>\"\"),IF(J46>J47,I47,I46),\"\")","v":""},null,{"$f":"IF(L41<>\"\",IF(K48<>\"\",IF(K48+1>Tirage!$G$1,K48-Tirage!$G$1+1,K48+1),IF(K46+2>Tirage!$G$1,K46+2-Tirage!$G$1,K46+2)),\"\")","v":""},{"$f":"IF(AND(M46<>\"\",M47<>\"\"),IF(M46>M47,L47,L46),\"\")","v":""}]
[null,null,{"$f":"IF(C49<>\"office\"&CHAR(10),IF(AND(D48<>\"\",D49<>\"\"),IF(D48>D49,C48,C49),\"\"),IF(D46<>\"\",C48,\"\"))","v":""},null,null,{"$f":"IF(F49<>\"office\"&CHAR(10),IF(AND(G48<>\"\",G49<>\"\"),IF(G48>G49,F48,F49),\"\"),IF(G46<>\"\",F48,\"\"))","v":""},null,null,{"$f":"IF(I49<>\"office\"&CHAR(10),IF(AND(J48<>\"\",J49<>\"\"),IF(J48>J49,I48,I49),\"\"),IF(J46<>\"\",I48,\"\"))","v":""},null,null,{"$f":"IF(L49<>\"office\"&CHAR(10),IF(AND(M48<>\"\",M49<>\"\"),IF(M48>M49,L48,L49),\"\"),IF(M46<>\"\",L48,\"\"))","v":""}]
["1er de poule",null,{"$f":"IF(AND(D46<>\"\",D47<>\"\"),IF(D46>D47,C46,C47),\"\")","v":""},null,null,{"$f":"IF(AND(G46<>\"\",G47<>\"\"),IF(G46>G47,F46,F47),\"\")","v":""},null,null,{"$f":"IF(AND(J46<>\"\",J47<>\"\"),IF(J46>J47,I46,I47),\"\")","v":""},null,null,{"$f":"IF(AND(M46<>\"\",M47<>\"\"),IF(M46>M47,L46,L47),\"\")","v":""}]
["2e de poule",null,{"$f":"IF(AND(D50<>\"\",D51<>\"\"),IF(D50>D51,C50,C51),\"\")","v":""},null,null,{"$f":"IF(AND(G50<>\"\",G51<>\"\"),IF(G50>G51,F50,F51),\"\")","v":""},null,null,{"$f":"IF(AND(J50<>\"\",J51<>\"\"),IF(J50>J51,I50,I51),\"\")","v":""},null,null,{"$f":"IF(AND(M50<>\"\",M51<>\"\"),IF(M50>M51,L50,L51),\"\")","v":""}]
[null,"Jeu",{"$f":"IF('Liste inscrits'!$AF$7>=(ROW()-2)/13*4+COLUMN()/3,\"POULE \"&IF(64+(((ROW()+11)/13)*4)-3>116,\"B\"&CHAR(12+(((ROW()+11)/13)*4)-3),IF(64+(((ROW()+11)/13)*4)-3>90,\"A\"&CHAR(38+(((ROW()+11)/13)*4)-3),CHAR(64+(((ROW()+11)/13)*4)-3)&\" \")),\"\")","v":""},null,"Jeu",{"$f":"IF('Liste inscrits'!$AF$7>=(ROW()-2)/13*4+COLUMN()/3,\"POULE \"&IF(64+(((ROW()+11)/13)*4)-2>116,\"B\"&CHAR(12+(((ROW()+11)/13)*4)-2),IF(64+(((ROW()+11)/13)*4)-2>90,\"A\"&CHAR(38+(((ROW()+11)/13)*4)-2),CHAR(64+(((ROW()+11)/13)*4)-2)&\" \")),\"\")","v":""},null,"Jeu",{"$f":"IF('Liste inscrits'!$AF$7>=(ROW()-2)/13*4+COLUMN()/3,\"POULE \"&IF(64+(((ROW()+11)/13)*4)-1>116,\"B\"&CHAR(12+(((ROW()+11)/13)*4)-1),IF(64+(((ROW()+11)/13)*4)-1>90,\"A\"&CHAR(38+(((ROW()+11)/13)*4)-1),CHAR(64+(((ROW()+11)/13)*4)-1)&\" \")),\"\")","v":""},null,"Jeu",{"$f":"IF('Liste inscrits'!$AF$7>=(ROW()-2)/13*4+COLUMN()/3,\"POULE \"&IF(64+(((ROW()+11)/13)*4)>116,\"B\"&CHAR(12+(((ROW()+11)/13)*4)),IF(64+(((ROW()+11)/13)*4)>90,\"A\"&CHAR(38+(((ROW()+11)/13)*4)),CHAR(64+(((ROW()+11)/13)*4))&\" \")),\"\")","v":""}]
["1ère phase",{"$f":"IF(C54<>\"\",IF(C55<>\"\",VLOOKUP(LEFT(C55,SEARCH(CHAR(10),C55,1)-1),Tirage!$B:$D,3,FALSE),\"\"),\"\")","v":""},{"$f":"IF(ISERROR(VLOOKUP(C54,Tirage!$A:$G,1,FALSE)),\"\",VLOOKUP(C54,Tirage!$A:$K,2,FALSE)& CHAR(10) & VLOOKUP(C54,Tirage!$A:$K,3,FALSE))","v":""},null,{"$f":"IF(F54<>\"\",IF(F55<>\"\",VLOOKUP(LEFT(F55,SEARCH(CHAR(10),F55,1)-1),Tirage!$B:$D,3,FALSE),\"\"),\"\")","v":""},{"$f":"IF(ISERROR(VLOOKUP(F54,Tirage!$A:$G,1,FALSE)),\"\",VLOOKUP(F54,Tirage!$A:$K,2,FALSE)& CHAR(10) & VLOOKUP(F54,Tirage!$A:$K,3,FALSE))","v":""},null,{"$f":"IF(I54<>\"\",IF(I55<>\"\",VLOOKUP(LEFT(I55,SEARCH(CHAR(10),I55,1)-1),Tirage!$B:$D,3,FALSE),\"\"),\"\")","v":""},{"$f":"IF(ISERROR(VLOOKUP(I54,Tirage!$A:$G,1,FALSE)),\"\",VLOOKUP(I54,Tirage!$A:$K,2,FALSE)& CHAR(10) & VLOOKUP(I54,Tirage!$A:$K,3,FALSE))","v":""},null,{"$f":"IF(L54<>\"\",IF(L55<>\"\",VLOOKUP(LEFT(L55,SEARCH(CHAR(10),L55,1)-1),Tirage!$B:$D,3,FALSE),\"\"),\"\")","v":""},{"$f":"IF(ISERROR(VLOOKUP(L54,Tirage!$A:$G,1,FALSE)),\"\",VLOOKUP(L54,Tirage!$A:$K,2,FALSE)& CHAR(10) & VLOOKUP(L54,Tirage!$A:$K,3,FALSE))","v":""}]
[null,null,{"$f":"IF(ISERROR(VLOOKUP(C54,Tirage!$A:$G,1,FALSE)),\"\",VLOOKUP(C54,Tirage!$A:$K,5,FALSE)& CHAR(10) & VLOOKUP(C54,Tirage!$A:$K,6,FALSE))","v":""},null,null,{"$f":"IF(ISERROR(VLOOKUP(F54,Tirage!$A:$G,1,FALSE)),\"\",VLOOKUP(F54,Tirage!$A:$K,5,FALSE)& CHAR(10) & VLOOKUP(F54,Tirage!$A:$K,6,FALSE))","v":""},null,null,{"$f":"IF(ISERROR(VLOOKUP(I54,Tirage!$A:$G,1,FALSE)),\"\",VLOOKUP(I54,Tirage!$A:$K,5,FALSE)& CHAR(10) & VLOOKUP(I54,Tirage!$A:$K,6,FALSE))","v":""},null,null,{"$f":"IF(ISERROR(VLOOKUP(L54,Tirage!$A:$G,1,FALSE)),\"\",VLOOKUP(L54,Tirage!$A:$K,5,FALSE)& CHAR(10) & VLOOKUP(L54,Tirage!$A:$K,6,FALSE))","v":""}]
[null,{"$f":"IF(C54<>\"\",IF(C57<>\"\",VLOOKUP(LEFT(C57,SEARCH(CHAR(10),C57,1)-1),Tirage!$B:$D,3,FALSE),\"\"),\"\")","v":""},{"$f":"IF(ISERROR(VLOOKUP(C54,Tirage!$A:$G,1,FALSE)),\"\",VLOOKUP(C54,Tirage!$A:$K,7,FALSE)& CHAR(10) & VLOOKUP(C54,Tirage!$A:$K,8,FALSE))","v":""},null,{"$f":"IF(C54<>\"\",IF(F57<>\"\",VLOOKUP(LEFT(F57,SEARCH(CHAR(10),F57,1)-1),Tirage!$B:$D,3,FALSE),\"\"),\"\")","v":""},{"$f":"IF(ISERROR(VLOOKUP(F54,Tirage!$A:$G,1,FALSE)),\"\",VLOOKUP(F54,Tirage!$A:$K,7,FALSE)& CHAR(10) & VLOOKUP(F54,Tirage!$A:$K,8,FALSE))","v":""},null,{"$f":"IF(F54<>\"\",IF(I57<>\"\",VLOOKUP(LEFT(I57,SEARCH(CHAR(10),I57,1)-1),Tirage!$B:$D,3,FALSE),\"\"),\"\")","v":""},{"$f":"IF(ISERROR(VLOOKUP(I54,Tirage!$A:$G,1,FALSE)),\"\",VLOOKUP(I54,Tirage!$A:$K,7,FALSE)& CHAR(10) & VLOOKUP(I54,Tirage!$A:$K,8,FALSE))","v":""},null,{"$f":"IF(I54<>\"\",IF(L57<>\"\",VLOOKUP(LEFT(L57,SEARCH(CHAR(10),L57,1)-1),Tirage!$B:$D,3,FALSE),\"\"),\"\")","v":""},{"$f":"IF(ISERROR(VLOOKUP(L54,Tirage!$A:$G,1,FALSE)),\"\",VLOOKUP(L54,Tirage!$A:$K,7,FALSE)& CHAR(10) & VLOOKUP(L54,Tirage!$A:$K,8,FALSE))","v":""}]
[null,null,{"$f":"IF(ISERROR(VLOOKUP(C54,Tirage!$A:$G,1,FALSE)),\"\",VLOOKUP(C54,Tirage!$A:$K,10,FALSE)& CHAR(10) & VLOOKUP(C54,Tirage!$A:$K,11,FALSE))","v":""},null,null,{"$f":"IF(ISERROR(VLOOKUP(F54,Tirage!$A:$G,1,FALSE)),\"\",VLOOKUP(F54,Tirage!$A:$K,10,FALSE)& CHAR(10) & VLOOKUP(F54,Tirage!$A:$K,11,FALSE))","v":""},null,null,{"$f":"IF(ISERROR(VLOOKUP(I54,Tirage!$A:$G,1,FALSE)),\"\",VLOOKUP(I54,Tirage!$A:$K,10,FALSE)& CHAR(10) & VLOOKUP(I54,Tirage!$A:$K,11,FALSE))","v":""},null,null,{"$f":"IF(ISERROR(VLOOKUP(L54,Tirage!$A:$G,1,FALSE)),\"\",VLOOKUP(L54,Tirage!$A:$K,10,FALSE)& CHAR(10) & VLOOKUP(L54,Tirage!$A:$K,11,FALSE))","v":""}]
["2ème phase",{"$f":"IF(C54<>\"\",IF(B57<>\"\",IF(B57+1>Tirage!$G$1,B57-Tirage!$G$1+1,B57+1),IF(B55+2>Tirage!$G$1,B55+1-Tirage!$G$1+1,B55+2)),\"\")","v":""},{"$f":"IF(AND(D55<>\"\",D56<>\"\"),IF(D55>D56,C55,C56),\"\")","v":""},null,{"$f":"IF(F54<>\"\",IF(E57<>\"\",IF(E57+1>Tirage!$G$1,E57-Tirage!$G$1+1,E57+1),IF(E55+2>Tirage!$G$1,E55+1-Tirage!$G$1+1,E55+2)),\"\")","v":""},{"$f":"IF(AND(G55<>\"\",G56<>\"\"),IF(G55>G56,F55,F56),\"\")","v":""},null,{"$f":"IF(I54<>\"\",IF(H57<>\"\",IF(H57+1>Tirage!$G$1,H57-Tirage!$G$1+1,H57+1),IF(H55+2>Tirage!$G$1,H55+1-Tirage!$G$1+1,H55+2)),\"\")","v":""},{"$f":"IF(AND(J55<>\"\",J56<>\"\"),IF(J55>J56,I55,I56),\"\")","v":""},null,{"$f":"IF(L54<>\"\",IF(K57<>\"\",IF(K57+1>Tirage!$G$1,K57-Tirage!$G$1+1,K57+1),IF(K55+2>Tirage!$G$1,K55+1-Tirage!$G$1+1,K55+2)),\"\")","v":""},{"$f":"IF(AND(M55<>\"\",M56<>\"\"),IF(M55>M56,L55,L56),\"\")","v":""}]
[null,null,{"$f":"IF(AND(D57<>\"\",D58<>\"\"),IF(D57>D58,C57,C58),IF(AND(D55<>\"\",C58=\"office\"&CHAR(10)),C57,\"\"))","v":""},null,null,{"$f":"IF(AND(G57<>\"\",G58<>\"\"),IF(G57>G58,F57,F58),IF(AND(G55<>\"\",F58=\"office\"&CHAR(10)),F57,\"\"))","v":""},null,null,{"$f":"IF(AND(J57<>\"\",J58<>\"\"),IF(J57>J58,I57,I58),IF(AND(J55<>\"\",I58=\"office\"&CHAR(10)),I57,\"\"))","v":""},null,null,{"$f":"IF(AND(M57<>\"\",M58<>\"\"),IF(M57>M58,L57,L58),IF(AND(M55<>\"\",L58=\"office\"&CHAR(10)),L57,\"\"))","v":""}]
[null,{"$f":"IF(C54<>\"\",IF(C58<>\"office\"& CHAR(10),IF(B59<>\"\",IF(B59+1>Tirage!$G$1,B59-Tirage!$G$1+1,B59+1),\"\"),\"\"),\"\")","v":""},{"$f":"IF(AND(D55<>\"\",D56<>\"\"),IF(D55<D56,C55,C56),\"\")","v":""},null,{"$f":"IF(F54<>\"\",IF(F58<>\"office\"& CHAR(10),IF(E59<>\"\",IF(E59+1>Tirage!$G$1,E59-Tirage!$G$1+1,E59+1),\"\"),\"\"),\"\")","v":""},{"$f":"IF(AND(G55<>\"\",G56<>\"\"),IF(G55<G56,F55,F56),\"\")","v":""},null,{"$f":"IF(I54<>\"\",IF(I58<>\"office\"& CHAR(10),IF(H59<>\"\",IF(H59+1>Tirage!$G$1,H59-Tirage!$G$1+1,H59+1),\"\"),\"\"),\"\")","v":""},{"$f":"IF(AND(J55<>\"\",J56<>\"\"),IF(J55<J56,I55,I56),\"\")","v":""},null,{"$f":"IF(L54<>\"\",IF(L58<>\"office\"& CHAR(10),IF(K59<>\"\",IF(K59+1>Tirage!$G$1,K59-Tirage!$G$1+1,K59+1),\"\"),\"\"),\"\")","v":""},{"$f":"IF(AND(M55<>\"\",M56<>\"\"),IF(M55<M56,L55,L56),\"\")","v":""}]
[null,null,{"$f":"IF(AND(D57<>\"\",D58<>\"\"),IF(D57<D58,C57,C58),IF(AND(D55<>\"\",C58=\"office\"&CHAR(10)),\"office\"&CHAR(10),\"\"))","v":""},null,null,{"$f":"IF(AND(G57<>\"\",G58<>\"\"),IF(G57<G58,F57,F58),IF(AND(G55<>\"\",F58=\"office\"&CHAR(10)),\"office\"&CHAR(10),\"\"))","v":""},null,null,{"$f":"IF(AND(J57<>\"\",J58<>\"\"),IF(J57<J58,I57,I58),IF(AND(J55<>\"\",I58=\"office\"&CHAR(10)),\"office\"&CHAR(10),\"\"))","v":""},null,null,{"$f":"IF(AND(M57<>\"\",M58<>\"\"),IF(M57<M58,L57,L58),IF(AND(M55<>\"\",L58=\"office\"&CHAR(10)),\"office\"&CHAR(10),\"\"))","v":""}]
["Barrage",{"$f":"IF(C54<>\"\",IF(B61<>\"\",IF(B61+1>Tirage!$G$1,B61-Tirage!$G$1+1,B61+1),IF(B59+2>Tirage!$G$1,B59+2-Tirage!$G$1,B59+2)),\"\")","v":""},{"$f":"IF(AND(D59<>\"\",D60<>\"\"),IF(D59>D60,C60,C59),\"\")","v":""},null,{"$f":"IF(F54<>\"\",IF(E61<>\"\",IF(E61+1>Tirage!$G$1,E61-Tirage!$G$1+1,E61+1),IF(E59+2>Tirage!$G$1,E59+2-Tirage!$G$1,E59+2)),\"\")","v":""},{"$f":"IF(AND(G59<>\"\",G60<>\"\"),IF(G59>G60,F60,F59),\"\")","v":""},null,{"$f":"IF(I54<>\"\",IF(H61<>\"\",IF(H61+1>Tirage!$G$1,H61-Tirage!$G$1+1,H61+1),IF(H59+2>Tirage!$G$1,H59+2-Tirage!$G$1,H59+2)),\"\")","v":""},{"$f":"IF(AND(J59<>\"\",J60<>\"\"),IF(J59>J60,I60,I59),\"\")","v":""},null,{"$f":"IF(L54<>\"\",IF(K61<>\"\",IF(K61+1>Tirage!$G$1,K61-Tirage!$G$1+1,K61+1),IF(K59+2>Tirage!$G$1,K59+2-Tirage!$G$1,K59+2)),\"\")","v":""},{"$f":"IF(AND(M59<>\"\",M60<>\"\"),IF(M59>M60,L60,L59),\"\")","v":""}]
[null,null,{"$f":"IF(C62<>\"office\"&CHAR(10),IF(AND(D61<>\"\",D62<>\"\"),IF(D61>D62,C61,C62),\"\"),IF(D59<>\"\",C61,\"\"))","v":""},null,null,{"$f":"IF(F62<>\"office\"&CHAR(10),IF(AND(G61<>\"\",G62<>\"\"),IF(G61>G62,F61,F62),\"\"),IF(G59<>\"\",F61,\"\"))","v":""},null,null,{"$f":"IF(I62<>\"office\"&CHAR(10),IF(AND(J61<>\"\",J62<>\"\"),IF(J61>J62,I61,I62),\"\"),IF(J59<>\"\",I61,\"\"))","v":""},null,null,{"$f":"IF(L62<>\"office\"&CHAR(10),IF(AND(M61<>\"\",M62<>\"\"),IF(M61>M62,L61,L62),\"\"),IF(M59<>\"\",L61,\"\"))","v":""}]
["1er de poule",null,{"$f":"IF(AND(D59<>\"\",D60<>\"\"),IF(D59>D60,C59,C60),\"\")","v":""},null,null,{"$f":"IF(AND(G59<>\"\",G60<>\"\"),IF(G59>G60,F59,F60),\"\")","v":""},null,null,{"$f":"IF(AND(J59<>\"\",J60<>\"\"),IF(J59>J60,I59,I60),\"\")","v":""},null,null,{"$f":"IF(AND(M59<>\"\",M60<>\"\"),IF(M59>M60,L59,L60),\"\")","v":""}]
["2e de poule",null,{"$f":"IF(AND(D63<>\"\",D64<>\"\"),IF(D63>D64,C63,C64),\"\")","v":""},null,null,{"$f":"IF(AND(G63<>\"\",G64<>\"\"),IF(G63>G64,F63,F64),\"\")","v":""},null,null,{"$f":"IF(AND(J63<>\"\",J64<>\"\"),IF(J63>J64,I63,I64),\"\")","v":""},null,null,{"$f":"IF(AND(M63<>\"\",M64<>\"\"),IF(M63>M64,L63,L64),\"\")","v":""}]
[null,"Jeu",{"$f":"IF('Liste inscrits'!$AF$7>=(ROW()-2)/13*4+COLUMN()/3,\"POULE \"&IF(64+(((ROW()+11)/13)*4)-3>116,\"B\"&CHAR(12+(((ROW()+11)/13)*4)-3),IF(64+(((ROW()+11)/13)*4)-3>90,\"A\"&CHAR(38+(((ROW()+11)/13)*4)-3),CHAR(64+(((ROW()+11)/13)*4)-3)&\" \")),\"\")","v":""},null,"Jeu",{"$f":"IF('Liste inscrits'!$AF$7>=(ROW()-2)/13*4+COLUMN()/3,\"POULE \"&IF(64+(((ROW()+11)/13)*4)-2>116,\"B\"&CHAR(12+(((ROW()+11)/13)*4)-2),IF(64+(((ROW()+11)/13)*4)-2>90,\"A\"&CHAR(38+(((ROW()+11)/13)*4)-2),CHAR(64+(((ROW()+11)/13)*4)-2)&\" \")),\"\")","v":""},null,"Jeu",{"$f":"IF('Liste inscrits'!$AF$7>=(ROW()-2)/13*4+COLUMN()/3,\"POULE \"&IF(64+(((ROW()+11)/13)*4)-1>116,\"B\"&CHAR(12+(((ROW()+11)/13)*4)-1),IF(64+(((ROW()+11)/13)*4)-1>90,\"A\"&CHAR(38+(((ROW()+11)/13)*4)-1),CHAR(64+(((ROW()+11)/13)*4)-1)&\" \")),\"\")","v":""},null,"Jeu",{"$f":"IF('Liste inscrits'!$AF$7>=(ROW()-2)/13*4+COLUMN()/3,\"POULE \"&IF(64+(((ROW()+11)/13)*4)>116,\"B\"&CHAR(12+(((ROW()+11)/13)*4)),IF(64+(((ROW()+11)/13)*4)>90,\"A\"&CHAR(38+(((ROW()+11)/13)*4)),CHAR(64+(((ROW()+11)/13)*4))&\" \")),\"\")","v":""}]
["1ère phase",{"$f":"IF(C67<>\"\",IF(C68<>\"\",VLOOKUP(LEFT(C68,SEARCH(CHAR(10),C68,1)-1),Tirage!$B:$D,3,FALSE),\"\"),\"\")","v":""},{"$f":"IF(ISERROR(VLOOKUP(C67,Tirage!$A:$G,1,FALSE)),\"\",VLOOKUP(C67,Tirage!$A:$K,2,FALSE)& CHAR(10) & VLOOKUP(C67,Tirage!$A:$K,3,FALSE))","v":""},null,{"$f":"IF(F67<>\"\",IF(F68<>\"\",VLOOKUP(LEFT(F68,SEARCH(CHAR(10),F68,1)-1),Tirage!$B:$D,3,FALSE),\"\"),\"\")","v":""},{"$f":"IF(ISERROR(VLOOKUP(F67,Tirage!$A:$G,1,FALSE)),\"\",VLOOKUP(F67,Tirage!$A:$K,2,FALSE)& CHAR(10) & VLOOKUP(F67,Tirage!$A:$K,3,FALSE))","v":""},null,{"$f":"IF(I67<>\"\",IF(I68<>\"\",VLOOKUP(LEFT(I68,SEARCH(CHAR(10),I68,1)-1),Tirage!$B:$D,3,FALSE),\"\"),\"\")","v":""},{"$f":"IF(ISERROR(VLOOKUP(I67,Tirage!$A:$G,1,FALSE)),\"\",VLOOKUP(I67,Tirage!$A:$K,2,FALSE)& CHAR(10) & VLOOKUP(I67,Tirage!$A:$K,3,FALSE))","v":""},null,{"$f":"IF(L67<>\"\",IF(L68<>\"\",VLOOKUP(LEFT(L68,SEARCH(CHAR(10),L68,1)-1),Tirage!$B:$D,3,FALSE),\"\"),\"\")","v":""},{"$f":"IF(ISERROR(VLOOKUP(L67,Tirage!$A:$G,1,FALSE)),\"\",VLOOKUP(L67,Tirage!$A:$K,2,FALSE)& CHAR(10) & VLOOKUP(L67,Tirage!$A:$K,3,FALSE))","v":""}]
[null,null,{"$f":"IF(ISERROR(VLOOKUP(C67,Tirage!$A:$G,1,FALSE)),\"\",VLOOKUP(C67,Tirage!$A:$K,5,FALSE)& CHAR(10) & VLOOKUP(C67,Tirage!$A:$K,6,FALSE))","v":""},null,null,{"$f":"IF(ISERROR(VLOOKUP(F67,Tirage!$A:$G,1,FALSE)),\"\",VLOOKUP(F67,Tirage!$A:$K,5,FALSE)& CHAR(10) & VLOOKUP(F67,Tirage!$A:$K,6,FALSE))","v":""},null,null,{"$f":"IF(ISERROR(VLOOKUP(I67,Tirage!$A:$G,1,FALSE)),\"\",VLOOKUP(I67,Tirage!$A:$K,5,FALSE)& CHAR(10) & VLOOKUP(I67,Tirage!$A:$K,6,FALSE))","v":""},null,null,{"$f":"IF(ISERROR(VLOOKUP(L67,Tirage!$A:$G,1,FALSE)),\"\",VLOOKUP(L67,Tirage!$A:$K,5,FALSE)& CHAR(10) & VLOOKUP(L67,Tirage!$A:$K,6,FALSE))","v":""}]
[null,{"$f":"IF(C67<>\"\",IF(C70<>\"\",VLOOKUP(LEFT(C70,SEARCH(CHAR(10),C70,1)-1),Tirage!$B:$D,3,FALSE),\"\"),\"\")","v":""},{"$f":"IF(ISERROR(VLOOKUP(C67,Tirage!$A:$G,1,FALSE)),\"\",VLOOKUP(C67,Tirage!$A:$K,7,FALSE)& CHAR(10) & VLOOKUP(C67,Tirage!$A:$K,8,FALSE))","v":""},null,{"$f":"IF(C67<>\"\",IF(F70<>\"\",VLOOKUP(LEFT(F70,SEARCH(CHAR(10),F70,1)-1),Tirage!$B:$D,3,FALSE),\"\"),\"\")","v":""},{"$f":"IF(ISERROR(VLOOKUP(F67,Tirage!$A:$G,1,FALSE)),\"\",VLOOKUP(F67,Tirage!$A:$K,7,FALSE)& CHAR(10) & VLOOKUP(F67,Tirage!$A:$K,8,FALSE))","v":""},null,{"$f":"IF(F67<>\"\",IF(I70<>\"\",VLOOKUP(LEFT(I70,SEARCH(CHAR(10),I70,1)-1),Tirage!$B:$D,3,FALSE),\"\"),\"\")","v":""},{"$f":"IF(ISERROR(VLOOKUP(I67,Tirage!$A:$G,1,FALSE)),\"\",VLOOKUP(I67,Tirage!$A:$K,7,FALSE)& CHAR(10) & VLOOKUP(I67,Tirage!$A:$K,8,FALSE))","v":""},null,{"$f":"IF(I67<>\"\",IF(L70<>\"\",VLOOKUP(LEFT(L70,SEARCH(CHAR(10),L70,1)-1),Tirage!$B:$D,3,FALSE),\"\"),\"\")","v":""},{"$f":"IF(ISERROR(VLOOKUP(L67,Tirage!$A:$G,1,FALSE)),\"\",VLOOKUP(L67,Tirage!$A:$K,7,FALSE)& CHAR(10) & VLOOKUP(L67,Tirage!$A:$K,8,FALSE))","v":""}]
[null,null,{"$f":"IF(ISERROR(VLOOKUP(C67,Tirage!$A:$G,1,FALSE)),\"\",VLOOKUP(C67,Tirage!$A:$K,10,FALSE)& CHAR(10) & VLOOKUP(C67,Tirage!$A:$K,11,FALSE))","v":""},null,null,{"$f":"IF(ISERROR(VLOOKUP(F67,Tirage!$A:$G,1,FALSE)),\"\",VLOOKUP(F67,Tirage!$A:$K,10,FALSE)& CHAR(10) & VLOOKUP(F67,Tirage!$A:$K,11,FALSE))","v":""},null,null,{"$f":"IF(ISERROR(VLOOKUP(I67,Tirage!$A:$G,1,FALSE)),\"\",VLOOKUP(I67,Tirage!$A:$K,10,FALSE)& CHAR(10) & VLOOKUP(I67,Tirage!$A:$K,11,FALSE))","v":""},null,null,{"$f":"IF(ISERROR(VLOOKUP(L67,Tirage!$A:$G,1,FALSE)),\"\",VLOOKUP(L67,Tirage!$A:$K,10,FALSE)& CHAR(10) & VLOOKUP(L67,Tirage!$A:$K,11,FALSE))","v":""}]
["2ème phase",{"$f":"IF(C67<>\"\",IF(B70<>\"\",IF(B70+1>Tirage!$G$1,B70-Tirage!$G$1+1,B70+1),IF(B68+2>Tirage!$G$1,B68+1-Tirage!$G$1+1,B68+2)),\"\")","v":""},{"$f":"IF(AND(D68<>\"\",D69<>\"\"),IF(D68>D69,C68,C69),\"\")","v":""},null,{"$f":"IF(F67<>\"\",IF(E70<>\"\",IF(E70+1>Tirage!$G$1,E70-Tirage!$G$1+1,E70+1),IF(E68+2>Tirage!$G$1,E68+1-Tirage!$G$1+1,E68+2)),\"\")","v":""},{"$f":"IF(AND(G68<>\"\",G69<>\"\"),IF(G68>G69,F68,F69),\"\")","v":""},null,{"$f":"IF(I67<>\"\",IF(H70<>\"\",IF(H70+1>Tirage!$G$1,H70-Tirage!$G$1+1,H70+1),IF(H68+2>Tirage!$G$1,H68+1-Tirage!$G$1+1,H68+2)),\"\")","v":""},{"$f":"IF(AND(J68<>\"\",J69<>\"\"),IF(J68>J69,I68,I69),\"\")","v":""},null,{"$f":"IF(L67<>\"\",IF(K70<>\"\",IF(K70+1>Tirage!$G$1,K70-Tirage!$G$1+1,K70+1),IF(K68+2>Tirage!$G$1,K68+1-Tirage!$G$1+1,K68+2)),\"\")","v":""},{"$f":"IF(AND(M68<>\"\",M69<>\"\"),IF(M68>M69,L68,L69),\"\")","v":""}]
[null,null,{"$f":"IF(AND(D70<>\"\",D71<>\"\"),IF(D70>D71,C70,C71),IF(AND(D68<>\"\",C71=\"office\"&CHAR(10)),C70,\"\"))","v":""},null,null,{"$f":"IF(AND(G70<>\"\",G71<>\"\"),IF(G70>G71,F70,F71),IF(AND(G68<>\"\",F71=\"office\"&CHAR(10)),F70,\"\"))","v":""},null,null,{"$f":"IF(AND(J70<>\"\",J71<>\"\"),IF(J70>J71,I70,I71),IF(AND(J68<>\"\",I71=\"office\"&CHAR(10)),I70,\"\"))","v":""},null,null,{"$f":"IF(AND(M70<>\"\",M71<>\"\"),IF(M70>M71,L70,L71),IF(AND(M68<>\"\",L71=\"office\"&CHAR(10)),L70,\"\"))","v":""}]
[null,{"$f":"IF(C67<>\"\",IF(C71<>\"office\"& CHAR(10),IF(B72<>\"\",IF(B72+1>Tirage!$G$1,B72-Tirage!$G$1+1,B72+1),\"\"),\"\"),\"\")","v":""},{"$f":"IF(AND(D68<>\"\",D69<>\"\"),IF(D68<D69,C68,C69),\"\")","v":""},null,{"$f":"IF(F67<>\"\",IF(F71<>\"office\"& CHAR(10),IF(E72<>\"\",IF(E72+1>Tirage!$G$1,E72-Tirage!$G$1+1,E72+1),\"\"),\"\"),\"\")","v":""},{"$f":"IF(AND(G68<>\"\",G69<>\"\"),IF(G68<G69,F68,F69),\"\")","v":""},null,{"$f":"IF(I67<>\"\",IF(I71<>\"office\"& CHAR(10),IF(H72<>\"\",IF(H72+1>Tirage!$G$1,H72-Tirage!$G$1+1,H72+1),\"\"),\"\"),\"\")","v":""},{"$f":"IF(AND(J68<>\"\",J69<>\"\"),IF(J68<J69,I68,I69),\"\")","v":""},null,{"$f":"IF(L67<>\"\",IF(L71<>\"office\"& CHAR(10),IF(K72<>\"\",IF(K72+1>Tirage!$G$1,K72-Tirage!$G$1+1,K72+1),\"\"),\"\"),\"\")","v":""},{"$f":"IF(AND(M68<>\"\",M69<>\"\"),IF(M68<M69,L68,L69),\"\")","v":""}]
[null,null,{"$f":"IF(AND(D70<>\"\",D71<>\"\"),IF(D70<D71,C70,C71),IF(AND(D68<>\"\",C71=\"office\"&CHAR(10)),\"office\"&CHAR(10),\"\"))","v":""},null,null,{"$f":"IF(AND(G70<>\"\",G71<>\"\"),IF(G70<G71,F70,F71),IF(AND(G68<>\"\",F71=\"office\"&CHAR(10)),\"office\"&CHAR(10),\"\"))","v":""},null,null,{"$f":"IF(AND(J70<>\"\",J71<>\"\"),IF(J70<J71,I70,I71),IF(AND(J68<>\"\",I71=\"office\"&CHAR(10)),\"office\"&CHAR(10),\"\"))","v":""},null,null,{"$f":"IF(AND(M70<>\"\",M71<>\"\"),IF(M70<M71,L70,L71),IF(AND(M68<>\"\",L71=\"office\"&CHAR(10)),\"office\"&CHAR(10),\"\"))","v":""}]
["Barrage",{"$f":"IF(C67<>\"\",IF(B74<>\"\",IF(B74+1>Tirage!$G$1,B74-Tirage!$G$1+1,B74+1),IF(B72+2>Tirage!$G$1,B72+2-Tirage!$G$1,B72+2)),\"\")","v":""},{"$f":"IF(AND(D72<>\"\",D73<>\"\"),IF(D72>D73,C73,C72),\"\")","v":""},null,{"$f":"IF(F67<>\"\",IF(E74<>\"\",IF(E74+1>Tirage!$G$1,E74-Tirage!$G$1+1,E74+1),IF(E72+2>Tirage!$G$1,E72+2-Tirage!$G$1,E72+2)),\"\")","v":""},{"$f":"IF(AND(G72<>\"\",G73<>\"\"),IF(G72>G73,F73,F72),\"\")","v":""},null,{"$f":"IF(I67<>\"\",IF(H74<>\"\",IF(H74+1>Tirage!$G$1,H74-Tirage!$G$1+1,H74+1),IF(H72+2>Tirage!$G$1,H72+2-Tirage!$G$1,H72+2)),\"\")","v":""},{"$f":"IF(AND(J72<>\"\",J73<>\"\"),IF(J72>J73,I73,I72),\"\")","v":""},null,{"$f":"IF(L67<>\"\",IF(K74<>\"\",IF(K74+1>Tirage!$G$1,K74-Tirage!$G$1+1,K74+1),IF(K72+2>Tirage!$G$1,K72+2-Tirage!$G$1,K72+2)),\"\")","v":""},{"$f":"IF(AND(M72<>\"\",M73<>\"\"),IF(M72>M73,L73,L72),\"\")","v":""}]
[null,null,{"$f":"IF(C75<>\"office\"&CHAR(10),IF(AND(D74<>\"\",D75<>\"\"),IF(D74>D75,C74,C75),\"\"),IF(D72<>\"\",C74,\"\"))","v":""},null,null,{"$f":"IF(F75<>\"office\"&CHAR(10),IF(AND(G74<>\"\",G75<>\"\"),IF(G74>G75,F74,F75),\"\"),IF(G72<>\"\",F74,\"\"))","v":""},null,null,{"$f":"IF(I75<>\"office\"&CHAR(10),IF(AND(J74<>\"\",J75<>\"\"),IF(J74>J75,I74,I75),\"\"),IF(J72<>\"\",I74,\"\"))","v":""},null,null,{"$f":"IF(L75<>\"office\"&CHAR(10),IF(AND(M74<>\"\",M75<>\"\"),IF(M74>M75,L74,L75),\"\"),IF(M72<>\"\",L74,\"\"))","v":""}]
["1er de poule",null,{"$f":"IF(AND(D72<>\"\",D73<>\"\"),IF(D72>D73,C72,C73),\"\")","v":""},null,null,{"$f":"IF(AND(G72<>\"\",G73<>\"\"),IF(G72>G73,F72,F73),\"\")","v":""},null,null,{"$f":"IF(AND(J72<>\"\",J73<>\"\"),IF(J72>J73,I72,I73),\"\")","v":""},null,null,{"$f":"IF(AND(M72<>\"\",M73<>\"\"),IF(M72>M73,L72,L73),\"\")","v":""}]
["2e de poule",null,{"$f":"IF(AND(D76<>\"\",D77<>\"\"),IF(D76>D77,C76,C77),\"\")","v":""},null,null,{"$f":"IF(AND(G76<>\"\",G77<>\"\"),IF(G76>G77,F76,F77),\"\")","v":""},null,null,{"$f":"IF(AND(J76<>\"\",J77<>\"\"),IF(J76>J77,I76,I77),\"\")","v":""},null,null,{"$f":"IF(AND(M76<>\"\",M77<>\"\"),IF(M76>M77,L76,L77),\"\")","v":""}]
[null,"Jeu",{"$f":"IF('Liste inscrits'!$AF$7>=(ROW()-2)/13*4+COLUMN()/3,\"POULE \"&IF(64+(((ROW()+11)/13)*4)-3>116,\"B\"&CHAR(12+(((ROW()+11)/13)*4)-3),IF(64+(((ROW()+11)/13)*4)-3>90,\"A\"&CHAR(38+(((ROW()+11)/13)*4)-3),CHAR(64+(((ROW()+11)/13)*4)-3)&\" \")),\"\")","v":""},null,"Jeu",{"$f":"IF('Liste inscrits'!$AF$7>=(ROW()-2)/13*4+COLUMN()/3,\"POULE \"&IF(64+(((ROW()+11)/13)*4)-2>116,\"B\"&CHAR(12+(((ROW()+11)/13)*4)-2),IF(64+(((ROW()+11)/13)*4)-2>90,\"A\"&CHAR(38+(((ROW()+11)/13)*4)-2),CHAR(64+(((ROW()+11)/13)*4)-2)&\" \")),\"\")","v":""},null,"Jeu",{"$f":"IF('Liste inscrits'!$AF$7>=(ROW()-2)/13*4+COLUMN()/3,\"POULE \"&IF(64+(((ROW()+11)/13)*4)-1>116,\"B\"&CHAR(12+(((ROW()+11)/13)*4)-1),IF(64+(((ROW()+11)/13)*4)-1>90,\"A\"&CHAR(38+(((ROW()+11)/13)*4)-1),CHAR(64+(((ROW()+11)/13)*4)-1)&\" \")),\"\")","v":""},null,"Jeu",{"$f":"IF('Liste inscrits'!$AF$7>=(ROW()-2)/13*4+COLUMN()/3,\"POULE \"&IF(64+(((ROW()+11)/13)*4)>116,\"B\"&CHAR(12+(((ROW()+11)/13)*4)),IF(64+(((ROW()+11)/13)*4)>90,\"A\"&CHAR(38+(((ROW()+11)/13)*4)),CHAR(64+(((ROW()+11)/13)*4))&\" \")),\"\")","v":""}]
["1ère phase",{"$f":"IF(C80<>\"\",IF(C81<>\"\",VLOOKUP(LEFT(C81,SEARCH(CHAR(10),C81,1)-1),Tirage!$B:$D,3,FALSE),\"\"),\"\")","v":""},{"$f":"IF(ISERROR(VLOOKUP(C80,Tirage!$A:$G,1,FALSE)),\"\",VLOOKUP(C80,Tirage!$A:$K,2,FALSE)& CHAR(10) & VLOOKUP(C80,Tirage!$A:$K,3,FALSE))","v":""},null,{"$f":"IF(F80<>\"\",IF(F81<>\"\",VLOOKUP(LEFT(F81,SEARCH(CHAR(10),F81,1)-1),Tirage!$B:$D,3,FALSE),\"\"),\"\")","v":""},{"$f":"IF(ISERROR(VLOOKUP(F80,Tirage!$A:$G,1,FALSE)),\"\",VLOOKUP(F80,Tirage!$A:$K,2,FALSE)& CHAR(10) & VLOOKUP(F80,Tirage!$A:$K,3,FALSE))","v":""},null,{"$f":"IF(I80<>\"\",IF(I81<>\"\",VLOOKUP(LEFT(I81,SEARCH(CHAR(10),I81,1)-1),Tirage!$B:$D,3,FALSE),\"\"),\"\")","v":""},{"$f":"IF(ISERROR(VLOOKUP(I80,Tirage!$A:$G,1,FALSE)),\"\",VLOOKUP(I80,Tirage!$A:$K,2,FALSE)& CHAR(10) & VLOOKUP(I80,Tirage!$A:$K,3,FALSE))","v":""},null,{"$f":"IF(L80<>\"\",IF(L81<>\"\",VLOOKUP(LEFT(L81,SEARCH(CHAR(10),L81,1)-1),Tirage!$B:$D,3,FALSE),\"\"),\"\")","v":""},{"$f":"IF(ISERROR(VLOOKUP(L80,Tirage!$A:$G,1,FALSE)),\"\",VLOOKUP(L80,Tirage!$A:$K,2,FALSE)& CHAR(10) & VLOOKUP(L80,Tirage!$A:$K,3,FALSE))","v":""}]
[null,null,{"$f":"IF(ISERROR(VLOOKUP(C80,Tirage!$A:$G,1,FALSE)),\"\",VLOOKUP(C80,Tirage!$A:$K,5,FALSE)& CHAR(10) & VLOOKUP(C80,Tirage!$A:$K,6,FALSE))","v":""},null,null,{"$f":"IF(ISERROR(VLOOKUP(F80,Tirage!$A:$G,1,FALSE)),\"\",VLOOKUP(F80,Tirage!$A:$K,5,FALSE)& CHAR(10) & VLOOKUP(F80,Tirage!$A:$K,6,FALSE))","v":""},null,null,{"$f":"IF(ISERROR(VLOOKUP(I80,Tirage!$A:$G,1,FALSE)),\"\",VLOOKUP(I80,Tirage!$A:$K,5,FALSE)& CHAR(10) & VLOOKUP(I80,Tirage!$A:$K,6,FALSE))","v":""},null,null,{"$f":"IF(ISERROR(VLOOKUP(L80,Tirage!$A:$G,1,FALSE)),\"\",VLOOKUP(L80,Tirage!$A:$K,5,FALSE)& CHAR(10) & VLOOKUP(L80,Tirage!$A:$K,6,FALSE))","v":""}]
[null,{"$f":"IF(C80<>\"\",IF(C83<>\"\",VLOOKUP(LEFT(C83,SEARCH(CHAR(10),C83,1)-1),Tirage!$B:$D,3,FALSE),\"\"),\"\")","v":""},{"$f":"IF(ISERROR(VLOOKUP(C80,Tirage!$A:$G,1,FALSE)),\"\",VLOOKUP(C80,Tirage!$A:$K,7,FALSE)& CHAR(10) & VLOOKUP(C80,Tirage!$A:$K,8,FALSE))","v":""},null,{"$f":"IF(C80<>\"\",IF(F83<>\"\",VLOOKUP(LEFT(F83,SEARCH(CHAR(10),F83,1)-1),Tirage!$B:$D,3,FALSE),\"\"),\"\")","v":""},{"$f":"IF(ISERROR(VLOOKUP(F80,Tirage!$A:$G,1,FALSE)),\"\",VLOOKUP(F80,Tirage!$A:$K,7,FALSE)& CHAR(10) & VLOOKUP(F80,Tirage!$A:$K,8,FALSE))","v":""},null,{"$f":"IF(F80<>\"\",IF(I83<>\"\",VLOOKUP(LEFT(I83,SEARCH(CHAR(10),I83,1)-1),Tirage!$B:$D,3,FALSE),\"\"),\"\")","v":""},{"$f":"IF(ISERROR(VLOOKUP(I80,Tirage!$A:$G,1,FALSE)),\"\",VLOOKUP(I80,Tirage!$A:$K,7,FALSE)& CHAR(10) & VLOOKUP(I80,Tirage!$A:$K,8,FALSE))","v":""},null,{"$f":"IF(I80<>\"\",IF(L83<>\"\",VLOOKUP(LEFT(L83,SEARCH(CHAR(10),L83,1)-1),Tirage!$B:$D,3,FALSE),\"\"),\"\")","v":""},{"$f":"IF(ISERROR(VLOOKUP(L80,Tirage!$A:$G,1,FALSE)),\"\",VLOOKUP(L80,Tirage!$A:$K,7,FALSE)& CHAR(10) & VLOOKUP(L80,Tirage!$A:$K,8,FALSE))","v":""}]
[null,null,{"$f":"IF(ISERROR(VLOOKUP(C80,Tirage!$A:$G,1,FALSE)),\"\",VLOOKUP(C80,Tirage!$A:$K,10,FALSE)& CHAR(10) & VLOOKUP(C80,Tirage!$A:$K,11,FALSE))","v":""},null,null,{"$f":"IF(ISERROR(VLOOKUP(F80,Tirage!$A:$G,1,FALSE)),\"\",VLOOKUP(F80,Tirage!$A:$K,10,FALSE)& CHAR(10) & VLOOKUP(F80,Tirage!$A:$K,11,FALSE))","v":""},null,null,{"$f":"IF(ISERROR(VLOOKUP(I80,Tirage!$A:$G,1,FALSE)),\"\",VLOOKUP(I80,Tirage!$A:$K,10,FALSE)& CHAR(10) & VLOOKUP(I80,Tirage!$A:$K,11,FALSE))","v":""},null,null,{"$f":"IF(ISERROR(VLOOKUP(L80,Tirage!$A:$G,1,FALSE)),\"\",VLOOKUP(L80,Tirage!$A:$K,10,FALSE)& CHAR(10) & VLOOKUP(L80,Tirage!$A:$K,11,FALSE))","v":""}]
["2ème phase",{"$f":"IF(C80<>\"\",IF(B83<>\"\",IF(B83+1>Tirage!$G$1,B83-Tirage!$G$1+1,B83+1),IF(B81+2>Tirage!$G$1,B81+1-Tirage!$G$1+1,B81+2)),\"\")","v":""},{"$f":"IF(AND(D81<>\"\",D82<>\"\"),IF(D81>D82,C81,C82),\"\")","v":""},null,{"$f":"IF(F80<>\"\",IF(E83<>\"\",IF(E83+1>Tirage!$G$1,E83-Tirage!$G$1+1,E83+1),IF(E81+2>Tirage!$G$1,E81+1-Tirage!$G$1+1,E81+2)),\"\")","v":""},{"$f":"IF(AND(G81<>\"\",G82<>\"\"),IF(G81>G82,F81,F82),\"\")","v":""},null,{"$f":"IF(I80<>\"\",IF(H83<>\"\",IF(H83+1>Tirage!$G$1,H83-Tirage!$G$1+1,H83+1),IF(H81+2>Tirage!$G$1,H81+1-Tirage!$G$1+1,H81+2)),\"\")","v":""},{"$f":"IF(AND(J81<>\"\",J82<>\"\"),IF(J81>J82,I81,I82),\"\")","v":""},null,{"$f":"IF(L80<>\"\",IF(K83<>\"\",IF(K83+1>Tirage!$G$1,K83-Tirage!$G$1+1,K83+1),IF(K81+2>Tirage!$G$1,K81+1-Tirage!$G$1+1,K81+2)),\"\")","v":""},{"$f":"IF(AND(M81<>\"\",M82<>\"\"),IF(M81>M82,L81,L82),\"\")","v":""}]
[null,null,{"$f":"IF(AND(D83<>\"\",D84<>\"\"),IF(D83>D84,C83,C84),IF(AND(D81<>\"\",C84=\"office\"&CHAR(10)),C83,\"\"))","v":""},null,null,{"$f":"IF(AND(G83<>\"\",G84<>\"\"),IF(G83>G84,F83,F84),IF(AND(G81<>\"\",F84=\"office\"&CHAR(10)),F83,\"\"))","v":""},null,null,{"$f":"IF(AND(J83<>\"\",J84<>\"\"),IF(J83>J84,I83,I84),IF(AND(J81<>\"\",I84=\"office\"&CHAR(10)),I83,\"\"))","v":""},null,null,{"$f":"IF(AND(M83<>\"\",M84<>\"\"),IF(M83>M84,L83,L84),IF(AND(M81<>\"\",L84=\"office\"&CHAR(10)),L83,\"\"))","v":""}]
[null,{"$f":"IF(C80<>\"\",IF(C84<>\"office\"& CHAR(10),IF(B85<>\"\",IF(B85+1>Tirage!$G$1,B85-Tirage!$G$1+1,B85+1),\"\"),\"\"),\"\")","v":""},{"$f":"IF(AND(D81<>\"\",D82<>\"\"),IF(D81<D82,C81,C82),\"\")","v":""},null,{"$f":"IF(F80<>\"\",IF(F84<>\"office\"& CHAR(10),IF(E85<>\"\",IF(E85+1>Tirage!$G$1,E85-Tirage!$G$1+1,E85+1),\"\"),\"\"),\"\")","v":""},{"$f":"IF(AND(G81<>\"\",G82<>\"\"),IF(G81<G82,F81,F82),\"\")","v":""},null,{"$f":"IF(I80<>\"\",IF(I84<>\"office\"& CHAR(10),IF(H85<>\"\",IF(H85+1>Tirage!$G$1,H85-Tirage!$G$1+1,H85+1),\"\"),\"\"),\"\")","v":""},{"$f":"IF(AND(J81<>\"\",J82<>\"\"),IF(J81<J82,I81,I82),\"\")","v":""},null,{"$f":"IF(L80<>\"\",IF(L84<>\"office\"& CHAR(10),IF(K85<>\"\",IF(K85+1>Tirage!$G$1,K85-Tirage!$G$1+1,K85+1),\"\"),\"\"),\"\")","v":""},{"$f":"IF(AND(M81<>\"\",M82<>\"\"),IF(M81<M82,L81,L82),\"\")","v":""}]
[null,null,{"$f":"IF(AND(D83<>\"\",D84<>\"\"),IF(D83<D84,C83,C84),IF(AND(D81<>\"\",C84=\"office\"&CHAR(10)),\"office\"&CHAR(10),\"\"))","v":""},null,null,{"$f":"IF(AND(G83<>\"\",G84<>\"\"),IF(G83<G84,F83,F84),IF(AND(G81<>\"\",F84=\"office\"&CHAR(10)),\"office\"&CHAR(10),\"\"))","v":""},null,null,{"$f":"IF(AND(J83<>\"\",J84<>\"\"),IF(J83<J84,I83,I84),IF(AND(J81<>\"\",I84=\"office\"&CHAR(10)),\"office\"&CHAR(10),\"\"))","v":""},null,null,{"$f":"IF(AND(M83<>\"\",M84<>\"\"),IF(M83<M84,L83,L84),IF(AND(M81<>\"\",L84=\"office\"&CHAR(10)),\"office\"&CHAR(10),\"\"))","v":""}]
["Barrage",{"$f":"IF(C80<>\"\",IF(B87<>\"\",IF(B87+1>Tirage!$G$1,B87-Tirage!$G$1+1,B87+1),IF(B85+2>Tirage!$G$1,B85+2-Tirage!$G$1,B85+2)),\"\")","v":""},{"$f":"IF(AND(D85<>\"\",D86<>\"\"),IF(D85>D86,C86,C85),\"\")","v":""},null,{"$f":"IF(F80<>\"\",IF(E87<>\"\",IF(E87+1>Tirage!$G$1,E87-Tirage!$G$1+1,E87+1),IF(E85+2>Tirage!$G$1,E85+2-Tirage!$G$1,E85+2)),\"\")","v":""},{"$f":"IF(AND(G85<>\"\",G86<>\"\"),IF(G85>G86,F86,F85),\"\")","v":""},null,{"$f":"IF(I80<>\"\",IF(H87<>\"\",IF(H87+1>Tirage!$G$1,H87-Tirage!$G$1+1,H87+1),IF(H85+2>Tirage!$G$1,H85+2-Tirage!$G$1,H85+2)),\"\")","v":""},{"$f":"IF(AND(J85<>\"\",J86<>\"\"),IF(J85>J86,I86,I85),\"\")","v":""},null,{"$f":"IF(L80<>\"\",IF(K87<>\"\",IF(K87+1>Tirage!$G$1,K87-Tirage!$G$1+1,K87+1),IF(K85+2>Tirage!$G$1,K85+2-Tirage!$G$1,K85+2)),\"\")","v":""},{"$f":"IF(AND(M85<>\"\",M86<>\"\"),IF(M85>M86,L86,L85),\"\")","v":""}]
[null,null,{"$f":"IF(C88<>\"office\"&CHAR(10),IF(AND(D87<>\"\",D88<>\"\"),IF(D87>D88,C87,C88),\"\"),IF(D85<>\"\",C87,\"\"))","v":""},null,null,{"$f":"IF(F88<>\"office\"&CHAR(10),IF(AND(G87<>\"\",G88<>\"\"),IF(G87>G88,F87,F88),\"\"),IF(G85<>\"\",F87,\"\"))","v":""},null,null,{"$f":"IF(I88<>\"office\"&CHAR(10),IF(AND(J87<>\"\",J88<>\"\"),IF(J87>J88,I87,I88),\"\"),IF(J85<>\"\",I87,\"\"))","v":""},null,null,{"$f":"IF(L88<>\"office\"&CHAR(10),IF(AND(M87<>\"\",M88<>\"\"),IF(M87>M88,L87,L88),\"\"),IF(M85<>\"\",L87,\"\"))","v":""}]
["1er de poule",null,{"$f":"IF(AND(D85<>\"\",D86<>\"\"),IF(D85>D86,C85,C86),\"\")","v":""},null,null,{"$f":"IF(AND(G85<>\"\",G86<>\"\"),IF(G85>G86,F85,F86),\"\")","v":""},null,null,{"$f":"IF(AND(J85<>\"\",J86<>\"\"),IF(J85>J86,I85,I86),\"\")","v":""},null,null,{"$f":"IF(AND(M85<>\"\",M86<>\"\"),IF(M85>M86,L85,L86),\"\")","v":""}]
["2e de poule",null,{"$f":"IF(AND(D89<>\"\",D90<>\"\"),IF(D89>D90,C89,C90),\"\")","v":""},null,null,{"$f":"IF(AND(G89<>\"\",G90<>\"\"),IF(G89>G90,F89,F90),\"\")","v":""},null,null,{"$f":"IF(AND(J89<>\"\",J90<>\"\"),IF(J89>J90,I89,I90),\"\")","v":""},null,null,{"$f":"IF(AND(M89<>\"\",M90<>\"\"),IF(M89>M90,L89,L90),\"\")","v":""}]
[null,"Jeu",{"$f":"IF('Liste inscrits'!$AF$7>=(ROW()-2)/13*4+COLUMN()/3,\"POULE \"&IF(64+(((ROW()+11)/13)*4)-3>116,\"B\"&CHAR(12+(((ROW()+11)/13)*4)-3),IF(64+(((ROW()+11)/13)*4)-3>90,\"A\"&CHAR(38+(((ROW()+11)/13)*4)-3),CHAR(64+(((ROW()+11)/13)*4)-3)&\" \")),\"\")","v":""},null,"Jeu",{"$f":"IF('Liste inscrits'!$AF$7>=(ROW()-2)/13*4+COLUMN()/3,\"POULE \"&IF(64+(((ROW()+11)/13)*4)-2>116,\"B\"&CHAR(12+(((ROW()+11)/13)*4)-2),IF(64+(((ROW()+11)/13)*4)-2>90,\"A\"&CHAR(38+(((ROW()+11)/13)*4)-2),CHAR(64+(((ROW()+11)/13)*4)-2)&\" \")),\"\")","v":""},null,"Jeu",{"$f":"IF('Liste inscrits'!$AF$7>=(ROW()-2)/13*4+COLUMN()/3,\"POULE \"&IF(64+(((ROW()+11)/13)*4)-1>116,\"B\"&CHAR(12+(((ROW()+11)/13)*4)-1),IF(64+(((ROW()+11)/13)*4)-1>90,\"A\"&CHAR(38+(((ROW()+11)/13)*4)-1),CHAR(64+(((ROW()+11)/13)*4)-1)&\" \")),\"\")","v":""},null,"Jeu",{"$f":"IF('Liste inscrits'!$AF$7>=(ROW()-2)/13*4+COLUMN()/3,\"POULE \"&IF(64+(((ROW()+11)/13)*4)>116,\"B\"&CHAR(12+(((ROW()+11)/13)*4)),IF(64+(((ROW()+11)/13)*4)>90,\"A\"&CHAR(38+(((ROW()+11)/13)*4)),CHAR(64+(((ROW()+11)/13)*4))&\" \")),\"\")","v":""}]
["1ère phase",{"$f":"IF(C93<>\"\",IF(C94<>\"\",VLOOKUP(LEFT(C94,SEARCH(CHAR(10),C94,1)-1),Tirage!$B:$D,3,FALSE),\"\"),\"\")","v":""},{"$f":"IF(ISERROR(VLOOKUP(C93,Tirage!$A:$G,1,FALSE)),\"\",VLOOKUP(C93,Tirage!$A:$K,2,FALSE)& CHAR(10) & VLOOKUP(C93,Tirage!$A:$K,3,FALSE))","v":""},null,{"$f":"IF(F93<>\"\",IF(F94<>\"\",VLOOKUP(LEFT(F94,SEARCH(CHAR(10),F94,1)-1),Tirage!$B:$D,3,FALSE),\"\"),\"\")","v":""},{"$f":"IF(ISERROR(VLOOKUP(F93,Tirage!$A:$G,1,FALSE)),\"\",VLOOKUP(F93,Tirage!$A:$K,2,FALSE)& CHAR(10) & VLOOKUP(F93,Tirage!$A:$K,3,FALSE))","v":""},null,{"$f":"IF(I93<>\"\",IF(I94<>\"\",VLOOKUP(LEFT(I94,SEARCH(CHAR(10),I94,1)-1),Tirage!$B:$D,3,FALSE),\"\"),\"\")","v":""},{"$f":"IF(ISERROR(VLOOKUP(I93,Tirage!$A:$G,1,FALSE)),\"\",VLOOKUP(I93,Tirage!$A:$K,2,FALSE)& CHAR(10) & VLOOKUP(I93,Tirage!$A:$K,3,FALSE))","v":""},null,{"$f":"IF(L93<>\"\",IF(L94<>\"\",VLOOKUP(LEFT(L94,SEARCH(CHAR(10),L94,1)-1),Tirage!$B:$D,3,FALSE),\"\"),\"\")","v":""},{"$f":"IF(ISERROR(VLOOKUP(L93,Tirage!$A:$G,1,FALSE)),\"\",VLOOKUP(L93,Tirage!$A:$K,2,FALSE)& CHAR(10) & VLOOKUP(L93,Tirage!$A:$K,3,FALSE))","v":""}]
[null,null,{"$f":"IF(ISERROR(VLOOKUP(C93,Tirage!$A:$G,1,FALSE)),\"\",VLOOKUP(C93,Tirage!$A:$K,5,FALSE)& CHAR(10) & VLOOKUP(C93,Tirage!$A:$K,6,FALSE))","v":""},null,null,{"$f":"IF(ISERROR(VLOOKUP(F93,Tirage!$A:$G,1,FALSE)),\"\",VLOOKUP(F93,Tirage!$A:$K,5,FALSE)& CHAR(10) & VLOOKUP(F93,Tirage!$A:$K,6,FALSE))","v":""},null,null,{"$f":"IF(ISERROR(VLOOKUP(I93,Tirage!$A:$G,1,FALSE)),\"\",VLOOKUP(I93,Tirage!$A:$K,5,FALSE)& CHAR(10) & VLOOKUP(I93,Tirage!$A:$K,6,FALSE))","v":""},null,null,{"$f":"IF(ISERROR(VLOOKUP(L93,Tirage!$A:$G,1,FALSE)),\"\",VLOOKUP(L93,Tirage!$A:$K,5,FALSE)& CHAR(10) & VLOOKUP(L93,Tirage!$A:$K,6,FALSE))","v":""}]
[null,{"$f":"IF(C93<>\"\",IF(C96<>\"\",VLOOKUP(LEFT(C96,SEARCH(CHAR(10),C96,1)-1),Tirage!$B:$D,3,FALSE),\"\"),\"\")","v":""},{"$f":"IF(ISERROR(VLOOKUP(C93,Tirage!$A:$G,1,FALSE)),\"\",VLOOKUP(C93,Tirage!$A:$K,7,FALSE)& CHAR(10) & VLOOKUP(C93,Tirage!$A:$K,8,FALSE))","v":""},null,{"$f":"IF(C93<>\"\",IF(F96<>\"\",VLOOKUP(LEFT(F96,SEARCH(CHAR(10),F96,1)-1),Tirage!$B:$D,3,FALSE),\"\"),\"\")","v":""},{"$f":"IF(ISERROR(VLOOKUP(F93,Tirage!$A:$G,1,FALSE)),\"\",VLOOKUP(F93,Tirage!$A:$K,7,FALSE)& CHAR(10) & VLOOKUP(F93,Tirage!$A:$K,8,FALSE))","v":""},null,{"$f":"IF(F93<>\"\",IF(I96<>\"\",VLOOKUP(LEFT(I96,SEARCH(CHAR(10),I96,1)-1),Tirage!$B:$D,3,FALSE),\"\"),\"\")","v":""},{"$f":"IF(ISERROR(VLOOKUP(I93,Tirage!$A:$G,1,FALSE)),\"\",VLOOKUP(I93,Tirage!$A:$K,7,FALSE)& CHAR(10) & VLOOKUP(I93,Tirage!$A:$K,8,FALSE))","v":""},null,{"$f":"IF(I93<>\"\",IF(L96<>\"\",VLOOKUP(LEFT(L96,SEARCH(CHAR(10),L96,1)-1),Tirage!$B:$D,3,FALSE),\"\"),\"\")","v":""},{"$f":"IF(ISERROR(VLOOKUP(L93,Tirage!$A:$G,1,FALSE)),\"\",VLOOKUP(L93,Tirage!$A:$K,7,FALSE)& CHAR(10) & VLOOKUP(L93,Tirage!$A:$K,8,FALSE))","v":""}]
[null,null,{"$f":"IF(ISERROR(VLOOKUP(C93,Tirage!$A:$G,1,FALSE)),\"\",VLOOKUP(C93,Tirage!$A:$K,10,FALSE)& CHAR(10) & VLOOKUP(C93,Tirage!$A:$K,11,FALSE))","v":""},null,null,{"$f":"IF(ISERROR(VLOOKUP(F93,Tirage!$A:$G,1,FALSE)),\"\",VLOOKUP(F93,Tirage!$A:$K,10,FALSE)& CHAR(10) & VLOOKUP(F93,Tirage!$A:$K,11,FALSE))","v":""},null,null,{"$f":"IF(ISERROR(VLOOKUP(I93,Tirage!$A:$G,1,FALSE)),\"\",VLOOKUP(I93,Tirage!$A:$K,10,FALSE)& CHAR(10) & VLOOKUP(I93,Tirage!$A:$K,11,FALSE))","v":""},null,null,{"$f":"IF(ISERROR(VLOOKUP(L93,Tirage!$A:$G,1,FALSE)),\"\",VLOOKUP(L93,Tirage!$A:$K,10,FALSE)& CHAR(10) & VLOOKUP(L93,Tirage!$A:$K,11,FALSE))","v":""}]
["2ème phase",{"$f":"IF(C93<>\"\",IF(B96<>\"\",IF(B96+1>Tirage!$G$1,B96-Tirage!$G$1+1,B96+1),IF(B94+2>Tirage!$G$1,B94+1-Tirage!$G$1+1,B94+2)),\"\")","v":""},{"$f":"IF(AND(D94<>\"\",D95<>\"\"),IF(D94>D95,C94,C95),\"\")","v":""},null,{"$f":"IF(F93<>\"\",IF(E96<>\"\",IF(E96+1>Tirage!$G$1,E96-Tirage!$G$1+1,E96+1),IF(E94+2>Tirage!$G$1,E94+1-Tirage!$G$1+1,E94+2)),\"\")","v":""},{"$f":"IF(AND(G94<>\"\",G95<>\"\"),IF(G94>G95,F94,F95),\"\")","v":""},null,{"$f":"IF(I93<>\"\",IF(H96<>\"\",IF(H96+1>Tirage!$G$1,H96-Tirage!$G$1+1,H96+1),IF(H94+2>Tirage!$G$1,H94+1-Tirage!$G$1+1,H94+2)),\"\")","v":""},{"$f":"IF(AND(J94<>\"\",J95<>\"\"),IF(J94>J95,I94,I95),\"\")","v":""},null,{"$f":"IF(L93<>\"\",IF(K96<>\"\",IF(K96+1>Tirage!$G$1,K96-Tirage!$G$1+1,K96+1),IF(K94+2>Tirage!$G$1,K94+1-Tirage!$G$1+1,K94+2)),\"\")","v":""},{"$f":"IF(AND(M94<>\"\",M95<>\"\"),IF(M94>M95,L94,L95),\"\")","v":""}]
[null,null,{"$f":"IF(AND(D96<>\"\",D97<>\"\"),IF(D96>D97,C96,C97),IF(AND(D94<>\"\",C97=\"office\"&CHAR(10)),C96,\"\"))","v":""},null,null,{"$f":"IF(AND(G96<>\"\",G97<>\"\"),IF(G96>G97,F96,F97),IF(AND(G94<>\"\",F97=\"office\"&CHAR(10)),F96,\"\"))","v":""},null,null,{"$f":"IF(AND(J96<>\"\",J97<>\"\"),IF(J96>J97,I96,I97),IF(AND(J94<>\"\",I97=\"office\"&CHAR(10)),I96,\"\"))","v":""},null,null,{"$f":"IF(AND(M96<>\"\",M97<>\"\"),IF(M96>M97,L96,L97),IF(AND(M94<>\"\",L97=\"office\"&CHAR(10)),L96,\"\"))","v":""}]
[null,{"$f":"IF(C93<>\"\",IF(C97<>\"office\"& CHAR(10),IF(B98<>\"\",IF(B98+1>Tirage!$G$1,B98-Tirage!$G$1+1,B98+1),\"\"),\"\"),\"\")","v":""},{"$f":"IF(AND(D94<>\"\",D95<>\"\"),IF(D94<D95,C94,C95),\"\")","v":""},null,{"$f":"IF(F93<>\"\",IF(F97<>\"office\"& CHAR(10),IF(E98<>\"\",IF(E98+1>Tirage!$G$1,E98-Tirage!$G$1+1,E98+1),\"\"),\"\"),\"\")","v":""},{"$f":"IF(AND(G94<>\"\",G95<>\"\"),IF(G94<G95,F94,F95),\"\")","v":""},null,{"$f":"IF(I93<>\"\",IF(I97<>\"office\"& CHAR(10),IF(H98<>\"\",IF(H98+1>Tirage!$G$1,H98-Tirage!$G$1+1,H98+1),\"\"),\"\"),\"\")","v":""},{"$f":"IF(AND(J94<>\"\",J95<>\"\"),IF(J94<J95,I94,I95),\"\")","v":""},null,{"$f":"IF(L93<>\"\",IF(L97<>\"office\"& CHAR(10),IF(K98<>\"\",IF(K98+1>Tirage!$G$1,K98-Tirage!$G$1+1,K98+1),\"\"),\"\"),\"\")","v":""},{"$f":"IF(AND(M94<>\"\",M95<>\"\"),IF(M94<M95,L94,L95),\"\")","v":""}]
[null,null,{"$f":"IF(AND(D96<>\"\",D97<>\"\"),IF(D96<D97,C96,C97),IF(AND(D94<>\"\",C97=\"office\"&CHAR(10)),\"office\"&CHAR(10),\"\"))","v":""},null,null,{"$f":"IF(AND(G96<>\"\",G97<>\"\"),IF(G96<G97,F96,F97),IF(AND(G94<>\"\",F97=\"office\"&CHAR(10)),\"office\"&CHAR(10),\"\"))","v":""},null,null,{"$f":"IF(AND(J96<>\"\",J97<>\"\"),IF(J96<J97,I96,I97),IF(AND(J94<>\"\",I97=\"office\"&CHAR(10)),\"office\"&CHAR(10),\"\"))","v":""},null,null,{"$f":"IF(AND(M96<>\"\",M97<>\"\"),IF(M96<M97,L96,L97),IF(AND(M94<>\"\",L97=\"office\"&CHAR(10)),\"office\"&CHAR(10),\"\"))","v":""}]
["Barrage",{"$f":"IF(C93<>\"\",IF(B100<>\"\",IF(B100+1>Tirage!$G$1,B100-Tirage!$G$1+1,B100+1),IF(B98+2>Tirage!$G$1,B98+2-Tirage!$G$1,B98+2)),\"\")","v":""},{"$f":"IF(AND(D98<>\"\",D99<>\"\"),IF(D98>D99,C99,C98),\"\")","v":""},null,{"$f":"IF(F93<>\"\",IF(E100<>\"\",IF(E100+1>Tirage!$G$1,E100-Tirage!$G$1+1,E100+1),IF(E98+2>Tirage!$G$1,E98+2-Tirage!$G$1,E98+2)),\"\")","v":""},{"$f":"IF(AND(G98<>\"\",G99<>\"\"),IF(G98>G99,F99,F98),\"\")","v":""},null,{"$f":"IF(I93<>\"\",IF(H100<>\"\",IF(H100+1>Tirage!$G$1,H100-Tirage!$G$1+1,H100+1),IF(H98+2>Tirage!$G$1,H98+2-Tirage!$G$1,H98+2)),\"\")","v":""},{"$f":"IF(AND(J98<>\"\",J99<>\"\"),IF(J98>J99,I99,I98),\"\")","v":""},null,{"$f":"IF(L93<>\"\",IF(K100<>\"\",IF(K100+1>Tirage!$G$1,K100-Tirage!$G$1+1,K100+1),IF(K98+2>Tirage!$G$1,K98+2-Tirage!$G$1,K98+2)),\"\")","v":""},{"$f":"IF(AND(M98<>\"\",M99<>\"\"),IF(M98>M99,L99,L98),\"\")","v":""}]
[null,null,{"$f":"IF(C101<>\"office\"&CHAR(10),IF(AND(D100<>\"\",D101<>\"\"),IF(D100>D101,C100,C101),\"\"),IF(D98<>\"\",C100,\"\"))","v":""},null,null,{"$f":"IF(F101<>\"office\"&CHAR(10),IF(AND(G100<>\"\",G101<>\"\"),IF(G100>G101,F100,F101),\"\"),IF(G98<>\"\",F100,\"\"))","v":""},null,null,{"$f":"IF(I101<>\"office\"&CHAR(10),IF(AND(J100<>\"\",J101<>\"\"),IF(J100>J101,I100,I101),\"\"),IF(J98<>\"\",I100,\"\"))","v":""},null,null,{"$f":"IF(L101<>\"office\"&CHAR(10),IF(AND(M100<>\"\",M101<>\"\"),IF(M100>M101,L100,L101),\"\"),IF(M98<>\"\",L100,\"\"))","v":""}]
["1er de poule",null,{"$f":"IF(AND(D98<>\"\",D99<>\"\"),IF(D98>D99,C98,C99),\"\")","v":""},null,null,{"$f":"IF(AND(G98<>\"\",G99<>\"\"),IF(G98>G99,F98,F99),\"\")","v":""},null,null,{"$f":"IF(AND(J98<>\"\",J99<>\"\"),IF(J98>J99,I98,I99),\"\")","v":""},null,null,{"$f":"IF(AND(M98<>\"\",M99<>\"\"),IF(M98>M99,L98,L99),\"\")","v":""}]
["2e de poule",null,{"$f":"IF(AND(D102<>\"\",D103<>\"\"),IF(D102>D103,C102,C103),\"\")","v":""},null,null,{"$f":"IF(AND(G102<>\"\",G103<>\"\"),IF(G102>G103,F102,F103),\"\")","v":""},null,null,{"$f":"IF(AND(J102<>\"\",J103<>\"\"),IF(J102>J103,I102,I103),\"\")","v":""},null,null,{"$f":"IF(AND(M102<>\"\",M103<>\"\"),IF(M102>M103,L102,L103),\"\")","v":""}]
[null,"Jeu",{"$f":"IF('Liste inscrits'!$AF$7>=(ROW()-2)/13*4+COLUMN()/3,\"POULE \"&IF(64+(((ROW()+11)/13)*4)-3>116,\"B\"&CHAR(12+(((ROW()+11)/13)*4)-3),IF(64+(((ROW()+11)/13)*4)-3>90,\"A\"&CHAR(38+(((ROW()+11)/13)*4)-3),CHAR(64+(((ROW()+11)/13)*4)-3)&\" \")),\"\")","v":""},null,"Jeu",{"$f":"IF('Liste inscrits'!$AF$7>=(ROW()-2)/13*4+COLUMN()/3,\"POULE \"&IF(64+(((ROW()+11)/13)*4)-2>116,\"B\"&CHAR(12+(((ROW()+11)/13)*4)-2),IF(64+(((ROW()+11)/13)*4)-2>90,\"A\"&CHAR(38+(((ROW()+11)/13)*4)-2),CHAR(64+(((ROW()+11)/13)*4)-2)&\" \")),\"\")","v":""},null,"Jeu",{"$f":"IF('Liste inscrits'!$AF$7>=(ROW()-2)/13*4+COLUMN()/3,\"POULE \"&IF(64+(((ROW()+11)/13)*4)-1>116,\"B\"&CHAR(12+(((ROW()+11)/13)*4)-1),IF(64+(((ROW()+11)/13)*4)-1>90,\"A\"&CHAR(38+(((ROW()+11)/13)*4)-1),CHAR(64+(((ROW()+11)/13)*4)-1)&\" \")),\"\")","v":""},null,"Jeu",{"$f":"IF('Liste inscrits'!$AF$7>=(ROW()-2)/13*4+COLUMN()/3,\"POULE \"&IF(64+(((ROW()+11)/13)*4)>116,\"B\"&CHAR(12+(((ROW()+11)/13)*4)),IF(64+(((ROW()+11)/13)*4)>90,\"A\"&CHAR(38+(((ROW()+11)/13)*4)),CHAR(64+(((ROW()+11)/13)*4))&\" \")),\"\")","v":""}]
["1ère phase",{"$f":"IF(C106<>\"\",IF(C107<>\"\",VLOOKUP(LEFT(C107,SEARCH(CHAR(10),C107,1)-1),Tirage!$B:$D,3,FALSE),\"\"),\"\")","v":""},{"$f":"IF(ISERROR(VLOOKUP(C106,Tirage!$A:$G,1,FALSE)),\"\",VLOOKUP(C106,Tirage!$A:$K,2,FALSE)& CHAR(10) & VLOOKUP(C106,Tirage!$A:$K,3,FALSE))","v":""},null,{"$f":"IF(F106<>\"\",IF(F107<>\"\",VLOOKUP(LEFT(F107,SEARCH(CHAR(10),F107,1)-1),Tirage!$B:$D,3,FALSE),\"\"),\"\")","v":""},{"$f":"IF(ISERROR(VLOOKUP(F106,Tirage!$A:$G,1,FALSE)),\"\",VLOOKUP(F106,Tirage!$A:$K,2,FALSE)& CHAR(10) & VLOOKUP(F106,Tirage!$A:$K,3,FALSE))","v":""},null,{"$f":"IF(I106<>\"\",IF(I107<>\"\",VLOOKUP(LEFT(I107,SEARCH(CHAR(10),I107,1)-1),Tirage!$B:$D,3,FALSE),\"\"),\"\")","v":""},{"$f":"IF(ISERROR(VLOOKUP(I106,Tirage!$A:$G,1,FALSE)),\"\",VLOOKUP(I106,Tirage!$A:$K,2,FALSE)& CHAR(10) & VLOOKUP(I106,Tirage!$A:$K,3,FALSE))","v":""},null,{"$f":"IF(L106<>\"\",IF(L107<>\"\",VLOOKUP(LEFT(L107,SEARCH(CHAR(10),L107,1)-1),Tirage!$B:$D,3,FALSE),\"\"),\"\")","v":""},{"$f":"IF(ISERROR(VLOOKUP(L106,Tirage!$A:$G,1,FALSE)),\"\",VLOOKUP(L106,Tirage!$A:$K,2,FALSE)& CHAR(10) & VLOOKUP(L106,Tirage!$A:$K,3,FALSE))","v":""}]
[null,null,{"$f":"IF(ISERROR(VLOOKUP(C106,Tirage!$A:$G,1,FALSE)),\"\",VLOOKUP(C106,Tirage!$A:$K,5,FALSE)& CHAR(10) & VLOOKUP(C106,Tirage!$A:$K,6,FALSE))","v":""},null,null,{"$f":"IF(ISERROR(VLOOKUP(F106,Tirage!$A:$G,1,FALSE)),\"\",VLOOKUP(F106,Tirage!$A:$K,5,FALSE)& CHAR(10) & VLOOKUP(F106,Tirage!$A:$K,6,FALSE))","v":""},null,null,{"$f":"IF(ISERROR(VLOOKUP(I106,Tirage!$A:$G,1,FALSE)),\"\",VLOOKUP(I106,Tirage!$A:$K,5,FALSE)& CHAR(10) & VLOOKUP(I106,Tirage!$A:$K,6,FALSE))","v":""},null,null,{"$f":"IF(ISERROR(VLOOKUP(L106,Tirage!$A:$G,1,FALSE)),\"\",VLOOKUP(L106,Tirage!$A:$K,5,FALSE)& CHAR(10) & VLOOKUP(L106,Tirage!$A:$K,6,FALSE))","v":""}]
[null,{"$f":"IF(C106<>\"\",IF(C109<>\"\",VLOOKUP(LEFT(C109,SEARCH(CHAR(10),C109,1)-1),Tirage!$B:$D,3,FALSE),\"\"),\"\")","v":""},{"$f":"IF(ISERROR(VLOOKUP(C106,Tirage!$A:$G,1,FALSE)),\"\",VLOOKUP(C106,Tirage!$A:$K,7,FALSE)& CHAR(10) & VLOOKUP(C106,Tirage!$A:$K,8,FALSE))","v":""},null,{"$f":"IF(C106<>\"\",IF(F109<>\"\",VLOOKUP(LEFT(F109,SEARCH(CHAR(10),F109,1)-1),Tirage!$B:$D,3,FALSE),\"\"),\"\")","v":""},{"$f":"IF(ISERROR(VLOOKUP(F106,Tirage!$A:$G,1,FALSE)),\"\",VLOOKUP(F106,Tirage!$A:$K,7,FALSE)& CHAR(10) & VLOOKUP(F106,Tirage!$A:$K,8,FALSE))","v":""},null,{"$f":"IF(F106<>\"\",IF(I109<>\"\",VLOOKUP(LEFT(I109,SEARCH(CHAR(10),I109,1)-1),Tirage!$B:$D,3,FALSE),\"\"),\"\")","v":""},{"$f":"IF(ISERROR(VLOOKUP(I106,Tirage!$A:$G,1,FALSE)),\"\",VLOOKUP(I106,Tirage!$A:$K,7,FALSE)& CHAR(10) & VLOOKUP(I106,Tirage!$A:$K,8,FALSE))","v":""},null,{"$f":"IF(I106<>\"\",IF(L109<>\"\",VLOOKUP(LEFT(L109,SEARCH(CHAR(10),L109,1)-1),Tirage!$B:$D,3,FALSE),\"\"),\"\")","v":""},{"$f":"IF(ISERROR(VLOOKUP(L106,Tirage!$A:$G,1,FALSE)),\"\",VLOOKUP(L106,Tirage!$A:$K,7,FALSE)& CHAR(10) & VLOOKUP(L106,Tirage!$A:$K,8,FALSE))","v":""}]
[null,null,{"$f":"IF(ISERROR(VLOOKUP(C106,Tirage!$A:$G,1,FALSE)),\"\",VLOOKUP(C106,Tirage!$A:$K,10,FALSE)& CHAR(10) & VLOOKUP(C106,Tirage!$A:$K,11,FALSE))","v":""},null,null,{"$f":"IF(ISERROR(VLOOKUP(F106,Tirage!$A:$G,1,FALSE)),\"\",VLOOKUP(F106,Tirage!$A:$K,10,FALSE)& CHAR(10) & VLOOKUP(F106,Tirage!$A:$K,11,FALSE))","v":""},null,null,{"$f":"IF(ISERROR(VLOOKUP(I106,Tirage!$A:$G,1,FALSE)),\"\",VLOOKUP(I106,Tirage!$A:$K,10,FALSE)& CHAR(10) & VLOOKUP(I106,Tirage!$A:$K,11,FALSE))","v":""},null,null,{"$f":"IF(ISERROR(VLOOKUP(L106,Tirage!$A:$G,1,FALSE)),\"\",VLOOKUP(L106,Tirage!$A:$K,10,FALSE)& CHAR(10) & VLOOKUP(L106,Tirage!$A:$K,11,FALSE))","v":""}]
["2ème phase",{"$f":"IF(C106<>\"\",IF(B109<>\"\",IF(B109+1>Tirage!$G$1,B109-Tirage!$G$1+1,B109+1),IF(B107+2>Tirage!$G$1,B107+1-Tirage!$G$1+1,B107+2)),\"\")","v":""},{"$f":"IF(AND(D107<>\"\",D108<>\"\"),IF(D107>D108,C107,C108),\"\")","v":""},null,{"$f":"IF(F106<>\"\",IF(E109<>\"\",IF(E109+1>Tirage!$G$1,E109-Tirage!$G$1+1,E109+1),IF(E107+2>Tirage!$G$1,E107+1-Tirage!$G$1+1,E107+2)),\"\")","v":""},{"$f":"IF(AND(G107<>\"\",G108<>\"\"),IF(G107>G108,F107,F108),\"\")","v":""},null,{"$f":"IF(I106<>\"\",IF(H109<>\"\",IF(H109+1>Tirage!$G$1,H109-Tirage!$G$1+1,H109+1),IF(H107+2>Tirage!$G$1,H107+1-Tirage!$G$1+1,H107+2)),\"\")","v":""},{"$f":"IF(AND(J107<>\"\",J108<>\"\"),IF(J107>J108,I107,I108),\"\")","v":""},null,{"$f":"IF(L106<>\"\",IF(K109<>\"\",IF(K109+1>Tirage!$G$1,K109-Tirage!$G$1+1,K109+1),IF(K107+2>Tirage!$G$1,K107+1-Tirage!$G$1+1,K107+2)),\"\")","v":""},{"$f":"IF(AND(M107<>\"\",M108<>\"\"),IF(M107>M108,L107,L108),\"\")","v":""}]
[null,null,{"$f":"IF(AND(D109<>\"\",D110<>\"\"),IF(D109>D110,C109,C110),IF(AND(D107<>\"\",C110=\"office\"&CHAR(10)),C109,\"\"))","v":""},null,null,{"$f":"IF(AND(G109<>\"\",G110<>\"\"),IF(G109>G110,F109,F110),IF(AND(G107<>\"\",F110=\"office\"&CHAR(10)),F109,\"\"))","v":""},null,null,{"$f":"IF(AND(J109<>\"\",J110<>\"\"),IF(J109>J110,I109,I110),IF(AND(J107<>\"\",I110=\"office\"&CHAR(10)),I109,\"\"))","v":""},null,null,{"$f":"IF(AND(M109<>\"\",M110<>\"\"),IF(M109>M110,L109,L110),IF(AND(M107<>\"\",L110=\"office\"&CHAR(10)),L109,\"\"))","v":""}]
[null,{"$f":"IF(C106<>\"\",IF(C110<>\"office\"& CHAR(10),IF(B111<>\"\",IF(B111+1>Tirage!$G$1,B111-Tirage!$G$1+1,B111+1),\"\"),\"\"),\"\")","v":""},{"$f":"IF(AND(D107<>\"\",D108<>\"\"),IF(D107<D108,C107,C108),\"\")","v":""},null,{"$f":"IF(F106<>\"\",IF(F110<>\"office\"& CHAR(10),IF(E111<>\"\",IF(E111+1>Tirage!$G$1,E111-Tirage!$G$1+1,E111+1),\"\"),\"\"),\"\")","v":""},{"$f":"IF(AND(G107<>\"\",G108<>\"\"),IF(G107<G108,F107,F108),\"\")","v":""},null,{"$f":"IF(I106<>\"\",IF(I110<>\"office\"& CHAR(10),IF(H111<>\"\",IF(H111+1>Tirage!$G$1,H111-Tirage!$G$1+1,H111+1),\"\"),\"\"),\"\")","v":""},{"$f":"IF(AND(J107<>\"\",J108<>\"\"),IF(J107<J108,I107,I108),\"\")","v":""},null,{"$f":"IF(L106<>\"\",IF(L110<>\"office\"& CHAR(10),IF(K111<>\"\",IF(K111+1>Tirage!$G$1,K111-Tirage!$G$1+1,K111+1),\"\"),\"\"),\"\")","v":""},{"$f":"IF(AND(M107<>\"\",M108<>\"\"),IF(M107<M108,L107,L108),\"\")","v":""}]
[null,null,{"$f":"IF(AND(D109<>\"\",D110<>\"\"),IF(D109<D110,C109,C110),IF(AND(D107<>\"\",C110=\"office\"&CHAR(10)),\"office\"&CHAR(10),\"\"))","v":""},null,null,{"$f":"IF(AND(G109<>\"\",G110<>\"\"),IF(G109<G110,F109,F110),IF(AND(G107<>\"\",F110=\"office\"&CHAR(10)),\"office\"&CHAR(10),\"\"))","v":""},null,null,{"$f":"IF(AND(J109<>\"\",J110<>\"\"),IF(J109<J110,I109,I110),IF(AND(J107<>\"\",I110=\"office\"&CHAR(10)),\"office\"&CHAR(10),\"\"))","v":""},null,null,{"$f":"IF(AND(M109<>\"\",M110<>\"\"),IF(M109<M110,L109,L110),IF(AND(M107<>\"\",L110=\"office\"&CHAR(10)),\"office\"&CHAR(10),\"\"))","v":""}]
["Barrage",{"$f":"IF(C106<>\"\",IF(B113<>\"\",IF(B113+1>Tirage!$G$1,B113-Tirage!$G$1+1,B113+1),IF(B111+2>Tirage!$G$1,B111+2-Tirage!$G$1,B111+2)),\"\")","v":""},{"$f":"IF(AND(D111<>\"\",D112<>\"\"),IF(D111>D112,C112,C111),\"\")","v":""},null,{"$f":"IF(F106<>\"\",IF(E113<>\"\",IF(E113+1>Tirage!$G$1,E113-Tirage!$G$1+1,E113+1),IF(E111+2>Tirage!$G$1,E111+2-Tirage!$G$1,E111+2)),\"\")","v":""},{"$f":"IF(AND(G111<>\"\",G112<>\"\"),IF(G111>G112,F112,F111),\"\")","v":""},null,{"$f":"IF(I106<>\"\",IF(H113<>\"\",IF(H113+1>Tirage!$G$1,H113-Tirage!$G$1+1,H113+1),IF(H111+2>Tirage!$G$1,H111+2-Tirage!$G$1,H111+2)),\"\")","v":""},{"$f":"IF(AND(J111<>\"\",J112<>\"\"),IF(J111>J112,I112,I111),\"\")","v":""},null,{"$f":"IF(L106<>\"\",IF(K113<>\"\",IF(K113+1>Tirage!$G$1,K113-Tirage!$G$1+1,K113+1),IF(K111+2>Tirage!$G$1,K111+2-Tirage!$G$1,K111+2)),\"\")","v":""},{"$f":"IF(AND(M111<>\"\",M112<>\"\"),IF(M111>M112,L112,L111),\"\")","v":""}]
[null,null,{"$f":"IF(C114<>\"office\"&CHAR(10),IF(AND(D113<>\"\",D114<>\"\"),IF(D113>D114,C113,C114),\"\"),IF(D111<>\"\",C113,\"\"))","v":""},null,null,{"$f":"IF(F114<>\"office\"&CHAR(10),IF(AND(G113<>\"\",G114<>\"\"),IF(G113>G114,F113,F114),\"\"),IF(G111<>\"\",F113,\"\"))","v":""},null,null,{"$f":"IF(I114<>\"office\"&CHAR(10),IF(AND(J113<>\"\",J114<>\"\"),IF(J113>J114,I113,I114),\"\"),IF(J111<>\"\",I113,\"\"))","v":""},null,null,{"$f":"IF(L114<>\"office\"&CHAR(10),IF(AND(M113<>\"\",M114<>\"\"),IF(M113>M114,L113,L114),\"\"),IF(M111<>\"\",L113,\"\"))","v":""}]
["1er de poule",null,{"$f":"IF(AND(D111<>\"\",D112<>\"\"),IF(D111>D112,C111,C112),\"\")","v":""},null,null,{"$f":"IF(AND(G111<>\"\",G112<>\"\"),IF(G111>G112,F111,F112),\"\")","v":""},null,null,{"$f":"IF(AND(J111<>\"\",J112<>\"\"),IF(J111>J112,I111,I112),\"\")","v":""},null,null,{"$f":"IF(AND(M111<>\"\",M112<>\"\"),IF(M111>M112,L111,L112),\"\")","v":""}]
["2e de poule",null,{"$f":"IF(AND(D115<>\"\",D116<>\"\"),IF(D115>D116,C115,C116),\"\")","v":""},null,null,{"$f":"IF(AND(G115<>\"\",G116<>\"\"),IF(G115>G116,F115,F116),\"\")","v":""},null,null,{"$f":"IF(AND(J115<>\"\",J116<>\"\"),IF(J115>J116,I115,I116),\"\")","v":""},null,null,{"$f":"IF(AND(M115<>\"\",M116<>\"\"),IF(M115>M116,L115,L116),\"\")","v":""}]
[null,"Jeu",{"$f":"IF('Liste inscrits'!$AF$7>=(ROW()-2)/13*4+COLUMN()/3,\"POULE \"&IF(64+(((ROW()+11)/13)*4)-3>116,\"B\"&CHAR(12+(((ROW()+11)/13)*4)-3),IF(64+(((ROW()+11)/13)*4)-3>90,\"A\"&CHAR(38+(((ROW()+11)/13)*4)-3),CHAR(64+(((ROW()+11)/13)*4)-3)&\" \")),\"\")","v":""},null,"Jeu",{"$f":"IF('Liste inscrits'!$AF$7>=(ROW()-2)/13*4+COLUMN()/3,\"POULE \"&IF(64+(((ROW()+11)/13)*4)-2>116,\"B\"&CHAR(12+(((ROW()+11)/13)*4)-2),IF(64+(((ROW()+11)/13)*4)-2>90,\"A\"&CHAR(38+(((ROW()+11)/13)*4)-2),CHAR(64+(((ROW()+11)/13)*4)-2)&\" \")),\"\")","v":""},null,"Jeu",{"$f":"IF('Liste inscrits'!$AF$7>=(ROW()-2)/13*4+COLUMN()/3,\"POULE \"&IF(64+(((ROW()+11)/13)*4)-1>116,\"B\"&CHAR(12+(((ROW()+11)/13)*4)-1),IF(64+(((ROW()+11)/13)*4)-1>90,\"A\"&CHAR(38+(((ROW()+11)/13)*4)-1),CHAR(64+(((ROW()+11)/13)*4)-1)&\" \")),\"\")","v":""},null,"Jeu",{"$f":"IF('Liste inscrits'!$AF$7>=(ROW()-2)/13*4+COLUMN()/3,\"POULE \"&IF(64+(((ROW()+11)/13)*4)>116,\"B\"&CHAR(12+(((ROW()+11)/13)*4)),IF(64+(((ROW()+11)/13)*4)>90,\"A\"&CHAR(38+(((ROW()+11)/13)*4)),CHAR(64+(((ROW()+11)/13)*4))&\" \")),\"\")","v":""}]
["1ère phase",{"$f":"IF(C119<>\"\",IF(C120<>\"\",VLOOKUP(LEFT(C120,SEARCH(CHAR(10),C120,1)-1),Tirage!$B:$D,3,FALSE),\"\"),\"\")","v":""},{"$f":"IF(ISERROR(VLOOKUP(C119,Tirage!$A:$G,1,FALSE)),\"\",VLOOKUP(C119,Tirage!$A:$K,2,FALSE)& CHAR(10) & VLOOKUP(C119,Tirage!$A:$K,3,FALSE))","v":""},null,{"$f":"IF(F119<>\"\",IF(F120<>\"\",VLOOKUP(LEFT(F120,SEARCH(CHAR(10),F120,1)-1),Tirage!$B:$D,3,FALSE),\"\"),\"\")","v":""},{"$f":"IF(ISERROR(VLOOKUP(F119,Tirage!$A:$G,1,FALSE)),\"\",VLOOKUP(F119,Tirage!$A:$K,2,FALSE)& CHAR(10) & VLOOKUP(F119,Tirage!$A:$K,3,FALSE))","v":""},null,{"$f":"IF(I119<>\"\",IF(I120<>\"\",VLOOKUP(LEFT(I120,SEARCH(CHAR(10),I120,1)-1),Tirage!$B:$D,3,FALSE),\"\"),\"\")","v":""},{"$f":"IF(ISERROR(VLOOKUP(I119,Tirage!$A:$G,1,FALSE)),\"\",VLOOKUP(I119,Tirage!$A:$K,2,FALSE)& CHAR(10) & VLOOKUP(I119,Tirage!$A:$K,3,FALSE))","v":""},null,{"$f":"IF(L119<>\"\",IF(L120<>\"\",VLOOKUP(LEFT(L120,SEARCH(CHAR(10),L120,1)-1),Tirage!$B:$D,3,FALSE),\"\"),\"\")","v":""},{"$f":"IF(ISERROR(VLOOKUP(L119,Tirage!$A:$G,1,FALSE)),\"\",VLOOKUP(L119,Tirage!$A:$K,2,FALSE)& CHAR(10) & VLOOKUP(L119,Tirage!$A:$K,3,FALSE))","v":""}]
[null,null,{"$f":"IF(ISERROR(VLOOKUP(C119,Tirage!$A:$G,1,FALSE)),\"\",VLOOKUP(C119,Tirage!$A:$K,5,FALSE)& CHAR(10) & VLOOKUP(C119,Tirage!$A:$K,6,FALSE))","v":""},null,null,{"$f":"IF(ISERROR(VLOOKUP(F119,Tirage!$A:$G,1,FALSE)),\"\",VLOOKUP(F119,Tirage!$A:$K,5,FALSE)& CHAR(10) & VLOOKUP(F119,Tirage!$A:$K,6,FALSE))","v":""},null,null,{"$f":"IF(ISERROR(VLOOKUP(I119,Tirage!$A:$G,1,FALSE)),\"\",VLOOKUP(I119,Tirage!$A:$K,5,FALSE)& CHAR(10) & VLOOKUP(I119,Tirage!$A:$K,6,FALSE))","v":""},null,null,{"$f":"IF(ISERROR(VLOOKUP(L119,Tirage!$A:$G,1,FALSE)),\"\",VLOOKUP(L119,Tirage!$A:$K,5,FALSE)& CHAR(10) & VLOOKUP(L119,Tirage!$A:$K,6,FALSE))","v":""}]
[null,{"$f":"IF(C119<>\"\",IF(C122<>\"\",VLOOKUP(LEFT(C122,SEARCH(CHAR(10),C122,1)-1),Tirage!$B:$D,3,FALSE),\"\"),\"\")","v":""},{"$f":"IF(ISERROR(VLOOKUP(C119,Tirage!$A:$G,1,FALSE)),\"\",VLOOKUP(C119,Tirage!$A:$K,7,FALSE)& CHAR(10) & VLOOKUP(C119,Tirage!$A:$K,8,FALSE))","v":""},null,{"$f":"IF(C119<>\"\",IF(F122<>\"\",VLOOKUP(LEFT(F122,SEARCH(CHAR(10),F122,1)-1),Tirage!$B:$D,3,FALSE),\"\"),\"\")","v":""},{"$f":"IF(ISERROR(VLOOKUP(F119,Tirage!$A:$G,1,FALSE)),\"\",VLOOKUP(F119,Tirage!$A:$K,7,FALSE)& CHAR(10) & VLOOKUP(F119,Tirage!$A:$K,8,FALSE))","v":""},null,{"$f":"IF(F119<>\"\",IF(I122<>\"\",VLOOKUP(LEFT(I122,SEARCH(CHAR(10),I122,1)-1),Tirage!$B:$D,3,FALSE),\"\"),\"\")","v":""},{"$f":"IF(ISERROR(VLOOKUP(I119,Tirage!$A:$G,1,FALSE)),\"\",VLOOKUP(I119,Tirage!$A:$K,7,FALSE)& CHAR(10) & VLOOKUP(I119,Tirage!$A:$K,8,FALSE))","v":""},null,{"$f":"IF(I119<>\"\",IF(L122<>\"\",VLOOKUP(LEFT(L122,SEARCH(CHAR(10),L122,1)-1),Tirage!$B:$D,3,FALSE),\"\"),\"\")","v":""},{"$f":"IF(ISERROR(VLOOKUP(L119,Tirage!$A:$G,1,FALSE)),\"\",VLOOKUP(L119,Tirage!$A:$K,7,FALSE)& CHAR(10) & VLOOKUP(L119,Tirage!$A:$K,8,FALSE))","v":""}]
[null,null,{"$f":"IF(ISERROR(VLOOKUP(C119,Tirage!$A:$G,1,FALSE)),\"\",VLOOKUP(C119,Tirage!$A:$K,10,FALSE)& CHAR(10) & VLOOKUP(C119,Tirage!$A:$K,11,FALSE))","v":""},null,null,{"$f":"IF(ISERROR(VLOOKUP(F119,Tirage!$A:$G,1,FALSE)),\"\",VLOOKUP(F119,Tirage!$A:$K,10,FALSE)& CHAR(10) & VLOOKUP(F119,Tirage!$A:$K,11,FALSE))","v":""},null,null,{"$f":"IF(ISERROR(VLOOKUP(I119,Tirage!$A:$G,1,FALSE)),\"\",VLOOKUP(I119,Tirage!$A:$K,10,FALSE)& CHAR(10) & VLOOKUP(I119,Tirage!$A:$K,11,FALSE))","v":""},null,null,{"$f":"IF(ISERROR(VLOOKUP(L119,Tirage!$A:$G,1,FALSE)),\"\",VLOOKUP(L119,Tirage!$A:$K,10,FALSE)& CHAR(10) & VLOOKUP(L119,Tirage!$A:$K,11,FALSE))","v":""}]
["2ème phase",{"$f":"IF(C119<>\"\",IF(B122<>\"\",IF(B122+1>Tirage!$G$1,B122-Tirage!$G$1+1,B122+1),IF(B120+2>Tirage!$G$1,B120+1-Tirage!$G$1+1,B120+2)),\"\")","v":""},{"$f":"IF(AND(D120<>\"\",D121<>\"\"),IF(D120>D121,C120,C121),\"\")","v":""},null,{"$f":"IF(F119<>\"\",IF(E122<>\"\",IF(E122+1>Tirage!$G$1,E122-Tirage!$G$1+1,E122+1),IF(E120+2>Tirage!$G$1,E120+1-Tirage!$G$1+1,E120+2)),\"\")","v":""},{"$f":"IF(AND(G120<>\"\",G121<>\"\"),IF(G120>G121,F120,F121),\"\")","v":""},null,{"$f":"IF(I119<>\"\",IF(H122<>\"\",IF(H122+1>Tirage!$G$1,H122-Tirage!$G$1+1,H122+1),IF(H120+2>Tirage!$G$1,H120+1-Tirage!$G$1+1,H120+2)),\"\")","v":""},{"$f":"IF(AND(J120<>\"\",J121<>\"\"),IF(J120>J121,I120,I121),\"\")","v":""},null,{"$f":"IF(L119<>\"\",IF(K122<>\"\",IF(K122+1>Tirage!$G$1,K122-Tirage!$G$1+1,K122+1),IF(K120+2>Tirage!$G$1,K120+1-Tirage!$G$1+1,K120+2)),\"\")","v":""},{"$f":"IF(AND(M120<>\"\",M121<>\"\"),IF(M120>M121,L120,L121),\"\")","v":""}]
[null,null,{"$f":"IF(AND(D122<>\"\",D123<>\"\"),IF(D122>D123,C122,C123),IF(AND(D120<>\"\",C123=\"office\"&CHAR(10)),C122,\"\"))","v":""},null,null,{"$f":"IF(AND(G122<>\"\",G123<>\"\"),IF(G122>G123,F122,F123),IF(AND(G120<>\"\",F123=\"office\"&CHAR(10)),F122,\"\"))","v":""},null,null,{"$f":"IF(AND(J122<>\"\",J123<>\"\"),IF(J122>J123,I122,I123),IF(AND(J120<>\"\",I123=\"office\"&CHAR(10)),I122,\"\"))","v":""},null,null,{"$f":"IF(AND(M122<>\"\",M123<>\"\"),IF(M122>M123,L122,L123),IF(AND(M120<>\"\",L123=\"office\"&CHAR(10)),L122,\"\"))","v":""}]
[null,{"$f":"IF(C119<>\"\",IF(C123<>\"office\"& CHAR(10),IF(B124<>\"\",IF(B124+1>Tirage!$G$1,B124-Tirage!$G$1+1,B124+1),\"\"),\"\"),\"\")","v":""},{"$f":"IF(AND(D120<>\"\",D121<>\"\"),IF(D120<D121,C120,C121),\"\")","v":""},null,{"$f":"IF(F119<>\"\",IF(F123<>\"office\"& CHAR(10),IF(E124<>\"\",IF(E124+1>Tirage!$G$1,E124-Tirage!$G$1+1,E124+1),\"\"),\"\"),\"\")","v":""},{"$f":"IF(AND(G120<>\"\",G121<>\"\"),IF(G120<G121,F120,F121),\"\")","v":""},null,{"$f":"IF(I119<>\"\",IF(I123<>\"office\"& CHAR(10),IF(H124<>\"\",IF(H124+1>Tirage!$G$1,H124-Tirage!$G$1+1,H124+1),\"\"),\"\"),\"\")","v":""},{"$f":"IF(AND(J120<>\"\",J121<>\"\"),IF(J120<J121,I120,I121),\"\")","v":""},null,{"$f":"IF(L119<>\"\",IF(L123<>\"office\"& CHAR(10),IF(K124<>\"\",IF(K124+1>Tirage!$G$1,K124-Tirage!$G$1+1,K124+1),\"\"),\"\"),\"\")","v":""},{"$f":"IF(AND(M120<>\"\",M121<>\"\"),IF(M120<M121,L120,L121),\"\")","v":""}]
[null,null,{"$f":"IF(AND(D122<>\"\",D123<>\"\"),IF(D122<D123,C122,C123),IF(AND(D120<>\"\",C123=\"office\"&CHAR(10)),\"office\"&CHAR(10),\"\"))","v":""},null,null,{"$f":"IF(AND(G122<>\"\",G123<>\"\"),IF(G122<G123,F122,F123),IF(AND(G120<>\"\",F123=\"office\"&CHAR(10)),\"office\"&CHAR(10),\"\"))","v":""},null,null,{"$f":"IF(AND(J122<>\"\",J123<>\"\"),IF(J122<J123,I122,I123),IF(AND(J120<>\"\",I123=\"office\"&CHAR(10)),\"office\"&CHAR(10),\"\"))","v":""},null,null,{"$f":"IF(AND(M122<>\"\",M123<>\"\"),IF(M122<M123,L122,L123),IF(AND(M120<>\"\",L123=\"office\"&CHAR(10)),\"office\"&CHAR(10),\"\"))","v":""}]
["Barrage",{"$f":"IF(C119<>\"\",IF(B126<>\"\",IF(B126+1>Tirage!$G$1,B126-Tirage!$G$1+1,B126+1),IF(B124+2>Tirage!$G$1,B124+2-Tirage!$G$1,B124+2)),\"\")","v":""},{"$f":"IF(AND(D124<>\"\",D125<>\"\"),IF(D124>D125,C125,C124),\"\")","v":""},null,{"$f":"IF(F119<>\"\",IF(E126<>\"\",IF(E126+1>Tirage!$G$1,E126-Tirage!$G$1+1,E126+1),IF(E124+2>Tirage!$G$1,E124+2-Tirage!$G$1,E124+2)),\"\")","v":""},{"$f":"IF(AND(G124<>\"\",G125<>\"\"),IF(G124>G125,F125,F124),\"\")","v":""},null,{"$f":"IF(I119<>\"\",IF(H126<>\"\",IF(H126+1>Tirage!$G$1,H126-Tirage!$G$1+1,H126+1),IF(H124+2>Tirage!$G$1,H124+2-Tirage!$G$1,H124+2)),\"\")","v":""},{"$f":"IF(AND(J124<>\"\",J125<>\"\"),IF(J124>J125,I125,I124),\"\")","v":""},null,{"$f":"IF(L119<>\"\",IF(K126<>\"\",IF(K126+1>Tirage!$G$1,K126-Tirage!$G$1+1,K126+1),IF(K124+2>Tirage!$G$1,K124+2-Tirage!$G$1,K124+2)),\"\")","v":""},{"$f":"IF(AND(M124<>\"\",M125<>\"\"),IF(M124>M125,L125,L124),\"\")","v":""}]
[null,null,{"$f":"IF(C127<>\"office\"&CHAR(10),IF(AND(D126<>\"\",D127<>\"\"),IF(D126>D127,C126,C127),\"\"),IF(D124<>\"\",C126,\"\"))","v":""},null,null,{"$f":"IF(F127<>\"office\"&CHAR(10),IF(AND(G126<>\"\",G127<>\"\"),IF(G126>G127,F126,F127),\"\"),IF(G124<>\"\",F126,\"\"))","v":""},null,null,{"$f":"IF(I127<>\"office\"&CHAR(10),IF(AND(J126<>\"\",J127<>\"\"),IF(J126>J127,I126,I127),\"\"),IF(J124<>\"\",I126,\"\"))","v":""},null,null,{"$f":"IF(L127<>\"office\"&CHAR(10),IF(AND(M126<>\"\",M127<>\"\"),IF(M126>M127,L126,L127),\"\"),IF(M124<>\"\",L126,\"\"))","v":""}]
["1er de poule",null,{"$f":"IF(AND(D124<>\"\",D125<>\"\"),IF(D124>D125,C124,C125),\"\")","v":""},null,null,{"$f":"IF(AND(G124<>\"\",G125<>\"\"),IF(G124>G125,F124,F125),\"\")","v":""},null,null,{"$f":"IF(AND(J124<>\"\",J125<>\"\"),IF(J124>J125,I124,I125),\"\")","v":""},null,null,{"$f":"IF(AND(M124<>\"\",M125<>\"\"),IF(M124>M125,L124,L125),\"\")","v":""}]
["2e de poule",null,{"$f":"IF(AND(D128<>\"\",D129<>\"\"),IF(D128>D129,C128,C129),\"\")","v":""},null,null,{"$f":"IF(AND(G128<>\"\",G129<>\"\"),IF(G128>G129,F128,F129),\"\")","v":""},null,null,{"$f":"IF(AND(J128<>\"\",J129<>\"\"),IF(J128>J129,I128,I129),\"\")","v":""},null,null,{"$f":"IF(AND(M128<>\"\",M129<>\"\"),IF(M128>M129,L128,L129),\"\")","v":""}]
[null,"Jeu",{"$f":"IF('Liste inscrits'!$AF$7>=(ROW()-2)/13*4+COLUMN()/3,\"POULE \"&IF(64+(((ROW()+11)/13)*4)-3>116,\"B\"&CHAR(12+(((ROW()+11)/13)*4)-3),IF(64+(((ROW()+11)/13)*4)-3>90,\"A\"&CHAR(38+(((ROW()+11)/13)*4)-3),CHAR(64+(((ROW()+11)/13)*4)-3)&\" \")),\"\")","v":""},null,"Jeu",{"$f":"IF('Liste inscrits'!$AF$7>=(ROW()-2)/13*4+COLUMN()/3,\"POULE \"&IF(64+(((ROW()+11)/13)*4)-2>116,\"B\"&CHAR(12+(((ROW()+11)/13)*4)-2),IF(64+(((ROW()+11)/13)*4)-2>90,\"A\"&CHAR(38+(((ROW()+11)/13)*4)-2),CHAR(64+(((ROW()+11)/13)*4)-2)&\" \")),\"\")","v":""},null,"Jeu",{"$f":"IF('Liste inscrits'!$AF$7>=(ROW()-2)/13*4+COLUMN()/3,\"POULE \"&IF(64+(((ROW()+11)/13)*4)-1>116,\"B\"&CHAR(12+(((ROW()+11)/13)*4)-1),IF(64+(((ROW()+11)/13)*4)-1>90,\"A\"&CHAR(38+(((ROW()+11)/13)*4)-1),CHAR(64+(((ROW()+11)/13)*4)-1)&\" \")),\"\")","v":""},null,"Jeu",{"$f":"IF('Liste inscrits'!$AF$7>=(ROW()-2)/13*4+COLUMN()/3,\"POULE \"&IF(64+(((ROW()+11)/13)*4)>116,\"B\"&CHAR(12+(((ROW()+11)/13)*4)),IF(64+(((ROW()+11)/13)*4)>90,\"A\"&CHAR(38+(((ROW()+11)/13)*4)),CHAR(64+(((ROW()+11)/13)*4))&\" \")),\"\")","v":""}]
["1ère phase",{"$f":"IF(C132<>\"\",IF(C133<>\"\",VLOOKUP(LEFT(C133,SEARCH(CHAR(10),C133,1)-1),Tirage!$B:$D,3,FALSE),\"\"),\"\")","v":""},{"$f":"IF(ISERROR(VLOOKUP(C132,Tirage!$A:$G,1,FALSE)),\"\",VLOOKUP(C132,Tirage!$A:$K,2,FALSE)& CHAR(10) & VLOOKUP(C132,Tirage!$A:$K,3,FALSE))","v":""},null,{"$f":"IF(F132<>\"\",IF(F133<>\"\",VLOOKUP(LEFT(F133,SEARCH(CHAR(10),F133,1)-1),Tirage!$B:$D,3,FALSE),\"\"),\"\")","v":""},{"$f":"IF(ISERROR(VLOOKUP(F132,Tirage!$A:$G,1,FALSE)),\"\",VLOOKUP(F132,Tirage!$A:$K,2,FALSE)& CHAR(10) & VLOOKUP(F132,Tirage!$A:$K,3,FALSE))","v":""},null,{"$f":"IF(I132<>\"\",IF(I133<>\"\",VLOOKUP(LEFT(I133,SEARCH(CHAR(10),I133,1)-1),Tirage!$B:$D,3,FALSE),\"\"),\"\")","v":""},{"$f":"IF(ISERROR(VLOOKUP(I132,Tirage!$A:$G,1,FALSE)),\"\",VLOOKUP(I132,Tirage!$A:$K,2,FALSE)& CHAR(10) & VLOOKUP(I132,Tirage!$A:$K,3,FALSE))","v":""},null,{"$f":"IF(L132<>\"\",IF(L133<>\"\",VLOOKUP(LEFT(L133,SEARCH(CHAR(10),L133,1)-1),Tirage!$B:$D,3,FALSE),\"\"),\"\")","v":""},{"$f":"IF(ISERROR(VLOOKUP(L132,Tirage!$A:$G,1,FALSE)),\"\",VLOOKUP(L132,Tirage!$A:$K,2,FALSE)& CHAR(10) & VLOOKUP(L132,Tirage!$A:$K,3,FALSE))","v":""}]
[null,null,{"$f":"IF(ISERROR(VLOOKUP(C132,Tirage!$A:$G,1,FALSE)),\"\",VLOOKUP(C132,Tirage!$A:$K,5,FALSE)& CHAR(10) & VLOOKUP(C132,Tirage!$A:$K,6,FALSE))","v":""},null,null,{"$f":"IF(ISERROR(VLOOKUP(F132,Tirage!$A:$G,1,FALSE)),\"\",VLOOKUP(F132,Tirage!$A:$K,5,FALSE)& CHAR(10) & VLOOKUP(F132,Tirage!$A:$K,6,FALSE))","v":""},null,null,{"$f":"IF(ISERROR(VLOOKUP(I132,Tirage!$A:$G,1,FALSE)),\"\",VLOOKUP(I132,Tirage!$A:$K,5,FALSE)& CHAR(10) & VLOOKUP(I132,Tirage!$A:$K,6,FALSE))","v":""},null,null,{"$f":"IF(ISERROR(VLOOKUP(L132,Tirage!$A:$G,1,FALSE)),\"\",VLOOKUP(L132,Tirage!$A:$K,5,FALSE)& CHAR(10) & VLOOKUP(L132,Tirage!$A:$K,6,FALSE))","v":""}]
[null,{"$f":"IF(C132<>\"\",IF(C135<>\"\",VLOOKUP(LEFT(C135,SEARCH(CHAR(10),C135,1)-1),Tirage!$B:$D,3,FALSE),\"\"),\"\")","v":""},{"$f":"IF(ISERROR(VLOOKUP(C132,Tirage!$A:$G,1,FALSE)),\"\",VLOOKUP(C132,Tirage!$A:$K,7,FALSE)& CHAR(10) & VLOOKUP(C132,Tirage!$A:$K,8,FALSE))","v":""},null,{"$f":"IF(C132<>\"\",IF(F135<>\"\",VLOOKUP(LEFT(F135,SEARCH(CHAR(10),F135,1)-1),Tirage!$B:$D,3,FALSE),\"\"),\"\")","v":""},{"$f":"IF(ISERROR(VLOOKUP(F132,Tirage!$A:$G,1,FALSE)),\"\",VLOOKUP(F132,Tirage!$A:$K,7,FALSE)& CHAR(10) & VLOOKUP(F132,Tirage!$A:$K,8,FALSE))","v":""},null,{"$f":"IF(F132<>\"\",IF(I135<>\"\",VLOOKUP(LEFT(I135,SEARCH(CHAR(10),I135,1)-1),Tirage!$B:$D,3,FALSE),\"\"),\"\")","v":""},{"$f":"IF(ISERROR(VLOOKUP(I132,Tirage!$A:$G,1,FALSE)),\"\",VLOOKUP(I132,Tirage!$A:$K,7,FALSE)& CHAR(10) & VLOOKUP(I132,Tirage!$A:$K,8,FALSE))","v":""},null,{"$f":"IF(I132<>\"\",IF(L135<>\"\",VLOOKUP(LEFT(L135,SEARCH(CHAR(10),L135,1)-1),Tirage!$B:$D,3,FALSE),\"\"),\"\")","v":""},{"$f":"IF(ISERROR(VLOOKUP(L132,Tirage!$A:$G,1,FALSE)),\"\",VLOOKUP(L132,Tirage!$A:$K,7,FALSE)& CHAR(10) & VLOOKUP(L132,Tirage!$A:$K,8,FALSE))","v":""}]
[null,null,{"$f":"IF(ISERROR(VLOOKUP(C132,Tirage!$A:$G,1,FALSE)),\"\",VLOOKUP(C132,Tirage!$A:$K,10,FALSE)& CHAR(10) & VLOOKUP(C132,Tirage!$A:$K,11,FALSE))","v":""},null,null,{"$f":"IF(ISERROR(VLOOKUP(F132,Tirage!$A:$G,1,FALSE)),\"\",VLOOKUP(F132,Tirage!$A:$K,10,FALSE)& CHAR(10) & VLOOKUP(F132,Tirage!$A:$K,11,FALSE))","v":""},null,null,{"$f":"IF(ISERROR(VLOOKUP(I132,Tirage!$A:$G,1,FALSE)),\"\",VLOOKUP(I132,Tirage!$A:$K,10,FALSE)& CHAR(10) & VLOOKUP(I132,Tirage!$A:$K,11,FALSE))","v":""},null,null,{"$f":"IF(ISERROR(VLOOKUP(L132,Tirage!$A:$G,1,FALSE)),\"\",VLOOKUP(L132,Tirage!$A:$K,10,FALSE)& CHAR(10) & VLOOKUP(L132,Tirage!$A:$K,11,FALSE))","v":""}]
["2ème phase",{"$f":"IF(C132<>\"\",IF(B135<>\"\",IF(B135+1>Tirage!$G$1,B135-Tirage!$G$1+1,B135+1),IF(B133+2>Tirage!$G$1,B133+1-Tirage!$G$1+1,B133+2)),\"\")","v":""},{"$f":"IF(AND(D133<>\"\",D134<>\"\"),IF(D133>D134,C133,C134),\"\")","v":""},null,{"$f":"IF(F132<>\"\",IF(E135<>\"\",IF(E135+1>Tirage!$G$1,E135-Tirage!$G$1+1,E135+1),IF(E133+2>Tirage!$G$1,E133+1-Tirage!$G$1+1,E133+2)),\"\")","v":""},{"$f":"IF(AND(G133<>\"\",G134<>\"\"),IF(G133>G134,F133,F134),\"\")","v":""},null,{"$f":"IF(I132<>\"\",IF(H135<>\"\",IF(H135+1>Tirage!$G$1,H135-Tirage!$G$1+1,H135+1),IF(H133+2>Tirage!$G$1,H133+1-Tirage!$G$1+1,H133+2)),\"\")","v":""},{"$f":"IF(AND(J133<>\"\",J134<>\"\"),IF(J133>J134,I133,I134),\"\")","v":""},null,{"$f":"IF(L132<>\"\",IF(K135<>\"\",IF(K135+1>Tirage!$G$1,K135-Tirage!$G$1+1,K135+1),IF(K133+2>Tirage!$G$1,K133+1-Tirage!$G$1+1,K133+2)),\"\")","v":""},{"$f":"IF(AND(M133<>\"\",M134<>\"\"),IF(M133>M134,L133,L134),\"\")","v":""}]
[null,null,{"$f":"IF(AND(D135<>\"\",D136<>\"\"),IF(D135>D136,C135,C136),IF(AND(D133<>\"\",C136=\"office\"&CHAR(10)),C135,\"\"))","v":""},null,null,{"$f":"IF(AND(G135<>\"\",G136<>\"\"),IF(G135>G136,F135,F136),IF(AND(G133<>\"\",F136=\"office\"&CHAR(10)),F135,\"\"))","v":""},null,null,{"$f":"IF(AND(J135<>\"\",J136<>\"\"),IF(J135>J136,I135,I136),IF(AND(J133<>\"\",I136=\"office\"&CHAR(10)),I135,\"\"))","v":""},null,null,{"$f":"IF(AND(M135<>\"\",M136<>\"\"),IF(M135>M136,L135,L136),IF(AND(M133<>\"\",L136=\"office\"&CHAR(10)),L135,\"\"))","v":""}]
[null,{"$f":"IF(C132<>\"\",IF(C136<>\"office\"& CHAR(10),IF(B137<>\"\",IF(B137+1>Tirage!$G$1,B137-Tirage!$G$1+1,B137+1),\"\"),\"\"),\"\")","v":""},{"$f":"IF(AND(D133<>\"\",D134<>\"\"),IF(D133<D134,C133,C134),\"\")","v":""},null,{"$f":"IF(F132<>\"\",IF(F136<>\"office\"& CHAR(10),IF(E137<>\"\",IF(E137+1>Tirage!$G$1,E137-Tirage!$G$1+1,E137+1),\"\"),\"\"),\"\")","v":""},{"$f":"IF(AND(G133<>\"\",G134<>\"\"),IF(G133<G134,F133,F134),\"\")","v":""},null,{"$f":"IF(I132<>\"\",IF(I136<>\"office\"& CHAR(10),IF(H137<>\"\",IF(H137+1>Tirage!$G$1,H137-Tirage!$G$1+1,H137+1),\"\"),\"\"),\"\")","v":""},{"$f":"IF(AND(J133<>\"\",J134<>\"\"),IF(J133<J134,I133,I134),\"\")","v":""},null,{"$f":"IF(L132<>\"\",IF(L136<>\"office\"& CHAR(10),IF(K137<>\"\",IF(K137+1>Tirage!$G$1,K137-Tirage!$G$1+1,K137+1),\"\"),\"\"),\"\")","v":""},{"$f":"IF(AND(M133<>\"\",M134<>\"\"),IF(M133<M134,L133,L134),\"\")","v":""}]
[null,null,{"$f":"IF(AND(D135<>\"\",D136<>\"\"),IF(D135<D136,C135,C136),IF(AND(D133<>\"\",C136=\"office\"&CHAR(10)),\"office\"&CHAR(10),\"\"))","v":""},null,null,{"$f":"IF(AND(G135<>\"\",G136<>\"\"),IF(G135<G136,F135,F136),IF(AND(G133<>\"\",F136=\"office\"&CHAR(10)),\"office\"&CHAR(10),\"\"))","v":""},null,null,{"$f":"IF(AND(J135<>\"\",J136<>\"\"),IF(J135<J136,I135,I136),IF(AND(J133<>\"\",I136=\"office\"&CHAR(10)),\"office\"&CHAR(10),\"\"))","v":""},null,null,{"$f":"IF(AND(M135<>\"\",M136<>\"\"),IF(M135<M136,L135,L136),IF(AND(M133<>\"\",L136=\"office\"&CHAR(10)),\"office\"&CHAR(10),\"\"))","v":""}]
["Barrage",{"$f":"IF(C132<>\"\",IF(B139<>\"\",IF(B139+1>Tirage!$G$1,B139-Tirage!$G$1+1,B139+1),IF(B137+2>Tirage!$G$1,B137+2-Tirage!$G$1,B137+2)),\"\")","v":""},{"$f":"IF(AND(D137<>\"\",D138<>\"\"),IF(D137>D138,C138,C137),\"\")","v":""},null,{"$f":"IF(F132<>\"\",IF(E139<>\"\",IF(E139+1>Tirage!$G$1,E139-Tirage!$G$1+1,E139+1),IF(E137+2>Tirage!$G$1,E137+2-Tirage!$G$1,E137+2)),\"\")","v":""},{"$f":"IF(AND(G137<>\"\",G138<>\"\"),IF(G137>G138,F138,F137),\"\")","v":""},null,{"$f":"IF(I132<>\"\",IF(H139<>\"\",IF(H139+1>Tirage!$G$1,H139-Tirage!$G$1+1,H139+1),IF(H137+2>Tirage!$G$1,H137+2-Tirage!$G$1,H137+2)),\"\")","v":""},{"$f":"IF(AND(J137<>\"\",J138<>\"\"),IF(J137>J138,I138,I137),\"\")","v":""},null,{"$f":"IF(L132<>\"\",IF(K139<>\"\",IF(K139+1>Tirage!$G$1,K139-Tirage!$G$1+1,K139+1),IF(K137+2>Tirage!$G$1,K137+2-Tirage!$G$1,K137+2)),\"\")","v":""},{"$f":"IF(AND(M137<>\"\",M138<>\"\"),IF(M137>M138,L138,L137),\"\")","v":""}]
[null,null,{"$f":"IF(C140<>\"office\"&CHAR(10),IF(AND(D139<>\"\",D140<>\"\"),IF(D139>D140,C139,C140),\"\"),IF(D137<>\"\",C139,\"\"))","v":""},null,null,{"$f":"IF(F140<>\"office\"&CHAR(10),IF(AND(G139<>\"\",G140<>\"\"),IF(G139>G140,F139,F140),\"\"),IF(G137<>\"\",F139,\"\"))","v":""},null,null,{"$f":"IF(I140<>\"office\"&CHAR(10),IF(AND(J139<>\"\",J140<>\"\"),IF(J139>J140,I139,I140),\"\"),IF(J137<>\"\",I139,\"\"))","v":""},null,null,{"$f":"IF(L140<>\"office\"&CHAR(10),IF(AND(M139<>\"\",M140<>\"\"),IF(M139>M140,L139,L140),\"\"),IF(M137<>\"\",L139,\"\"))","v":""}]
["1er de poule",null,{"$f":"IF(AND(D137<>\"\",D138<>\"\"),IF(D137>D138,C137,C138),\"\")","v":""},null,null,{"$f":"IF(AND(G137<>\"\",G138<>\"\"),IF(G137>G138,F137,F138),\"\")","v":""},null,null,{"$f":"IF(AND(J137<>\"\",J138<>\"\"),IF(J137>J138,I137,I138),\"\")","v":""},null,null,{"$f":"IF(AND(M137<>\"\",M138<>\"\"),IF(M137>M138,L137,L138),\"\")","v":""}]
["2e de poule",null,{"$f":"IF(AND(D141<>\"\",D142<>\"\"),IF(D141>D142,C141,C142),\"\")","v":""},null,null,{"$f":"IF(AND(G141<>\"\",G142<>\"\"),IF(G141>G142,F141,F142),\"\")","v":""},null,null,{"$f":"IF(AND(J141<>\"\",J142<>\"\"),IF(J141>J142,I141,I142),\"\")","v":""},null,null,{"$f":"IF(AND(M141<>\"\",M142<>\"\"),IF(M141>M142,L141,L142),\"\")","v":""}]
[null,"Jeu",{"$f":"IF('Liste inscrits'!$AF$7>=(ROW()-2)/13*4+COLUMN()/3,\"POULE \"&IF(64+(((ROW()+11)/13)*4)-3>116,\"B\"&CHAR(12+(((ROW()+11)/13)*4)-3),IF(64+(((ROW()+11)/13)*4)-3>90,\"A\"&CHAR(38+(((ROW()+11)/13)*4)-3),CHAR(64+(((ROW()+11)/13)*4)-3)&\" \")),\"\")","v":""},null,"Jeu",{"$f":"IF('Liste inscrits'!$AF$7>=(ROW()-2)/13*4+COLUMN()/3,\"POULE \"&IF(64+(((ROW()+11)/13)*4)-2>116,\"B\"&CHAR(12+(((ROW()+11)/13)*4)-2),IF(64+(((ROW()+11)/13)*4)-2>90,\"A\"&CHAR(38+(((ROW()+11)/13)*4)-2),CHAR(64+(((ROW()+11)/13)*4)-2)&\" \")),\"\")","v":""},null,"Jeu",{"$f":"IF('Liste inscrits'!$AF$7>=(ROW()-2)/13*4+COLUMN()/3,\"POULE \"&IF(64+(((ROW()+11)/13)*4)-1>116,\"B\"&CHAR(12+(((ROW()+11)/13)*4)-1),IF(64+(((ROW()+11)/13)*4)-1>90,\"A\"&CHAR(38+(((ROW()+11)/13)*4)-1),CHAR(64+(((ROW()+11)/13)*4)-1)&\" \")),\"\")","v":""},null,"Jeu",{"$f":"IF('Liste inscrits'!$AF$7>=(ROW()-2)/13*4+COLUMN()/3,\"POULE \"&IF(64+(((ROW()+11)/13)*4)>116,\"B\"&CHAR(12+(((ROW()+11)/13)*4)),IF(64+(((ROW()+11)/13)*4)>90,\"A\"&CHAR(38+(((ROW()+11)/13)*4)),CHAR(64+(((ROW()+11)/13)*4))&\" \")),\"\")","v":""}]
["1ère phase",{"$f":"IF(C145<>\"\",IF(C146<>\"\",VLOOKUP(LEFT(C146,SEARCH(CHAR(10),C146,1)-1),Tirage!$B:$D,3,FALSE),\"\"),\"\")","v":""},{"$f":"IF(ISERROR(VLOOKUP(C145,Tirage!$A:$G,1,FALSE)),\"\",VLOOKUP(C145,Tirage!$A:$K,2,FALSE)& CHAR(10) & VLOOKUP(C145,Tirage!$A:$K,3,FALSE))","v":""},null,{"$f":"IF(F145<>\"\",IF(F146<>\"\",VLOOKUP(LEFT(F146,SEARCH(CHAR(10),F146,1)-1),Tirage!$B:$D,3,FALSE),\"\"),\"\")","v":""},{"$f":"IF(ISERROR(VLOOKUP(F145,Tirage!$A:$G,1,FALSE)),\"\",VLOOKUP(F145,Tirage!$A:$K,2,FALSE)& CHAR(10) & VLOOKUP(F145,Tirage!$A:$K,3,FALSE))","v":""},null,{"$f":"IF(I145<>\"\",IF(I146<>\"\",VLOOKUP(LEFT(I146,SEARCH(CHAR(10),I146,1)-1),Tirage!$B:$D,3,FALSE),\"\"),\"\")","v":""},{"$f":"IF(ISERROR(VLOOKUP(I145,Tirage!$A:$G,1,FALSE)),\"\",VLOOKUP(I145,Tirage!$A:$K,2,FALSE)& CHAR(10) & VLOOKUP(I145,Tirage!$A:$K,3,FALSE))","v":""},null,{"$f":"IF(L145<>\"\",IF(L146<>\"\",VLOOKUP(LEFT(L146,SEARCH(CHAR(10),L146,1)-1),Tirage!$B:$D,3,FALSE),\"\"),\"\")","v":""},{"$f":"IF(ISERROR(VLOOKUP(L145,Tirage!$A:$G,1,FALSE)),\"\",VLOOKUP(L145,Tirage!$A:$K,2,FALSE)& CHAR(10) & VLOOKUP(L145,Tirage!$A:$K,3,FALSE))","v":""}]
[null,null,{"$f":"IF(ISERROR(VLOOKUP(C145,Tirage!$A:$G,1,FALSE)),\"\",VLOOKUP(C145,Tirage!$A:$K,5,FALSE)& CHAR(10) & VLOOKUP(C145,Tirage!$A:$K,6,FALSE))","v":""},null,null,{"$f":"IF(ISERROR(VLOOKUP(F145,Tirage!$A:$G,1,FALSE)),\"\",VLOOKUP(F145,Tirage!$A:$K,5,FALSE)& CHAR(10) & VLOOKUP(F145,Tirage!$A:$K,6,FALSE))","v":""},null,null,{"$f":"IF(ISERROR(VLOOKUP(I145,Tirage!$A:$G,1,FALSE)),\"\",VLOOKUP(I145,Tirage!$A:$K,5,FALSE)& CHAR(10) & VLOOKUP(I145,Tirage!$A:$K,6,FALSE))","v":""},null,null,{"$f":"IF(ISERROR(VLOOKUP(L145,Tirage!$A:$G,1,FALSE)),\"\",VLOOKUP(L145,Tirage!$A:$K,5,FALSE)& CHAR(10) & VLOOKUP(L145,Tirage!$A:$K,6,FALSE))","v":""}]
[null,{"$f":"IF(C145<>\"\",IF(C148<>\"\",VLOOKUP(LEFT(C148,SEARCH(CHAR(10),C148,1)-1),Tirage!$B:$D,3,FALSE),\"\"),\"\")","v":""},{"$f":"IF(ISERROR(VLOOKUP(C145,Tirage!$A:$G,1,FALSE)),\"\",VLOOKUP(C145,Tirage!$A:$K,7,FALSE)& CHAR(10) & VLOOKUP(C145,Tirage!$A:$K,8,FALSE))","v":""},null,{"$f":"IF(C145<>\"\",IF(F148<>\"\",VLOOKUP(LEFT(F148,SEARCH(CHAR(10),F148,1)-1),Tirage!$B:$D,3,FALSE),\"\"),\"\")","v":""},{"$f":"IF(ISERROR(VLOOKUP(F145,Tirage!$A:$G,1,FALSE)),\"\",VLOOKUP(F145,Tirage!$A:$K,7,FALSE)& CHAR(10) & VLOOKUP(F145,Tirage!$A:$K,8,FALSE))","v":""},null,{"$f":"IF(F145<>\"\",IF(I148<>\"\",VLOOKUP(LEFT(I148,SEARCH(CHAR(10),I148,1)-1),Tirage!$B:$D,3,FALSE),\"\"),\"\")","v":""},{"$f":"IF(ISERROR(VLOOKUP(I145,Tirage!$A:$G,1,FALSE)),\"\",VLOOKUP(I145,Tirage!$A:$K,7,FALSE)& CHAR(10) & VLOOKUP(I145,Tirage!$A:$K,8,FALSE))","v":""},null,{"$f":"IF(I145<>\"\",IF(L148<>\"\",VLOOKUP(LEFT(L148,SEARCH(CHAR(10),L148,1)-1),Tirage!$B:$D,3,FALSE),\"\"),\"\")","v":""},{"$f":"IF(ISERROR(VLOOKUP(L145,Tirage!$A:$G,1,FALSE)),\"\",VLOOKUP(L145,Tirage!$A:$K,7,FALSE)& CHAR(10) & VLOOKUP(L145,Tirage!$A:$K,8,FALSE))","v":""}]
[null,null,{"$f":"IF(ISERROR(VLOOKUP(C145,Tirage!$A:$G,1,FALSE)),\"\",VLOOKUP(C145,Tirage!$A:$K,10,FALSE)& CHAR(10) & VLOOKUP(C145,Tirage!$A:$K,11,FALSE))","v":""},null,null,{"$f":"IF(ISERROR(VLOOKUP(F145,Tirage!$A:$G,1,FALSE)),\"\",VLOOKUP(F145,Tirage!$A:$K,10,FALSE)& CHAR(10) & VLOOKUP(F145,Tirage!$A:$K,11,FALSE))","v":""},null,null,{"$f":"IF(ISERROR(VLOOKUP(I145,Tirage!$A:$G,1,FALSE)),\"\",VLOOKUP(I145,Tirage!$A:$K,10,FALSE)& CHAR(10) & VLOOKUP(I145,Tirage!$A:$K,11,FALSE))","v":""},null,null,{"$f":"IF(ISERROR(VLOOKUP(L145,Tirage!$A:$G,1,FALSE)),\"\",VLOOKUP(L145,Tirage!$A:$K,10,FALSE)& CHAR(10) & VLOOKUP(L145,Tirage!$A:$K,11,FALSE))","v":""}]
["2ème phase",{"$f":"IF(C145<>\"\",IF(B148<>\"\",IF(B148+1>Tirage!$G$1,B148-Tirage!$G$1+1,B148+1),IF(B146+2>Tirage!$G$1,B146+1-Tirage!$G$1+1,B146+2)),\"\")","v":""},{"$f":"IF(AND(D146<>\"\",D147<>\"\"),IF(D146>D147,C146,C147),\"\")","v":""},null,{"$f":"IF(F145<>\"\",IF(E148<>\"\",IF(E148+1>Tirage!$G$1,E148-Tirage!$G$1+1,E148+1),IF(E146+2>Tirage!$G$1,E146+1-Tirage!$G$1+1,E146+2)),\"\")","v":""},{"$f":"IF(AND(G146<>\"\",G147<>\"\"),IF(G146>G147,F146,F147),\"\")","v":""},null,{"$f":"IF(I145<>\"\",IF(H148<>\"\",IF(H148+1>Tirage!$G$1,H148-Tirage!$G$1+1,H148+1),IF(H146+2>Tirage!$G$1,H146+1-Tirage!$G$1+1,H146+2)),\"\")","v":""},{"$f":"IF(AND(J146<>\"\",J147<>\"\"),IF(J146>J147,I146,I147),\"\")","v":""},null,{"$f":"IF(L145<>\"\",IF(K148<>\"\",IF(K148+1>Tirage!$G$1,K148-Tirage!$G$1+1,K148+1),IF(K146+2>Tirage!$G$1,K146+1-Tirage!$G$1+1,K146+2)),\"\")","v":""},{"$f":"IF(AND(M146<>\"\",M147<>\"\"),IF(M146>M147,L146,L147),\"\")","v":""}]
[null,null,{"$f":"IF(AND(D148<>\"\",D149<>\"\"),IF(D148>D149,C148,C149),IF(AND(D146<>\"\",C149=\"office\"&CHAR(10)),C148,\"\"))","v":""},null,null,{"$f":"IF(AND(G148<>\"\",G149<>\"\"),IF(G148>G149,F148,F149),IF(AND(G146<>\"\",F149=\"office\"&CHAR(10)),F148,\"\"))","v":""},null,null,{"$f":"IF(AND(J148<>\"\",J149<>\"\"),IF(J148>J149,I148,I149),IF(AND(J146<>\"\",I149=\"office\"&CHAR(10)),I148,\"\"))","v":""},null,null,{"$f":"IF(AND(M148<>\"\",M149<>\"\"),IF(M148>M149,L148,L149),IF(AND(M146<>\"\",L149=\"office\"&CHAR(10)),L148,\"\"))","v":""}]
[null,{"$f":"IF(C145<>\"\",IF(C149<>\"office\"& CHAR(10),IF(B150<>\"\",IF(B150+1>Tirage!$G$1,B150-Tirage!$G$1+1,B150+1),\"\"),\"\"),\"\")","v":""},{"$f":"IF(AND(D146<>\"\",D147<>\"\"),IF(D146<D147,C146,C147),\"\")","v":""},null,{"$f":"IF(F145<>\"\",IF(F149<>\"office\"& CHAR(10),IF(E150<>\"\",IF(E150+1>Tirage!$G$1,E150-Tirage!$G$1+1,E150+1),\"\"),\"\"),\"\")","v":""},{"$f":"IF(AND(G146<>\"\",G147<>\"\"),IF(G146<G147,F146,F147),\"\")","v":""},null,{"$f":"IF(I145<>\"\",IF(I149<>\"office\"& CHAR(10),IF(H150<>\"\",IF(H150+1>Tirage!$G$1,H150-Tirage!$G$1+1,H150+1),\"\"),\"\"),\"\")","v":""},{"$f":"IF(AND(J146<>\"\",J147<>\"\"),IF(J146<J147,I146,I147),\"\")","v":""},null,{"$f":"IF(L145<>\"\",IF(L149<>\"office\"& CHAR(10),IF(K150<>\"\",IF(K150+1>Tirage!$G$1,K150-Tirage!$G$1+1,K150+1),\"\"),\"\"),\"\")","v":""},{"$f":"IF(AND(M146<>\"\",M147<>\"\"),IF(M146<M147,L146,L147),\"\")","v":""}]
[null,null,{"$f":"IF(AND(D148<>\"\",D149<>\"\"),IF(D148<D149,C148,C149),IF(AND(D146<>\"\",C149=\"office\"&CHAR(10)),\"office\"&CHAR(10),\"\"))","v":""},null,null,{"$f":"IF(AND(G148<>\"\",G149<>\"\"),IF(G148<G149,F148,F149),IF(AND(G146<>\"\",F149=\"office\"&CHAR(10)),\"office\"&CHAR(10),\"\"))","v":""},null,null,{"$f":"IF(AND(J148<>\"\",J149<>\"\"),IF(J148<J149,I148,I149),IF(AND(J146<>\"\",I149=\"office\"&CHAR(10)),\"office\"&CHAR(10),\"\"))","v":""},null,null,{"$f":"IF(AND(M148<>\"\",M149<>\"\"),IF(M148<M149,L148,L149),IF(AND(M146<>\"\",L149=\"office\"&CHAR(10)),\"office\"&CHAR(10),\"\"))","v":""}]
["Barrage",{"$f":"IF(C145<>\"\",IF(B152<>\"\",IF(B152+1>Tirage!$G$1,B152-Tirage!$G$1+1,B152+1),IF(B150+2>Tirage!$G$1,B150+2-Tirage!$G$1,B150+2)),\"\")","v":""},{"$f":"IF(AND(D150<>\"\",D151<>\"\"),IF(D150>D151,C151,C150),\"\")","v":""},null,{"$f":"IF(F145<>\"\",IF(E152<>\"\",IF(E152+1>Tirage!$G$1,E152-Tirage!$G$1+1,E152+1),IF(E150+2>Tirage!$G$1,E150+2-Tirage!$G$1,E150+2)),\"\")","v":""},{"$f":"IF(AND(G150<>\"\",G151<>\"\"),IF(G150>G151,F151,F150),\"\")","v":""},null,{"$f":"IF(I145<>\"\",IF(H152<>\"\",IF(H152+1>Tirage!$G$1,H152-Tirage!$G$1+1,H152+1),IF(H150+2>Tirage!$G$1,H150+2-Tirage!$G$1,H150+2)),\"\")","v":""},{"$f":"IF(AND(J150<>\"\",J151<>\"\"),IF(J150>J151,I151,I150),\"\")","v":""},null,{"$f":"IF(L145<>\"\",IF(K152<>\"\",IF(K152+1>Tirage!$G$1,K152-Tirage!$G$1+1,K152+1),IF(K150+2>Tirage!$G$1,K150+2-Tirage!$G$1,K150+2)),\"\")","v":""},{"$f":"IF(AND(M150<>\"\",M151<>\"\"),IF(M150>M151,L151,L150),\"\")","v":""}]
[null,null,{"$f":"IF(C153<>\"office\"&CHAR(10),IF(AND(D152<>\"\",D153<>\"\"),IF(D152>D153,C152,C153),\"\"),IF(D150<>\"\",C152,\"\"))","v":""},null,null,{"$f":"IF(F153<>\"office\"&CHAR(10),IF(AND(G152<>\"\",G153<>\"\"),IF(G152>G153,F152,F153),\"\"),IF(G150<>\"\",F152,\"\"))","v":""},null,null,{"$f":"IF(I153<>\"office\"&CHAR(10),IF(AND(J152<>\"\",J153<>\"\"),IF(J152>J153,I152,I153),\"\"),IF(J150<>\"\",I152,\"\"))","v":""},null,null,{"$f":"IF(L153<>\"office\"&CHAR(10),IF(AND(M152<>\"\",M153<>\"\"),IF(M152>M153,L152,L153),\"\"),IF(M150<>\"\",L152,\"\"))","v":""}]
["1er de poule",null,{"$f":"IF(AND(D150<>\"\",D151<>\"\"),IF(D150>D151,C150,C151),\"\")","v":""},null,null,{"$f":"IF(AND(G150<>\"\",G151<>\"\"),IF(G150>G151,F150,F151),\"\")","v":""},null,null,{"$f":"IF(AND(J150<>\"\",J151<>\"\"),IF(J150>J151,I150,I151),\"\")","v":""},null,null,{"$f":"IF(AND(M150<>\"\",M151<>\"\"),IF(M150>M151,L150,L151),\"\")","v":""}]
["2e de poule",null,{"$f":"IF(AND(D154<>\"\",D155<>\"\"),IF(D154>D155,C154,C155),\"\")","v":""},null,null,{"$f":"IF(AND(G154<>\"\",G155<>\"\"),IF(G154>G155,F154,F155),\"\")","v":""},null,null,{"$f":"IF(AND(J154<>\"\",J155<>\"\"),IF(J154>J155,I154,I155),\"\")","v":""},null,null,{"$f":"IF(AND(M154<>\"\",M155<>\"\"),IF(M154>M155,L154,L155),\"\")","v":""}]
[null,"Jeu",{"$f":"IF('Liste inscrits'!$AF$7>=(ROW()-2)/13*4+COLUMN()/3,\"POULE \"&IF(64+(((ROW()+11)/13)*4)-3>116,\"B\"&CHAR(12+(((ROW()+11)/13)*4)-3),IF(64+(((ROW()+11)/13)*4)-3>90,\"A\"&CHAR(38+(((ROW()+11)/13)*4)-3),CHAR(64+(((ROW()+11)/13)*4)-3)&\" \")),\"\")","v":""},null,"Jeu",{"$f":"IF('Liste inscrits'!$AF$7>=(ROW()-2)/13*4+COLUMN()/3,\"POULE \"&IF(64+(((ROW()+11)/13)*4)-2>116,\"B\"&CHAR(12+(((ROW()+11)/13)*4)-2),IF(64+(((ROW()+11)/13)*4)-2>90,\"A\"&CHAR(38+(((ROW()+11)/13)*4)-2),CHAR(64+(((ROW()+11)/13)*4)-2)&\" \")),\"\")","v":""},null,"Jeu",{"$f":"IF('Liste inscrits'!$AF$7>=(ROW()-2)/13*4+COLUMN()/3,\"POULE \"&IF(64+(((ROW()+11)/13)*4)-1>116,\"B\"&CHAR(12+(((ROW()+11)/13)*4)-1),IF(64+(((ROW()+11)/13)*4)-1>90,\"A\"&CHAR(38+(((ROW()+11)/13)*4)-1),CHAR(64+(((ROW()+11)/13)*4)-1)&\" \")),\"\")","v":""},null,"Jeu",{"$f":"IF('Liste inscrits'!$AF$7>=(ROW()-2)/13*4+COLUMN()/3,\"POULE \"&IF(64+(((ROW()+11)/13)*4)>116,\"B\"&CHAR(12+(((ROW()+11)/13)*4)),IF(64+(((ROW()+11)/13)*4)>90,\"A\"&CHAR(38+(((ROW()+11)/13)*4)),CHAR(64+(((ROW()+11)/13)*4))&\" \")),\"\")","v":""}]
["1ère phase",{"$f":"IF(C158<>\"\",IF(C159<>\"\",VLOOKUP(LEFT(C159,SEARCH(CHAR(10),C159,1)-1),Tirage!$B:$D,3,FALSE),\"\"),\"\")","v":""},{"$f":"IF(ISERROR(VLOOKUP(C158,Tirage!$A:$G,1,FALSE)),\"\",VLOOKUP(C158,Tirage!$A:$K,2,FALSE)& CHAR(10) & VLOOKUP(C158,Tirage!$A:$K,3,FALSE))","v":""},null,{"$f":"IF(F158<>\"\",IF(F159<>\"\",VLOOKUP(LEFT(F159,SEARCH(CHAR(10),F159,1)-1),Tirage!$B:$D,3,FALSE),\"\"),\"\")","v":""},{"$f":"IF(ISERROR(VLOOKUP(F158,Tirage!$A:$G,1,FALSE)),\"\",VLOOKUP(F158,Tirage!$A:$K,2,FALSE)& CHAR(10) & VLOOKUP(F158,Tirage!$A:$K,3,FALSE))","v":""},null,{"$f":"IF(I158<>\"\",IF(I159<>\"\",VLOOKUP(LEFT(I159,SEARCH(CHAR(10),I159,1)-1),Tirage!$B:$D,3,FALSE),\"\"),\"\")","v":""},{"$f":"IF(ISERROR(VLOOKUP(I158,Tirage!$A:$G,1,FALSE)),\"\",VLOOKUP(I158,Tirage!$A:$K,2,FALSE)& CHAR(10) & VLOOKUP(I158,Tirage!$A:$K,3,FALSE))","v":""},null,{"$f":"IF(L158<>\"\",IF(L159<>\"\",VLOOKUP(LEFT(L159,SEARCH(CHAR(10),L159,1)-1),Tirage!$B:$D,3,FALSE),\"\"),\"\")","v":""},{"$f":"IF(ISERROR(VLOOKUP(L158,Tirage!$A:$G,1,FALSE)),\"\",VLOOKUP(L158,Tirage!$A:$K,2,FALSE)& CHAR(10) & VLOOKUP(L158,Tirage!$A:$K,3,FALSE))","v":""}]
[null,null,{"$f":"IF(ISERROR(VLOOKUP(C158,Tirage!$A:$G,1,FALSE)),\"\",VLOOKUP(C158,Tirage!$A:$K,5,FALSE)& CHAR(10) & VLOOKUP(C158,Tirage!$A:$K,6,FALSE))","v":""},null,null,{"$f":"IF(ISERROR(VLOOKUP(F158,Tirage!$A:$G,1,FALSE)),\"\",VLOOKUP(F158,Tirage!$A:$K,5,FALSE)& CHAR(10) & VLOOKUP(F158,Tirage!$A:$K,6,FALSE))","v":""},null,null,{"$f":"IF(ISERROR(VLOOKUP(I158,Tirage!$A:$G,1,FALSE)),\"\",VLOOKUP(I158,Tirage!$A:$K,5,FALSE)& CHAR(10) & VLOOKUP(I158,Tirage!$A:$K,6,FALSE))","v":""},null,null,{"$f":"IF(ISERROR(VLOOKUP(L158,Tirage!$A:$G,1,FALSE)),\"\",VLOOKUP(L158,Tirage!$A:$K,5,FALSE)& CHAR(10) & VLOOKUP(L158,Tirage!$A:$K,6,FALSE))","v":""}]
[null,{"$f":"IF(C158<>\"\",IF(C161<>\"\",VLOOKUP(LEFT(C161,SEARCH(CHAR(10),C161,1)-1),Tirage!$B:$D,3,FALSE),\"\"),\"\")","v":""},{"$f":"IF(ISERROR(VLOOKUP(C158,Tirage!$A:$G,1,FALSE)),\"\",VLOOKUP(C158,Tirage!$A:$K,7,FALSE)& CHAR(10) & VLOOKUP(C158,Tirage!$A:$K,8,FALSE))","v":""},null,{"$f":"IF(C158<>\"\",IF(F161<>\"\",VLOOKUP(LEFT(F161,SEARCH(CHAR(10),F161,1)-1),Tirage!$B:$D,3,FALSE),\"\"),\"\")","v":""},{"$f":"IF(ISERROR(VLOOKUP(F158,Tirage!$A:$G,1,FALSE)),\"\",VLOOKUP(F158,Tirage!$A:$K,7,FALSE)& CHAR(10) & VLOOKUP(F158,Tirage!$A:$K,8,FALSE))","v":""},null,{"$f":"IF(F158<>\"\",IF(I161<>\"\",VLOOKUP(LEFT(I161,SEARCH(CHAR(10),I161,1)-1),Tirage!$B:$D,3,FALSE),\"\"),\"\")","v":""},{"$f":"IF(ISERROR(VLOOKUP(I158,Tirage!$A:$G,1,FALSE)),\"\",VLOOKUP(I158,Tirage!$A:$K,7,FALSE)& CHAR(10) & VLOOKUP(I158,Tirage!$A:$K,8,FALSE))","v":""},null,{"$f":"IF(I158<>\"\",IF(L161<>\"\",VLOOKUP(LEFT(L161,SEARCH(CHAR(10),L161,1)-1),Tirage!$B:$D,3,FALSE),\"\"),\"\")","v":""},{"$f":"IF(ISERROR(VLOOKUP(L158,Tirage!$A:$G,1,FALSE)),\"\",VLOOKUP(L158,Tirage!$A:$K,7,FALSE)& CHAR(10) & VLOOKUP(L158,Tirage!$A:$K,8,FALSE))","v":""}]
[null,null,{"$f":"IF(ISERROR(VLOOKUP(C158,Tirage!$A:$G,1,FALSE)),\"\",VLOOKUP(C158,Tirage!$A:$K,10,FALSE)& CHAR(10) & VLOOKUP(C158,Tirage!$A:$K,11,FALSE))","v":""},null,null,{"$f":"IF(ISERROR(VLOOKUP(F158,Tirage!$A:$G,1,FALSE)),\"\",VLOOKUP(F158,Tirage!$A:$K,10,FALSE)& CHAR(10) & VLOOKUP(F158,Tirage!$A:$K,11,FALSE))","v":""},null,null,{"$f":"IF(ISERROR(VLOOKUP(I158,Tirage!$A:$G,1,FALSE)),\"\",VLOOKUP(I158,Tirage!$A:$K,10,FALSE)& CHAR(10) & VLOOKUP(I158,Tirage!$A:$K,11,FALSE))","v":""},null,null,{"$f":"IF(ISERROR(VLOOKUP(L158,Tirage!$A:$G,1,FALSE)),\"\",VLOOKUP(L158,Tirage!$A:$K,10,FALSE)& CHAR(10) & VLOOKUP(L158,Tirage!$A:$K,11,FALSE))","v":""}]
["2ème phase",{"$f":"IF(C158<>\"\",IF(B161<>\"\",IF(B161+1>Tirage!$G$1,B161-Tirage!$G$1+1,B161+1),IF(B159+2>Tirage!$G$1,B159+1-Tirage!$G$1+1,B159+2)),\"\")","v":""},{"$f":"IF(AND(D159<>\"\",D160<>\"\"),IF(D159>D160,C159,C160),\"\")","v":""},null,{"$f":"IF(F158<>\"\",IF(E161<>\"\",IF(E161+1>Tirage!$G$1,E161-Tirage!$G$1+1,E161+1),IF(E159+2>Tirage!$G$1,E159+1-Tirage!$G$1+1,E159+2)),\"\")","v":""},{"$f":"IF(AND(G159<>\"\",G160<>\"\"),IF(G159>G160,F159,F160),\"\")","v":""},null,{"$f":"IF(I158<>\"\",IF(H161<>\"\",IF(H161+1>Tirage!$G$1,H161-Tirage!$G$1+1,H161+1),IF(H159+2>Tirage!$G$1,H159+1-Tirage!$G$1+1,H159+2)),\"\")","v":""},{"$f":"IF(AND(J159<>\"\",J160<>\"\"),IF(J159>J160,I159,I160),\"\")","v":""},null,{"$f":"IF(L158<>\"\",IF(K161<>\"\",IF(K161+1>Tirage!$G$1,K161-Tirage!$G$1+1,K161+1),IF(K159+2>Tirage!$G$1,K159+1-Tirage!$G$1+1,K159+2)),\"\")","v":""},{"$f":"IF(AND(M159<>\"\",M160<>\"\"),IF(M159>M160,L159,L160),\"\")","v":""}]
[null,null,{"$f":"IF(AND(D161<>\"\",D162<>\"\"),IF(D161>D162,C161,C162),IF(AND(D159<>\"\",C162=\"office\"&CHAR(10)),C161,\"\"))","v":""},null,null,{"$f":"IF(AND(G161<>\"\",G162<>\"\"),IF(G161>G162,F161,F162),IF(AND(G159<>\"\",F162=\"office\"&CHAR(10)),F161,\"\"))","v":""},null,null,{"$f":"IF(AND(J161<>\"\",J162<>\"\"),IF(J161>J162,I161,I162),IF(AND(J159<>\"\",I162=\"office\"&CHAR(10)),I161,\"\"))","v":""},null,null,{"$f":"IF(AND(M161<>\"\",M162<>\"\"),IF(M161>M162,L161,L162),IF(AND(M159<>\"\",L162=\"office\"&CHAR(10)),L161,\"\"))","v":""}]
[null,{"$f":"IF(C158<>\"\",IF(C162<>\"office\"& CHAR(10),IF(B163<>\"\",IF(B163+1>Tirage!$G$1,B163-Tirage!$G$1+1,B163+1),\"\"),\"\"),\"\")","v":""},{"$f":"IF(AND(D159<>\"\",D160<>\"\"),IF(D159<D160,C159,C160),\"\")","v":""},null,{"$f":"IF(F158<>\"\",IF(F162<>\"office\"& CHAR(10),IF(E163<>\"\",IF(E163+1>Tirage!$G$1,E163-Tirage!$G$1+1,E163+1),\"\"),\"\"),\"\")","v":""},{"$f":"IF(AND(G159<>\"\",G160<>\"\"),IF(G159<G160,F159,F160),\"\")","v":""},null,{"$f":"IF(I158<>\"\",IF(I162<>\"office\"& CHAR(10),IF(H163<>\"\",IF(H163+1>Tirage!$G$1,H163-Tirage!$G$1+1,H163+1),\"\"),\"\"),\"\")","v":""},{"$f":"IF(AND(J159<>\"\",J160<>\"\"),IF(J159<J160,I159,I160),\"\")","v":""},null,{"$f":"IF(L158<>\"\",IF(L162<>\"office\"& CHAR(10),IF(K163<>\"\",IF(K163+1>Tirage!$G$1,K163-Tirage!$G$1+1,K163+1),\"\"),\"\"),\"\")","v":""},{"$f":"IF(AND(M159<>\"\",M160<>\"\"),IF(M159<M160,L159,L160),\"\")","v":""}]
[null,null,{"$f":"IF(AND(D161<>\"\",D162<>\"\"),IF(D161<D162,C161,C162),IF(AND(D159<>\"\",C162=\"office\"&CHAR(10)),\"office\"&CHAR(10),\"\"))","v":""},null,null,{"$f":"IF(AND(G161<>\"\",G162<>\"\"),IF(G161<G162,F161,F162),IF(AND(G159<>\"\",F162=\"office\"&CHAR(10)),\"office\"&CHAR(10),\"\"))","v":""},null,null,{"$f":"IF(AND(J161<>\"\",J162<>\"\"),IF(J161<J162,I161,I162),IF(AND(J159<>\"\",I162=\"office\"&CHAR(10)),\"office\"&CHAR(10),\"\"))","v":""},null,null,{"$f":"IF(AND(M161<>\"\",M162<>\"\"),IF(M161<M162,L161,L162),IF(AND(M159<>\"\",L162=\"office\"&CHAR(10)),\"office\"&CHAR(10),\"\"))","v":""}]
["Barrage",{"$f":"IF(C158<>\"\",IF(B165<>\"\",IF(B165+1>Tirage!$G$1,B165-Tirage!$G$1+1,B165+1),IF(B163+2>Tirage!$G$1,B163+2-Tirage!$G$1,B163+2)),\"\")","v":""},{"$f":"IF(AND(D163<>\"\",D164<>\"\"),IF(D163>D164,C164,C163),\"\")","v":""},null,{"$f":"IF(F158<>\"\",IF(E165<>\"\",IF(E165+1>Tirage!$G$1,E165-Tirage!$G$1+1,E165+1),IF(E163+2>Tirage!$G$1,E163+2-Tirage!$G$1,E163+2)),\"\")","v":""},{"$f":"IF(AND(G163<>\"\",G164<>\"\"),IF(G163>G164,F164,F163),\"\")","v":""},null,{"$f":"IF(I158<>\"\",IF(H165<>\"\",IF(H165+1>Tirage!$G$1,H165-Tirage!$G$1+1,H165+1),IF(H163+2>Tirage!$G$1,H163+2-Tirage!$G$1,H163+2)),\"\")","v":""},{"$f":"IF(AND(J163<>\"\",J164<>\"\"),IF(J163>J164,I164,I163),\"\")","v":""},null,{"$f":"IF(L158<>\"\",IF(K165<>\"\",IF(K165+1>Tirage!$G$1,K165-Tirage!$G$1+1,K165+1),IF(K163+2>Tirage!$G$1,K163+2-Tirage!$G$1,K163+2)),\"\")","v":""},{"$f":"IF(AND(M163<>\"\",M164<>\"\"),IF(M163>M164,L164,L163),\"\")","v":""}]
[null,null,{"$f":"IF(C166<>\"office\"&CHAR(10),IF(AND(D165<>\"\",D166<>\"\"),IF(D165>D166,C165,C166),\"\"),IF(D163<>\"\",C165,\"\"))","v":""},null,null,{"$f":"IF(F166<>\"office\"&CHAR(10),IF(AND(G165<>\"\",G166<>\"\"),IF(G165>G166,F165,F166),\"\"),IF(G163<>\"\",F165,\"\"))","v":""},null,null,{"$f":"IF(I166<>\"office\"&CHAR(10),IF(AND(J165<>\"\",J166<>\"\"),IF(J165>J166,I165,I166),\"\"),IF(J163<>\"\",I165,\"\"))","v":""},null,null,{"$f":"IF(L166<>\"office\"&CHAR(10),IF(AND(M165<>\"\",M166<>\"\"),IF(M165>M166,L165,L166),\"\"),IF(M163<>\"\",L165,\"\"))","v":""}]
["1er de poule",null,{"$f":"IF(AND(D163<>\"\",D164<>\"\"),IF(D163>D164,C163,C164),\"\")","v":""},null,null,{"$f":"IF(AND(G163<>\"\",G164<>\"\"),IF(G163>G164,F163,F164),\"\")","v":""},null,null,{"$f":"IF(AND(J163<>\"\",J164<>\"\"),IF(J163>J164,I163,I164),\"\")","v":""},null,null,{"$f":"IF(AND(M163<>\"\",M164<>\"\"),IF(M163>M164,L163,L164),\"\")","v":""}]
["2e de poule",null,{"$f":"IF(AND(D167<>\"\",D168<>\"\"),IF(D167>D168,C167,C168),\"\")","v":""},null,null,{"$f":"IF(AND(G167<>\"\",G168<>\"\"),IF(G167>G168,F167,F168),\"\")","v":""},null,null,{"$f":"IF(AND(J167<>\"\",J168<>\"\"),IF(J167>J168,I167,I168),\"\")","v":""},null,null,{"$f":"IF(AND(M167<>\"\",M168<>\"\"),IF(M167>M168,L167,L168),\"\")","v":""}]

{"sheet":"Fiche tirage dirigé","index":4,"n_rows":105,"n_cols":9,"rows_kept":105,"cut":false,"hidden":false,"merged":[[0,2,0,5]]}
[null,null,"FICHE TIRAGE DIRIGÉ",null,null,null,null,{"$f":"'Liste inscrits'!AF7","v":0},{"$f":"'Liste inscrits'!AF1","v":0}]
["Jeu","Poule","1er de poule","score","Poule ","2ème de poule","score",{"$f":"H1-COUNTIF(H3:H105,\"x\")","v":0}]
[{"$f":"H1*2-(H1*4-I1)","v":0},{"$f":"IF(ROW()>2*H$1+1,\"\",\"Poule A \")","v":""},{"$f":"IF(B3<>\"\",OFFSET('Fiche score'!$A$2,VLOOKUP(RIGHT(B3,2),Feuil1!A:C,2,FALSE),VLOOKUP(RIGHT(B3,2),Feuil1!A:C,3,FALSE)),\"\")","v":""},null,null,{"$f":"IF(E3<>\"\",OFFSET('Fiche score'!$A$2,VLOOKUP(RIGHT(E3,2),Feuil1!A:C,2,FALSE)+1,VLOOKUP(RIGHT(E3,2),Feuil1!A:C,3,FALSE)),\"\")","v":""},null,null,{"$f":"IF(D3<>\"\",IF(D3>G3,C3,F3),\"\")","v":""}]
[]
[{"$f":"IF(B5<>\"\",A3-1,\"\")","v":""},{"$f":"IF(ROW()>2*H$1+1,\"\",\"Poule B \")","v":""},{"$f":"IF(B5<>\"\",OFFSET('Fiche score'!$A$2,VLOOKUP(RIGHT(B5,2),Feuil1!A:C,2,FALSE),VLOOKUP(RIGHT(B5,2),Feuil1!A:C,3,FALSE)),\"\")","v":""},null,null,{"$f":"IF(E5<>\"\",OFFSET('Fiche score'!$A$2,VLOOKUP(RIGHT(E5,2),Feuil1!A:C,2,FALSE)+1,VLOOKUP(RIGHT(E5,2),Feuil1!A:C,3,FALSE)),\"\")","v":""},null,null,{"$f":"IF(D5<>\"\",IF(D5>G5,C5,F5),\"\")","v":""}]
[]
[11,{"$f":"IF(ROW()>2*H$1+1,\"\",\"Poule C \")","v":""},{"$f":"IF(B7<>\"\",OFFSET('Fiche score'!$A$2,VLOOKUP(RIGHT(B7,2),Feuil1!A:C,2,FALSE),VLOOKUP(RIGHT(B7,2),Feuil1!A:C,3,FALSE)),\"\")","v":""},null,null,{"$f":"IF(E7<>\"\",OFFSET('Fiche score'!$A$2,VLOOKUP(RIGHT(E7,2),Feuil1!A:C,2,FALSE)+1,VLOOKUP(RIGHT(E7,2),Feuil1!A:C,3,FALSE)),\"\")","v":""},null,null,{"$f":"IF(D7<>\"\",IF(D7>G7,C7,F7),\"\")","v":""}]
[]
[12,{"$f":"IF(ROW()>2*H$1+1,\"\",\"Poule D \")","v":""},{"$f":"IF(B9<>\"\",OFFSET('Fiche score'!$A$2,VLOOKUP(RIGHT(B9,2),Feuil1!A:C,2,FALSE),VLOOKUP(RIGHT(B9,2),Feuil1!A:C,3,FALSE)),\"\")","v":""},null,null,{"$f":"IF(E9<>\"\",OFFSET('Fiche score'!$A$2,VLOOKUP(RIGHT(E9,2),Feuil1!A:C,2,FALSE)+1,VLOOKUP(RIGHT(E9,2),Feuil1!A:C,3,FALSE)),\"\")","v":""},null,null,{"$f":"IF(D9<>\"\",IF(D9>G9,C9,F9),\"\")","v":""}]
[]
[13,{"$f":"IF(ROW()>2*H$1+1,\"\",\"Poule E \")","v":""},{"$f":"IF(B11<>\"\",OFFSET('Fiche score'!$A$2,VLOOKUP(RIGHT(B11,2),Feuil1!A:C,2,FALSE),VLOOKUP(RIGHT(B11,2),Feuil1!A:C,3,FALSE)),\"\")","v":""},null,null,{"$f":"IF(E11<>\"\",OFFSET('Fiche score'!$A$2,VLOOKUP(RIGHT(E11,2),Feuil1!A:C,2,FALSE)+1,VLOOKUP(RIGHT(E11,2),Feuil1!A:C,3,FALSE)),\"\")","v":""},null,null,{"$f":"IF(D11<>\"\",IF(D11>G11,C11,F11),\"\")","v":""}]
[]
[{"$f":"IF(B13<>\"\",A11-1,\"\")","v":""},{"$f":"IF(ROW()>2*H$1+1,\"\",\"Poule F \")","v":""},{"$f":"IF(B13<>\"\",OFFSET('Fiche score'!$A$2,VLOOKUP(RIGHT(B13,2),Feuil1!A:C,2,FALSE),VLOOKUP(RIGHT(B13,2),Feuil1!A:C,3,FALSE)),\"\")","v":""},null,null,{"$f":"IF(E13<>\"\",OFFSET('Fiche score'!$A$2,VLOOKUP(RIGHT(E13,2),Feuil1!A:C,2,FALSE)+1,VLOOKUP(RIGHT(E13,2),Feuil1!A:C,3,FALSE)),\"\")","v":""},null,null,{"$f":"IF(D13<>\"\",IF(D13>G13,C13,F13),\"\")","v":""}]
[]
[{"$f":"IF(B15<>\"\",A13-2,\"\")","v":""},{"$f":"IF(ROW()>2*H$1+1,\"\",\"Poule G \")","v":""},{"$f":"IF(B15<>\"\",OFFSET('Fiche score'!$A$2,VLOOKUP(RIGHT(B15,2),Feuil1!A:C,2,FALSE),VLOOKUP(RIGHT(B15,2),Feuil1!A:C,3,FALSE)),\"\")","v":""},null,null,{"$f":"IF(E15<>\"\",OFFSET('Fiche score'!$A$2,VLOOKUP(RIGHT(E15,2),Feuil1!A:C,2,FALSE)+1,VLOOKUP(RIGHT(E15,2),Feuil1!A:C,3,FALSE)),\"\")","v":""},null,null,{"$f":"IF(D15<>\"\",IF(D15>G15,C15,F15),\"\")","v":""}]
[]
[{"$f":"IF(B17<>\"\",A15-1,\"\")","v":""},{"$f":"IF(ROW()>2*H$1+1,\"\",\"Poule H \")","v":""},{"$f":"IF(B17<>\"\",OFFSET('Fiche score'!$A$2,VLOOKUP(RIGHT(B17,2),Feuil1!A:C,2,FALSE),VLOOKUP(RIGHT(B17,2),Feuil1!A:C,3,FALSE)),\"\")","v":""},null,null,{"$f":"IF(E17<>\"\",OFFSET('Fiche score'!$A$2,VLOOKUP(RIGHT(E17,2),Feuil1!A:C,2,FALSE)+1,VLOOKUP(RIGHT(E17,2),Feuil1!A:C,3,FALSE)),\"\")","v":""},null,null,{"$f":"IF(D17<>\"\",IF(D17>G17,C17,F17),\"\")","v":""}]
[]
[{"$f":"IF(B19<>\"\",A17-2,\"\")","v":""},{"$f":"IF(ROW()>2*H$1+1,\"\",\"Poule I \")","v":""},{"$f":"IF(B19<>\"\",OFFSET('Fiche score'!$A$2,VLOOKUP(RIGHT(B19,2),Feuil1!A:C,2,FALSE),VLOOKUP(RIGHT(B19,2),Feuil1!A:C,3,FALSE)),\"\")","v":""},null,null,{"$f":"IF(E19<>\"\",OFFSET('Fiche score'!$A$2,VLOOKUP(RIGHT(E19,2),Feuil1!A:C,2,FALSE)+1,VLOOKUP(RIGHT(E19,2),Feuil1!A:C,3,FALSE)),\"\")","v":""},null,null,{"$f":"IF(D19<>\"\",IF(D19>G19,C19,F19),\"\")","v":""}]
[]
[{"$f":"IF(B21<>\"\",A19-1,\"\")","v":""},{"$f":"IF(ROW()>2*H$1+1,\"\",\"Poule J \")","v":""},{"$f":"IF(B21<>\"\",OFFSET('Fiche score'!$A$2,VLOOKUP(RIGHT(B21,2),Feuil1!A:C,2,FALSE),VLOOKUP(RIGHT(B21,2),Feuil1!A:C,3,FALSE)),\"\")","v":""},null,null,{"$f":"IF(E21<>\"\",OFFSET('Fiche score'!$A$2,VLOOKUP(RIGHT(E21,2),Feuil1!A:C,2,FALSE)+1,VLOOKUP(RIGHT(E21,2),Feuil1!A:C,3,FALSE)),\"\")","v":""},null,null,{"$f":"IF(D21<>\"\",IF(D21>G21,C21,F21),\"\")","v":""}]
[]
[{"$f":"IF(B23<>\"\",A21-2,\"\")","v":""},{"$f":"IF(ROW()>2*H$1+1,\"\",\"Poule K \")","v":""},{"$f":"IF(B23<>\"\",OFFSET('Fiche score'!$A$2,VLOOKUP(RIGHT(B23,2),Feuil1!A:C,2,FALSE),VLOOKUP(RIGHT(B23,2),Feuil1!A:C,3,FALSE)),\"\")","v":""},null,null,{"$f":"IF(E23<>\"\",OFFSET('Fiche score'!$A$2,VLOOKUP(RIGHT(E23,2),Feuil1!A:C,2,FALSE)+1,VLOOKUP(RIGHT(E23,2),Feuil1!A:C,3,FALSE)),\"\")","v":""},null,null,{"$f":"IF(D23<>\"\",IF(D23>G23,C23,F23),\"\")","v":""}]
[]
[{"$f":"IF(B25<>\"\",A23-1,\"\")","v":""},{"$f":"IF(ROW()>2*H$1+1,\"\",\"Poule L \")","v":""},{"$f":"IF(B25<>\"\",OFFSET('Fiche score'!$A$2,VLOOKUP(RIGHT(B25,2),Feuil1!A:C,2,FALSE),VLOOKUP(RIGHT(B25,2),Feuil1!A:C,3,FALSE)),\"\")","v":""},null,null,{"$f":"IF(E25<>\"\",OFFSET('Fiche score'!$A$2,VLOOKUP(RIGHT(E25,2),Feuil1!A:C,2,FALSE)+1,VLOOKUP(RIGHT(E25,2),Feuil1!A:C,3,FALSE)),\"\")","v":""},null,null,{"$f":"IF(D25<>\"\",IF(D25>G25,C25,F25),\"\")","v":""}]
[]
[{"$f":"IF(B27<>\"\",A25-2,\"\")","v":""},{"$f":"IF(ROW()>2*H$1+1,\"\",\"Poule M \")","v":""},{"$f":"IF(B27<>\"\",OFFSET('Fiche score'!$A$2,VLOOKUP(RIGHT(B27,2),Feuil1!A:C,2,FALSE),VLOOKUP(RIGHT(B27,2),Feuil1!A:C,3,FALSE)),\"\")","v":""},null,null,{"$f":"IF(E27<>\"\",OFFSET('Fiche score'!$A$2,VLOOKUP(RIGHT(E27,2),Feuil1!A:C,2,FALSE)+1,VLOOKUP(RIGHT(E27,2),Feuil1!A:C,3,FALSE)),\"\")","v":""},null,null,{"$f":"IF(D27<>\"\",IF(D27>G27,C27,F27),\"\")","v":""}]
[]
[{"$f":"IF(B29<>\"\",A27-1,\"\")","v":""},{"$f":"IF(ROW()>2*H$1+1,\"\",\"Poule N \")","v":""},{"$f":"IF(B29<>\"\",OFFSET('Fiche score'!$A$2,VLOOKUP(RIGHT(B29,2),Feuil1!A:C,2,FALSE),VLOOKUP(RIGHT(B29,2),Feuil1!A:C,3,FALSE)),\"\")","v":""},null,null,{"$f":"IF(E29<>\"\",OFFSET('Fiche score'!$A$2,VLOOKUP(RIGHT(E29,2),Feuil1!A:C,2,FALSE)+1,VLOOKUP(RIGHT(E29,2),Feuil1!A:C,3,FALSE)),\"\")","v":""},null,null,{"$f":"IF(D29<>\"\",IF(D29>G29,C29,F29),\"\")","v":""}]
[]
[{"$f":"IF(B31<>\"\",A29-2,\"\")","v":""},{"$f":"IF(ROW()>2*H$1+1,\"\",\"Poule O \")","v":""},{"$f":"IF(B31<>\"\",OFFSET('Fiche score'!$A$2,VLOOKUP(RIGHT(B31,2),Feuil1!A:C,2,FALSE),VLOOKUP(RIGHT(B31,2),Feuil1!A:C,3,FALSE)),\"\")","v":""},null,null,{"$f":"IF(E31<>\"\",OFFSET('Fiche score'!$A$2,VLOOKUP(RIGHT(E31,2),Feuil1!A:C,2,FALSE)+1,VLOOKUP(RIGHT(E31,2),Feuil1!A:C,3,FALSE)),\"\")","v":""},null,null,{"$f":"IF(D31<>\"\",IF(D31>G31,C31,F31),\"\")","v":""}]
[]
[{"$f":"IF(B33<>\"\",A31-1,\"\")","v":""},{"$f":"IF(ROW()>2*H$1+1,\"\",\"Poule P \")","v":""},{"$f":"IF(B33<>\"\",OFFSET('Fiche score'!$A$2,VLOOKUP(RIGHT(B33,2),Feuil1!A:C,2,FALSE),VLOOKUP(RIGHT(B33,2),Feuil1!A:C,3,FALSE)),\"\")","v":""},null,null,{"$f":"IF(E33<>\"\",OFFSET('Fiche score'!$A$2,VLOOKUP(RIGHT(E33,2),Feuil1!A:C,2,FALSE)+1,VLOOKUP(RIGHT(E33,2),Feuil1!A:C,3,FALSE)),\"\")","v":""},null,null,{"$f":"IF(D33<>\"\",IF(D33>G33,C33,F33),\"\")","v":""}]
[]
[{"$f":"IF(B35<>\"\",A33-2,\"\")","v":""},{"$f":"IF(ROW()>2*H$1+1,\"\",\"Poule Q \")","v":""},{"$f":"IF(B35<>\"\",OFFSET('Fiche score'!$A$2,VLOOKUP(RIGHT(B35,2),Feuil1!A:C,2,FALSE),VLOOKUP(RIGHT(B35,2),Feuil1!A:C,3,FALSE)),\"\")","v":""},null,null,{"$f":"IF(E35<>\"\",OFFSET('Fiche score'!$A$2,VLOOKUP(RIGHT(E35,2),Feuil1!A:C,2,FALSE)+1,VLOOKUP(RIGHT(E35,2),Feuil1!A:C,3,FALSE)),\"\")","v":""},null,null,{"$f":"IF(D35<>\"\",IF(D35>G35,C35,F35),\"\")","v":""}]
[]
[{"$f":"IF(B37<>\"\",A35-1,\"\")","v":""},{"$f":"IF(ROW()>2*H$1+1,\"\",\"Poule R \")","v":""},{"$f":"IF(B37<>\"\",OFFSET('Fiche score'!$A$2,VLOOKUP(RIGHT(B37,2),Feuil1!A:C,2,FALSE),VLOOKUP(RIGHT(B37,2),Feuil1!A:C,3,FALSE)),\"\")","v":""},null,null,{"$f":"IF(E37<>\"\",OFFSET('Fiche score'!$A$2,VLOOKUP(RIGHT(E37,2),Feuil1!A:C,2,FALSE)+1,VLOOKUP(RIGHT(E37,2),Feuil1!A:C,3,FALSE)),\"\")","v":""},null,null,{"$f":"IF(D37<>\"\",IF(D37>G37,C37,F37),\"\")","v":""}]
[]
[{"$f":"IF(B39<>\"\",A37-2,\"\")","v":""},{"$f":"IF(ROW()>2*H$1+1,\"\",\"Poule S \")","v":""},{"$f":"IF(B39<>\"\",OFFSET('Fiche score'!$A$2,VLOOKUP(RIGHT(B39,2),Feuil1!A:C,2,FALSE),VLOOKUP(RIGHT(B39,2),Feuil1!A:C,3,FALSE)),\"\")","v":""},null,null,{"$f":"IF(E39<>\"\",OFFSET('Fiche score'!$A$2,VLOOKUP(RIGHT(E39,2),Feuil1!A:C,2,FALSE)+1,VLOOKUP(RIGHT(E39,2),Feuil1!A:C,3,FALSE)),\"\")","v":""},null,null,{"$f":"IF(D39<>\"\",IF(D39>G39,C39,F39),\"\")","v":""}]
[]
[{"$f":"IF(B41<>\"\",A39-1,\"\")","v":""},{"$f":"IF(ROW()>2*H$1+1,\"\",\"Poule T \")","v":""},{"$f":"IF(B41<>\"\",OFFSET('Fiche score'!$A$2,VLOOKUP(RIGHT(B41,2),Feuil1!A:C,2,FALSE),VLOOKUP(RIGHT(B41,2),Feuil1!A:C,3,FALSE)),\"\")","v":""},null,null,{"$f":"IF(E41<>\"\",OFFSET('Fiche score'!$A$2,VLOOKUP(RIGHT(E41,2),Feuil1!A:C,2,FALSE)+1,VLOOKUP(RIGHT(E41,2),Feuil1!A:C,3,FALSE)),\"\")","v":""},null,null,{"$f":"IF(D41<>\"\",IF(D41>G41,C41,F41),\"\")","v":""}]
[]
[{"$f":"IF(B43<>\"\",A41-2,\"\")","v":""},{"$f":"IF(ROW()>2*H$1+1,\"\",\"Poule U \")","v":""},{"$f":"IF(B43<>\"\",OFFSET('Fiche score'!$A$2,VLOOKUP(RIGHT(B43,2),Feuil1!A:C,2,FALSE),VLOOKUP(RIGHT(B43,2),Feuil1!A:C,3,FALSE)),\"\")","v":""},null,null,{"$f":"IF(E43<>\"\",OFFSET('Fiche score'!$A$2,VLOOKUP(RIGHT(E43,2),Feuil1!A:C,2,FALSE)+1,VLOOKUP(RIGHT(E43,2),Feuil1!A:C,3,FALSE)),\"\")","v":""},null,null,{"$f":"IF(D43<>\"\",IF(D43>G43,C43,F43),\"\")","v":""}]
[]
[{"$f":"IF(B45<>\"\",A43-1,\"\")","v":""},{"$f":"IF(ROW()>2*H$1+1,\"\",\"Poule V \")","v":""},{"$f":"IF(B45<>\"\",OFFSET('Fiche score'!$A$2,VLOOKUP(RIGHT(B45,2),Feuil1!A:C,2,FALSE),VLOOKUP(RIGHT(B45,2),Feuil1!A:C,3,FALSE)),\"\")","v":""},null,null,{"$f":"IF(E45<>\"\",OFFSET('Fiche score'!$A$2,VLOOKUP(RIGHT(E45,2),Feuil1!A:C,2,FALSE)+1,VLOOKUP(RIGHT(E45,2),Feuil1!A:C,3,FALSE)),\"\")","v":""},null,null,{"$f":"IF(D45<>\"\",IF(D45>G45,C45,F45),\"\")","v":""}]
[]
[{"$f":"IF(B47<>\"\",A45-2,\"\")","v":""},{"$f":"IF(ROW()>2*H$1+1,\"\",\"Poule W \")","v":""},{"$f":"IF(B47<>\"\",OFFSET('Fiche score'!$A$2,VLOOKUP(RIGHT(B47,2),Feuil1!A:C,2,FALSE),VLOOKUP(RIGHT(B47,2),Feuil1!A:C,3,FALSE)),\"\")","v":""},null,null,{"$f":"IF(E47<>\"\",OFFSET('Fiche score'!$A$2,VLOOKUP(RIGHT(E47,2),Feuil1!A:C,2,FALSE)+1,VLOOKUP(RIGHT(E47,2),Feuil1!A:C,3,FALSE)),\"\")","v":""},null,null,{"$f":"IF(D47<>\"\",IF(D47>G47,C47,F47),\"\")","v":""}]
[]
[{"$f":"IF(B49<>\"\",A47-1,\"\")","v":""},{"$f":"IF(ROW()>2*H$1+1,\"\",\"Poule X \")","v":""},{"$f":"IF(B49<>\"\",OFFSET('Fiche score'!$A$2,VLOOKUP(RIGHT(B49,2),Feuil1!A:C,2,FALSE),VLOOKUP(RIGHT(B49,2),Feuil1!A:C,3,FALSE)),\"\")","v":""},null,null,{"$f":"IF(E49<>\"\",OFFSET('Fiche score'!$A$2,VLOOKUP(RIGHT(E49,2),Feuil1!A:C,2,FALSE)+1,VLOOKUP(RIGHT(E49,2),Feuil1!A:C,3,FALSE)),\"\")","v":""},null,null,{"$f":"IF(D49<>\"\",IF(D49>G49,C49,F49),\"\")","v":""}]
[]
[{"$f":"IF(B51<>\"\",A49-2,\"\")","v":""},{"$f":"IF(ROW()>2*H$1+1,\"\",\"Poule Y \")","v":""},{"$f":"IF(B51<>\"\",OFFSET('Fiche score'!$A$2,VLOOKUP(RIGHT(B51,2),Feuil1!A:C,2,FALSE),VLOOKUP(RIGHT(B51,2),Feuil1!A:C,3,FALSE)),\"\")","v":""},null,null,{"$f":"IF(E51<>\"\",OFFSET('Fiche score'!$A$2,VLOOKUP(RIGHT(E51,2),Feuil1!A:C,2,FALSE)+1,VLOOKUP(RIGHT(E51,2),Feuil1!A:C,3,FALSE)),\"\")","v":""},null,null,{"$f":"IF(D51<>\"\",IF(D51>G51,C51,F51),\"\")","v":""}]
[]
[{"$f":"IF(B53<>\"\",A51-1,\"\")","v":""},{"$f":"IF(ROW()>2*H$1+1,\"\",\"Poule Z \")","v":""},{"$f":"IF(B53<>\"\",OFFSET('Fiche score'!$A$2,VLOOKUP(RIGHT(B53,2),Feuil1!A:C,2,FALSE),VLOOKUP(RIGHT(B53,2),Feuil1!A:C,3,FALSE)),\"\")","v":""},null,null,{"$f":"IF(E53<>\"\",OFFSET('Fiche score'!$A$2,VLOOKUP(RIGHT(E53,2),Feuil1!A:C,2,FALSE)+1,VLOOKUP(RIGHT(E53,2),Feuil1!A:C,3,FALSE)),\"\")","v":""},null,null,{"$f":"IF(D53<>\"\",IF(D53>G53,C53,F53),\"\")","v":""}]
[]
[{"$f":"IF(B55<>\"\",A53-2,\"\")","v":""},{"$f":"IF(ROW()>2*H$1+1,\"\",\"Poule AA \")","v":""},{"$f":"IF(B55<>\"\",OFFSET('Fiche score'!$A$2,VLOOKUP(RIGHT(B55,2),Feuil1!A:C,2,FALSE),VLOOKUP(RIGHT(B55,2),Feuil1!A:C,3,FALSE)),\"\")","v":""},null,null,{"$f":"IF(E55<>\"\",OFFSET('Fiche score'!$A$2,VLOOKUP(RIGHT(E55,2),Feuil1!A:C,2,FALSE)+1,VLOOKUP(RIGHT(E55,2),Feuil1!A:C,3,FALSE)),\"\")","v":""},null,null,{"$f":"IF(D55<>\"\",IF(D55>G55,C55,F55),\"\")","v":""}]
[]
[{"$f":"IF(B57<>\"\",A55-1,\"\")","v":""},{"$f":"IF(ROW()>2*H$1+1,\"\",\"Poule AB \")","v":""},{"$f":"IF(B57<>\"\",OFFSET('Fiche score'!$A$2,VLOOKUP(RIGHT(B57,2),Feuil1!A:C,2,FALSE),VLOOKUP(RIGHT(B57,2),Feuil1!A:C,3,FALSE)),\"\")","v":""},null,null,{"$f":"IF(E57<>\"\",OFFSET('Fiche score'!$A$2,VLOOKUP(RIGHT(E57,2),Feuil1!A:C,2,FALSE)+1,VLOOKUP(RIGHT(E57,2),Feuil1!A:C,3,FALSE)),\"\")","v":""},null,null,{"$f":"IF(D57<>\"\",IF(D57>G57,C57,F57),\"\")","v":""}]
[]
[{"$f":"IF(B59<>\"\",A57-2,\"\")","v":""},{"$f":"IF(ROW()>2*H$1+1,\"\",\"Poule AC \")","v":""},{"$f":"IF(B59<>\"\",OFFSET('Fiche score'!$A$2,VLOOKUP(RIGHT(B59,2),Feuil1!A:C,2,FALSE),VLOOKUP(RIGHT(B59,2),Feuil1!A:C,3,FALSE)),\"\")","v":""},null,null,{"$f":"IF(E59<>\"\",OFFSET('Fiche score'!$A$2,VLOOKUP(RIGHT(E59,2),Feuil1!A:C,2,FALSE)+1,VLOOKUP(RIGHT(E59,2),Feuil1!A:C,3,FALSE)),\"\")","v":""},null,null,{"$f":"IF(D59<>\"\",IF(D59>G59,C59,F59),\"\")","v":""}]
[]
[{"$f":"IF(B61<>\"\",A59-1,\"\")","v":""},{"$f":"IF(ROW()>2*H$1+1,\"\",\"Poule AD \")","v":""},{"$f":"IF(B61<>\"\",OFFSET('Fiche score'!$A$2,VLOOKUP(RIGHT(B61,2),Feuil1!A:C,2,FALSE),VLOOKUP(RIGHT(B61,2),Feuil1!A:C,3,FALSE)),\"\")","v":""},null,null,{"$f":"IF(E61<>\"\",OFFSET('Fiche score'!$A$2,VLOOKUP(RIGHT(E61,2),Feuil1!A:C,2,FALSE)+1,VLOOKUP(RIGHT(E61,2),Feuil1!A:C,3,FALSE)),\"\")","v":""},null,null,{"$f":"IF(D61<>\"\",IF(D61>G61,C61,F61),\"\")","v":""}]
[]
[{"$f":"IF(B63<>\"\",A61-2,\"\")","v":""},{"$f":"IF(ROW()>2*H$1+1,\"\",\"Poule AE \")","v":""},{"$f":"IF(B63<>\"\",OFFSET('Fiche score'!$A$2,VLOOKUP(RIGHT(B63,2),Feuil1!A:C,2,FALSE),VLOOKUP(RIGHT(B63,2),Feuil1!A:C,3,FALSE)),\"\")","v":""},null,null,{"$f":"IF(E63<>\"\",OFFSET('Fiche score'!$A$2,VLOOKUP(RIGHT(E63,2),Feuil1!A:C,2,FALSE)+1,VLOOKUP(RIGHT(E63,2),Feuil1!A:C,3,FALSE)),\"\")","v":""},null,null,{"$f":"IF(D63<>\"\",IF(D63>G63,C63,F63),\"\")","v":""}]
[]
[{"$f":"IF(B65<>\"\",A63-1,\"\")","v":""},{"$f":"IF(ROW()>2*H$1+1,\"\",\"Poule AF \")","v":""},{"$f":"IF(B65<>\"\",OFFSET('Fiche score'!$A$2,VLOOKUP(RIGHT(B65,2),Feuil1!A:C,2,FALSE),VLOOKUP(RIGHT(B65,2),Feuil1!A:C,3,FALSE)),\"\")","v":""},null,null,{"$f":"IF(E65<>\"\",OFFSET('Fiche score'!$A$2,VLOOKUP(RIGHT(E65,2),Feuil1!A:C,2,FALSE)+1,VLOOKUP(RIGHT(E65,2),Feuil1!A:C,3,FALSE)),\"\")","v":""},null,null,{"$f":"IF(D65<>\"\",IF(D65>G65,C65,F65),\"\")","v":""}]
[]
[{"$f":"IF(B67<>\"\",A65-2,\"\")","v":""},{"$f":"IF(ROW()>2*H$1+1,\"\",\"Poule AG \")","v":""},{"$f":"IF(B67<>\"\",OFFSET('Fiche score'!$A$2,VLOOKUP(RIGHT(B67,2),Feuil1!A:C,2,FALSE),VLOOKUP(RIGHT(B67,2),Feuil1!A:C,3,FALSE)),\"\")","v":""},null,null,{"$f":"IF(E67<>\"\",OFFSET('Fiche score'!$A$2,VLOOKUP(RIGHT(E67,2),Feuil1!A:C,2,FALSE)+1,VLOOKUP(RIGHT(E67,2),Feuil1!A:C,3,FALSE)),\"\")","v":""},null,null,{"$f":"IF(D67<>\"\",IF(D67>G67,C67,F67),\"\")","v":""}]
[]
[{"$f":"IF(B69<>\"\",A67-1,\"\")","v":""},{"$f":"IF(ROW()>2*H$1+1,\"\",\"Poule AH \")","v":""},{"$f":"IF(B69<>\"\",OFFSET('Fiche score'!$A$2,VLOOKUP(RIGHT(B69,2),Feuil1!A:C,2,FALSE),VLOOKUP(RIGHT(B69,2),Feuil1!A:C,3,FALSE)),\"\")","v":""},null,null,{"$f":"IF(E69<>\"\",OFFSET('Fiche score'!$A$2,VLOOKUP(RIGHT(E69,2),Feuil1!A:C,2,FALSE)+1,VLOOKUP(RIGHT(E69,2),Feuil1!A:C,3,FALSE)),\"\")","v":""},null,null,{"$f":"IF(D69<>\"\",IF(D69>G69,C69,F69),\"\")","v":""}]
[]
[{"$f":"IF(B71<>\"\",A69-2,\"\")","v":""},{"$f":"IF(ROW()>2*H$1+1,\"\",\"Poule AI \")","v":""},{"$f":"IF(B71<>\"\",OFFSET('Fiche score'!$A$2,VLOOKUP(RIGHT(B71,2),Feuil1!A:C,2,FALSE),VLOOKUP(RIGHT(B71,2),Feuil1!A:C,3,FALSE)),\"\")","v":""},null,null,{"$f":"IF(E71<>\"\",OFFSET('Fiche score'!$A$2,VLOOKUP(RIGHT(E71,2),Feuil1!A:C,2,FALSE)+1,VLOOKUP(RIGHT(E71,2),Feuil1!A:C,3,FALSE)),\"\")","v":""},null,null,{"$f":"IF(D71<>\"\",IF(D71>G71,C71,F71),\"\")","v":""}]
[]
[{"$f":"IF(B73<>\"\",A71-1,\"\")","v":""},{"$f":"IF(ROW()>2*H$1+1,\"\",\"Poule AJ \")","v":""},{"$f":"IF(B73<>\"\",OFFSET('Fiche score'!$A$2,VLOOKUP(RIGHT(B73,2),Feuil1!A:C,2,FALSE),VLOOKUP(RIGHT(B73,2),Feuil1!A:C,3,FALSE)),\"\")","v":""},null,null,{"$f":"IF(E73<>\"\",OFFSET('Fiche score'!$A$2,VLOOKUP(RIGHT(E73,2),Feuil1!A:C,2,FALSE)+1,VLOOKUP(RIGHT(E73,2),Feuil1!A:C,3,FALSE)),\"\")","v":""},null,null,{"$f":"IF(D73<>\"\",IF(D73>G73,C73,F73),\"\")","v":""}]
[]
[{"$f":"IF(B75<>\"\",A73-2,\"\")","v":""},{"$f":"IF(ROW()>2*H$1+1,\"\",\"Poule AK \")","v":""},{"$f":"IF(B75<>\"\",OFFSET('Fiche score'!$A$2,VLOOKUP(RIGHT(B75,2),Feuil1!A:C,2,FALSE),VLOOKUP(RIGHT(B75,2),Feuil1!A:C,3,FALSE)),\"\")","v":""},null,null,{"$f":"IF(E75<>\"\",OFFSET('Fiche score'!$A$2,VLOOKUP(RIGHT(E75,2),Feuil1!A:C,2,FALSE)+1,VLOOKUP(RIGHT(E75,2),Feuil1!A:C,3,FALSE)),\"\")","v":""},null,null,{"$f":"IF(D75<>\"\",IF(D75>G75,C75,F75),\"\")","v":""}]
[]
[{"$f":"IF(B77<>\"\",A75-1,\"\")","v":""},{"$f":"IF(ROW()>2*H$1+1,\"\",\"Poule AL \")","v":""},{"$f":"IF(B77<>\"\",OFFSET('Fiche score'!$A$2,VLOOKUP(RIGHT(B77,2),Feuil1!A:C,2,FALSE),VLOOKUP(RIGHT(B77,2),Feuil1!A:C,3,FALSE)),\"\")","v":""},null,null,{"$f":"IF(E77<>\"\",OFFSET('Fiche score'!$A$2,VLOOKUP(RIGHT(E77,2),Feuil1!A:C,2,FALSE)+1,VLOOKUP(RIGHT(E77,2),Feuil1!A:C,3,FALSE)),\"\")","v":""},null,null,{"$f":"IF(D77<>\"\",IF(D77>G77,C77,F77),\"\")","v":""}]
[]
[{"$f":"IF(B79<>\"\",A77-2,\"\")","v":""},{"$f":"IF(ROW()>2*H$1+1,\"\",\"Poule AM \")","v":""},{"$f":"IF(B79<>\"\",OFFSET('Fiche score'!$A$2,VLOOKUP(RIGHT(B79,2),Feuil1!A:C,2,FALSE),VLOOKUP(RIGHT(B79,2),Feuil1!A:C,3,FALSE)),\"\")","v":""},null,null,{"$f":"IF(E79<>\"\",OFFSET('Fiche score'!$A$2,VLOOKUP(RIGHT(E79,2),Feuil1!A:C,2,FALSE)+1,VLOOKUP(RIGHT(E79,2),Feuil1!A:C,3,FALSE)),\"\")","v":""},null,null,{"$f":"IF(D79<>\"\",IF(D79>G79,C79,F79),\"\")","v":""}]
[]
[{"$f":"IF(B81<>\"\",A79-1,\"\")","v":""},{"$f":"IF(ROW()>2*H$1+1,\"\",\"Poule AN \")","v":""},{"$f":"IF(B81<>\"\",OFFSET('Fiche score'!$A$2,VLOOKUP(RIGHT(B81,2),Feuil1!A:C,2,FALSE),VLOOKUP(RIGHT(B81,2),Feuil1!A:C,3,FALSE)),\"\")","v":""},null,null,{"$f":"IF(E81<>\"\",OFFSET('Fiche score'!$A$2,VLOOKUP(RIGHT(E81,2),Feuil1!A:C,2,FALSE)+1,VLOOKUP(RIGHT(E81,2),Feuil1!A:C,3,FALSE)),\"\")","v":""},null,null,{"$f":"IF(D81<>\"\",IF(D81>G81,C81,F81),\"\")","v":""}]
[]
[{"$f":"IF(B83<>\"\",A81-2,\"\")","v":""},{"$f":"IF(ROW()>2*H$1+1,\"\",\"Poule AO \")","v":""},{"$f":"IF(B83<>\"\",OFFSET('Fiche score'!$A$2,VLOOKUP(RIGHT(B83,2),Feuil1!A:C,2,FALSE),VLOOKUP(RIGHT(B83,2),Feuil1!A:C,3,FALSE)),\"\")","v":""},null,null,{"$f":"IF(E83<>\"\",OFFSET('Fiche score'!$A$2,VLOOKUP(RIGHT(E83,2),Feuil1!A:C,2,FALSE)+1,VLOOKUP(RIGHT(E83,2),Feuil1!A:C,3,FALSE)),\"\")","v":""},null,null,{"$f":"IF(D83<>\"\",IF(D83>G83,C83,F83),\"\")","v":""}]
[]
[{"$f":"IF(B85<>\"\",A83-1,\"\")","v":""},{"$f":"IF(ROW()>2*H$1+1,\"\",\"Poule AP \")","v":""},{"$f":"IF(B85<>\"\",OFFSET('Fiche score'!$A$2,VLOOKUP(RIGHT(B85,2),Feuil1!A:C,2,FALSE),VLOOKUP(RIGHT(B85,2),Feuil1!A:C,3,FALSE)),\"\")","v":""},null,null,{"$f":"IF(E85<>\"\",OFFSET('Fiche score'!$A$2,VLOOKUP(RIGHT(E85,2),Feuil1!A:C,2,FALSE)+1,VLOOKUP(RIGHT(E85,2),Feuil1!A:C,3,FALSE)),\"\")","v":""},null,null,{"$f":"IF(D85<>\"\",IF(D85>G85,C85,F85),\"\")","v":""}]
[]
[{"$f":"IF(B87<>\"\",A85-2,\"\")","v":""},{"$f":"IF(ROW()>2*H$1+1,\"\",\"Poule AQ \")","v":""},{"$f":"IF(B87<>\"\",OFFSET('Fiche score'!$A$2,VLOOKUP(RIGHT(B87,2),Feuil1!A:C,2,FALSE),VLOOKUP(RIGHT(B87,2),Feuil1!A:C,3,FALSE)),\"\")","v":""},null,null,{"$f":"IF(E87<>\"\",OFFSET('Fiche score'!$A$2,VLOOKUP(RIGHT(E87,2),Feuil1!A:C,2,FALSE)+1,VLOOKUP(RIGHT(E87,2),Feuil1!A:C,3,FALSE)),\"\")","v":""},null,null,{"$f":"IF(D87<>\"\",IF(D87>G87,C87,F87),\"\")","v":""}]
[]
[{"$f":"IF(B89<>\"\",A87-1,\"\")","v":""},{"$f":"IF(ROW()>2*H$1+1,\"\",\"Poule AR \")","v":""},{"$f":"IF(B89<>\"\",OFFSET('Fiche score'!$A$2,VLOOKUP(RIGHT(B89,2),Feuil1!A:C,2,FALSE),VLOOKUP(RIGHT(B89,2),Feuil1!A:C,3,FALSE)),\"\")","v":""},null,null,{"$f":"IF(E89<>\"\",OFFSET('Fiche score'!$A$2,VLOOKUP(RIGHT(E89,2),Feuil1!A:C,2,FALSE)+1,VLOOKUP(RIGHT(E89,2),Feuil1!A:C,3,FALSE)),\"\")","v":""},null,null,{"$f":"IF(D89<>\"\",IF(D89>G89,C89,F89),\"\")","v":""}]
[]
[{"$f":"IF(B91<>\"\",A89-2,\"\")","v":""},{"$f":"IF(ROW()>2*H$1+1,\"\",\"Poule AS \")","v":""},{"$f":"IF(B91<>\"\",OFFSET('Fiche score'!$A$2,VLOOKUP(RIGHT(B91,2),Feuil1!A:C,2,FALSE),VLOOKUP(RIGHT(B91,2),Feuil1!A:C,3,FALSE)),\"\")","v":""},null,null,{"$f":"IF(E91<>\"\",OFFSET('Fiche score'!$A$2,VLOOKUP(RIGHT(E91,2),Feuil1!A:C,2,FALSE)+1,VLOOKUP(RIGHT(E91,2),Feuil1!A:C,3,FALSE)),\"\")","v":""},null,null,{"$f":"IF(D91<>\"\",IF(D91>G91,C91,F91),\"\")","v":""}]
[]
[{"$f":"IF(B93<>\"\",A91-1,\"\")","v":""},{"$f":"IF(ROW()>2*H$1+1,\"\",\"Poule AT \")","v":""},{"$f":"IF(B93<>\"\",OFFSET('Fiche score'!$A$2,VLOOKUP(RIGHT(B93,2),Feuil1!A:C,2,FALSE),VLOOKUP(RIGHT(B93,2),Feuil1!A:C,3,FALSE)),\"\")","v":""},null,null,{"$f":"IF(E93<>\"\",OFFSET('Fiche score'!$A$2,VLOOKUP(RIGHT(E93,2),Feuil1!A:C,2,FALSE)+1,VLOOKUP(RIGHT(E93,2),Feuil1!A:C,3,FALSE)),\"\")","v":""},null,null,{"$f":"IF(D93<>\"\",IF(D93>G93,C93,F93),\"\")","v":""}]
[]
[{"$f":"IF(B95<>\"\",A93-2,\"\")","v":""},{"$f":"IF(ROW()>2*H$1+1,\"\",\"Poule AU \")","v":""},{"$f":"IF(B95<>\"\",OFFSET('Fiche score'!$A$2,VLOOKUP(RIGHT(B95,2),Feuil1!A:C,2,FALSE),VLOOKUP(RIGHT(B95,2),Feuil1!A:C,3,FALSE)),\"\")","v":""},null,null,{"$f":"IF(E95<>\"\",OFFSET('Fiche score'!$A$2,VLOOKUP(RIGHT(E95,2),Feuil1!A:C,2,FALSE)+1,VLOOKUP(RIGHT(E95,2),Feuil1!A:C,3,FALSE)),\"\")","v":""},null,null,{"$f":"IF(D95<>\"\",IF(D95>G95,C95,F95),\"\")","v":""}]
[]
[{"$f":"IF(B97<>\"\",A95-1,\"\")","v":""},{"$f":"IF(ROW()>2*H$1+1,\"\",\"Poule AV \")","v":""},{"$f":"IF(B97<>\"\",OFFSET('Fiche score'!$A$2,VLOOKUP(RIGHT(B97,2),Feuil1!A:C,2,FALSE),VLOOKUP(RIGHT(B97,2),Feuil1!A:C,3,FALSE)),\"\")","v":""},null,null,{"$f":"IF(E97<>\"\",OFFSET('Fiche score'!$A$2,VLOOKUP(RIGHT(E97,2),Feuil1!A:C,2,FALSE)+1,VLOOKUP(RIGHT(E97,2),Feuil1!A:C,3,FALSE)),\"\")","v":""},null,null,{"$f":"IF(D97<>\"\",IF(D97>G97,C97,F97),\"\")","v":""}]
[]
[{"$f":"IF(B99<>\"\",A97-2,\"\")","v":""},{"$f":"IF(ROW()>2*H$1+1,\"\",\"Poule AW \")","v":""},{"$f":"IF(B99<>\"\",OFFSET('Fiche score'!$A$2,VLOOKUP(RIGHT(B99,2),Feuil1!A:C,2,FALSE),VLOOKUP(RIGHT(B99,2),Feuil1!A:C,3,FALSE)),\"\")","v":""},null,null,{"$f":"IF(E99<>\"\",OFFSET('Fiche score'!$A$2,VLOOKUP(RIGHT(E99,2),Feuil1!A:C,2,FALSE)+1,VLOOKUP(RIGHT(E99,2),Feuil1!A:C,3,FALSE)),\"\")","v":""},null,null,{"$f":"IF(D99<>\"\",IF(D99>G99,C99,F99),\"\")","v":""}]
[]
[{"$f":"IF(B101<>\"\",A99-1,\"\")","v":""},{"$f":"IF(ROW()>2*H$1+1,\"\",\"Poule AX \")","v":""},{"$f":"IF(B101<>\"\",OFFSET('Fiche score'!$A$2,VLOOKUP(RIGHT(B101,2),Feuil1!A:C,2,FALSE),VLOOKUP(RIGHT(B101,2),Feuil1!A:C,3,FALSE)),\"\")","v":""},null,null,{"$f":"IF(E101<>\"\",OFFSET('Fiche score'!$A$2,VLOOKUP(RIGHT(E101,2),Feuil1!A:C,2,FALSE)+1,VLOOKUP(RIGHT(E101,2),Feuil1!A:C,3,FALSE)),\"\")","v":""},null,null,{"$f":"IF(D101<>\"\",IF(D101>G101,C101,F101),\"\")","v":""}]
[]
[{"$f":"IF(B103<>\"\",A101-2,\"\")","v":""},{"$f":"IF(ROW()>2*H$1+1,\"\",\"Poule AY \")","v":""},{"$f":"IF(B103<>\"\",OFFSET('Fiche score'!$A$2,VLOOKUP(RIGHT(B103,2),Feuil1!A:C,2,FALSE),VLOOKUP(RIGHT(B103,2),Feuil1!A:C,3,FALSE)),\"\")","v":""},null,null,{"$f":"IF(E103<>\"\",OFFSET('Fiche score'!$A$2,VLOOKUP(RIGHT(E103,2),Feuil1!A:C,2,FALSE)+1,VLOOKUP(RIGHT(E103,2),Feuil1!A:C,3,FALSE)),\"\")","v":""},null,null,{"$f":"IF(D103<>\"\",IF(D103>G103,C103,F103),\"\")","v":""}]
[]
[{"$f":"IF(B105<>\"\",A103-1,\"\")","v":""},{"$f":"IF(ROW()>2*H$1+1,\"\",\"Poule AZ \")","v":""},{"$f":"IF(B105<>\"\",OFFSET('Fiche score'!$A$2,VLOOKUP(RIGHT(B105,2),Feuil1!A:C,2,FALSE),VLOOKUP(RIGHT(B105,2),Feuil1!A:C,3,FALSE)),\"\")","v":""},null,null,{"$f":"IF(E105<>\"\",OFFSET('Fiche score'!$A$2,VLOOKUP(RIGHT(E105,2),Feuil1!A:C,2,FALSE)+1,VLOOKUP(RIGHT(E105,2),Feuil1!A:C,3,FALSE)),\"\")","v":""},null,null,{"$f":"IF(D105<>\"\",IF(D105>G105,C105,F105),\"\")","v":""}]

{"sheet":"Cadrage","index":5,"n_rows":54,"n_cols":8,"rows_kept":54,"cut":false,"hidden":false,"merged":[[0,1,0,3]]}
[null,"FICHE CADRAGE"]
["Jeu","Equipe 1","Score","Equipe 2","Score"]
[{"$f":"IF(AND(D3<>\"\",D3<>\"office\"),2,\"\")","v":""},null,null,null,null,null,null,{"$f":"IF(C3<>\"\",IF(C3>E3,B3,D3),\"\")","v":""}]
[{"$f":"IF(AND(D4<>\"\",D4<>\"office\"),MAX(A$3:A3)+2,\"\")","v":""},null,null,null,null,null,null,{"$f":"IF(C4<>\"\",IF(C4>E4,B4,D4),\"\")","v":""}]
[{"$f":"IF(AND(D5<>\"\",D5<>\"office\"),MAX(A$3:A4)+2,\"\")","v":""},null,null,null,null,null,null,""]
[{"$f":"IF(AND(D6<>\"\",D6<>\"office\"),MAX(A$3:A5)+2,\"\")","v":""},null,null,null,null,null,null,""]
[{"$f":"IF(AND(D7<>\"\",D7<>\"office\"),MAX(A$3:A6)+2,\"\")","v":""},null,null,null,null,null,null,""]
[{"$f":"IF(AND(D8<>\"\",D8<>\"office\"),MAX(A$3:A7)+2,\"\")","v":""},null,null,null,null,null,null,""]
[{"$f":"IF(AND(D9<>\"\",D9<>\"office\"),MAX(A$3:A8)+2,\"\")","v":""},null,null,null,null,null,null,""]
[{"$f":"IF(AND(D10<>\"\",D10<>\"office\"),MAX(A$3:A9)+2,\"\")","v":""},null,null,null,null,null,null,""]
[{"$f":"IF(AND(D11<>\"\",D11<>\"office\"),MAX(A$3:A10)+2,\"\")","v":""},null,null,null,null,null,null,""]
[{"$f":"IF(AND(D12<>\"\",D12<>\"office\"),MAX(A$3:A11)+2,\"\")","v":""},null,null,null,null,null,null,""]
[{"$f":"IF(AND(D13<>\"\",D13<>\"office\"),MAX(A$3:A12)+2,\"\")","v":""},null,null,null,null,null,null,""]
[{"$f":"IF(AND(D14<>\"\",D14<>\"office\"),MAX(A$3:A13)+2,\"\")","v":""},null,null,null,null,null,null,""]
[{"$f":"IF(AND(D15<>\"\",D15<>\"office\"),MAX(A$3:A14)+2,\"\")","v":""},null,null,null,null,null,null,""]
[{"$f":"IF(AND(D16<>\"\",D16<>\"office\"),MAX(A$3:A15)+2,\"\")","v":""},null,null,null,null,null,null,""]
[{"$f":"IF(AND(D17<>\"\",D17<>\"office\"),MAX(A$3:A16)+2,\"\")","v":""},null,null,null,null,null,null,""]
[{"$f":"IF(AND(D18<>\"\",D18<>\"office\"),MAX(A$3:A17)+2,\"\")","v":""},null,null,null,null,null,null,""]
[{"$f":"IF(AND(D19<>\"\",D19<>\"office\"),MAX(A$3:A18)+2,\"\")","v":""},null,null,null,null,null,null,""]
[{"$f":"IF(AND(D20<>\"\",D20<>\"office\"),MAX(A$3:A19)+2,\"\")","v":""},null,null,null,null,null,null,""]
[{"$f":"IF(AND(D21<>\"\",D21<>\"office\"),MAX(A$3:A20)+2,\"\")","v":""},null,null,null,null,null,null,""]
[{"$f":"IF(AND(D22<>\"\",D22<>\"office\"),MAX(A$3:A21)+2,\"\")","v":""},null,null,null,null,null,null,""]
[{"$f":"IF(AND(D23<>\"\",D23<>\"office\"),MAX(A$3:A22)+2,\"\")","v":""},null,null,null,null,null,null,""]
[{"$f":"IF(AND(D24<>\"\",D24<>\"office\"),MAX(A$3:A23)+2,\"\")","v":""},null,null,null,null,null,null,""]
[{"$f":"IF(AND(D25<>\"\",D25<>\"office\"),MAX(A$3:A24)+2,\"\")","v":""},null,null,null,null,null,null,""]
[{"$f":"IF(AND(D26<>\"\",D26<>\"office\"),MAX(A$3:A25)+2,\"\")","v":""},null,null,null,null,null,null,""]
[{"$f":"IF(AND(D27<>\"\",D27<>\"office\"),MAX(A$3:A26)+2,\"\")","v":""},null,null,null,null,null,null,""]
[{"$f":"IF(AND(D28<>\"\",D28<>\"office\"),MAX(A$3:A27)+2,\"\")","v":""},null,null,null,null,null,null,""]
[{"$f":"IF(AND(D29<>\"\",D29<>\"office\"),MAX(A$3:A28)+2,\"\")","v":""},null,null,null,null,null,null,""]
[{"$f":"IF(AND(D30<>\"\",D30<>\"office\"),MAX(A$3:A29)+2,\"\")","v":""},null,null,null,null,null,null,""]
[{"$f":"IF(AND(D31<>\"\",D31<>\"office\"),MAX(A$3:A30)+2,\"\")","v":""},null,null,null,null,null,null,""]
[{"$f":"IF(AND(D32<>\"\",D32<>\"office\"),MAX(A$3:A31)+2,\"\")","v":""},null,null,null,null,null,null,""]
[{"$f":"IF(AND(D33<>\"\",D33<>\"office\"),MAX(A$3:A32)+2,\"\")","v":""},null,null,null,null,null,null,""]
[{"$f":"IF(AND(D34<>\"\",D34<>\"office\"),MAX(A$3:A33)+2,\"\")","v":""},null,null,null,null,null,null,""]
[{"$f":"IF(AND(D35<>\"\",D35<>\"office\"),MAX(A$3:A34)+2,\"\")","v":""},null,null,null,null,null,null,""]
[{"$f":"IF(AND(D36<>\"\",D36<>\"office\"),MAX(A$3:A35)+2,\"\")","v":""},null,null,null,null,null,null,""]
[{"$f":"IF(AND(D37<>\"\",D37<>\"office\"),MAX(A$3:A36)+2,\"\")","v":""},null,null,null,null,null,null,""]
[{"$f":"IF(AND(D38<>\"\",D38<>\"office\"),MAX(A$3:A37)+2,\"\")","v":""},null,null,null,null,null,null,""]
[{"$f":"IF(AND(D39<>\"\",D39<>\"office\"),MAX(A$3:A38)+2,\"\")","v":""},null,null,null,null,null,null,""]
[{"$f":"IF(AND(D40<>\"\",D40<>\"office\"),MAX(A$3:A39)+2,\"\")","v":""},null,null,null,null,null,null,""]
[{"$f":"IF(AND(D41<>\"\",D41<>\"office\"),MAX(A$3:A40)+2,\"\")","v":""},null,null,null,null,null,null,""]
[{"$f":"IF(AND(D42<>\"\",D42<>\"office\"),MAX(A$3:A41)+2,\"\")","v":""},null,null,null,null,null,null,""]
[{"$f":"IF(AND(D43<>\"\",D43<>\"office\"),MAX(A$3:A42)+2,\"\")","v":""},null,null,null,null,null,null,""]
[{"$f":"IF(AND(D44<>\"\",D44<>\"office\"),MAX(A$3:A43)+2,\"\")","v":""},null,null,null,null,null,null,""]
[{"$f":"IF(AND(D45<>\"\",D45<>\"office\"),MAX(A$3:A44)+2,\"\")","v":""},null,null,null,null,null,null,""]
[{"$f":"IF(AND(D46<>\"\",D46<>\"office\"),MAX(A$3:A45)+2,\"\")","v":""},null,null,null,null,null,null,""]
[{"$f":"IF(AND(D47<>\"\",D47<>\"office\"),MAX(A$3:A46)+2,\"\")","v":""},null,null,null,null,null,null,""]
[{"$f":"IF(AND(D48<>\"\",D48<>\"office\"),MAX(A$3:A47)+2,\"\")","v":""},null,null,null,null,null,null,""]
[{"$f":"IF(AND(D49<>\"\",D49<>\"office\"),MAX(A$3:A48)+2,\"\")","v":""},null,null,null,null,null,null,""]
[{"$f":"IF(AND(D50<>\"\",D50<>\"office\"),MAX(A$3:A49)+2,\"\")","v":""},null,null,null,null,null,null,""]
[{"$f":"IF(AND(D51<>\"\",D51<>\"office\"),MAX(A$3:A50)+2,\"\")","v":""},null,null,null,null,null,null,""]
[{"$f":"IF(AND(D52<>\"\",D52<>\"office\"),MAX(A$3:A51)+2,\"\")","v":""},null,null,null,null,null,null,""]
[{"$f":"IF(AND(D53<>\"\",D53<>\"office\"),MAX(A$3:A52)+2,\"\")","v":""},null,null,null,null,null,null,""]
[{"$f":"IF(AND(D54<>\"\",D54<>\"office\"),MAX(A$3:A53)+2,\"\")","v":""},null,null,null,null,null,null,""]

{"sheet":"Tableau final","index":6,"n_rows":39,"n_cols":26,"rows_kept":39,"cut":false,"hidden":false,"merged":[[32,6,33,6],[33,0,34,0],[33,1,34,1],[34,11,35,11],[35,0,36,0],[35,1,36,1],[36,6,37,6],[37,0,38,0],[37,1,38,1],[24,19,30,19],[25,0,26,0],[25,1,26,1],[26,11,27,11],[27,0,28,0],[23,0,24,0],[23,1,24,1],[23,16,24,16],[24,6,25,6],[27,1,28,1],[28,6,29,6],[29,0,30,0],[29,1,30,1],[30,16,31,16],[31,0,32,0],[31,1,32,1],[15,19,23,19],[16,6,17,6],[17,0,18,0],[17,1,18,1],[18,11,19,11],[19,0,20,0],[19,1,20,1],[20,6,21,6],[21,0,22,0],[21,1,22,1],[14,16,15,16],[15,0,16,0],[15,1,16,1],[11,0,12,0],[11,1,12,1],[12,6,13,6],[13,0,14,0],[13,1,14,1],[5,1,5,3],[5,6,5,8],[5,11,5,13],[5,16,5,18],[6,16,12,18],[10,11,11,11],[7,0,8,0],[7,1,8,1],[8,6,9,6],[9,0,10,0],[9,1,10,1],[4,1,4,3],[4,6,4,8],[4,11,4,13],[4,16,4,18],[0,2,0,12],[1,2,1,12],[1,17,2,17],[2,2,2,12],[3,1,3,6]]}
[{"$f":"IF('Fiche paramétrage concours'!B13=\"\",\"\",'Fiche paramétrage concours'!B13)","v":""},null,{"$f":"'Fiche paramétrage concours'!B1","v":0},null,null,null,null,null,null,null,null,null,null,null,null,null,null,{"$f":"'Fiche paramétrage concours'!B7","v":0}]
[{"$f":"32-COUNTIF(C8:C39,\"\")","v":0},null,{"$f":"'Fiche paramétrage concours'!B3","v":0},null,null,null,null,null,null,null,null,null,null,null,null,null,null,{"$f":"'Fiche paramétrage concours'!B9","v":0}]
[null,null," Tableau final"]
[]
[null,{"$f":"IF($A$1<>\"\",IF($A$2=$A$1,\"Qualifiés\",IF($A$2=$A$1*2,\"Partie Qualificative\",\"\")),IF($A$2=32,\"1/16ème de finale\",IF($A$2=16,\"1/8ème de finale\",\"\")))","v":""},null,null,null,null,{"$f":"IF($A$1<>\"\",IF($B$5=\"Partie Qualificative\",\"Qualifiés\",IF($B$5=\"Qualifiés\",IF($B$2>=8,\"1/4 de finale\",\"\"),IF($B$2=$B$1*4,\"Partie Qualificative\",\"\"))),IF($A$2=32,\"1/8ème de finale\",IF($A$2=16,\"1/4 de finale\",\"\")))","v":""},null,null,null,null,{"$f":"IF($A$1<>\"\",IF($A$2=$A$1*4,\"Qualifiés\",IF($A$2>16,\"1/4 de Finale\",\"Demi-Finale\")),IF($A$2=32,\"1/4 de finale\",IF($A$2=16,\"Demi-finale\",\"\")))","v":""},null,null,null,null,{"$f":"IF($A$1<>\"\",IF($A$2>=16,\"1/2 finale\",\"Finale\"),IF($A$2>=16,\"1/2 finale\",\"Finale\"))","v":"Finale"}]
[]
[null,"Jeu","Nom + AS","Score",{"$f":"IF($A$1<>\"\",IF($B$5=\"Qualifiés\",\"N° qual\",\"\"),\"\")","v":""},{"$f":"IF($A$1<>\"\",IF($B$5=\"Qualifiés\",\"cadr.qual\",\"\"),\"\")","v":""},"Jeu","Nom + AS","Score",{"$f":"IF($A$1<>\"\",IF($G$5=\"Qualifiés\",\"N° qual\",\"\"),\"\")","v":""},{"$f":"IF($A$1<>\"\",IF($G$5=\"Qualifiés\",\"cadr.qual\",\"\"),\"\")","v":""},"Jeu","Nom + AS","Score",{"$f":"IF($A$1<>\"\",IF($L$5=\"Qualifiés\",\"N° qual\",\"\"),\"\")","v":""},{"$f":"IF($A$1<>\"\",IF($L$5=\"Qualifiés\",\"cadr.qual\",\"\"),\"\")","v":""},"en cas de concours avec plusieurs qualifiés, affecter un numéro aux équipes qualifiées participant aux phases finales en colonne E ou J ou O (N° à sélectionner dans la liste déroulante dans la cellule à droite de la colonne où sont affichés les noms des qualifiés), de 1 à 16 ou de 1 à 8 ou de 1 à 4 selon le cas, et si la détermination des participants aux phases finales s'effectue via une partie de cadrage, cocher les équipes qui ont participé à ce cadrage en regard de leur N° (colonne F, K ou P)."]
[null,1,{"$f":"IF(Cadrage!$B$3<>\"\",IF(Cadrage!D3= \"Office\",Cadrage!B3,IF(Cadrage!C3<>\"\",IF(Cadrage!C3>Cadrage!E3,Cadrage!B3,Cadrage!D3),\"\")),IF(OFFSET('Fiche tirage dirigé'!$A$1,(ROW()-7)*2,3)<>\"\",IF(OFFSET('Fiche tirage dirigé'!$A$1,(ROW()-7)*2,3)>OFFSET('Fiche tirage dirigé'!$A$1,(ROW()-7)*2,6),OFFSET('Fiche tirage dirigé'!$A$1,(ROW()-7)*2,2),OFFSET('Fiche tirage dirigé'!$A$1,(ROW()-7)*2,5)),\"\"))","v":""},null,null,null,null,null,null,null,null,null,null,null,null,null,null,null,null,null,null,{"$f":"IF(C8<>\"\",IF(D8>D9,C8,\"\"),\"\")","v":""}]
[null,null,{"$f":"IF(Cadrage!$B$3<>\"\",IF(Cadrage!D4= \"Office\",Cadrage!B4,IF(Cadrage!C4<>\"\",IF(Cadrage!C4>Cadrage!E4,Cadrage!B4,Cadrage!D4),\"\")),IF(OFFSET('Fiche tirage dirigé'!$A$1,(ROW()-7)*2,3)<>\"\",IF(OFFSET('Fiche tirage dirigé'!$A$1,(ROW()-7)*2,3)>OFFSET('Fiche tirage dirigé'!$A$1,(ROW()-7)*2,6),OFFSET('Fiche tirage dirigé'!$A$1,(ROW()-7)*2,2),OFFSET('Fiche tirage dirigé'!$A$1,(ROW()-7)*2,5)),\"\"))","v":""},null,null,null,{"$f":"B8+2","v":3},{"$f":"IF($A$1<>\"\",IF(OR($G$5=\"Partie Qualificative\",$G$5=\"Qualifiés\"),IF(D8<>\"\",IF(D8>D9,C8,C9),\"\"),IF($G$5=\"1/4 de finale\",IF(E$8=1,C$8,IF(E$9=1,C$9,IF(E$10=1,C$10,IF(E$11=1,C$11,IF(E$12=1,C$12,IF(E$13=1,C$13,IF(E$14=1,C$14,IF(E$15=1,C$15,\"anomalie\")))))))),IF(AND($G$5=\"\",$B$5=\"Qualifiés\"),\"\"))),IF(D8<>\"\",IF(D8>D9,C8,C9),\"\"))","v":""},null,null,null,null,null,null,null,null,null,null,null,null,null,{"$f":"IF(C9<>\"\",IF(D9>D8,C9,\"\"),\"\")","v":""},{"$f":"IF(H9<>\"\",IF(I9>I10,H9,\"\"),\"\")","v":""}]
[null,{"$f":"B8+1","v":2},{"$f":"IF(Cadrage!$B$3<>\"\",IF(Cadrage!D5= \"Office\",Cadrage!B5,IF(Cadrage!C5<>\"\",IF(Cadrage!C5>Cadrage!E5,Cadrage!B5,Cadrage!D5),\"\")),IF(OFFSET('Fiche tirage dirigé'!$A$1,(ROW()-7)*2,3)<>\"\",IF(OFFSET('Fiche tirage dirigé'!$A$1,(ROW()-7)*2,3)>OFFSET('Fiche tirage dirigé'!$A$1,(ROW()-7)*2,6),OFFSET('Fiche tirage dirigé'!$A$1,(ROW()-7)*2,2),OFFSET('Fiche tirage dirigé'!$A$1,(ROW()-7)*2,5)),\"\"))","v":""},null,null,null,null,{"$f":"IF($A$1<>\"\",IF(OR($G$5=\"Partie Qualificative\",$G$5=\"Qualifiés\"),IF(D10<>\"\",IF(D10>D11,C10,C11),\"\"),IF($G$5=\"1/4 de finale\",IF(E$8=2,C$8,IF(E$9=2,C$9,IF(E$10=2,C$10,IF(E$11=2,C$11,IF(E$12=2,C$12,IF(E$13=2,C$13,IF(E$14=2,C$14,IF(E$15=2,C$15,\"anomalie\")))))))),IF(AND($G$5=\"\",$B$5=\"Qualifiés\"),\"\"))),IF(D10<>\"\",IF(D10>D11,C10,C11),\"\"))","v":""},null,null,null,null,null,null,null,null,null,null,null,null,null,{"$f":"IF(C10<>\"\",IF(D10>D11,C10,\"\"),\"\")","v":""},{"$f":"IF(H10<>\"\",IF(I10>I9,H10,\"\"),\"\")","v":""}]
[null,null,{"$f":"IF(Cadrage!$B$3<>\"\",IF(Cadrage!D6= \"Office\",Cadrage!B6,IF(Cadrage!C6<>\"\",IF(Cadrage!C6>Cadrage!E6,Cadrage!B6,Cadrage!D6),\"\")),IF(OFFSET('Fiche tirage dirigé'!$A$1,(ROW()-7)*2,3)<>\"\",IF(OFFSET('Fiche tirage dirigé'!$A$1,(ROW()-7)*2,3)>OFFSET('Fiche tirage dirigé'!$A$1,(ROW()-7)*2,6),OFFSET('Fiche tirage dirigé'!$A$1,(ROW()-7)*2,2),OFFSET('Fiche tirage dirigé'!$A$1,(ROW()-7)*2,5)),\"\"))","v":""},null,null,null,null,null,null,null,null,{"$f":"G37","v":17},{"$f":"IF($A$1<>\"\",IF($L$5=\"Qualifiés\",IF(I9<>\"\",IF(I9>I10,H9,H10),\"\"),IF($G$5=\"Qualifiés\",IF(J9=1,H9,IF(J10=1,H10,IF(J13=1,H13,IF(J14=1,H14,IF(J17=1,H17,IF(J18=1,H18,IF(J21=1,H21,IF(J22=1,H22,\"anomalie\")))))))),IF($B$5=\"Qualifiés\",IF($G$5=\"1/4 de finale\",IF(I9<>\"\",IF(I9>I10,H9,H10),\"\"),IF(E8=1,C8,IF(E9=1,C9,IF(E10=1,C10,IF(E11=1,C11,IF(E12=1,C12,IF(E13=1,C13,IF(E14=1,C14,IF(E15=1,C15,\"anomalie\"))))))))),IF($A$2=0,\"\",\"anomalie\")))),IF(I9<>\"\",IF(I9>I10,H9,H10),\"\"))","v":""},null,null,null,null,null,null,null,null,{"$f":"IF(C11<>\"\",IF(D11>D10,C11,\"\"),\"\")","v":""},null,{"$f":"IF(M11<>\"\",IF(N11>N12,M11,\"\"),\"\")","v":""}]
[null,{"$f":"B10+1","v":3},{"$f":"IF(Cadrage!$B$3<>\"\",IF(Cadrage!D7= \"Office\",Cadrage!B7,IF(Cadrage!C7<>\"\",IF(Cadrage!C7>Cadrage!E7,Cadrage!B7,Cadrage!D7),\"\")),IF(OFFSET('Fiche tirage dirigé'!$A$1,(ROW()-7)*2,3)<>\"\",IF(OFFSET('Fiche tirage dirigé'!$A$1,(ROW()-7)*2,3)>OFFSET('Fiche tirage dirigé'!$A$1,(ROW()-7)*2,6),OFFSET('Fiche tirage dirigé'!$A$1,(ROW()-7)*2,2),OFFSET('Fiche tirage dirigé'!$A$1,(ROW()-7)*2,5)),\"\"))","v":""},null,null,null,null,null,null,null,null,null,{"$f":"IF($A$1<>\"\",IF($L$5=\"Qualifiés\",IF(I13<>\"\",IF(I13>I14,H13,H14),\"\"),IF($G$5=\"Qualifiés\",IF(J9=2,H9,IF(J10=2,H10,IF(J13=2,H13,IF(J14=2,H14,IF(J17=2,H17,IF(J18=2,H18,IF(J21=2,H21,IF(J22=2,H22,\"anomalie\")))))))),IF($B$5=\"Qualifiés\",IF($G$5=\"1/4 de finale\",IF(I13<>\"\",IF(I13>I14,H13,H14),\"\"),IF(E8=2,C8,IF(E9=2,C9,IF(E10=2,C10,IF(E11=2,C11,IF(E12=2,C12,IF(E13=2,C13,IF(E14=2,C14,IF(E15=2,C15,\"anomalie\"))))))))),IF($A$2=0,\"\",\"anomalie\")))),IF(I13<>\"\",IF(I13>I14,H13,H14),\"\"))","v":""},null,null,null,null,null,null,null,null,{"$f":"IF(C12<>\"\",IF(D12>D13,C12,\"\"),\"\")","v":""},null,{"$f":"IF(M12<>\"\",IF(N12>N11,M12,\"\"),\"\")","v":""}]
[null,null,{"$f":"IF(Cadrage!$B$3<>\"\",IF(Cadrage!D8= \"Office\",Cadrage!B8,IF(Cadrage!C8<>\"\",IF(Cadrage!C8>Cadrage!E8,Cadrage!B8,Cadrage!D8),\"\")),IF(OFFSET('Fiche tirage dirigé'!$A$1,(ROW()-7)*2,3)<>\"\",IF(OFFSET('Fiche tirage dirigé'!$A$1,(ROW()-7)*2,3)>OFFSET('Fiche tirage dirigé'!$A$1,(ROW()-7)*2,6),OFFSET('Fiche tirage dirigé'!$A$1,(ROW()-7)*2,2),OFFSET('Fiche tirage dirigé'!$A$1,(ROW()-7)*2,5)),\"\"))","v":""},null,null,null,{"$f":"G9+2","v":5},{"$f":"IF($A$1<>\"\",IF(OR($G$5=\"Partie Qualificative\",$G$5=\"Qualifiés\"),IF(D12<>\"\",IF(D12>D13,C12,C13),\"\"),IF($G$5=\"1/4 de finale\",IF(E$8=3,C$8,IF(E$9=3,C$9,IF(E$10=3,C$10,IF(E$11=3,C$11,IF(E$12=3,C$12,IF(E$13=3,C$13,IF(E$14=3,C$14,IF(E$15=3,C$15,\"anomalie\")))))))),IF(AND($G$5=\"\",$B$5=\"Qualifiés\"),\"\"))),IF(D12<>\"\",IF(D12>D13,C12,C13),\"\"))","v":""},null,null,null,null,null,null,null,null,null,null,null,null,null,{"$f":"IF(C13<>\"\",IF(D13>D12,C13,\"\"),\"\")","v":""},{"$f":"IF(H13<>\"\",IF(I13>I14,H13,\"\"),\"\")","v":""}]
[null,{"$f":"B12+1","v":4},{"$f":"IF(Cadrage!$B$3<>\"\",IF(Cadrage!D9= \"Office\",Cadrage!B9,IF(Cadrage!C9<>\"\",IF(Cadrage!C9>Cadrage!E9,Cadrage!B9,Cadrage!D9),\"\")),IF(OFFSET('Fiche tirage dirigé'!$A$1,(ROW()-7)*2,3)<>\"\",IF(OFFSET('Fiche tirage dirigé'!$A$1,(ROW()-7)*2,3)>OFFSET('Fiche tirage dirigé'!$A$1,(ROW()-7)*2,6),OFFSET('Fiche tirage dirigé'!$A$1,(ROW()-7)*2,2),OFFSET('Fiche tirage dirigé'!$A$1,(ROW()-7)*2,5)),\"\"))","v":""},null,null,null,null,{"$f":"IF($A$1<>\"\",IF(OR($G$5=\"Partie Qualificative\",$G$5=\"Qualifiés\"),IF(D14<>\"\",IF(D14>D15,C14,C15),\"\"),IF($G$5=\"1/4 de finale\",IF(E$8=4,C$8,IF(E$9=4,C$9,IF(E$10=4,C$10,IF(E$11=4,C$11,IF(E$12=4,C$12,IF(E$13=4,C$13,IF(E$14=4,C$14,IF(E$15=4,C$15,\"anomalie\")))))))),IF(AND($G$5=\"\",$B$5=\"Qualifiés\"),\"\"))),IF(D14<>\"\",IF(D14>D15,C14,C15),\"\"))","v":""},null,null,null,null,null,null,null,null,null,null,null,null,null,{"$f":"IF(C14<>\"\",IF(D14>D15,C14,\"\"),\"\")","v":""},{"$f":"IF(H14<>\"\",IF(I14>I13,H14,\"\"),\"\")","v":""}]
[null,null,{"$f":"IF(Cadrage!$B$3<>\"\",IF(Cadrage!D10= \"Office\",Cadrage!B10,IF(Cadrage!C10<>\"\",IF(Cadrage!C10>Cadrage!E10,Cadrage!B10,Cadrage!D10),\"\")),IF(OFFSET('Fiche tirage dirigé'!$A$1,(ROW()-7)*2,3)<>\"\",IF(OFFSET('Fiche tirage dirigé'!$A$1,(ROW()-7)*2,3)>OFFSET('Fiche tirage dirigé'!$A$1,(ROW()-7)*2,6),OFFSET('Fiche tirage dirigé'!$A$1,(ROW()-7)*2,2),OFFSET('Fiche tirage dirigé'!$A$1,(ROW()-7)*2,5)),\"\"))","v":""},null,null,null,null,null,null,null,null,null,null,null,null,null,{"$f":"G29","v":13},{"$f":"IF($A$1<>\"\",IF($L$5=\"Qualifiés\",IF($A$1=4,M11,IF($A$1>4,IF(O11=1,M11,IF(O12=1,M12,IF(O19=1,M19,IF(O20=1,M20,IF(O27=1,M27,IF(O28=1,M28,IF(O35=1,M35,IF(O36=1,M36,\"anomalie\")))))))),IF(O11=1,M11,IF(O12=1,M12,IF(O19=1,M19,IF(O20=1,M20,\"anomalie\")))))),IF($G$5=\"Qualifiés\",IF(N11<>\"\",IF(N11>N12,M11,M12),\"\"),IF($B$5=\"Qualifiés\",IF(N11<>\"\",IF(N11>N12,M11,M12),\"\"),IF($A$2=0,\"\",\"anomalie\")))),IF(N11<>\"\",IF(N11>N12,M11,M12),\"\"))","v":""},null,null,null,{"$f":"IF(C15<>\"\",IF(D15>D14,C15,\"\"),\"\")","v":""},null,null,{"$f":"IF(R15<>\"\",IF(S15>S16,R15,\"\"),\"\")","v":""}]
[null,{"$f":"B14+1","v":5},{"$f":"IF(Cadrage!$B$3<>\"\",IF(Cadrage!D11= \"Office\",Cadrage!B11,IF(Cadrage!C11<>\"\",IF(Cadrage!C11>Cadrage!E11,Cadrage!B11,Cadrage!D11),\"\")),IF(OFFSET('Fiche tirage dirigé'!$A$1,(ROW()-7)*2,3)<>\"\",IF(OFFSET('Fiche tirage dirigé'!$A$1,(ROW()-7)*2,3)>OFFSET('Fiche tirage dirigé'!$A$1,(ROW()-7)*2,6),OFFSET('Fiche tirage dirigé'!$A$1,(ROW()-7)*2,2),OFFSET('Fiche tirage dirigé'!$A$1,(ROW()-7)*2,5)),\"\"))","v":""},null,null,null,null,null,null,null,null,null,null,null,null,null,null,{"$f":"IF($A$1<>\"\",IF($L$5=\"Qualifiés\",IF($A$1=4,M12,IF($A$1>4,IF(O11=2,M11,IF(O12=2,M12,IF(O19=2,M19,IF(O20=2,M20,IF(O27=2,M27,IF(O28=2,M28,IF(O35=2,M35,IF(O36=2,M36,\"anomalie\")))))))),IF(O11=2,M11,IF(O12=2,M12,IF(O19=2,M19,IF(O20=2,M20,\"anomalie\")))))),IF($G$5=\"Qualifiés\",IF(N19<>\"\",IF(N19>N20,M19,M20),\"\"),IF($B$5=\"Qualifiés\",IF(N19<>\"\",IF(N19>N20,M19,M20),\"\"),IF($A$2=0,\"\",\"anomalie\")))),IF(N9<>\"\",IF(N19>N20,M19,M20),\"\"))","v":""},null,null,null,{"$f":"IF(C16<>\"\",IF(D16>D17,C16,\"\"),\"\")","v":""},null,null,{"$f":"IF(R16<>\"\",IF(S16>S15,R16,\"\"),\"\")","v":""}]
[null,null,{"$f":"IF(Cadrage!$B$3<>\"\",IF(Cadrage!D12= \"Office\",Cadrage!B12,IF(Cadrage!C12<>\"\",IF(Cadrage!C12>Cadrage!E12,Cadrage!B12,Cadrage!D12),\"\")),IF(OFFSET('Fiche tirage dirigé'!$A$1,(ROW()-7)*2,3)<>\"\",IF(OFFSET('Fiche tirage dirigé'!$A$1,(ROW()-7)*2,3)>OFFSET('Fiche tirage dirigé'!$A$1,(ROW()-7)*2,6),OFFSET('Fiche tirage dirigé'!$A$1,(ROW()-7)*2,2),OFFSET('Fiche tirage dirigé'!$A$1,(ROW()-7)*2,5)),\"\"))","v":""},null,null,null,{"$f":"G13+2","v":7},{"$f":"IF($A$1<>\"\",IF(OR($G$5=\"Partie Qualificative\",$G$5=\"Qualifiés\"),IF(D16<>\"\",IF(D16>D17,C16,C17),\"\"),IF($G$5=\"1/4 de finale\",IF(E$16=5,C$16,IF(E$17=5,C$17,IF(E$18=5,C$18,IF(E$19=5,C$19,IF(E$20=5,C$20,IF(E$21=5,C$21,IF(E$22=5,C$22,IF(E$23=5,C$23,\"anomalie\")))))))),IF(AND($G$5=\"\",$B$5=\"Qualifiés\"),\"\"))),IF(D16<>\"\",IF(D16>D17,C16,C17),\"\"))","v":""},null,null,null,null,null,null,null,null,null,null,null,null,null,{"$f":"IF(C17<>\"\",IF(D17>D16,C17,\"\"),\"\")","v":""},{"$f":"IF(H17<>\"\",IF(I17>I18,H17,\"\"),\"\")","v":""}]
[null,{"$f":"B16+1","v":6},{"$f":"IF(Cadrage!$B$3<>\"\",IF(Cadrage!D13= \"Office\",Cadrage!B13,IF(Cadrage!C13<>\"\",IF(Cadrage!C13>Cadrage!E13,Cadrage!B13,Cadrage!D13),\"\")),IF(OFFSET('Fiche tirage dirigé'!$A$1,(ROW()-7)*2,3)<>\"\",IF(OFFSET('Fiche tirage dirigé'!$A$1,(ROW()-7)*2,3)>OFFSET('Fiche tirage dirigé'!$A$1,(ROW()-7)*2,6),OFFSET('Fiche tirage dirigé'!$A$1,(ROW()-7)*2,2),OFFSET('Fiche tirage dirigé'!$A$1,(ROW()-7)*2,5)),\"\"))","v":""},null,null,null,null,{"$f":"IF($A$1<>\"\",IF(OR($G$5=\"Partie Qualificative\",$G$5=\"Qualifiés\"),IF(D18<>\"\",IF(D18>D19,C18,C19),\"\"),IF($G$5=\"1/4 de finale\",IF(E$16=6,C$16,IF(E$17=6,C$17,IF(E$18=6,C$18,IF(E$19=6,C$19,IF(E$20=6,C$20,IF(E$21=6,C$21,IF(E$22=6,C$22,IF(E$23=6,C$23,\"anomalie\")))))))),IF(AND($G$5=\"\",$B$5=\"Qualifiés\"),\"\"))),IF(D18<>\"\",IF(D18>D19,C18,C19),\"\"))","v":""},null,null,null,null,null,null,null,null,null,null,null,null,null,{"$f":"IF(C18<>\"\",IF(D18>D19,C18,\"\"),\"\")","v":""},{"$f":"IF(H18<>\"\",IF(I18>I17,H18,\"\"),\"\")","v":""}]
[null,null,{"$f":"IF(Cadrage!$B$3<>\"\",IF(Cadrage!D14= \"Office\",Cadrage!B14,IF(Cadrage!C14<>\"\",IF(Cadrage!C14>Cadrage!E14,Cadrage!B14,Cadrage!D14),\"\")),IF(OFFSET('Fiche tirage dirigé'!$A$1,(ROW()-7)*2,3)<>\"\",IF(OFFSET('Fiche tirage dirigé'!$A$1,(ROW()-7)*2,3)>OFFSET('Fiche tirage dirigé'!$A$1,(ROW()-7)*2,6),OFFSET('Fiche tirage dirigé'!$A$1,(ROW()-7)*2,2),OFFSET('Fiche tirage dirigé'!$A$1,(ROW()-7)*2,5)),\"\"))","v":""},null,null,null,null,null,null,null,null,{"$f":"G33","v":15},{"$f":"IF($A$1<>\"\",IF($L$5=\"Qualifiés\",IF(I17<>\"\",IF(I17>I18,H17,H18),\"\"),IF($G$5=\"Qualifiés\",IF(J9=3,H9,IF(J10=3,H10,IF(J13=3,H13,IF(J14=3,H14,IF(J17=3,H17,IF(J18=3,H18,IF(J21=3,H21,IF(J22=3,H22,\"anomalie\")))))))),IF($B$5=\"Qualifiés\",IF($G$5=\"1/4 de finale\",IF(I13<>\"\",IF(I13>I14,H13,H14),\"\"),IF(E8=3,C8,IF(E9=3,C9,IF(E10=3,C10,IF(E11=3,C11,IF(E12=3,C12,IF(E13=3,C13,IF(E14=3,C14,IF(E15=3,C15,\"anomalie\"))))))))),IF($A$2=0,\"\",\"anomalie\")))),IF(I17<>\"\",IF(I17>I18,H17,H18),\"\"))","v":""},null,null,null,null,null,null,null,null,{"$f":"IF(C19<>\"\",IF(D19>D18,C19,\"\"),\"\")","v":""},null,{"$f":"IF(M19<>\"\",IF(N19>N20,M19,\"\"),\"\")","v":""}]
[null,{"$f":"B18+1","v":7},{"$f":"IF(Cadrage!$B$3<>\"\",IF(Cadrage!D15= \"Office\",Cadrage!B15,IF(Cadrage!C15<>\"\",IF(Cadrage!C15>Cadrage!E15,Cadrage!B15,Cadrage!D15),\"\")),IF(OFFSET('Fiche tirage dirigé'!$A$1,(ROW()-7)*2,3)<>\"\",IF(OFFSET('Fiche tirage dirigé'!$A$1,(ROW()-7)*2,3)>OFFSET('Fiche tirage dirigé'!$A$1,(ROW()-7)*2,6),OFFSET('Fiche tirage dirigé'!$A$1,(ROW()-7)*2,2),OFFSET('Fiche tirage dirigé'!$A$1,(ROW()-7)*2,5)),\"\"))","v":""},null,null,null,null,null,null,null,null,null,{"$f":"IF($A$1<>\"\",IF($L$5=\"Qualifiés\",IF(I21<>\"\",IF(I21>I22,H21,H22),\"\"),IF($G$5=\"Qualifiés\",IF(J9=4,H9,IF(J10=4,H10,IF(J13=4,H13,IF(J14=4,H14,IF(J17=4,H17,IF(J18=4,H18,IF(J21=4,H21,IF(J22=4,H22,\"anomalie\")))))))),IF($B$5=\"Qualifiés\",IF($G$5=\"1/4 de finale\",IF(I21<>\"\",IF(I21>I22,H21,H22),\"\"),IF(E8=4,C8,IF(E9=4,C9,IF(E10=4,C10,IF(E11=4,C11,IF(E12=4,C12,IF(E13=4,C13,IF(E14=4,C14,IF(E15=4,C15,\"anomalie\"))))))))),IF($A$2=0,\"\",\"anomalie\")))),IF(I21<>\"\",IF(I21>I22,H21,H22),\"\"))","v":""},null,null,null,null,null,null,null,null,{"$f":"IF(C20<>\"\",IF(D20>D21,C20,\"\"),\"\")","v":""},null,{"$f":"IF(M20<>\"\",IF(N20>N19,M20,\"\"),\"\")","v":""}]
[null,null,{"$f":"IF(Cadrage!$B$3<>\"\",IF(Cadrage!D16= \"Office\",Cadrage!B16,IF(Cadrage!C16<>\"\",IF(Cadrage!C16>Cadrage!E16,Cadrage!B16,Cadrage!D16),\"\")),IF(OFFSET('Fiche tirage dirigé'!$A$1,(ROW()-7)*2,3)<>\"\",IF(OFFSET('Fiche tirage dirigé'!$A$1,(ROW()-7)*2,3)>OFFSET('Fiche tirage dirigé'!$A$1,(ROW()-7)*2,6),OFFSET('Fiche tirage dirigé'!$A$1,(ROW()-7)*2,2),OFFSET('Fiche tirage dirigé'!$A$1,(ROW()-7)*2,5)),\"\"))","v":""},null,null,null,{"$f":"G17+2","v":9},{"$f":"IF($A$1<>\"\",IF(OR($G$5=\"Partie Qualificative\",$G$5=\"Qualifiés\"),IF(D20<>\"\",IF(D20>D21,C20,C21),\"\"),IF($G$5=\"1/4 de finale\",IF(E$16=7,C$16,IF(E$17=7,C$17,IF(E$18=7,C$18,IF(E$19=7,C$19,IF(E$20=7,C$20,IF(E$21=7,C$21,IF(E$22=7,C$22,IF(E$23=7,C$23,\"anomalie\")))))))),IF(AND($G$5=\"\",$B$5=\"Qualifiés\"),\"\"))),IF(D20<>\"\",IF(D20>D21,C20,C21),\"\"))","v":""},null,null,null,null,null,null,null,null,null,null,null,null,null,{"$f":"IF(C21<>\"\",IF(D21>D20,C21,\"\"),\"\")","v":""},{"$f":"IF(H21<>\"\",IF(I21>I22,H21,\"\"),\"\")","v":""}]
[null,{"$f":"B20+1","v":8},{"$f":"IF(Cadrage!$B$3<>\"\",IF(Cadrage!D17= \"Office\",Cadrage!B17,IF(Cadrage!C17<>\"\",IF(Cadrage!C17>Cadrage!E17,Cadrage!B17,Cadrage!D17),\"\")),IF(OFFSET('Fiche tirage dirigé'!$A$1,(ROW()-7)*2,3)<>\"\",IF(OFFSET('Fiche tirage dirigé'!$A$1,(ROW()-7)*2,3)>OFFSET('Fiche tirage dirigé'!$A$1,(ROW()-7)*2,6),OFFSET('Fiche tirage dirigé'!$A$1,(ROW()-7)*2,2),OFFSET('Fiche tirage dirigé'!$A$1,(ROW()-7)*2,5)),\"\"))","v":""},null,null,null,null,{"$f":"IF($A$1<>\"\",IF(OR($G$5=\"Partie Qualificative\",$G$5=\"Qualifiés\"),IF(D22<>\"\",IF(D22>D23,C22,C23),\"\"),IF($G$5=\"1/4 de finale\",IF(E$16=8,C$16,IF(E$17=8,C$17,IF(E$18=8,C$18,IF(E$19=8,C$19,IF(E$20=8,C$20,IF(E$21=8,C$21,IF(E$22=8,C$22,IF(E$23=8,C$23,\"anomalie\")))))))),IF(AND($G$5=\"\",$B$5=\"Qualifiés\"),\"\"))),IF(D22<>\"\",IF(D22>D23,C22,C23),\"\"))","v":""},null,null,null,null,null,null,null,null,null,"Finale",null,null,null,{"$f":"IF(C22<>\"\",IF(D22>D23,C22,\"\"),\"\")","v":""},{"$f":"IF(H22<>\"\",IF(I22>I21,H22,\"\"),\"\")","v":""}]
[null,null,{"$f":"IF(Cadrage!$B$3<>\"\",IF(Cadrage!D18= \"Office\",Cadrage!B18,IF(Cadrage!C18<>\"\",IF(Cadrage!C18>Cadrage!E18,Cadrage!B18,Cadrage!D18),\"\")),IF(OFFSET('Fiche tirage dirigé'!$A$1,(ROW()-7)*2,3)<>\"\",IF(OFFSET('Fiche tirage dirigé'!$A$1,(ROW()-7)*2,3)>OFFSET('Fiche tirage dirigé'!$A$1,(ROW()-7)*2,6),OFFSET('Fiche tirage dirigé'!$A$1,(ROW()-7)*2,2),OFFSET('Fiche tirage dirigé'!$A$1,(ROW()-7)*2,5)),\"\"))","v":""},null,null,null,null,null,null,null,null,null,null,null,null,null,null,null,null,null,null,{"$f":"IF(C23<>\"\",IF(D23>D22,C23,\"\"),\"\")","v":""}]
[null,{"$f":"B22+1","v":9},{"$f":"IF(Cadrage!$B$3<>\"\",IF(Cadrage!D19= \"Office\",Cadrage!B19,IF(Cadrage!C19<>\"\",IF(Cadrage!C19>Cadrage!E19,Cadrage!B19,Cadrage!D19),\"\")),IF(OFFSET('Fiche tirage dirigé'!$A$1,(ROW()-7)*2,3)<>\"\",IF(OFFSET('Fiche tirage dirigé'!$A$1,(ROW()-7)*2,3)>OFFSET('Fiche tirage dirigé'!$A$1,(ROW()-7)*2,6),OFFSET('Fiche tirage dirigé'!$A$1,(ROW()-7)*2,2),OFFSET('Fiche tirage dirigé'!$A$1,(ROW()-7)*2,5)),\"\"))","v":""},null,9,null,null,null,null,null,null,null,null,null,null,null,1,{"$f":"IF($A$2>16,IF(S15<>\"\",IF(S15>S16,R15,R16),\"\"),\"\")","v":""},null,null,null,{"$f":"IF(C24<>\"\",IF(D24>D25,C24,\"\"),\"\")","v":""},null,null,null,{"$f":"IF(R24<>\"\",IF(S24>S25,R24,\"\"),\"\")","v":""}]
[null,null,{"$f":"IF(Cadrage!$B$3<>\"\",IF(Cadrage!D20= \"Office\",Cadrage!B20,IF(Cadrage!C20<>\"\",IF(Cadrage!C20>Cadrage!E20,Cadrage!B20,Cadrage!D20),\"\")),IF(OFFSET('Fiche tirage dirigé'!$A$1,(ROW()-7)*2,3)<>\"\",IF(OFFSET('Fiche tirage dirigé'!$A$1,(ROW()-7)*2,3)>OFFSET('Fiche tirage dirigé'!$A$1,(ROW()-7)*2,6),OFFSET('Fiche tirage dirigé'!$A$1,(ROW()-7)*2,2),OFFSET('Fiche tirage dirigé'!$A$1,(ROW()-7)*2,5)),\"\"))","v":""},null,null,null,{"$f":"G21+2","v":11},{"$f":"IF($A$1<>\"\",IF(OR($G$5=\"Partie Qualificative\",$G$5=\"Qualifiés\"),IF(D24<>\"\",IF(D24>D25,C24,C25),\"\"),IF($G$5=\"1/4 de finale\",IF(E$24=9,C$24,IF(E$25=9,C$25,IF(E$26=9,C$26,IF(E$27=9,C$27,IF(E$28=9,C$28,IF(E$29=9,C$29,IF(E$30=9,C$30,IF(E$31=9,C$30,\"anomalie\")))))))),IF(AND($G$5=\"\",$B$5=\"Qualifiés\"),\"\"))),IF(D24<>\"\",IF(D24>D25,C24,C25),\"\"))","v":""},null,null,null,null,null,null,null,null,null,{"$f":"IF($A$2>16,IF(S31<>\"\",IF(S31>S32,R31,R32),\"\"),\"\")","v":""},null,null,null,{"$f":"IF(C25<>\"\",IF(D25>D24,C25,\"\"),\"\")","v":""},{"$f":"IF(H25<>\"\",IF(I25>I26,H25,\"\"),\"\")","v":""},null,null,{"$f":"IF(R25<>\"\",IF(S25>S24,R25,\"\"),\"\")","v":""}]
[null,{"$f":"B24+1","v":10},{"$f":"IF(Cadrage!$B$3<>\"\",IF(Cadrage!D21= \"Office\",Cadrage!B21,IF(Cadrage!C21<>\"\",IF(Cadrage!C21>Cadrage!E21,Cadrage!B21,Cadrage!D21),\"\")),IF(OFFSET('Fiche tirage dirigé'!$A$1,(ROW()-7)*2,3)<>\"\",IF(OFFSET('Fiche tirage dirigé'!$A$1,(ROW()-7)*2,3)>OFFSET('Fiche tirage dirigé'!$A$1,(ROW()-7)*2,6),OFFSET('Fiche tirage dirigé'!$A$1,(ROW()-7)*2,2),OFFSET('Fiche tirage dirigé'!$A$1,(ROW()-7)*2,5)),\"\"))","v":""},null,null,null,null,{"$f":"IF($A$1<>\"\",IF(OR($G$5=\"Partie Qualificative\",$G$5=\"Qualifiés\"),IF(D26<>\"\",IF(D26>D27,C26,C27),\"\"),IF($G$5=\"1/4 de finale\",IF(E$24=10,C$24,IF(E$25=10,C$25,IF(E$26=10,C$26,IF(E$27=10,C$27,IF(E$28=10,C$28,IF(E$29=10,C$29,IF(E$30=10,C$30,IF(E$31=10,C$31,\"anomalie\")))))))),IF(AND($G$5=\"\",$B$5=\"Qualifiés\"),\"\"))),IF(D26<>\"\",IF(D26>D27,C26,C27),\"\"))","v":""},null,null,null,null,null,null,null,null,null,null,null,null,null,{"$f":"IF(C26<>\"\",IF(D26>D27,C26,\"\"),\"\")","v":""},{"$f":"IF(H26<>\"\",IF(I26>I25,H26,\"\"),\"\")","v":""}]
[null,null,{"$f":"IF(Cadrage!$B$3<>\"\",IF(Cadrage!D22= \"Office\",Cadrage!B22,IF(Cadrage!C22<>\"\",IF(Cadrage!C22>Cadrage!E22,Cadrage!B22,Cadrage!D22),\"\")),IF(OFFSET('Fiche tirage dirigé'!$A$1,(ROW()-7)*2,3)<>\"\",IF(OFFSET('Fiche tirage dirigé'!$A$1,(ROW()-7)*2,3)>OFFSET('Fiche tirage dirigé'!$A$1,(ROW()-7)*2,6),OFFSET('Fiche tirage dirigé'!$A$1,(ROW()-7)*2,2),OFFSET('Fiche tirage dirigé'!$A$1,(ROW()-7)*2,5)),\"\"))","v":""},null,null,null,null,null,null,null,null,{"$f":"G53","v":0},{"$f":"IF($A$2<16,\"\",IF($A$1<>\"\",IF($L$5=\"Qualifiés\",IF(I25<>\"\",IF(I25>I26,H25,H26),\"\"),IF($G$5=\"Qualifiés\",IF(J25=5,H25,IF(J26=5,H26,IF(J29=5,H29,IF(J30=5,H30,IF(J33=5,H33,IF(J34=5,H34,IF(J37=5,H37,IF(J38=5,H38,\"anomalie\")))))))),IF($B$5=\"Qualifiés\",IF($G$5=\"1/4 de finale\",IF(I25<>\"\",IF(I25>I26,H25,H26),\"\"),IF(E24=9,C24,IF(E25=9,C25,IF(E26=9,C26,IF(E27=9,C27,IF(E28=9,C28,IF(E29=9,C29,IF(E30=9,C30,IF(E31=9,C31,\"anomalie\"))))))))),IF($A$2=0,\"\",\"anomalie\")))),IF(I25<>\"\",IF(I25>I26,H25,H26),\"\")))","v":""},null,null,null,null,null,null,null,null,{"$f":"IF(C27<>\"\",IF(D27>D26,C27,\"\"),\"\")","v":""},null,{"$f":"IF(M27<>\"\",IF(N27>N28,M27,\"\"),\"\")","v":""}]
[null,{"$f":"B26+1","v":11},{"$f":"IF(Cadrage!$B$3<>\"\",IF(Cadrage!D23= \"Office\",Cadrage!B23,IF(Cadrage!C23<>\"\",IF(Cadrage!C23>Cadrage!E23,Cadrage!B23,Cadrage!D23),\"\")),IF(OFFSET('Fiche tirage dirigé'!$A$1,(ROW()-7)*2,3)<>\"\",IF(OFFSET('Fiche tirage dirigé'!$A$1,(ROW()-7)*2,3)>OFFSET('Fiche tirage dirigé'!$A$1,(ROW()-7)*2,6),OFFSET('Fiche tirage dirigé'!$A$1,(ROW()-7)*2,2),OFFSET('Fiche tirage dirigé'!$A$1,(ROW()-7)*2,5)),\"\"))","v":""},null,null,null,null,null,null,null,null,null,{"$f":"IF($A$2<16,\"\",IF($A$1<>\"\",IF($L$5=\"Qualifiés\",IF(I29<>\"\",IF(I29>I30,H29,H30),\"\"),IF($G$5=\"Qualifiés\",IF(J25=6,H25,IF(J26=6,H26,IF(J29=6,H29,IF(J30=6,H30,IF(J33=6,H33,IF(J34=6,H34,IF(J37=6,H37,IF(J38=6,H38,\"anomalie\")))))))),IF($B$5=\"Qualifiés\",IF($G$5=\"1/4 de finale\",IF(I29<>\"\",IF(I29>I30,H29,H30),\"\"),IF(E24=10,C24,IF(E25=10,C25,IF(E26=10,C26,IF(E27=10,C27,IF(E28=10,C28,IF(E29=10,C29,IF(E30=10,C30,IF(E31=10,C31,\"anomalie\"))))))))),IF($A$2=0,\"\",\"anomalie\")))),IF(I29<>\"\",IF(I29>I30,H29,H30),\"\")))","v":""},null,null,null,null,null,null,null,null,{"$f":"IF(C28<>\"\",IF(D28>D29,C28,\"\"),\"\")","v":""},null,{"$f":"IF(M28<>\"\",IF(N28>N27,M28,\"\"),\"\")","v":""}]
[null,null,{"$f":"IF(Cadrage!$B$3<>\"\",IF(Cadrage!D24= \"Office\",Cadrage!B24,IF(Cadrage!C24<>\"\",IF(Cadrage!C24>Cadrage!E24,Cadrage!B24,Cadrage!D24),\"\")),IF(OFFSET('Fiche tirage dirigé'!$A$1,(ROW()-7)*2,3)<>\"\",IF(OFFSET('Fiche tirage dirigé'!$A$1,(ROW()-7)*2,3)>OFFSET('Fiche tirage dirigé'!$A$1,(ROW()-7)*2,6),OFFSET('Fiche tirage dirigé'!$A$1,(ROW()-7)*2,2),OFFSET('Fiche tirage dirigé'!$A$1,(ROW()-7)*2,5)),\"\"))","v":""},null,null,null,{"$f":"G25+2","v":13},{"$f":"IF($A$1<>\"\",IF(OR($G$5=\"Partie Qualificative\",$G$5=\"Qualifiés\"),IF(D28<>\"\",IF(D28>D29,C28,C29),\"\"),IF($G$5=\"1/4 de finale\",IF(E$24=11,C$24,IF(E$25=11,C$25,IF(E$26=11,C$26,IF(E$27=11,C$27,IF(E$28=11,C$28,IF(E$29=11,C$29,IF(E$30=11,C$30,IF(E$31=11,C$31,\"anomalie\")))))))),IF(AND($G$5=\"\",$B$5=\"Qualifiés\"),\"\"))),IF(D28<>\"\",IF(D28>D29,C28,C29),\"\"))","v":""},null,null,null,null,null,null,null,null,null,null,null,null,null,{"$f":"IF(C29<>\"\",IF(D29>D28,C29,\"\"),\"\")","v":""},{"$f":"IF(H29<>\"\",IF(I29>I30,H29,\"\"),\"\")","v":""}]
[null,{"$f":"B28+1","v":12},{"$f":"IF(Cadrage!$B$3<>\"\",IF(Cadrage!D25= \"Office\",Cadrage!B25,IF(Cadrage!C25<>\"\",IF(Cadrage!C25>Cadrage!E25,Cadrage!B25,Cadrage!D25),\"\")),IF(OFFSET('Fiche tirage dirigé'!$A$1,(ROW()-7)*2,3)<>\"\",IF(OFFSET('Fiche tirage dirigé'!$A$1,(ROW()-7)*2,3)>OFFSET('Fiche tirage dirigé'!$A$1,(ROW()-7)*2,6),OFFSET('Fiche tirage dirigé'!$A$1,(ROW()-7)*2,2),OFFSET('Fiche tirage dirigé'!$A$1,(ROW()-7)*2,5)),\"\"))","v":""},null,null,null,null,{"$f":"IF($A$1<>\"\",IF(OR($G$5=\"Partie Qualificative\",$G$5=\"Qualifiés\"),IF(D30<>\"\",IF(D30>D31,C30,C31),\"\"),IF($G$5=\"1/4 de finale\",IF(E$24=12,C$24,IF(E$25=12,C$25,IF(E$26=12,C$26,IF(E$27=12,C$7,IF(E$28=12,C$28,IF(E$29=12,C$29,IF(E$30=12,C$30,IF(E$31=12,C$31,\"anomalie\")))))))),IF(AND($G$5=\"\",$B$5=\"Qualifiés\"),\"\"))),IF(D30<>\"\",IF(D30>D31,C30,C31),\"\"))","v":""},null,null,null,null,null,null,null,null,null,null,null,null,null,{"$f":"IF(C30<>\"\",IF(D30>D31,C30,\"\"),\"\")","v":""},{"$f":"IF(H30<>\"\",IF(I30>I29,H30,\"\"),\"\")","v":""}]
[null,null,{"$f":"IF(Cadrage!$B$3<>\"\",IF(Cadrage!D26= \"Office\",Cadrage!B26,IF(Cadrage!C26<>\"\",IF(Cadrage!C26>Cadrage!E26,Cadrage!B26,Cadrage!D26),\"\")),IF(OFFSET('Fiche tirage dirigé'!$A$1,(ROW()-7)*2,3)<>\"\",IF(OFFSET('Fiche tirage dirigé'!$A$1,(ROW()-7)*2,3)>OFFSET('Fiche tirage dirigé'!$A$1,(ROW()-7)*2,6),OFFSET('Fiche tirage dirigé'!$A$1,(ROW()-7)*2,2),OFFSET('Fiche tirage dirigé'!$A$1,(ROW()-7)*2,5)),\"\"))","v":""},null,null,null,null,null,null,null,null,null,null,null,null,null,{"$f":"G17","v":7},{"$f":"IF(N27<>\"\",IF(M28<>\"\",IF(N27>N28,M27,M28),M27),\"\")","v":""},null,null,null,{"$f":"IF(C31<>\"\",IF(D31>D30,C31,\"\"),\"\")","v":""},null,null,{"$f":"IF(R31<>\"\",IF(S31>S32,R31,\"\"),\"\")","v":""}]
[null,{"$f":"B30+1","v":13},{"$f":"IF(Cadrage!$B$3<>\"\",IF(Cadrage!D27= \"Office\",Cadrage!B27,IF(Cadrage!C27<>\"\",IF(Cadrage!C27>Cadrage!E27,Cadrage!B27,Cadrage!D27),\"\")),IF(OFFSET('Fiche tirage dirigé'!$A$1,(ROW()-7)*2,3)<>\"\",IF(OFFSET('Fiche tirage dirigé'!$A$1,(ROW()-7)*2,3)>OFFSET('Fiche tirage dirigé'!$A$1,(ROW()-7)*2,6),OFFSET('Fiche tirage dirigé'!$A$1,(ROW()-7)*2,2),OFFSET('Fiche tirage dirigé'!$A$1,(ROW()-7)*2,5)),\"\"))","v":""},null,null,null,null,null,null,null,null,null,null,null,null,null,null,{"$f":"IF(N35<>\"\",IF(M36<>\"\",IF(N35>N36,M35,M36),M35),\"\")","v":""},null,null,null,{"$f":"IF(C32<>\"\",IF(D32>D33,C32,\"\"),\"\")","v":""},null,null,{"$f":"IF(R32<>\"\",IF(S32>S31,R32,\"\"),\"\")","v":""}]
[null,null,{"$f":"IF(Cadrage!$B$3<>\"\",IF(Cadrage!D28= \"Office\",Cadrage!B28,IF(Cadrage!C28<>\"\",IF(Cadrage!C28>Cadrage!E28,Cadrage!B28,Cadrage!D28),\"\")),IF(OFFSET('Fiche tirage dirigé'!$A$1,(ROW()-7)*2,3)<>\"\",IF(OFFSET('Fiche tirage dirigé'!$A$1,(ROW()-7)*2,3)>OFFSET('Fiche tirage dirigé'!$A$1,(ROW()-7)*2,6),OFFSET('Fiche tirage dirigé'!$A$1,(ROW()-7)*2,2),OFFSET('Fiche tirage dirigé'!$A$1,(ROW()-7)*2,5)),\"\"))","v":""},null,null,null,{"$f":"G29+2","v":15},{"$f":"IF($A$1<>\"\",IF(OR($G$5=\"Partie Qualificative\",$G$5=\"Qualifiés\"),IF(D32<>\"\",IF(D32>D33,C32,C33),\"\"),IF($G$5=\"1/4 de finale\",IF(E$32=13,C$32,IF(E$33=13,C$33,IF(E$34=13,C$34,IF(E$35=13,C$35,IF(E$36=13,C$36,IF(E$37=13,C$37,IF(E$38=13,C$38,IF(E$39=13,C$39,\"anomalie\")))))))),IF(AND($G$5=\"\",$B$5=\"Qualifiés\"),\"\"))),IF(D32<>\"\",IF(D32>D33,C32,C33),\"\"))","v":""},null,null,null,null,null,null,null,null,null,null,null,null,null,{"$f":"IF(C33<>\"\",IF(D33>D32,C33,\"\"),\"\")","v":""},{"$f":"IF(H33<>\"\",IF(I33>I34,H33,\"\"),\"\")","v":""}]
[null,{"$f":"B32+1","v":14},{"$f":"IF(Cadrage!$B$3<>\"\",IF(Cadrage!D29= \"Office\",Cadrage!B29,IF(Cadrage!C29<>\"\",IF(Cadrage!C29>Cadrage!E29,Cadrage!B29,Cadrage!D29),\"\")),IF(OFFSET('Fiche tirage dirigé'!$A$1,(ROW()-7)*2,3)<>\"\",IF(OFFSET('Fiche tirage dirigé'!$A$1,(ROW()-7)*2,3)>OFFSET('Fiche tirage dirigé'!$A$1,(ROW()-7)*2,6),OFFSET('Fiche tirage dirigé'!$A$1,(ROW()-7)*2,2),OFFSET('Fiche tirage dirigé'!$A$1,(ROW()-7)*2,5)),\"\"))","v":""},null,null,null,null,{"$f":"IF($A$1<>\"\",IF(OR($G$5=\"Partie Qualificative\",$G$5=\"Qualifiés\"),IF(D34<>\"\",IF(D34>D35,C34,C35),\"\"),IF($G$5=\"1/4 de finale\",IF(E$32=14,C$32,IF(E$33=14,C$33,IF(E$34=14,C$34,IF(E$35=14,C$35,IF(E$36=14,C$36,IF(E$37=14,C$37,IF(E$38=14,C$38,IF(E$39=14,C$39,\"anomalie\")))))))),IF(AND($G$5=\"\",$B$5=\"Qualifiés\"),\"\"))),IF(D34<>\"\",IF(D34>D35,C34,C35),\"\"))","v":""},null,null,null,null,null,null,null,null,null,null,null,null,null,{"$f":"IF(C34<>\"\",IF(D34>D35,C34,\"\"),\"\")","v":""},{"$f":"IF(H34<>\"\",IF(I34>I33,H34,\"\"),\"\")","v":""}]
[null,null,{"$f":"IF(Cadrage!$B$3<>\"\",IF(Cadrage!D30= \"Office\",Cadrage!B30,IF(Cadrage!C30<>\"\",IF(Cadrage!C30>Cadrage!E30,Cadrage!B30,Cadrage!D30),\"\")),IF(OFFSET('Fiche tirage dirigé'!$A$1,(ROW()-7)*2,3)<>\"\",IF(OFFSET('Fiche tirage dirigé'!$A$1,(ROW()-7)*2,3)>OFFSET('Fiche tirage dirigé'!$A$1,(ROW()-7)*2,6),OFFSET('Fiche tirage dirigé'!$A$1,(ROW()-7)*2,2),OFFSET('Fiche tirage dirigé'!$A$1,(ROW()-7)*2,5)),\"\"))","v":""},null,null,null,null,null,null,null,null,{"$f":"G49","v":0},{"$f":"IF($A$2<16,\"\",IF($A$1<>\"\",IF($L$5=\"Qualifiés\",IF(I33<>\"\",IF(I33>I34,H33,H34),\"\"),IF($G$5=\"Qualifiés\",IF(J33=7,H33,IF(J34=7,H34,IF(J37=7,H37,IF(J38=7,H38,IF(J41=7,H41,IF(J42=7,H42,IF(J45=7,H45,IF(J46=7,H46,\"anomalie\")))))))),IF($B$5=\"Qualifiés\",IF($B$5=\"1/4 de finale\",IF(I33<>\"\",IF(I33>I34,H33,H34),\"\"),IF(E32=11,C32,IF(E33=11,C33,IF(E34=11,C34,IF(E35=11,C35,IF(E36=11,C36,IF(E37=11,C37,IF(E38=11,C38,IF(E39=11,C39,\"anomalie\"))))))))),IF($A$2=0,\"\",\"anomalie\")))),IF(I33<>\"\",IF(I33>I34,H33,H34),\"\")))","v":""},null,null,null,null,null,null,null,null,{"$f":"IF(C35<>\"\",IF(D35>D34,C35,\"\"),\"\")","v":""},null,{"$f":"IF(M35<>\"\",IF(N35>N36,M35,\"\"),\"\")","v":""}]
[null,{"$f":"B34+1","v":15},{"$f":"IF(Cadrage!$B$3<>\"\",IF(Cadrage!D31= \"Office\",Cadrage!B31,IF(Cadrage!C31<>\"\",IF(Cadrage!C31>Cadrage!E31,Cadrage!B31,Cadrage!D31),\"\")),IF(OFFSET('Fiche tirage dirigé'!$A$1,(ROW()-7)*2,3)<>\"\",IF(OFFSET('Fiche tirage dirigé'!$A$1,(ROW()-7)*2,3)>OFFSET('Fiche tirage dirigé'!$A$1,(ROW()-7)*2,6),OFFSET('Fiche tirage dirigé'!$A$1,(ROW()-7)*2,2),OFFSET('Fiche tirage dirigé'!$A$1,(ROW()-7)*2,5)),\"\"))","v":""},null,null,null,null,null,null,null,null,null,{"$f":"IF($A$2<16,\"\",IF($A$1<>\"\",IF($L$5=\"Qualifiés\",IF(I37<>\"\",IF(I37>I38,H37,H38),\"\"),IF($G$5=\"Qualifiés\",IF(J33=8,H33,IF(J34=8,H34,IF(J37=8,H37,IF(J38=8,H38,IF(J41=8,H41,IF(J42=8,H42,IF(J45=8,H45,IF(J46=8,H46,\"anomalie\")))))))),IF($B$5=\"Qualifiés\",IF($G$5=\"1/4 de finale\",IF(I37<>\"\",IF(I37>I38,H37,H38),\"\"),IF(E32=10,C32,IF(E33=10,C33,IF(E34=10,C34,IF(E35=10,C35,IF(E36=10,C36,IF(E37=10,C37,IF(E38=10,C38,IF(E39=10,C39,\"anomalie\"))))))))),IF($A$2=0,\"\",\"anomalie\")))),IF(I37<>\"\",IF(I37>I38,H37,H38),\"\")))","v":""},null,null,null,null,null,null,null,null,{"$f":"IF(C36<>\"\",IF(D36>D37,C36,\"\"),\"\")","v":""},null,{"$f":"IF(M36<>\"\",IF(N36>N35,M36,\"\"),\"\")","v":""}]
[null,null,{"$f":"IF(Cadrage!$B$3<>\"\",IF(Cadrage!D32= \"Office\",Cadrage!B32,IF(Cadrage!C32<>\"\",IF(Cadrage!C32>Cadrage!E32,Cadrage!B32,Cadrage!D32),\"\")),IF(OFFSET('Fiche tirage dirigé'!$A$1,(ROW()-7)*2,3)<>\"\",IF(OFFSET('Fiche tirage dirigé'!$A$1,(ROW()-7)*2,3)>OFFSET('Fiche tirage dirigé'!$A$1,(ROW()-7)*2,6),OFFSET('Fiche tirage dirigé'!$A$1,(ROW()-7)*2,2),OFFSET('Fiche tirage dirigé'!$A$1,(ROW()-7)*2,5)),\"\"))","v":""},null,null,null,{"$f":"G33+2","v":17},{"$f":"IF($A$1<>\"\",IF(OR($G$5=\"Partie Qualificative\",$G$5=\"Qualifiés\"),IF(D36<>\"\",IF(D36>D37,C36,C37),\"\"),IF($G$5=\"1/4 de finale\",IF(E$32=15,C$32,IF(E$33=15,C$33,IF(E$34=15,C$34,IF(E$35=15,C$35,IF(E$36=15,C$36,IF(E$37=15,C$37,IF(E$38=15,C$38,IF(E$39=15,C$39,\"anomalie\")))))))),IF(AND($G$5=\"\",$B$5=\"Qualifiés\"),\"\"))),IF(D36<>\"\",IF(D36>D37,C36,C37),\"\"))","v":""},null,null,null,null,null,null,null,null,null,null,null,null,null,{"$f":"IF(C37<>\"\",IF(D37>D36,C37,\"\"),\"\")","v":""},{"$f":"IF(H37<>\"\",IF(I37>I38,H37,\"\"),\"\")","v":""}]
[null,{"$f":"B36+1","v":16},{"$f":"IF(Cadrage!$B$3<>\"\",IF(Cadrage!D33= \"Office\",Cadrage!B33,IF(Cadrage!C33<>\"\",IF(Cadrage!C33>Cadrage!E33,Cadrage!B33,Cadrage!D33),\"\")),IF(OFFSET('Fiche tirage dirigé'!$A$1,(ROW()-7)*2,3)<>\"\",IF(OFFSET('Fiche tirage dirigé'!$A$1,(ROW()-7)*2,3)>OFFSET('Fiche tirage dirigé'!$A$1,(ROW()-7)*2,6),OFFSET('Fiche tirage dirigé'!$A$1,(ROW()-7)*2,2),OFFSET('Fiche tirage dirigé'!$A$1,(ROW()-7)*2,5)),\"\"))","v":""},null,null,null,null,{"$f":"IF($A$1<>\"\",IF(OR($G$5=\"Partie Qualificative\",$G$5=\"Qualifiés\"),IF(D38<>\"\",IF(D38>D39,C38,C39),\"\"),IF($G$5=\"1/4 de finale\",IF(E$32=16,C$32,IF(E$33=16,C$33,IF(E$34=16,C$34,IF(E$35=16,C$35,IF(E$36=16,C$36,IF(E$37=16,C$37,IF(E$38=16,C$38,IF(E$39=16,C$39,\"anomalie\")))))))),IF(AND($G$5=\"\",$B$5=\"Qualifiés\"),\"\"))),IF(D38<>\"\",IF(D38>D39,C38,C39),\"\"))","v":""},null,null,null,null,null,null,null,null,null,null,null,null,null,{"$f":"IF(C38<>\"\",IF(D38>D39,C38,\"\"),\"\")","v":""},{"$f":"IF(H38<>\"\",IF(I38>I37,H38,\"\"),\"\")","v":""}]
[null,null,{"$f":"IF(Cadrage!$B$3<>\"\",IF(Cadrage!D34= \"Office\",Cadrage!B34,IF(Cadrage!C34<>\"\",IF(Cadrage!C34>Cadrage!E34,Cadrage!B34,Cadrage!D34),\"\")),IF(OFFSET('Fiche tirage dirigé'!$A$1,(ROW()-7)*2,3)<>\"\",IF(OFFSET('Fiche tirage dirigé'!$A$1,(ROW()-7)*2,3)>OFFSET('Fiche tirage dirigé'!$A$1,(ROW()-7)*2,6),OFFSET('Fiche tirage dirigé'!$A$1,(ROW()-7)*2,2),OFFSET('Fiche tirage dirigé'!$A$1,(ROW()-7)*2,5)),\"\"))","v":""},null,null,null,null,null,null,null,null,null,null,null,null,null,null,null,null,null,null,{"$f":"IF(C39<>\"\",IF(D39>D38,C39,\"\"),\"\")","v":""}]

{"sheet":"Qualifiés","index":7,"n_rows":55,"n_cols":7,"rows_kept":55,"cut":false,"hidden":false,"merged":[[50,1,54,1],[25,1,29,1],[30,1,34,1],[35,1,39,1],[40,1,44,1],[45,1,49,1],[1,2,1,4],[5,1,9,1],[10,1,14,1],[15,1,19,1],[20,1,24,1]]}
[null,null,"FICHE QUALIFIES à retourner au CBDA",null,null,null,{"$f":"'Fiche paramétrage concours'!B13","v":0}]
[null,"Concours",{"$f":"IF('Fiche paramétrage concours'!B3<>\"\",'Fiche paramétrage concours'!B3,\"\")","v":""}]
[null,"Division",{"$f":"IF('Fiche paramétrage concours'!$B$5<>\"\",'Fiche paramétrage concours'!$B$5,\"\")","v":""},"Organisateur",{"$f":"IF('Fiche paramétrage concours'!B1<>\"\",'Fiche paramétrage concours'!B1,\"\")","v":""}]
[null,"Qualifiés",{"$f":"IF('Fiche paramétrage concours'!$B$13<>\"\",'Fiche paramétrage concours'!$B$13,\"\")","v":""},"Nombre d'équipes",{"$f":"IF('Fiche paramétrage concours'!$B$11<>\"\",'Fiche paramétrage concours'!$B$11,\"\")","v":0}]
[null,null,"N° licence","Nom","AS","Réservé CBDA"]
[null,"Equipe 1",{"$f":"IF(ISERROR(VLOOKUP(D6,'Liste inscrits'!A:AA,1,FALSE)),\"\",VLOOKUP(D$6,'Liste inscrits'!A:AA,2,FALSE))","v":""},{"$f":"IF(G6<>\"\",LEFT(G6,SEARCH(CHAR(10),G6,1)-1),\"\")","v":""},{"$f":"IF(G6<>\"\",RIGHT(G6,LEN(G6)-SEARCH(CHAR(10),G6,1)),\"\")","v":""},null,{"$f":"IF('Tableau final'!$B$5=\"Qualifiés\",'Tableau final'!$C$8,IF('Tableau final'!$G$5=\"Qualifiés\",'Tableau final'!$H$9,IF('Tableau final'!$L$5=\"Qualifiés\",'Tableau final'!$M$11,\"\")))","v":""}]
[null,null,{"$f":"IF(ISERROR(VLOOKUP(D$6,'Liste inscrits'!A:AA,1,FALSE)),\"\",VLOOKUP(D$6,'Liste inscrits'!A:AA,8,FALSE))","v":""},{"$f":"IF(ISERROR(VLOOKUP(D$6,'Liste inscrits'!A:AA,1,FALSE)),\"\",VLOOKUP(D$6,'Liste inscrits'!A:AA,7,FALSE))","v":""},{"$f":"IF(ISERROR(VLOOKUP(D$6,'Liste inscrits'!A:AA,1,FALSE)),\"\",VLOOKUP(D$6,'Liste inscrits'!A:AA,9,FALSE))","v":""}]
[null,null,{"$f":"IF(ISERROR(VLOOKUP(D$6,'Liste inscrits'!A:AA,1,FALSE)),\"\",IF(VLOOKUP(D$6,'Liste inscrits'!A:AA,13,FALSE)<>\"\",VLOOKUP(D$6,'Liste inscrits'!A:AA,14,FALSE),\"\"))","v":""},{"$f":"IF(ISERROR(VLOOKUP(D$6,'Liste inscrits'!A:AA,1,FALSE)),\"\",IF(VLOOKUP(D$6,'Liste inscrits'!A:AA,13,FALSE)<>\"\",VLOOKUP(D$6,'Liste inscrits'!A:AA,13,FALSE),\"\"))","v":""},{"$f":"IF(ISERROR(VLOOKUP(D$6,'Liste inscrits'!A:AA,1,FALSE)),\"\",IF(VLOOKUP(D$6,'Liste inscrits'!A:AA,13,FALSE)<>\"\",VLOOKUP(D$6,'Liste inscrits'!A:AA,15,FALSE),\"\"))","v":""}]
[null,null,{"$f":"IF(ISERROR(VLOOKUP(D8,'Liste inscrits'!A:AA,1,FALSE)),\"\",IF(VLOOKUP(D$6,'Liste inscrits'!A:AA,19,FALSE)<>\"\",VLOOKUP(D8,'Liste inscrits'!A:AA,20,FALSE),\"\"))","v":""},{"$f":"IF(ISERROR(VLOOKUP(D$6,'Liste inscrits'!A:AA,1,FALSE)),\"\",IF(VLOOKUP(D$6,'Liste inscrits'!A:AA,19,FALSE)<>\"\",VLOOKUP(D$6,'Liste inscrits'!A:AA,19,FALSE),\"\"))","v":""},{"$f":"IF(ISERROR(VLOOKUP(D$6,'Liste inscrits'!A:AA,1,FALSE)),\"\",IF(VLOOKUP(D$6,'Liste inscrits'!A:AA,19,FALSE)<>\"\",VLOOKUP(D$6,'Liste inscrits'!A:AA,21,FALSE),\"\"))","v":""}]
[null,null,{"$f":"IF(ISERROR(VLOOKUP(D6,'Liste inscrits'!A:AA,1,FALSE)),\"\",IF(VLOOKUP(D6,'Liste inscrits'!A:AA,25,FALSE)<>\"\",VLOOKUP(D6,'Liste inscrits'!A:AA,26,FALSE),\"\"))","v":""},{"$f":"IF(ISERROR(VLOOKUP(D$6,'Liste inscrits'!A:AA,1,FALSE)),\"\",IF(VLOOKUP(D$6,'Liste inscrits'!A:AA,25,FALSE)<>\"\",VLOOKUP(D$6,'Liste inscrits'!A:AA,25,FALSE),\"\"))","v":""},{"$f":"IF(ISERROR(VLOOKUP(D$6,'Liste inscrits'!A:AA,1,FALSE)),\"\",IF(VLOOKUP(D$6,'Liste inscrits'!A:AA,25,FALSE)<>\"\",VLOOKUP(D$6,'Liste inscrits'!A:AA,27,FALSE),\"\"))","v":""}]
[null,"Equipe 2",{"$f":"IF(ISERROR(VLOOKUP(D11,'Liste inscrits'!A:AA,1,FALSE)),\"\",VLOOKUP(D11,'Liste inscrits'!A:AA,2,FALSE))","v":""},{"$f":"IF(G11<>\"\",LEFT(G11,SEARCH(CHAR(10),G11,1)-1),\"\")","v":""},{"$f":"IF(G11<>\"\",RIGHT(G11,LEN(G11)-SEARCH(CHAR(10),G11,1)),\"\")","v":""},null,{"$f":"IF('Tableau final'!$B$5=\"Qualifiés\",'Tableau final'!$C$9,IF('Tableau final'!$G$5=\"Qualifiés\",'Tableau final'!$H$10,IF('Tableau final'!$L$5=\"Qualifiés\",'Tableau final'!$M$12,\"\")))","v":""}]
[null,null,{"$f":"IF(ISERROR(VLOOKUP(D$11,'Liste inscrits'!A:AA,1,FALSE)),\"\",VLOOKUP(D$11,'Liste inscrits'!A:AA,8,FALSE))","v":""},{"$f":"IF(ISERROR(VLOOKUP(D$11,'Liste inscrits'!A:AA,1,FALSE)),\"\",VLOOKUP(D$11,'Liste inscrits'!A:AA,7,FALSE))","v":""},{"$f":"IF(ISERROR(VLOOKUP(D$11,'Liste inscrits'!A:AA,1,FALSE)),\"\",VLOOKUP(D$11,'Liste inscrits'!A:AA,9,FALSE))","v":""}]
[null,null,{"$f":"IF(ISERROR(VLOOKUP(D$11,'Liste inscrits'!A:AA,1,FALSE)),\"\",IF(VLOOKUP(D$11,'Liste inscrits'!A:AA,13,FALSE)<>\"\",VLOOKUP(D$11,'Liste inscrits'!A:AA,14,FALSE),\"\"))","v":""},{"$f":"IF(ISERROR(VLOOKUP(D$11,'Liste inscrits'!A:AA,1,FALSE)),\"\",IF(VLOOKUP(D$11,'Liste inscrits'!A:AA,13,FALSE)<>\"\",VLOOKUP(D$11,'Liste inscrits'!A:AA,13,FALSE),\"\"))","v":""},{"$f":"IF(ISERROR(VLOOKUP(D$11,'Liste inscrits'!A:AA,1,FALSE)),\"\",IF(VLOOKUP(D$11,'Liste inscrits'!A:AA,13,FALSE)<>\"\",VLOOKUP(D$11,'Liste inscrits'!A:AA,15,FALSE),\"\"))","v":""}]
[null,null,{"$f":"IF(ISERROR(VLOOKUP(D$11,'Liste inscrits'!A:AA,1,FALSE)),\"\",IF(VLOOKUP(D$11,'Liste inscrits'!A:AA,19,FALSE)<>\"\",VLOOKUP(D$11,'Liste inscrits'!A:AA,20,FALSE),\"\"))","v":""},{"$f":"IF(ISERROR(VLOOKUP(D$11,'Liste inscrits'!A:AA,1,FALSE)),\"\",IF(VLOOKUP(D$11,'Liste inscrits'!A:AA,19,FALSE)<>\"\",VLOOKUP(D$11,'Liste inscrits'!A:AA,19,FALSE),\"\"))","v":""},{"$f":"IF(ISERROR(VLOOKUP(D$11,'Liste inscrits'!A:AA,1,FALSE)),\"\",IF(VLOOKUP(D$11,'Liste inscrits'!A:AA,19,FALSE)<>\"\",VLOOKUP(D$11,'Liste inscrits'!A:AA,21,FALSE),\"\"))","v":""}]
[null,null,{"$f":"IF(ISERROR(VLOOKUP(D11,'Liste inscrits'!A:AA,1,FALSE)),\"\",IF(VLOOKUP(D11,'Liste inscrits'!A:AA,25,FALSE)<>\"\",VLOOKUP(D11,'Liste inscrits'!A:AA,26,FALSE),\"\"))","v":""},{"$f":"IF(ISERROR(VLOOKUP(D11,'Liste inscrits'!A:AA,1,FALSE)),\"\",IF(VLOOKUP(D11,'Liste inscrits'!A:AA,25,FALSE)<>\"\",VLOOKUP(D11,'Liste inscrits'!A:AA,25,FALSE),\"\"))","v":""},{"$f":"IF(ISERROR(VLOOKUP(D11,'Liste inscrits'!A:AA,1,FALSE)),\"\",IF(VLOOKUP(D11,'Liste inscrits'!A:AA,25,FALSE)<>\"\",VLOOKUP(D11,'Liste inscrits'!A:AA,27,FALSE),\"\"))","v":""}]
[null,"Equipe 3",{"$f":"IF(ISERROR(VLOOKUP(D16,'Liste inscrits'!A:AA,1,FALSE)),\"\",VLOOKUP(D16,'Liste inscrits'!A:AA,2,FALSE))","v":""},{"$f":"IF(G16<>\"\",LEFT(G16,SEARCH(CHAR(10),G16,1)-1),\"\")","v":""},{"$f":"IF(G16<>\"\",RIGHT(G16,LEN(G16)-SEARCH(CHAR(10),G16,1)),\"\")","v":""},null,{"$f":"IF('Tableau final'!$B$5=\"Qualifiés\",'Tableau final'!$C$10,IF('Tableau final'!$G$5=\"Qualifiés\",'Tableau final'!$H$13,IF('Tableau final'!$L$5=\"Qualifiés\",'Tableau final'!$M$19,\"\")))","v":""}]
[null,null,{"$f":"IF(ISERROR(VLOOKUP(D$16,'Liste inscrits'!A:AA,1,FALSE)),\"\",VLOOKUP(D$16,'Liste inscrits'!A:AA,8,FALSE))","v":""},{"$f":"IF(ISERROR(VLOOKUP(D$16,'Liste inscrits'!A:AA,1,FALSE)),\"\",VLOOKUP(D$16,'Liste inscrits'!A:AA,7,FALSE))","v":""},{"$f":"IF(ISERROR(VLOOKUP(D$16,'Liste inscrits'!A:AA,1,FALSE)),\"\",VLOOKUP(D$16,'Liste inscrits'!A:AA,9,FALSE))","v":""}]
[null,null,{"$f":"IF(ISERROR(VLOOKUP(D$16,'Liste inscrits'!A:AA,1,FALSE)),\"\",IF(VLOOKUP(D$16,'Liste inscrits'!A:AA,13,FALSE)<>\"\",VLOOKUP(D$16,'Liste inscrits'!A:AA,14,FALSE),\"\"))","v":""},{"$f":"IF(ISERROR(VLOOKUP(D$16,'Liste inscrits'!A:AA,1,FALSE)),\"\",IF(VLOOKUP(D$16,'Liste inscrits'!A:AA,13,FALSE)<>\"\",VLOOKUP(D$16,'Liste inscrits'!A:AA,13,FALSE),\"\"))","v":""},{"$f":"IF(ISERROR(VLOOKUP(D$16,'Liste inscrits'!A:AA,1,FALSE)),\"\",IF(VLOOKUP(D$16,'Liste inscrits'!A:AA,13,FALSE)<>\"\",VLOOKUP(D$16,'Liste inscrits'!A:AA,15,FALSE),\"\"))","v":""}]
[null,null,{"$f":"IF(ISERROR(VLOOKUP(D$16,'Liste inscrits'!A:AA,1,FALSE)),\"\",IF(VLOOKUP(D$16,'Liste inscrits'!A:AA,19,FALSE)<>\"\",VLOOKUP(D$16,'Liste inscrits'!A:AA,20,FALSE),\"\"))","v":""},{"$f":"IF(ISERROR(VLOOKUP(D$16,'Liste inscrits'!A:AA,1,FALSE)),\"\",IF(VLOOKUP(D$16,'Liste inscrits'!A:AA,19,FALSE)<>\"\",VLOOKUP(D$16,'Liste inscrits'!A:AA,19,FALSE),\"\"))","v":""},{"$f":"IF(ISERROR(VLOOKUP(D$16,'Liste inscrits'!A:AA,1,FALSE)),\"\",IF(VLOOKUP(D$16,'Liste inscrits'!A:AA,19,FALSE)<>\"\",VLOOKUP(D$16,'Liste inscrits'!A:AA,21,FALSE),\"\"))","v":""}]
[null,null,{"$f":"IF(ISERROR(VLOOKUP(D16,'Liste inscrits'!A:AA,1,FALSE)),\"\",IF(VLOOKUP(D16,'Liste inscrits'!A:AA,25,FALSE)<>\"\",VLOOKUP(D16,'Liste inscrits'!A:AA,26,FALSE),\"\"))","v":""},{"$f":"IF(ISERROR(VLOOKUP(D16,'Liste inscrits'!A:AA,1,FALSE)),\"\",IF(VLOOKUP(D16,'Liste inscrits'!A:AA,25,FALSE)<>\"\",VLOOKUP(D16,'Liste inscrits'!A:AA,25,FALSE),\"\"))","v":""},{"$f":"IF(ISERROR(VLOOKUP(D16,'Liste inscrits'!A:AA,1,FALSE)),\"\",IF(VLOOKUP(D16,'Liste inscrits'!A:AA,25,FALSE)<>\"\",VLOOKUP(D16,'Liste inscrits'!A:AA,27,FALSE),\"\"))","v":""}]
[null,"Equipe 4",{"$f":"IF(ISERROR(VLOOKUP(D21,'Liste inscrits'!A:AA,1,FALSE)),\"\",VLOOKUP(D21,'Liste inscrits'!A:AA,2,FALSE))","v":""},{"$f":"IF(G21<>\"\",LEFT(G21,SEARCH(CHAR(10),G21,1)-1),\"\")","v":""},{"$f":"IF(G21<>\"\",RIGHT(G21,LEN(G21)-SEARCH(CHAR(10),G21,1)),\"\")","v":""},null,{"$f":"IF('Tableau final'!$B$5=\"Qualifiés\",'Tableau final'!$C$11,IF('Tableau final'!$G$5=\"Qualifiés\",'Tableau final'!$H$14,IF('Tableau final'!$L$5=\"Qualifiés\",'Tableau final'!$M$20,\"\")))","v":""}]
[null,null,{"$f":"IF(ISERROR(VLOOKUP(D$21,'Liste inscrits'!A:AA,1,FALSE)),\"\",VLOOKUP(D$21,'Liste inscrits'!A:AA,8,FALSE))","v":""},{"$f":"IF(ISERROR(VLOOKUP(D$21,'Liste inscrits'!A:AA,1,FALSE)),\"\",VLOOKUP(D$21,'Liste inscrits'!A:AA,7,FALSE))","v":""},{"$f":"IF(ISERROR(VLOOKUP(D$21,'Liste inscrits'!A:AA,1,FALSE)),\"\",VLOOKUP(D$21,'Liste inscrits'!A:AA,9,FALSE))","v":""}]
[null,null,{"$f":"IF(ISERROR(VLOOKUP(D$21,'Liste inscrits'!A:AA,1,FALSE)),\"\",IF(VLOOKUP(D$21,'Liste inscrits'!A:AA,13,FALSE)<>\"\",VLOOKUP(D$21,'Liste inscrits'!A:AA,14,FALSE),\"\"))","v":""},{"$f":"IF(ISERROR(VLOOKUP(D$21,'Liste inscrits'!A:AA,1,FALSE)),\"\",IF(VLOOKUP(D$21,'Liste inscrits'!A:AA,13,FALSE)<>\"\",VLOOKUP(D$21,'Liste inscrits'!A:AA,13,FALSE),\"\"))","v":""},{"$f":"IF(ISERROR(VLOOKUP(D$21,'Liste inscrits'!A:AA,1,FALSE)),\"\",IF(VLOOKUP(D$21,'Liste inscrits'!A:AA,13,FALSE)<>\"\",VLOOKUP(D$21,'Liste inscrits'!A:AA,15,FALSE),\"\"))","v":""}]
[null,null,{"$f":"IF(ISERROR(VLOOKUP(D$21,'Liste inscrits'!A:AA,1,FALSE)),\"\",IF(VLOOKUP(D$21,'Liste inscrits'!A:AA,19,FALSE)<>\"\",VLOOKUP(D$21,'Liste inscrits'!A:AA,20,FALSE),\"\"))","v":""},{"$f":"IF(ISERROR(VLOOKUP(D$21,'Liste inscrits'!A:AA,1,FALSE)),\"\",IF(VLOOKUP(D$21,'Liste inscrits'!A:AA,19,FALSE)<>\"\",VLOOKUP(D$21,'Liste inscrits'!A:AA,19,FALSE),\"\"))","v":""},{"$f":"IF(ISERROR(VLOOKUP(D$21,'Liste inscrits'!A:AA,1,FALSE)),\"\",IF(VLOOKUP(D$21,'Liste inscrits'!A:AA,19,FALSE)<>\"\",VLOOKUP(D$21,'Liste inscrits'!A:AA,21,FALSE),\"\"))","v":""}]
[null,null,{"$f":"IF(ISERROR(VLOOKUP(D21,'Liste inscrits'!A:AA,1,FALSE)),\"\",IF(VLOOKUP(D21,'Liste inscrits'!A:AA,25,FALSE)<>\"\",VLOOKUP(D21,'Liste inscrits'!A:AA,26,FALSE),\"\"))","v":""},{"$f":"IF(ISERROR(VLOOKUP(D21,'Liste inscrits'!A:AA,1,FALSE)),\"\",IF(VLOOKUP(D21,'Liste inscrits'!A:AA,25,FALSE)<>\"\",VLOOKUP(D21,'Liste inscrits'!A:AA,25,FALSE),\"\"))","v":""},{"$f":"IF(ISERROR(VLOOKUP(D21,'Liste inscrits'!A:AA,1,FALSE)),\"\",IF(VLOOKUP(D21,'Liste inscrits'!A:AA,25,FALSE)<>\"\",VLOOKUP(D21,'Liste inscrits'!A:AA,27,FALSE),\"\"))","v":""}]
[null,"Equipe 5",{"$f":"IF(ISERROR(VLOOKUP(D26,'Liste inscrits'!A:AA,1,FALSE)),\"\",VLOOKUP(D26,'Liste inscrits'!A:AA,2,FALSE))","v":""},{"$f":"IF(G26<>\"\",LEFT(G26,SEARCH(CHAR(10),G26,1)-1),\"\")","v":""},{"$f":"IF(G26<>\"\",RIGHT(G26,LEN(G26)-SEARCH(CHAR(10),G26,1)),\"\")","v":""},null,{"$f":"IF('Tableau final'!$B$5=\"Qualifiés\",'Tableau final'!$C$12,IF('Tableau final'!$G$5=\"Qualifiés\",'Tableau final'!$H$17,\"\"))","v":""}]
[null,null,{"$f":"IF(ISERROR(VLOOKUP(D$26,'Liste inscrits'!A:AA,1,FALSE)),\"\",VLOOKUP(D$26,'Liste inscrits'!A:AA,8,FALSE))","v":""},{"$f":"IF(ISERROR(VLOOKUP(D$26,'Liste inscrits'!A:AA,1,FALSE)),\"\",VLOOKUP(D$26,'Liste inscrits'!A:AA,7,FALSE))","v":""},{"$f":"IF(ISERROR(VLOOKUP(D$26,'Liste inscrits'!A:AA,1,FALSE)),\"\",VLOOKUP(D$26,'Liste inscrits'!A:AA,9,FALSE))","v":""}]
[null,null,{"$f":"IF(ISERROR(VLOOKUP(D$26,'Liste inscrits'!A:AA,1,FALSE)),\"\",IF(VLOOKUP(D$26,'Liste inscrits'!A:AA,13,FALSE)<>\"\",VLOOKUP(D$26,'Liste inscrits'!A:AA,14,FALSE),\"\"))","v":""},{"$f":"IF(ISERROR(VLOOKUP(D$26,'Liste inscrits'!A:AA,1,FALSE)),\"\",IF(VLOOKUP(D$26,'Liste inscrits'!A:AA,13,FALSE)<>\"\",VLOOKUP(D$26,'Liste inscrits'!A:AA,13,FALSE),\"\"))","v":""},{"$f":"IF(ISERROR(VLOOKUP(D$26,'Liste inscrits'!A:AA,1,FALSE)),\"\",IF(VLOOKUP(D$26,'Liste inscrits'!A:AA,13,FALSE)<>\"\",VLOOKUP(D$26,'Liste inscrits'!A:AA,15,FALSE),\"\"))","v":""}]
[null,null,{"$f":"IF(ISERROR(VLOOKUP(D$26,'Liste inscrits'!A:AA,1,FALSE)),\"\",IF(VLOOKUP(D$26,'Liste inscrits'!A:AA,19,FALSE)<>\"\",VLOOKUP(D$26,'Liste inscrits'!A:AA,20,FALSE),\"\"))","v":""},{"$f":"IF(ISERROR(VLOOKUP(D$26,'Liste inscrits'!A:AA,1,FALSE)),\"\",IF(VLOOKUP(D$26,'Liste inscrits'!A:AA,19,FALSE)<>\"\",VLOOKUP(D$26,'Liste inscrits'!A:AA,19,FALSE),\"\"))","v":""},{"$f":"IF(ISERROR(VLOOKUP(D$26,'Liste inscrits'!A:AA,1,FALSE)),\"\",IF(VLOOKUP(D$26,'Liste inscrits'!A:AA,19,FALSE)<>\"\",VLOOKUP(D$26,'Liste inscrits'!A:AA,21,FALSE),\"\"))","v":""}]
[null,null,{"$f":"IF(ISERROR(VLOOKUP(D26,'Liste inscrits'!A:AA,1,FALSE)),\"\",IF(VLOOKUP(D26,'Liste inscrits'!A:AA,25,FALSE)<>\"\",VLOOKUP(D26,'Liste inscrits'!A:AA,26,FALSE),\"\"))","v":""},{"$f":"IF(ISERROR(VLOOKUP(D26,'Liste inscrits'!A:AA,1,FALSE)),\"\",IF(VLOOKUP(D26,'Liste inscrits'!A:AA,25,FALSE)<>\"\",VLOOKUP(D26,'Liste inscrits'!A:AA,25,FALSE),\"\"))","v":""},{"$f":"IF(ISERROR(VLOOKUP(D26,'Liste inscrits'!A:AA,1,FALSE)),\"\",IF(VLOOKUP(D26,'Liste inscrits'!A:AA,25,FALSE)<>\"\",VLOOKUP(D26,'Liste inscrits'!A:AA,27,FALSE),\"\"))","v":""}]
[null,"Equipe 6",{"$f":"IF(ISERROR(VLOOKUP(D31,'Liste inscrits'!A:AA,1,FALSE)),\"\",VLOOKUP(D31,'Liste inscrits'!A:AA,2,FALSE))","v":""},{"$f":"IF(G31<>\"\",LEFT(G31,SEARCH(CHAR(10),G31,1)-1),\"\")","v":""},{"$f":"IF(G31<>\"\",RIGHT(G31,LEN(G31)-SEARCH(CHAR(10),G31,1)),\"\")","v":""},null,{"$f":"IF('Tableau final'!$B$5=\"Qualifiés\",'Tableau final'!$C$13,IF('Tableau final'!$G$5=\"Qualifiés\",'Tableau final'!$H$18,\"\"))","v":""}]
[null,null,{"$f":"IF(ISERROR(VLOOKUP(D$31,'Liste inscrits'!A:AA,1,FALSE)),\"\",VLOOKUP(D$31,'Liste inscrits'!A:AA,8,FALSE))","v":""},{"$f":"IF(ISERROR(VLOOKUP(D$31,'Liste inscrits'!A:AA,1,FALSE)),\"\",VLOOKUP(D$31,'Liste inscrits'!A:AA,7,FALSE))","v":""},{"$f":"IF(ISERROR(VLOOKUP(D$31,'Liste inscrits'!A:AA,1,FALSE)),\"\",VLOOKUP(D$31,'Liste inscrits'!A:AA,9,FALSE))","v":""}]
[null,null,{"$f":"IF(ISERROR(VLOOKUP(D$31,'Liste inscrits'!A:AA,1,FALSE)),\"\",IF(VLOOKUP(D$31,'Liste inscrits'!A:AA,13,FALSE)<>\"\",VLOOKUP(D$31,'Liste inscrits'!A:AA,14,FALSE),\"\"))","v":""},{"$f":"IF(ISERROR(VLOOKUP(D$31,'Liste inscrits'!A:AA,1,FALSE)),\"\",IF(VLOOKUP(D$31,'Liste inscrits'!A:AA,13,FALSE)<>\"\",VLOOKUP(D$31,'Liste inscrits'!A:AA,13,FALSE),\"\"))","v":""},{"$f":"IF(ISERROR(VLOOKUP(D$31,'Liste inscrits'!A:AA,1,FALSE)),\"\",IF(VLOOKUP(D$31,'Liste inscrits'!A:AA,13,FALSE)<>\"\",VLOOKUP(D$31,'Liste inscrits'!A:AA,15,FALSE),\"\"))","v":""}]
[null,null,{"$f":"IF(ISERROR(VLOOKUP(D$31,'Liste inscrits'!A:AA,1,FALSE)),\"\",IF(VLOOKUP(D$31,'Liste inscrits'!A:AA,19,FALSE)<>\"\",VLOOKUP(D$31,'Liste inscrits'!A:AA,20,FALSE),\"\"))","v":""},{"$f":"IF(ISERROR(VLOOKUP(D$31,'Liste inscrits'!A:AA,1,FALSE)),\"\",IF(VLOOKUP(D$31,'Liste inscrits'!A:AA,19,FALSE)<>\"\",VLOOKUP(D$31,'Liste inscrits'!A:AA,19,FALSE),\"\"))","v":""},{"$f":"IF(ISERROR(VLOOKUP(D$31,'Liste inscrits'!A:AA,1,FALSE)),\"\",IF(VLOOKUP(D$31,'Liste inscrits'!A:AA,19,FALSE)<>\"\",VLOOKUP(D$31,'Liste inscrits'!A:AA,21,FALSE),\"\"))","v":""}]
[null,null,{"$f":"IF(ISERROR(VLOOKUP(D31,'Liste inscrits'!A:AA,1,FALSE)),\"\",IF(VLOOKUP(D31,'Liste inscrits'!A:AA,25,FALSE)<>\"\",VLOOKUP(D31,'Liste inscrits'!A:AA,26,FALSE),\"\"))","v":""},{"$f":"IF(ISERROR(VLOOKUP(D31,'Liste inscrits'!A:AA,1,FALSE)),\"\",IF(VLOOKUP(D31,'Liste inscrits'!A:AA,25,FALSE)<>\"\",VLOOKUP(D31,'Liste inscrits'!A:AA,25,FALSE),\"\"))","v":""},{"$f":"IF(ISERROR(VLOOKUP(D31,'Liste inscrits'!A:AA,1,FALSE)),\"\",IF(VLOOKUP(D31,'Liste inscrits'!A:AA,25,FALSE)<>\"\",VLOOKUP(D31,'Liste inscrits'!A:AA,27,FALSE),\"\"))","v":""}]
[null,"Equipe 7",{"$f":"IF(ISERROR(VLOOKUP(D36,'Liste inscrits'!A:AA,1,FALSE)),\"\",VLOOKUP(D36,'Liste inscrits'!A:AA,2,FALSE))","v":""},{"$f":"IF(G36<>\"\",LEFT(G36,SEARCH(CHAR(10),G36,1)-1),\"\")","v":""},{"$f":"IF(G36<>\"\",RIGHT(G36,LEN(G36)-SEARCH(CHAR(10),G36,1)),\"\")","v":""},null,{"$f":"IF('Tableau final'!$B$5=\"Qualifiés\",'Tableau final'!$C$14,IF('Tableau final'!$G$5=\"Qualifiés\",'Tableau final'!$H$21,\"\"))","v":""}]
[null,null,{"$f":"IF(ISERROR(VLOOKUP(D$36,'Liste inscrits'!A:AA,1,FALSE)),\"\",VLOOKUP(D$36,'Liste inscrits'!A:AA,8,FALSE))","v":""},{"$f":"IF(ISERROR(VLOOKUP(D$36,'Liste inscrits'!A:AA,1,FALSE)),\"\",VLOOKUP(D$36,'Liste inscrits'!A:AA,7,FALSE))","v":""},{"$f":"IF(ISERROR(VLOOKUP(D$36,'Liste inscrits'!A:AA,1,FALSE)),\"\",VLOOKUP(D$36,'Liste inscrits'!A:AA,9,FALSE))","v":""}]
[null,null,{"$f":"IF(ISERROR(VLOOKUP(D$36,'Liste inscrits'!A:AA,1,FALSE)),\"\",IF(VLOOKUP(D$36,'Liste inscrits'!A:AA,13,FALSE)<>\"\",VLOOKUP(D$36,'Liste inscrits'!A:AA,14,FALSE),\"\"))","v":""},{"$f":"IF(ISERROR(VLOOKUP(D$36,'Liste inscrits'!A:AA,1,FALSE)),\"\",IF(VLOOKUP(D$36,'Liste inscrits'!A:AA,13,FALSE)<>\"\",VLOOKUP(D$36,'Liste inscrits'!A:AA,13,FALSE),\"\"))","v":""},{"$f":"IF(ISERROR(VLOOKUP(D$36,'Liste inscrits'!A:AA,1,FALSE)),\"\",IF(VLOOKUP(D$36,'Liste inscrits'!A:AA,13,FALSE)<>\"\",VLOOKUP(D$36,'Liste inscrits'!A:AA,15,FALSE),\"\"))","v":""}]
[null,null,{"$f":"IF(ISERROR(VLOOKUP(D$36,'Liste inscrits'!A:AA,1,FALSE)),\"\",IF(VLOOKUP(D$36,'Liste inscrits'!A:AA,19,FALSE)<>\"\",VLOOKUP(D$36,'Liste inscrits'!A:AA,20,FALSE),\"\"))","v":""},{"$f":"IF(ISERROR(VLOOKUP(D$36,'Liste inscrits'!A:AA,1,FALSE)),\"\",IF(VLOOKUP(D$36,'Liste inscrits'!A:AA,19,FALSE)<>\"\",VLOOKUP(D$36,'Liste inscrits'!A:AA,19,FALSE),\"\"))","v":""},{"$f":"IF(ISERROR(VLOOKUP(D$36,'Liste inscrits'!A:AA,1,FALSE)),\"\",IF(VLOOKUP(D$36,'Liste inscrits'!A:AA,19,FALSE)<>\"\",VLOOKUP(D$36,'Liste inscrits'!A:AA,21,FALSE),\"\"))","v":""}]
[null,null,{"$f":"IF(ISERROR(VLOOKUP(D36,'Liste inscrits'!A:AA,1,FALSE)),\"\",IF(VLOOKUP(D36,'Liste inscrits'!A:AA,25,FALSE)<>\"\",VLOOKUP(D36,'Liste inscrits'!A:AA,26,FALSE),\"\"))","v":""},{"$f":"IF(ISERROR(VLOOKUP(D36,'Liste inscrits'!A:AA,1,FALSE)),\"\",IF(VLOOKUP(D36,'Liste inscrits'!A:AA,25,FALSE)<>\"\",VLOOKUP(D36,'Liste inscrits'!A:AA,25,FALSE),\"\"))","v":""},{"$f":"IF(ISERROR(VLOOKUP(D36,'Liste inscrits'!A:AA,1,FALSE)),\"\",IF(VLOOKUP(D36,'Liste inscrits'!A:AA,25,FALSE)<>\"\",VLOOKUP(D36,'Liste inscrits'!A:AA,27,FALSE),\"\"))","v":""}]
[null,"Equipe 8",{"$f":"IF(ISERROR(VLOOKUP(D41,'Liste inscrits'!A:AA,1,FALSE)),\"\",VLOOKUP(D41,'Liste inscrits'!A:AA,2,FALSE))","v":""},{"$f":"IF(G41<>\"\",LEFT(G41,SEARCH(CHAR(10),G41,1)-1),\"\")","v":""},{"$f":"IF(G41<>\"\",RIGHT(G41,LEN(G41)-SEARCH(CHAR(10),G41,1)),\"\")","v":""},null,{"$f":"IF('Tableau final'!$B$5=\"Qualifiés\",'Tableau final'!$C$15,IF('Tableau final'!$G$5=\"Qualifiés\",'Tableau final'!$H$22,\"\"))","v":""}]
[null,null,{"$f":"IF(ISERROR(VLOOKUP(D$41,'Liste inscrits'!A:AA,1,FALSE)),\"\",VLOOKUP(D$41,'Liste inscrits'!A:AA,8,FALSE))","v":""},{"$f":"IF(ISERROR(VLOOKUP(D$41,'Liste inscrits'!A:AA,1,FALSE)),\"\",VLOOKUP(D$41,'Liste inscrits'!A:AA,7,FALSE))","v":""},{"$f":"IF(ISERROR(VLOOKUP(D$41,'Liste inscrits'!A:AA,1,FALSE)),\"\",VLOOKUP(D$41,'Liste inscrits'!A:AA,9,FALSE))","v":""}]
[null,null,{"$f":"IF(ISERROR(VLOOKUP(D$41,'Liste inscrits'!A:AA,1,FALSE)),\"\",IF(VLOOKUP(D$41,'Liste inscrits'!A:AA,13,FALSE)<>\"\",VLOOKUP(D$41,'Liste inscrits'!A:AA,14,FALSE),\"\"))","v":""},{"$f":"IF(ISERROR(VLOOKUP(D$41,'Liste inscrits'!A:AA,1,FALSE)),\"\",IF(VLOOKUP(D$41,'Liste inscrits'!A:AA,13,FALSE)<>\"\",VLOOKUP(D$41,'Liste inscrits'!A:AA,13,FALSE),\"\"))","v":""},{"$f":"IF(ISERROR(VLOOKUP(D$41,'Liste inscrits'!A:AA,1,FALSE)),\"\",IF(VLOOKUP(D$41,'Liste inscrits'!A:AA,13,FALSE)<>\"\",VLOOKUP(D$41,'Liste inscrits'!A:AA,15,FALSE),\"\"))","v":""}]
[null,null,{"$f":"IF(ISERROR(VLOOKUP(D$41,'Liste inscrits'!A:AA,1,FALSE)),\"\",IF(VLOOKUP(D$41,'Liste inscrits'!A:AA,19,FALSE)<>\"\",VLOOKUP(D$41,'Liste inscrits'!A:AA,20,FALSE),\"\"))","v":""},{"$f":"IF(ISERROR(VLOOKUP(D$41,'Liste inscrits'!A:AA,1,FALSE)),\"\",IF(VLOOKUP(D$41,'Liste inscrits'!A:AA,19,FALSE)<>\"\",VLOOKUP(D$41,'Liste inscrits'!A:AA,19,FALSE),\"\"))","v":""},{"$f":"IF(ISERROR(VLOOKUP(D$41,'Liste inscrits'!A:AA,1,FALSE)),\"\",IF(VLOOKUP(D$41,'Liste inscrits'!A:AA,19,FALSE)<>\"\",VLOOKUP(D$41,'Liste inscrits'!A:AA,21,FALSE),\"\"))","v":""}]
[null,null,{"$f":"IF(ISERROR(VLOOKUP(D41,'Liste inscrits'!A:AA,1,FALSE)),\"\",IF(VLOOKUP(D41,'Liste inscrits'!A:AA,25,FALSE)<>\"\",VLOOKUP(D41,'Liste inscrits'!A:AA,26,FALSE),\"\"))","v":""},{"$f":"IF(ISERROR(VLOOKUP(D41,'Liste inscrits'!A:AA,1,FALSE)),\"\",IF(VLOOKUP(D41,'Liste inscrits'!A:AA,25,FALSE)<>\"\",VLOOKUP(D41,'Liste inscrits'!A:AA,25,FALSE),\"\"))","v":""},{"$f":"IF(ISERROR(VLOOKUP(D41,'Liste inscrits'!A:AA,1,FALSE)),\"\",IF(VLOOKUP(D41,'Liste inscrits'!A:AA,25,FALSE)<>\"\",VLOOKUP(D41,'Liste inscrits'!A:AA,27,FALSE),\"\"))","v":""}]
[null,"Equipe 9",{"$f":"IF(ISERROR(VLOOKUP(D46,'Liste inscrits'!A:AA,1,FALSE)),\"\",VLOOKUP(D46,'Liste inscrits'!A:AA,2,FALSE))","v":""},{"$f":"IF(G46<>\"\",LEFT(G46,SEARCH(CHAR(10),G46,1)-1),\"\")","v":""},{"$f":"IF(G46<>\"\",RIGHT(G46,LEN(G46)-SEARCH(CHAR(10),G46,1)),\"\")","v":""},null,{"$f":"IF('Tableau final'!$B$5=\"Qualifiés\",'Tableau final'!$C$16,\"\")","v":""}]
[null,null,{"$f":"IF(ISERROR(VLOOKUP(D$46,'Liste inscrits'!A:AA,1,FALSE)),\"\",VLOOKUP(D$46,'Liste inscrits'!A:AA,8,FALSE))","v":""},{"$f":"IF(ISERROR(VLOOKUP(D$46,'Liste inscrits'!A:AA,1,FALSE)),\"\",VLOOKUP(D$46,'Liste inscrits'!A:AA,7,FALSE))","v":""},{"$f":"IF(ISERROR(VLOOKUP(D$46,'Liste inscrits'!A:AA,1,FALSE)),\"\",VLOOKUP(D$46,'Liste inscrits'!A:AA,9,FALSE))","v":""}]
[null,null,{"$f":"IF(ISERROR(VLOOKUP(D$46,'Liste inscrits'!A:AA,1,FALSE)),\"\",IF(VLOOKUP(D$46,'Liste inscrits'!A:AA,13,FALSE)<>\"\",VLOOKUP(D$46,'Liste inscrits'!A:AA,14,FALSE),\"\"))","v":""},{"$f":"IF(ISERROR(VLOOKUP(D$46,'Liste inscrits'!A:AA,1,FALSE)),\"\",IF(VLOOKUP(D$46,'Liste inscrits'!A:AA,13,FALSE)<>\"\",VLOOKUP(D$46,'Liste inscrits'!A:AA,13,FALSE),\"\"))","v":""},{"$f":"IF(ISERROR(VLOOKUP(D$46,'Liste inscrits'!A:AA,1,FALSE)),\"\",IF(VLOOKUP(D$46,'Liste inscrits'!A:AA,13,FALSE)<>\"\",VLOOKUP(D$46,'Liste inscrits'!A:AA,15,FALSE),\"\"))","v":""}]
[null,null,{"$f":"IF(ISERROR(VLOOKUP(D$46,'Liste inscrits'!A:AA,1,FALSE)),\"\",IF(VLOOKUP(D$46,'Liste inscrits'!A:AA,19,FALSE)<>\"\",VLOOKUP(D$46,'Liste inscrits'!A:AA,20,FALSE),\"\"))","v":""},{"$f":"IF(ISERROR(VLOOKUP(D$46,'Liste inscrits'!A:AA,1,FALSE)),\"\",IF(VLOOKUP(D$46,'Liste inscrits'!A:AA,19,FALSE)<>\"\",VLOOKUP(D$46,'Liste inscrits'!A:AA,19,FALSE),\"\"))","v":""},{"$f":"IF(ISERROR(VLOOKUP(D$46,'Liste inscrits'!A:AA,1,FALSE)),\"\",IF(VLOOKUP(D$46,'Liste inscrits'!A:AA,19,FALSE)<>\"\",VLOOKUP(D$46,'Liste inscrits'!A:AA,21,FALSE),\"\"))","v":""}]
[null,null,{"$f":"IF(ISERROR(VLOOKUP(D46,'Liste inscrits'!A:AA,1,FALSE)),\"\",IF(VLOOKUP(D46,'Liste inscrits'!A:AA,25,FALSE)<>\"\",VLOOKUP(D46,'Liste inscrits'!A:AA,26,FALSE),\"\"))","v":""},{"$f":"IF(ISERROR(VLOOKUP(D46,'Liste inscrits'!A:AA,1,FALSE)),\"\",IF(VLOOKUP(D46,'Liste inscrits'!A:AA,25,FALSE)<>\"\",VLOOKUP(D46,'Liste inscrits'!A:AA,25,FALSE),\"\"))","v":""},{"$f":"IF(ISERROR(VLOOKUP(D46,'Liste inscrits'!A:AA,1,FALSE)),\"\",IF(VLOOKUP(D46,'Liste inscrits'!A:AA,25,FALSE)<>\"\",VLOOKUP(D46,'Liste inscrits'!A:AA,27,FALSE),\"\"))","v":""}]
[null,"Equipe 10",{"$f":"IF(ISERROR(VLOOKUP(D51,'Liste inscrits'!A:AA,1,FALSE)),\"\",VLOOKUP(D51,'Liste inscrits'!A:AA,2,FALSE))","v":""},{"$f":"IF(G51<>\"\",LEFT(G51,SEARCH(CHAR(10),G51,1)-1),\"\")","v":""},{"$f":"IF(G51<>\"\",RIGHT(G51,LEN(G51)-SEARCH(CHAR(10),G51,1)),\"\")","v":""},null,{"$f":"IF('Tableau final'!$B$5=\"Qualifiés\",'Tableau final'!$C$17,\"\")","v":""}]
[null,null,{"$f":"IF(ISERROR(VLOOKUP(D$51,'Liste inscrits'!A:AA,1,FALSE)),\"\",VLOOKUP(D$51,'Liste inscrits'!A:AA,8,FALSE))","v":""},{"$f":"IF(ISERROR(VLOOKUP(D$51,'Liste inscrits'!A:AA,1,FALSE)),\"\",VLOOKUP(D$51,'Liste inscrits'!A:AA,7,FALSE))","v":""},{"$f":"IF(ISERROR(VLOOKUP(D$51,'Liste inscrits'!A:AA,1,FALSE)),\"\",VLOOKUP(D$51,'Liste inscrits'!A:AA,9,FALSE))","v":""}]
[null,null,{"$f":"IF(ISERROR(VLOOKUP(D$51,'Liste inscrits'!A:AA,1,FALSE)),\"\",IF(VLOOKUP(D$51,'Liste inscrits'!A:AA,13,FALSE)<>\"\",VLOOKUP(D$51,'Liste inscrits'!A:AA,14,FALSE),\"\"))","v":""},{"$f":"IF(ISERROR(VLOOKUP(D$51,'Liste inscrits'!A:AA,1,FALSE)),\"\",IF(VLOOKUP(D$51,'Liste inscrits'!A:AA,13,FALSE)<>\"\",VLOOKUP(D$51,'Liste inscrits'!A:AA,13,FALSE),\"\"))","v":""},{"$f":"IF(ISERROR(VLOOKUP(D$51,'Liste inscrits'!A:AA,1,FALSE)),\"\",IF(VLOOKUP(D$51,'Liste inscrits'!A:AA,13,FALSE)<>\"\",VLOOKUP(D$51,'Liste inscrits'!A:AA,15,FALSE),\"\"))","v":""}]
[null,null,{"$f":"IF(ISERROR(VLOOKUP(D$51,'Liste inscrits'!A:AA,1,FALSE)),\"\",IF(VLOOKUP(D$51,'Liste inscrits'!A:AA,19,FALSE)<>\"\",VLOOKUP(D$51,'Liste inscrits'!A:AA,20,FALSE),\"\"))","v":""},{"$f":"IF(ISERROR(VLOOKUP(D$51,'Liste inscrits'!A:AA,1,FALSE)),\"\",IF(VLOOKUP(D$51,'Liste inscrits'!A:AA,19,FALSE)<>\"\",VLOOKUP(D$51,'Liste inscrits'!A:AA,19,FALSE),\"\"))","v":""},{"$f":"IF(ISERROR(VLOOKUP(D$51,'Liste inscrits'!A:AA,1,FALSE)),\"\",IF(VLOOKUP(D$51,'Liste inscrits'!A:AA,19,FALSE)<>\"\",VLOOKUP(D$51,'Liste inscrits'!A:AA,21,FALSE),\"\"))","v":""}]
[null,null,{"$f":"IF(ISERROR(VLOOKUP(D51,'Liste inscrits'!A:AA,1,FALSE)),\"\",IF(VLOOKUP(D51,'Liste inscrits'!A:AA,25,FALSE)<>\"\",VLOOKUP(D51,'Liste inscrits'!A:AA,26,FALSE),\"\"))","v":""},{"$f":"IF(ISERROR(VLOOKUP(D51,'Liste inscrits'!A:AA,1,FALSE)),\"\",IF(VLOOKUP(D51,'Liste inscrits'!A:AA,25,FALSE)<>\"\",VLOOKUP(D51,'Liste inscrits'!A:AA,25,FALSE),\"\"))","v":""},{"$f":"IF(ISERROR(VLOOKUP(D51,'Liste inscrits'!A:AA,1,FALSE)),\"\",IF(VLOOKUP(D51,'Liste inscrits'!A:AA,25,FALSE)<>\"\",VLOOKUP(D51,'Liste inscrits'!A:AA,27,FALSE),\"\"))","v":""}]

{"sheet":"fiche inscription","index":8,"n_rows":1819,"n_cols":9,"rows_kept":1819,"cut":false,"hidden":false,"merged":[[1808,1,1808,2],[1809,1,1809,2],[1811,4,1811,6],[1799,1,1799,2],[1800,1,1800,2],[1806,1,1806,2],[1807,1,1807,2],[1797,4,1797,6],[1801,1,1801,2],[1802,1,1802,2],[1804,4,1804,6],[1813,1,1813,2],[1814,1,1814,2],[1815,1,1815,2],[1816,1,1816,2],[1818,4,1818,6],[1741,4,1741,6],[1743,1,1743,2],[1764,1,1764,2],[1765,1,1765,2],[1766,1,1766,2],[1755,1,1755,2],[1757,1,1757,2],[1790,1,1790,2],[1795,1,1795,2],[1771,1,1771,2],[1772,1,1772,2],[1773,1,1773,2],[1774,1,1774,2],[1783,4,1783,6],[1788,4,1788,7],[1790,4,1790,7],[1792,1,1792,2],[1793,1,1793,2],[1794,1,1794,2],[1702,1,1702,2],[1703,1,1703,2],[1704,1,1704,2],[1708,1,1708,2],[1709,1,1709,2],[1710,1,1710,2],[1711,1,1711,2],[1713,4,1713,6],[1718,4,1718,7],[1720,4,1720,7],[1732,1,1732,2],[1734,4,1734,6],[1736,1,1736,2],[1737,1,1737,2],[1738,1,1738,2],[1739,1,1739,2],[1722,1,1722,2],[1723,1,1723,2],[1729,1,1729,2],[1730,1,1730,2],[1731,1,1731,2],[1724,1,1724,2],[1725,1,1725,2],[1727,4,1727,6],[1760,1,1760,2],[1762,4,1762,6],[1767,1,1767,2],[1769,4,1769,6],[1776,4,1776,6],[1641,1,1641,2],[1657,4,1657,6],[1659,1,1659,2],[1660,1,1660,2],[1661,1,1661,2],[1662,1,1662,2],[1668,1,1668,2],[1648,4,1648,7],[1650,1,1650,2],[1652,1,1652,2],[1653,1,1653,2],[1654,1,1654,2],[1655,1,1655,2],[1685,1,1685,2],[1687,1,1687,2],[1688,1,1688,2],[1669,1,1669,2],[1673,1,1673,2],[1646,2,1646,5],[1681,2,1681,5],[1671,4,1671,6],[1674,1,1674,2],[1675,1,1675,2],[1676,1,1676,2],[1678,4,1678,6],[1683,4,1683,7],[1685,4,1685,7],[1634,1,1634,2],[1638,1,1638,2],[1639,1,1639,2],[1619,1,1619,2],[1620,1,1620,2],[1625,1,1625,2],[1626,1,1626,2],[1627,1,1627,2],[1622,4,1622,6],[1624,1,1624,2],[1629,4,1629,6],[1631,1,1631,2],[1632,1,1632,2],[1633,1,1633,2],[1636,4,1636,6],[1611,2,1611,5],[1640,1,1640,2],[1584,1,1584,2],[1585,1,1585,2],[1591,1,1591,2],[1592,1,1592,2],[1568,1,1568,2],[1569,1,1569,2],[1570,1,1570,2],[1571,1,1571,2],[1573,4,1573,6],[1578,4,1578,7],[1580,1,1580,2],[1580,4,1580,7],[1576,2,1576,5],[1604,1,1604,2],[1605,1,1605,2],[1617,1,1617,2],[1618,1,1618,2],[1596,1,1596,2],[1603,1,1603,2],[1598,1,1598,2],[1599,1,1599,2],[1601,4,1601,6],[1606,1,1606,2],[1608,4,1608,6],[1613,4,1613,7],[1615,1,1615,2],[1615,4,1615,7],[1528,1,1528,2],[1533,1,1533,2],[1534,1,1534,2],[1535,1,1535,2],[1536,1,1536,2],[1519,1,1519,2],[1526,1,1526,2],[1527,1,1527,2],[1517,4,1517,6],[1520,1,1520,2],[1521,1,1521,2],[1522,1,1522,2],[1524,4,1524,6],[1529,1,1529,2],[1531,4,1531,6],[1538,4,1538,6],[1557,1,1557,2],[1548,1,1548,2],[1549,1,1549,2],[1550,1,1550,2],[1487,1,1487,2],[1489,4,1489,6],[1510,4,1510,7],[1512,1,1512,2],[1514,1,1514,2],[1515,1,1515,2],[1491,1,1491,2],[1492,1,1492,2],[1493,1,1493,2],[1494,1,1494,2],[1496,4,1496,6],[1498,1,1498,2],[1499,1,1499,2],[1500,1,1500,2],[1501,1,1501,2],[1503,4,1503,6],[1508,4,1508,7],[1510,1,1510,2],[1513,1,1513,2],[1506,2,1506,5],[1480,1,1480,2],[1461,4,1461,6],[1463,1,1463,2],[1468,4,1468,6],[1473,4,1473,7],[1475,1,1475,2],[1475,4,1475,7],[1477,1,1477,2],[1479,1,1479,2],[1471,2,1471,5],[1484,1,1484,2],[1485,1,1485,2],[1465,1,1465,2],[1466,1,1466,2],[1478,1,1478,2],[1482,4,1482,6],[1486,1,1486,2],[1433,4,1433,6],[1438,4,1438,7],[1440,1,1440,2],[1440,4,1440,7],[1442,1,1442,2],[1443,1,1443,2],[1445,1,1445,2],[1447,4,1447,6],[1452,1,1452,2],[1454,4,1454,6],[1436,2,1436,5],[1456,1,1456,2],[1457,1,1457,2],[1458,1,1458,2],[1459,1,1459,2],[1464,1,1464,2],[1444,1,1444,2],[1449,1,1449,2],[1450,1,1450,2],[1451,1,1451,2],[1408,1,1408,2],[1401,2,1401,5],[1410,1,1410,2],[1414,1,1414,2],[1389,1,1389,2],[1396,1,1396,2],[1430,1,1430,2],[1409,1,1409,2],[1412,4,1412,6],[1426,4,1426,6],[1428,1,1428,2],[1429,1,1429,2],[1431,1,1431,2],[1415,1,1415,2],[1416,1,1416,2],[1417,1,1417,2],[1419,4,1419,6],[1421,1,1421,2],[1422,1,1422,2],[1423,1,1423,2],[1424,1,1424,2],[1374,1,1374,2],[1375,1,1375,2],[1377,4,1377,6],[1366,2,1366,5],[1387,1,1387,2],[1388,1,1388,2],[1384,4,1384,6],[1386,1,1386,2],[1391,4,1391,6],[1393,1,1393,2],[1394,1,1394,2],[1395,1,1395,2],[1398,4,1398,6],[1403,4,1403,7],[1405,1,1405,2],[1405,4,1405,7],[1407,1,1407,2],[1370,1,1370,2],[1370,4,1370,7],[1372,1,1372,2],[1373,1,1373,2],[458,4,458,7],[444,1,444,2],[436,1,436,2],[435,1,435,2],[437,1,437,2],[413,1,413,2],[406,1,406,2],[427,1,427,2],[428,1,428,2],[429,1,429,2],[430,1,430,2],[576,1,576,2],[574,1,574,2],[575,1,575,2],[582,1,582,2],[583,1,583,2],[1353,1,1353,2],[584,1,584,2],[635,1,635,2],[639,1,639,2],[640,1,640,2],[1344,1,1344,2],[1345,1,1345,2],[1346,1,1346,2],[1347,1,1347,2],[546,1,546,2],[532,1,532,2],[541,1,541,2],[533,1,533,2],[539,1,539,2],[540,1,540,2],[542,1,542,2],[26,4,26,6],[50,1,50,2],[51,1,51,2],[54,4,54,6],[120,1,120,2],[122,1,122,2],[129,1,129,2],[206,1,206,2],[191,1,191,2],[189,1,189,2],[190,1,190,2],[192,1,192,2],[295,1,295,2],[302,1,302,2],[303,1,303,2],[304,1,304,2],[294,1,294,2],[224,1,224,2],[225,1,225,2],[227,1,227,2],[229,4,229,6],[240,1,240,2],[241,1,241,2],[231,1,231,2],[226,1,226,2],[232,1,232,2],[233,1,233,2],[234,1,234,2],[220,1,220,2],[274,1,274,2],[275,1,275,2],[276,1,276,2],[359,1,359,2],[360,1,360,2],[367,1,367,2],[544,4,544,6],[547,1,547,2],[548,1,548,2],[549,1,549,2],[565,1,565,2],[567,1,567,2],[581,1,581,2],[551,4,551,6],[553,1,553,2],[554,1,554,2],[371,1,371,2],[372,1,372,2],[379,1,379,2],[355,1,355,2],[355,4,355,7],[357,1,357,2],[362,4,362,6],[364,1,364,2],[365,1,365,2],[366,1,366,2],[369,4,369,6],[373,1,373,2],[390,1,390,2],[392,1,392,2],[414,1,414,2],[415,1,415,2],[388,4,388,7],[390,4,390,7],[393,1,393,2],[101,1,101,2],[103,4,103,6],[108,4,108,7],[401,1,401,2],[147,1,147,2],[148,1,148,2],[288,1,288,2],[290,1,290,2],[254,1,254,2],[266,1,266,2],[261,1,261,2],[259,1,259,2],[260,1,260,2],[287,1,287,2],[289,1,289,2],[336,1,336,2],[337,1,337,2],[338,1,338,2],[380,1,380,2],[381,1,381,2],[267,1,267,2],[268,1,268,2],[269,1,269,2],[344,1,344,2],[345,1,345,2],[346,1,346,2],[322,1,322,2],[324,1,324,2],[325,1,325,2],[329,1,329,2],[343,1,343,2],[358,1,358,2],[61,4,61,6],[68,4,68,6],[65,1,65,2],[99,1,99,2],[100,1,100,2],[91,1,91,2],[98,1,98,2],[86,1,86,2],[75,1,75,2],[84,1,84,2],[87,1,87,2],[73,4,73,7],[75,4,75,7],[77,1,77,2],[78,1,78,2],[59,1,59,2],[63,1,63,2],[64,1,64,2],[66,1,66,2],[79,1,79,2],[80,1,80,2],[82,4,82,6],[85,1,85,2],[89,4,89,6],[92,1,92,2],[93,1,93,2],[94,1,94,2],[96,4,96,6],[57,1,57,2],[58,1,58,2],[52,1,52,2],[42,1,42,2],[43,1,43,2],[40,1,40,2],[40,4,40,7],[28,1,28,2],[29,1,29,2],[30,1,30,2],[31,1,31,2],[33,4,33,6],[44,1,44,2],[45,1,45,2],[47,4,47,6],[49,1,49,2],[56,1,56,2],[38,4,38,7],[36,2,36,5],[5,4,5,7],[3,4,3,7],[22,1,22,2],[23,1,23,2],[14,1,14,2],[15,1,15,2],[16,1,16,2],[21,1,21,2],[5,1,5,2],[7,1,7,2],[8,1,8,2],[9,1,9,2],[12,4,12,6],[19,4,19,6],[10,1,10,2],[17,1,17,2],[24,1,24,2],[668,4,668,7],[670,1,670,2],[670,4,670,7],[672,1,672,2],[677,4,677,6],[679,1,679,2],[680,1,680,2],[681,1,681,2],[684,4,684,6],[644,1,644,2],[651,1,651,2],[652,1,652,2],[653,1,653,2],[658,1,658,2],[659,1,659,2],[660,1,660,2],[661,1,661,2],[663,4,663,6],[687,1,687,2],[696,1,696,2],[707,1,707,2],[708,1,708,2],[709,1,709,2],[710,1,710,2],[688,1,688,2],[689,1,689,2],[691,4,691,6],[693,1,693,2],[694,1,694,2],[695,1,695,2],[698,4,698,6],[703,4,703,7],[705,1,705,2],[705,4,705,7],[673,1,673,2],[674,1,674,2],[675,1,675,2],[682,1,682,2],[686,1,686,2],[761,4,761,6],[716,1,716,2],[717,1,717,2],[721,1,721,2],[730,1,730,2],[712,4,712,6],[714,1,714,2],[715,1,715,2],[719,4,719,6],[722,1,722,2],[723,1,723,2],[724,1,724,2],[726,4,726,6],[728,1,728,2],[729,1,729,2],[731,1,731,2],[733,4,733,6],[742,1,742,2],[743,1,743,2],[744,1,744,2],[745,1,745,2],[750,1,750,2],[751,1,751,2],[752,1,752,2],[738,4,738,7],[740,1,740,2],[740,4,740,7],[747,4,747,6],[749,1,749,2],[754,4,754,6],[756,1,756,2],[757,1,757,2],[758,1,758,2],[759,1,759,2],[819,1,819,2],[820,1,820,2],[821,1,821,2],[822,1,822,2],[834,1,834,2],[824,4,824,6],[826,1,826,2],[827,1,827,2],[828,1,828,2],[829,1,829,2],[831,4,831,6],[833,1,833,2],[785,1,785,2],[786,1,786,2],[787,1,787,2],[798,1,798,2],[800,1,800,2],[801,1,801,2],[763,1,763,2],[765,1,765,2],[768,4,768,6],[773,4,773,7],[775,4,775,7],[789,4,789,6],[791,1,791,2],[792,1,792,2],[793,1,793,2],[794,1,794,2],[796,4,796,6],[799,1,799,2],[856,1,856,2],[857,1,857,2],[859,4,859,6],[868,1,868,2],[869,1,869,2],[870,1,870,2],[871,1,871,2],[880,1,880,2],[861,1,861,2],[862,1,862,2],[863,1,863,2],[864,1,864,2],[866,4,866,6],[873,4,873,6],[878,4,878,7],[880,4,880,7],[835,1,835,2],[836,1,836,2],[845,1,845,2],[847,1,847,2],[848,1,848,2],[854,1,854,2],[855,1,855,2],[838,4,838,6],[843,4,843,7],[845,4,845,7],[849,1,849,2],[850,1,850,2],[852,4,852,6],[906,1,906,2],[915,1,915,2],[920,1,920,2],[924,1,924,2],[925,1,925,2],[908,4,908,6],[913,4,913,7],[915,4,915,7],[917,1,917,2],[918,1,918,2],[919,1,919,2],[922,4,922,6],[926,1,926,2],[927,1,927,2],[882,1,882,2],[889,1,889,2],[890,1,890,2],[891,1,891,2],[903,1,903,2],[904,1,904,2],[905,1,905,2],[883,1,883,2],[884,1,884,2],[885,1,885,2],[887,4,887,6],[892,1,892,2],[894,4,894,6],[896,1,896,2],[897,1,897,2],[898,1,898,2],[899,1,899,2],[901,4,901,6],[1022,1,1022,2],[1023,1,1023,2],[1024,1,1024,2],[1018,4,1018,7],[1020,1,1020,2],[1020,4,1020,7],[988,1,988,2],[989,1,989,2],[990,1,990,2],[1002,1,1002,2],[954,1,954,2],[955,1,955,2],[959,1,959,2],[968,1,968,2],[973,1,973,2],[974,1,974,2],[975,1,975,2],[971,4,971,6],[976,1,976,2],[978,4,978,6],[983,4,983,7],[985,1,985,2],[985,4,985,7],[987,1,987,2],[992,4,992,6],[994,1,994,2],[995,1,995,2],[996,1,996,2],[997,1,997,2],[999,4,999,6],[1001,1,1001,2],[1003,1,1003,2],[1053,4,1053,7],[1055,1,1055,2],[1055,4,1055,7],[1062,4,1062,6],[1064,1,1064,2],[1065,1,1065,2],[1066,1,1066,2],[1067,1,1067,2],[1069,4,1069,6],[1071,1,1071,2],[1025,1,1025,2],[1036,1,1036,2],[1038,1,1038,2],[1039,1,1039,2],[1043,1,1043,2],[1027,4,1027,6],[1029,1,1029,2],[1030,1,1030,2],[1031,1,1031,2],[1032,1,1032,2],[1034,4,1034,6],[1037,1,1037,2],[1041,4,1041,6],[1044,1,1044,2],[1045,1,1045,2],[1046,1,1046,2],[1048,4,1048,6],[1090,1,1090,2],[1092,1,1092,2],[1093,1,1093,2],[1094,1,1094,2],[1095,1,1095,2],[1076,4,1076,6],[1078,1,1078,2],[1079,1,1079,2],[1080,1,1080,2],[1083,4,1083,6],[1088,4,1088,7],[1090,4,1090,7],[1057,1,1057,2],[1058,1,1058,2],[1059,1,1059,2],[1060,1,1060,2],[1072,1,1072,2],[1073,1,1073,2],[1074,1,1074,2],[1081,1,1081,2],[1137,1,1137,2],[1139,4,1139,6],[1097,4,1097,6],[1106,1,1106,2],[1107,1,1107,2],[1108,1,1108,2],[1109,1,1109,2],[1115,1,1115,2],[1116,1,1116,2],[1099,1,1099,2],[1100,1,1100,2],[1101,1,1101,2],[1102,1,1102,2],[1104,4,1104,6],[1111,4,1111,6],[1113,1,1113,2],[1114,1,1114,2],[1118,4,1118,6],[1123,4,1123,7],[1125,4,1125,7],[1130,1,1130,2],[1132,4,1132,6],[1134,1,1134,2],[1135,1,1135,2],[1136,1,1136,2],[1206,1,1206,2],[1211,1,1211,2],[1212,1,1212,2],[1213,1,1213,2],[1218,1,1218,2],[1219,1,1219,2],[1200,1,1200,2],[1202,4,1202,6],[1204,1,1204,2],[1205,1,1205,2],[1207,1,1207,2],[1209,4,1209,6],[1214,1,1214,2],[1216,4,1216,6],[1176,1,1176,2],[1177,1,1177,2],[1178,1,1178,2],[1179,1,1179,2],[1181,4,1181,6],[1183,1,1183,2],[1184,1,1184,2],[1185,1,1185,2],[1186,1,1186,2],[1220,1,1220,2],[1221,1,1221,2],[1230,1,1230,2],[1240,1,1240,2],[1242,1,1242,2],[1223,4,1223,6],[1228,4,1228,7],[1230,4,1230,7],[1232,1,1232,2],[1233,1,1233,2],[1234,1,1234,2],[1235,1,1235,2],[1237,4,1237,6],[1239,1,1239,2],[1241,1,1241,2],[1244,4,1244,6],[1226,2,1226,5],[1283,1,1283,2],[1284,1,1284,2],[1286,4,1286,6],[1246,1,1246,2],[1247,1,1247,2],[1253,1,1253,2],[1254,1,1254,2],[1255,1,1255,2],[1256,1,1256,2],[1258,4,1258,6],[1265,1,1265,2],[1248,1,1248,2],[1249,1,1249,2],[1251,4,1251,6],[1263,4,1263,7],[1265,4,1265,7],[1261,2,1261,5],[110,1,110,2],[110,4,110,7],[112,1,112,2],[113,1,113,2],[114,1,114,2],[115,1,115,2],[117,4,117,6],[119,1,119,2],[121,1,121,2],[124,4,124,6],[126,1,126,2],[127,1,127,2],[128,1,128,2],[131,4,131,6],[133,1,133,2],[134,1,134,2],[135,1,135,2],[136,1,136,2],[138,4,138,6],[143,4,143,7],[145,1,145,2],[145,4,145,7],[149,1,149,2],[150,1,150,2],[152,4,152,6],[159,4,159,6],[161,1,161,2],[162,1,162,2],[166,4,166,6],[169,1,169,2],[170,1,170,2],[171,1,171,2],[173,4,173,6],[178,4,178,7],[180,1,180,2],[180,4,180,7],[182,1,182,2],[183,1,183,2],[184,1,184,2],[156,1,156,2],[154,1,154,2],[155,1,155,2],[157,1,157,2],[163,1,163,2],[164,1,164,2],[168,1,168,2],[185,1,185,2],[187,4,187,6],[194,4,194,6],[196,1,196,2],[201,4,201,6],[203,1,203,2],[204,1,204,2],[205,1,205,2],[208,4,208,6],[213,4,213,7],[215,1,215,2],[215,4,215,7],[217,1,217,2],[218,1,218,2],[219,1,219,2],[222,4,222,6],[236,4,236,6],[197,1,197,2],[198,1,198,2],[199,1,199,2],[238,1,238,2],[239,1,239,2],[243,4,243,6],[248,4,248,7],[250,1,250,2],[250,4,250,7],[252,1,252,2],[253,1,253,2],[255,1,255,2],[257,4,257,6],[262,1,262,2],[264,4,264,6],[271,4,271,6],[273,1,273,2],[278,4,278,6],[283,4,283,7],[285,1,285,2],[285,4,285,7],[292,4,292,6],[296,1,296,2],[297,1,297,2],[299,4,299,6],[313,4,313,6],[318,4,318,7],[320,1,320,2],[323,1,323,2],[327,4,327,6],[330,1,330,2],[331,1,331,2],[332,1,332,2],[334,4,334,6],[339,1,339,2],[341,4,341,6],[348,4,348,6],[353,4,353,7],[320,4,320,7],[306,4,306,6],[309,1,309,2],[310,1,310,2],[311,1,311,2],[308,1,308,2],[301,1,301,2],[374,1,374,2],[376,4,376,6],[397,4,397,6],[399,1,399,2],[400,1,400,2],[404,4,404,6],[407,1,407,2],[408,1,408,2],[409,1,409,2],[411,4,411,6],[416,1,416,2],[418,4,418,6],[423,4,423,7],[425,1,425,2],[425,4,425,7],[432,4,432,6],[434,1,434,2],[383,4,383,6],[378,1,378,2],[394,1,394,2],[395,1,395,2],[402,1,402,2],[439,4,439,6],[441,1,441,2],[442,1,442,2],[443,1,443,2],[446,4,446,6],[450,1,450,2],[451,1,451,2],[453,4,453,6],[460,4,460,7],[474,4,474,6],[476,1,476,2],[477,1,477,2],[481,4,481,6],[484,1,484,2],[485,1,485,2],[486,1,486,2],[488,4,488,6],[483,1,483,2],[478,1,478,2],[479,1,479,2],[448,1,448,2],[463,1,463,2],[464,1,464,2],[465,1,465,2],[467,4,467,6],[469,1,469,2],[470,1,470,2],[472,1,472,2],[471,1,471,2],[449,1,449,2],[460,1,460,2],[462,1,462,2],[493,4,493,7],[495,4,495,7],[500,1,500,2],[502,4,502,6],[509,4,509,6],[511,1,511,2],[516,4,516,6],[518,1,518,2],[519,1,519,2],[520,1,520,2],[521,1,521,2],[523,4,523,6],[528,4,528,7],[530,4,530,7],[534,1,534,2],[535,1,535,2],[537,4,537,6],[530,1,530,2],[495,1,495,2],[497,1,497,2],[506,1,506,2],[498,1,498,2],[499,1,499,2],[504,1,504,2],[505,1,505,2],[507,1,507,2],[512,1,512,2],[513,1,513,2],[514,1,514,2],[555,1,555,2],[556,1,556,2],[558,4,558,6],[563,4,563,7],[565,4,565,7],[568,1,568,2],[569,1,569,2],[570,1,570,2],[572,4,572,6],[577,1,577,2],[579,4,579,6],[586,4,586,6],[588,1,588,2],[589,1,589,2],[590,1,590,2],[591,1,591,2],[593,4,593,6],[561,2,561,5],[598,4,598,7],[600,1,600,2],[600,4,600,7],[602,1,602,2],[603,1,603,2],[604,1,604,2],[605,1,605,2],[607,4,607,6],[609,1,609,2],[610,1,610,2],[611,1,611,2],[612,1,612,2],[614,4,614,6],[616,1,616,2],[617,1,617,2],[618,1,618,2],[619,1,619,2],[621,4,621,6],[623,1,623,2],[624,1,624,2]],"merged_total":1248,"flags":["merged_cut"]}
[]
["C.B.D. AIN",null,{"$f":"'Fiche paramétrage concours'!B3","v":0},null,null,null,null,{"$f":"'Fiche paramétrage concours'!B5","v":0}]
[]
["SECTEUR :",{"$f":"IF('Fiche paramétrage concours'!B1=\"Comité Bouliste de l'Ain\",\"CBD01\",MID('Fiche paramétrage concours'!B1,LEN('Fiche paramétrage concours'!B1)-2,2))","v":{"$error":"#VALUE!"}},null,"Lieu de la compétition :",{"$f":"'Fiche paramétrage concours'!B7","v":0}]
[]
["Date : ",{"$f":"'Fiche paramétrage concours'!B9","v":0},null,null,"Nombre total d'équipes participantes ",null,null,null,{"$f":"'Fiche paramétrage concours'!B11","v":0}]
[]
["N° de LICENCE","NOM                     PRENOM\nen lettres capitales",null,"DIV","CR","CBD","N° \nSEC","N° \nASB","Qual. \nChpt AIN"]
[{"$f":"IF(B9<>\"\",VLOOKUP(B9,'Liste inscrits'!$A:$AD,2,FALSE),\"\")","v":""},{"$f":"IF(OFFSET('Liste inscrits'!$A$1,INT(ROW()/35)*4+(ROW()-INT(ROW()/35)*35)/7,0)<>\"\",OFFSET('Liste inscrits'!$A$1,INT(ROW()/35)*4+(ROW()-INT(ROW()/35)*35)/7,0),\"\")","v":""},null,{"$f":"IF(B9<>\"\",VLOOKUP(B9,'Liste inscrits'!$A:$AD,4,FALSE),\"\")","v":""},"ARA",1,{"$f":"IF(B9<>\"\",VLOOKUP(B9,'Liste inscrits'!$A:$AD,5,FALSE),\"\")","v":""},{"$f":"IF(B9<>\"\",VLOOKUP(B9,'Liste inscrits'!$A:$AD,6,FALSE),\"\")","v":""}]
[{"$f":"IF(B9<>\"\",VLOOKUP(B9,'Liste inscrits'!$A:$AD,8,FALSE),\"\")","v":""},{"$f":"IF(B9<>\"\",VLOOKUP(B9,'Liste inscrits'!$A:$AD,7,FALSE),\"\")","v":""},null,{"$f":"IF(B9<>\"\",VLOOKUP(B9,'Liste inscrits'!$A:$AD,10,FALSE),\"\")","v":""},"ARA",1,{"$f":"IF(B9<>\"\",VLOOKUP(B9,'Liste inscrits'!$A:$AD,11,FALSE),\"\")","v":""},{"$f":"IF(B9<>\"\",VLOOKUP(B9,'Liste inscrits'!$A:$AD,12,FALSE),\"\")","v":""}]
[{"$f":"IF(B9<>\"\",VLOOKUP(B9,'Liste inscrits'!$A:$AD,14,FALSE),\"\")","v":""},{"$f":"IF(B9<>\"\",VLOOKUP(B9,'Liste inscrits'!$A:$AD,13,FALSE),\"\")","v":""},null,{"$f":"IF(B9<>\"\",VLOOKUP(B9,'Liste inscrits'!$A:$AD,16,FALSE),\"\")","v":""},"ARA",1,{"$f":"IF(B9<>\"\",VLOOKUP(B9,'Liste inscrits'!$A:$AD,17,FALSE),\"\")","v":""},{"$f":"IF(B9<>\"\",VLOOKUP(B9,'Liste inscrits'!$A:$AD,18,FALSE),\"\")","v":""}]
[]
["Nb parties gagnées\ndans les poules",{"$f":"IF(ISERROR(VLOOKUP(B9&G9&H9,'Liste inscrits'!AH:AJ,1,FALSE)),\"\",VLOOKUP(B9&G9&H9,'Liste inscrits'!AH:AJ,3,FALSE))","v":""},"Classement \ndans la poule ",{"$f":"IF(ISERROR(VLOOKUP(B9&G9&H9,'Liste inscrits'!AH:AU,1,FALSE)),\"\",VLOOKUP(B9&G9&H9,'Liste inscrits'!AH:AU,14,FALSE)&\"  /  \"&VLOOKUP(B9&G9&H9,'Liste inscrits'!AH:AU,13,FALSE))","v":"  /  "},"Nb de parties gagnées \naprès les poules ",null,null,{"$f":"IF(ISERROR(VLOOKUP(B9&G9&H9,'Liste inscrits'!AH:AS,1,FALSE)),\"\",VLOOKUP(B9&G9&H9,'Liste inscrits'!AH:AS,11,FALSE))","v":""}]
[]
["N° de LICENCE","NOM                     PRENOM\nen lettres capitales",null,"DIV","CR","CBD","N° \nSEC","N° \nASB","Qual. \nChpt AIN"]
[{"$f":"IF(B16<>\"\",VLOOKUP(B16,'Liste inscrits'!$A:$AD,2,FALSE),\"\")","v":""},{"$f":"IF(OFFSET('Liste inscrits'!$A$1,INT(ROW()/35)*4+(ROW()-INT(ROW()/35)*35)/7,0)<>\"\",OFFSET('Liste inscrits'!$A$1,INT(ROW()/35)*4+(ROW()-INT(ROW()/35)*35)/7,0),\"\")","v":""},null,{"$f":"IF(B16<>\"\",VLOOKUP(B16,'Liste inscrits'!$A:$AD,4,FALSE),\"\")","v":""},"ARA",1,{"$f":"IF(B16<>\"\",VLOOKUP(B16,'Liste inscrits'!$A:$AD,5,FALSE),\"\")","v":""},{"$f":"IF(B16<>\"\",VLOOKUP(B16,'Liste inscrits'!$A:$AD,6,FALSE),\"\")","v":""}]
[{"$f":"IF(B16<>\"\",VLOOKUP(B16,'Liste inscrits'!$A:$AD,8,FALSE),\"\")","v":""},{"$f":"IF(B16<>\"\",VLOOKUP(B16,'Liste inscrits'!$A:$AD,7,FALSE),\"\")","v":""},null,{"$f":"IF(B16<>\"\",VLOOKUP(B16,'Liste inscrits'!$A:$AD,10,FALSE),\"\")","v":""},"ARA",1,{"$f":"IF(B16<>\"\",VLOOKUP(B16,'Liste inscrits'!$A:$AD,11,FALSE),\"\")","v":""},{"$f":"IF(B16<>\"\",VLOOKUP(B16,'Liste inscrits'!$A:$AD,12,FALSE),\"\")","v":""}]
[{"$f":"IF(B16<>\"\",VLOOKUP(B16,'Liste inscrits'!$A:$AD,14,FALSE),\"\")","v":""},{"$f":"IF(B16<>\"\",VLOOKUP(B16,'Liste inscrits'!$A:$AD,13,FALSE),\"\")","v":""},null,{"$f":"IF(B16<>\"\",VLOOKUP(B16,'Liste inscrits'!$A:$AD,16,FALSE),\"\")","v":""},"ARA",1,{"$f":"IF(B16<>\"\",VLOOKUP(B16,'Liste inscrits'!$A:$AD,17,FALSE),\"\")","v":""},{"$f":"IF(B16<>\"\",VLOOKUP(B16,'Liste inscrits'!$A:$AD,18,FALSE),\"\")","v":""}]
[]
["Nb parties gagnées\ndans les poules",{"$f":"IF(ISERROR(VLOOKUP(B16&G16&H16,'Liste inscrits'!AH:AJ,1,FALSE)),\"\",VLOOKUP(B16&G16&H16,'Liste inscrits'!AH:AJ,3,FALSE))","v":""},"Classement \ndans la poule ",{"$f":"IF(ISERROR(VLOOKUP(B16&G16&H16,'Liste inscrits'!AH:AU,1,FALSE)),\"\",VLOOKUP(B16&G16&H16,'Liste inscrits'!AH:AU,14,FALSE)&\"  /  \"&VLOOKUP(B16&G16&H16,'Liste inscrits'!AH:AU,13,FALSE))","v":"  /  "},"Nb de parties gagnées \naprès les poules ",null,null,{"$f":"IF(ISERROR(VLOOKUP(B16&G16&H16,'Liste inscrits'!AH:AS,1,FALSE)),\"\",VLOOKUP(B16&G16&H16,'Liste inscrits'!AH:AS,11,FALSE))","v":""}]
[]
["N° de LICENCE","NOM                     PRENOM\nen lettres capitales",null,"DIV","CR","CBD","N° \nSEC","N° \nASB","Qual. \nChpt AIN"]
[{"$f":"IF(B23<>\"\",VLOOKUP(B23,'Liste inscrits'!$A:$AD,2,FALSE),\"\")","v":""},{"$f":"IF(OFFSET('Liste inscrits'!$A$1,INT(ROW()/35)*4+(ROW()-INT(ROW()/35)*35)/7,0)<>\"\",OFFSET('Liste inscrits'!$A$1,INT(ROW()/35)*4+(ROW()-INT(ROW()/35)*35)/7,0),\"\")","v":""},null,{"$f":"IF(B23<>\"\",VLOOKUP(B23,'Liste inscrits'!$A:$AD,4,FALSE),\"\")","v":""},"ARA",1,{"$f":"IF(B23<>\"\",VLOOKUP(B23,'Liste inscrits'!$A:$AD,5,FALSE),\"\")","v":""},{"$f":"IF(B23<>\"\",VLOOKUP(B23,'Liste inscrits'!$A:$AD,6,FALSE),\"\")","v":""}]
[{"$f":"IF(B23<>\"\",VLOOKUP(B23,'Liste inscrits'!$A:$AD,8,FALSE),\"\")","v":""},{"$f":"IF(B23<>\"\",VLOOKUP(B23,'Liste inscrits'!$A:$AD,7,FALSE),\"\")","v":""},null,{"$f":"IF(B23<>\"\",VLOOKUP(B23,'Liste inscrits'!$A:$AD,10,FALSE),\"\")","v":""},"ARA",1,{"$f":"IF(B23<>\"\",VLOOKUP(B23,'Liste inscrits'!$A:$AD,11,FALSE),\"\")","v":""},{"$f":"IF(B23<>\"\",VLOOKUP(B23,'Liste inscrits'!$A:$AD,12,FALSE),\"\")","v":""}]
[{"$f":"IF(B23<>\"\",VLOOKUP(B23,'Liste inscrits'!$A:$AD,14,FALSE),\"\")","v":""},{"$f":"IF(B23<>\"\",VLOOKUP(B23,'Liste inscrits'!$A:$AD,13,FALSE),\"\")","v":""},null,{"$f":"IF(B23<>\"\",VLOOKUP(B23,'Liste inscrits'!$A:$AD,16,FALSE),\"\")","v":""},"ARA",1,{"$f":"IF(B23<>\"\",VLOOKUP(B23,'Liste inscrits'!$A:$AD,17,FALSE),\"\")","v":""},{"$f":"IF(B23<>\"\",VLOOKUP(B23,'Liste inscrits'!$A:$AD,18,FALSE),\"\")","v":""}]
[]
["Nb parties gagnées\ndans les poules",{"$f":"IF(ISERROR(VLOOKUP(B23&G23&H23,'Liste inscrits'!AH:AJ,1,FALSE)),\"\",VLOOKUP(B23&G23&H23,'Liste inscrits'!AH:AJ,3,FALSE))","v":""},"Classement \ndans la poule ",{"$f":"IF(ISERROR(VLOOKUP(B23&G23&H23,'Liste inscrits'!AH:AU,1,FALSE)),\"\",VLOOKUP(B23&G23&H23,'Liste inscrits'!AH:AU,14,FALSE)&\"  /  \"&VLOOKUP(B23&G23&H23,'Liste inscrits'!AH:AU,13,FALSE))","v":"  /  "},"Nb de parties gagnées \naprès les poules ",null,null,{"$f":"IF(ISERROR(VLOOKUP(B23&G23&H23,'Liste inscrits'!AH:AS,1,FALSE)),\"\",VLOOKUP(B23&G23&H23,'Liste inscrits'!AH:AS,11,FALSE))","v":""}]
[]
["N° de LICENCE","NOM                     PRENOM\nen lettres capitales",null,"DIV","CR","CBD","N° \nSEC","N° \nASB","Qual. \nChpt AIN"]
[{"$f":"IF(B30<>\"\",VLOOKUP(B30,'Liste inscrits'!$A:$AD,2,FALSE),\"\")","v":""},{"$f":"IF(OFFSET('Liste inscrits'!$A$1,INT(ROW()/35)*4+(ROW()-INT(ROW()/35)*35)/7,0)<>\"\",OFFSET('Liste inscrits'!$A$1,INT(ROW()/35)*4+(ROW()-INT(ROW()/35)*35)/7,0),\"\")","v":""},null,{"$f":"IF(B30<>\"\",VLOOKUP(B30,'Liste inscrits'!$A:$AD,4,FALSE),\"\")","v":""},"ARA",1,{"$f":"IF(B30<>\"\",VLOOKUP(B30,'Liste inscrits'!$A:$AD,5,FALSE),\"\")","v":""},{"$f":"IF(B30<>\"\",VLOOKUP(B30,'Liste inscrits'!$A:$AD,6,FALSE),\"\")","v":""}]
[{"$f":"IF(B30<>\"\",VLOOKUP(B30,'Liste inscrits'!$A:$AD,8,FALSE),\"\")","v":""},{"$f":"IF(B30<>\"\",VLOOKUP(B30,'Liste inscrits'!$A:$AD,7,FALSE),\"\")","v":""},null,{"$f":"IF(B30<>\"\",VLOOKUP(B30,'Liste inscrits'!$A:$AD,10,FALSE),\"\")","v":""},"ARA",1,{"$f":"IF(B30<>\"\",VLOOKUP(B30,'Liste inscrits'!$A:$AD,11,FALSE),\"\")","v":""},{"$f":"IF(B30<>\"\",VLOOKUP(B30,'Liste inscrits'!$A:$AD,12,FALSE),\"\")","v":""}]
[{"$f":"IF(B30<>\"\",VLOOKUP(B30,'Liste inscrits'!$A:$AD,14,FALSE),\"\")","v":""},{"$f":"IF(B30<>\"\",VLOOKUP(B30,'Liste inscrits'!$A:$AD,13,FALSE),\"\")","v":""},null,{"$f":"IF(B30<>\"\",VLOOKUP(B30,'Liste inscrits'!$A:$AD,16,FALSE),\"\")","v":""},"ARA",1,{"$f":"IF(B30<>\"\",VLOOKUP(B30,'Liste inscrits'!$A:$AD,17,FALSE),\"\")","v":""},{"$f":"IF(B30<>\"\",VLOOKUP(B30,'Liste inscrits'!$A:$AD,18,FALSE),\"\")","v":""}]
[]
["Nb parties gagnées\ndans les poules",{"$f":"IF(ISERROR(VLOOKUP(B30&G30&H30,'Liste inscrits'!AH:AJ,1,FALSE)),\"\",VLOOKUP(B30&G30&H30,'Liste inscrits'!AH:AJ,3,FALSE))","v":""},"Classement \ndans la poule ",{"$f":"IF(ISERROR(VLOOKUP(B30&G30&H30,'Liste inscrits'!AH:AU,1,FALSE)),\"\",VLOOKUP(B30&G30&H30,'Liste inscrits'!AH:AU,14,FALSE)&\"  /  \"&VLOOKUP(B30&G30&H30,'Liste inscrits'!AH:AU,13,FALSE))","v":"  /  "},"Nb de parties gagnées \naprès les poules ",null,null,{"$f":"IF(ISERROR(VLOOKUP(B30&G30&H30,'Liste inscrits'!AH:AS,1,FALSE)),\"\",VLOOKUP(B30&G30&H30,'Liste inscrits'!AH:AS,11,FALSE))","v":""}]
[]
[]
["C.B.D. AIN",null,{"$f":"$C$2","v":0},null,null,null,null,{"$f":"$H$2","v":0}]
[]
["SECTEUR :",{"$f":"$B$4","v":{"$error":"#VALUE!"}},null,"Lieu de la compétition :",{"$f":"$E$4","v":0}]
[]
["Date : ",{"$f":"$B$6","v":0},null,null,"Nombre total d'équipes participantes ",null,null,null,{"$f":"$I$6","v":0}]
[]
["N° de LICENCE","NOM                     PRENOM\nen lettres capitales",null,"DIV","CR","CBD","N° \nSEC","N° \nASB","Qual. \nChpt AIN"]
[{"$f":"IF(B44<>\"\",VLOOKUP(B44,'Liste inscrits'!$A:$AD,2,FALSE),\"\")","v":""},{"$f":"IF(OFFSET('Liste inscrits'!$A$1,INT(ROW()/35)*4+(ROW()-INT(ROW()/35)*35)/7,0)<>\"\",OFFSET('Liste inscrits'!$A$1,INT(ROW()/35)*4+(ROW()-INT(ROW()/35)*35)/7,0),\"\")","v":""},null,{"$f":"IF(B44<>\"\",VLOOKUP(B44,'Liste inscrits'!$A:$AD,4,FALSE),\"\")","v":""},"ARA",1,{"$f":"IF(B44<>\"\",VLOOKUP(B44,'Liste inscrits'!$A:$AD,5,FALSE),\"\")","v":""},{"$f":"IF(B44<>\"\",VLOOKUP(B44,'Liste inscrits'!$A:$AD,6,FALSE),\"\")","v":""}]
[{"$f":"IF(B44<>\"\",VLOOKUP(B44,'Liste inscrits'!$A:$AD,8,FALSE),\"\")","v":""},{"$f":"IF(B44<>\"\",VLOOKUP(B44,'Liste inscrits'!$A:$AD,7,FALSE),\"\")","v":""},null,{"$f":"IF(B44<>\"\",VLOOKUP(B44,'Liste inscrits'!$A:$AD,10,FALSE),\"\")","v":""},"ARA",1,{"$f":"IF(B44<>\"\",VLOOKUP(B44,'Liste inscrits'!$A:$AD,11,FALSE),\"\")","v":""},{"$f":"IF(B44<>\"\",VLOOKUP(B44,'Liste inscrits'!$A:$AD,12,FALSE),\"\")","v":""}]
[{"$f":"IF(B44<>\"\",VLOOKUP(B44,'Liste inscrits'!$A:$AD,14,FALSE),\"\")","v":""},{"$f":"IF(B44<>\"\",VLOOKUP(B44,'Liste inscrits'!$A:$AD,13,FALSE),\"\")","v":""},null,{"$f":"IF(B44<>\"\",VLOOKUP(B44,'Liste inscrits'!$A:$AD,16,FALSE),\"\")","v":""},"ARA",1,{"$f":"IF(B44<>\"\",VLOOKUP(B44,'Liste inscrits'!$A:$AD,17,FALSE),\"\")","v":""},{"$f":"IF(B44<>\"\",VLOOKUP(B44,'Liste inscrits'!$A:$AD,18,FALSE),\"\")","v":""}]
[]
["Nb parties gagnées\ndans les poules",{"$f":"IF(ISERROR(VLOOKUP(B44&G44&H44,'Liste inscrits'!AH:AJ,1,FALSE)),\"\",VLOOKUP(B44&G44&H44,'Liste inscrits'!AH:AJ,3,FALSE))","v":""},"Classement \ndans la poule ",{"$f":"IF(ISERROR(VLOOKUP(B44&G44&H44,'Liste inscrits'!AH:AU,1,FALSE)),\"\",VLOOKUP(B44&G44&H44,'Liste inscrits'!AH:AU,14,FALSE)&\"  /  \"&VLOOKUP(B44&G44&H44,'Liste inscrits'!AH:AU,13,FALSE))","v":"  /  "},"Nb de parties gagnées \naprès les poules ",null,null,{"$f":"IF(ISERROR(VLOOKUP(B44&G44&H44,'Liste inscrits'!AH:AS,1,FALSE)),\"\",VLOOKUP(B44&G44&H44,'Liste inscrits'!AH:AS,11,FALSE))","v":""}]
[]
["N° de LICENCE","NOM                     PRENOM\nen lettres capitales",null,"DIV","CR","CBD","N° \nSEC","N° \nASB","Qual. \nChpt AIN"]
[{"$f":"IF(B51<>\"\",VLOOKUP(B51,'Liste inscrits'!$A:$AD,2,FALSE),\"\")","v":""},{"$f":"IF(OFFSET('Liste inscrits'!$A$1,INT(ROW()/35)*4+(ROW()-INT(ROW()/35)*35)/7,0)<>\"\",OFFSET('Liste inscrits'!$A$1,INT(ROW()/35)*4+(ROW()-INT(ROW()/35)*35)/7,0),\"\")","v":""},null,{"$f":"IF(B51<>\"\",VLOOKUP(B51,'Liste inscrits'!$A:$AD,4,FALSE),\"\")","v":""},"ARA",1,{"$f":"IF(B51<>\"\",VLOOKUP(B51,'Liste inscrits'!$A:$AD,5,FALSE),\"\")","v":""},{"$f":"IF(B51<>\"\",VLOOKUP(B51,'Liste inscrits'!$A:$AD,6,FALSE),\"\")","v":""}]
[{"$f":"IF(B51<>\"\",VLOOKUP(B51,'Liste inscrits'!$A:$AD,8,FALSE),\"\")","v":""},{"$f":"IF(B51<>\"\",VLOOKUP(B51,'Liste inscrits'!$A:$AD,7,FALSE),\"\")","v":""},null,{"$f":"IF(B51<>\"\",VLOOKUP(B51,'Liste inscrits'!$A:$AD,10,FALSE),\"\")","v":""},"ARA",1,{"$f":"IF(B51<>\"\",VLOOKUP(B51,'Liste inscrits'!$A:$AD,11,FALSE),\"\")","v":""},{"$f":"IF(B51<>\"\",VLOOKUP(B51,'Liste inscrits'!$A:$AD,12,FALSE),\"\")","v":""}]
[{"$f":"IF(B51<>\"\",VLOOKUP(B51,'Liste inscrits'!$A:$AD,14,FALSE),\"\")","v":""},{"$f":"IF(B51<>\"\",VLOOKUP(B51,'Liste inscrits'!$A:$AD,13,FALSE),\"\")","v":""},null,{"$f":"IF(B51<>\"\",VLOOKUP(B51,'Liste inscrits'!$A:$AD,16,FALSE),\"\")","v":""},"ARA",1,{"$f":"IF(B51<>\"\",VLOOKUP(B51,'Liste inscrits'!$A:$AD,17,FALSE),\"\")","v":""},{"$f":"IF(B51<>\"\",VLOOKUP(B51,'Liste inscrits'!$A:$AD,18,FALSE),\"\")","v":""}]
[]
["Nb parties gagnées\ndans les poules",{"$f":"IF(ISERROR(VLOOKUP(B51&G51&H51,'Liste inscrits'!AH:AJ,1,FALSE)),\"\",VLOOKUP(B51&G51&H51,'Liste inscrits'!AH:AJ,3,FALSE))","v":""},"Classement \ndans la poule ",{"$f":"IF(ISERROR(VLOOKUP(B51&G51&H51,'Liste inscrits'!AH:AU,1,FALSE)),\"\",VLOOKUP(B51&G51&H51,'Liste inscrits'!AH:AU,14,FALSE)&\"  /  \"&VLOOKUP(B51&G51&H51,'Liste inscrits'!AH:AU,13,FALSE))","v":"  /  "},"Nb de parties gagnées \naprès les poules ",null,null,{"$f":"IF(ISERROR(VLOOKUP(B51&G51&H51,'Liste inscrits'!AH:AS,1,FALSE)),\"\",VLOOKUP(B51&G51&H51,'Liste inscrits'!AH:AS,11,FALSE))","v":""}]
[]
["N° de LICENCE","NOM                     PRENOM\nen lettres capitales",null,"DIV","CR","CBD","N° \nSEC","N° \nASB","Qual. \nChpt AIN"]
[{"$f":"IF(B58<>\"\",VLOOKUP(B58,'Liste inscrits'!$A:$AD,2,FALSE),\"\")","v":""},{"$f":"IF(OFFSET('Liste inscrits'!$A$1,INT(ROW()/35)*4+(ROW()-INT(ROW()/35)*35)/7,0)<>\"\",OFFSET('Liste inscrits'!$A$1,INT(ROW()/35)*4+(ROW()-INT(ROW()/35)*35)/7,0),\"\")","v":""},null,{"$f":"IF(B58<>\"\",VLOOKUP(B58,'Liste inscrits'!$A:$AD,4,FALSE),\"\")","v":""},"ARA",1,{"$f":"IF(B58<>\"\",VLOOKUP(B58,'Liste inscrits'!$A:$AD,5,FALSE),\"\")","v":""},{"$f":"IF(B58<>\"\",VLOOKUP(B58,'Liste inscrits'!$A:$AD,6,FALSE),\"\")","v":""}]
[{"$f":"IF(B58<>\"\",VLOOKUP(B58,'Liste inscrits'!$A:$AD,8,FALSE),\"\")","v":""},{"$f":"IF(B58<>\"\",VLOOKUP(B58,'Liste inscrits'!$A:$AD,7,FALSE),\"\")","v":""},null,{"$f":"IF(B58<>\"\",VLOOKUP(B58,'Liste inscrits'!$A:$AD,10,FALSE),\"\")","v":""},"ARA",1,{"$f":"IF(B58<>\"\",VLOOKUP(B58,'Liste inscrits'!$A:$AD,11,FALSE),\"\")","v":""},{"$f":"IF(B58<>\"\",VLOOKUP(B58,'Liste inscrits'!$A:$AD,12,FALSE),\"\")","v":""}]
[{"$f":"IF(B58<>\"\",VLOOKUP(B58,'Liste inscrits'!$A:$AD,14,FALSE),\"\")","v":""},{"$f":"IF(B58<>\"\",VLOOKUP(B58,'Liste inscrits'!$A:$AD,13,FALSE),\"\")","v":""},null,{"$f":"IF(B58<>\"\",VLOOKUP(B58,'Liste inscrits'!$A:$AD,16,FALSE),\"\")","v":""},"ARA",1,{"$f":"IF(B58<>\"\",VLOOKUP(B58,'Liste inscrits'!$A:$AD,17,FALSE),\"\")","v":""},{"$f":"IF(B58<>\"\",VLOOKUP(B58,'Liste inscrits'!$A:$AD,18,FALSE),\"\")","v":""}]
[]
["Nb parties gagnées\ndans les poules",{"$f":"IF(ISERROR(VLOOKUP(B58&G58&H58,'Liste inscrits'!AH:AJ,1,FALSE)),\"\",VLOOKUP(B58&G58&H58,'Liste inscrits'!AH:AJ,3,FALSE))","v":""},"Classement \ndans la poule ",{"$f":"IF(ISERROR(VLOOKUP(B58&G58&H58,'Liste inscrits'!AH:AU,1,FALSE)),\"\",VLOOKUP(B58&G58&H58,'Liste inscrits'!AH:AU,14,FALSE)&\"  /  \"&VLOOKUP(B58&G58&H58,'Liste inscrits'!AH:AU,13,FALSE))","v":"  /  "},"Nb de parties gagnées \naprès les poules ",null,null,{"$f":"IF(ISERROR(VLOOKUP(B58&G58&H58,'Liste inscrits'!AH:AS,1,FALSE)),\"\",VLOOKUP(B58&G58&H58,'Liste inscrits'!AH:AS,11,FALSE))","v":""}]
[]
["N° de LICENCE","NOM                     PRENOM\nen lettres capitales",null,"DIV","CR","CBD","N° \nSEC","N° \nASB","Qual. \nChpt AIN"]
[{"$f":"IF(B65<>\"\",VLOOKUP(B65,'Liste inscrits'!$A:$AD,2,FALSE),\"\")","v":""},{"$f":"IF(OFFSET('Liste inscrits'!$A$1,INT(ROW()/35)*4+(ROW()-INT(ROW()/35)*35)/7,0)<>\"\",OFFSET('Liste inscrits'!$A$1,INT(ROW()/35)*4+(ROW()-INT(ROW()/35)*35)/7,0),\"\")","v":""},null,{"$f":"IF(B65<>\"\",VLOOKUP(B65,'Liste inscrits'!$A:$AD,4,FALSE),\"\")","v":""},"ARA",1,{"$f":"IF(B65<>\"\",VLOOKUP(B65,'Liste inscrits'!$A:$AD,5,FALSE),\"\")","v":""},{"$f":"IF(B65<>\"\",VLOOKUP(B65,'Liste inscrits'!$A:$AD,6,FALSE),\"\")","v":""}]
[{"$f":"IF(B65<>\"\",VLOOKUP(B65,'Liste inscrits'!$A:$AD,8,FALSE),\"\")","v":""},{"$f":"IF(B65<>\"\",VLOOKUP(B65,'Liste inscrits'!$A:$AD,7,FALSE),\"\")","v":""},null,{"$f":"IF(B65<>\"\",VLOOKUP(B65,'Liste inscrits'!$A:$AD,10,FALSE),\"\")","v":""},"ARA",1,{"$f":"IF(B65<>\"\",VLOOKUP(B65,'Liste inscrits'!$A:$AD,11,FALSE),\"\")","v":""},{"$f":"IF(B65<>\"\",VLOOKUP(B65,'Liste inscrits'!$A:$AD,12,FALSE),\"\")","v":""}]
[{"$f":"IF(B65<>\"\",VLOOKUP(B65,'Liste inscrits'!$A:$AD,14,FALSE),\"\")","v":""},{"$f":"IF(B65<>\"\",VLOOKUP(B65,'Liste inscrits'!$A:$AD,13,FALSE),\"\")","v":""},null,{"$f":"IF(B65<>\"\",VLOOKUP(B65,'Liste inscrits'!$A:$AD,16,FALSE),\"\")","v":""},"ARA",1,{"$f":"IF(B65<>\"\",VLOOKUP(B65,'Liste inscrits'!$A:$AD,17,FALSE),\"\")","v":""},{"$f":"IF(B65<>\"\",VLOOKUP(B65,'Liste inscrits'!$A:$AD,18,FALSE),\"\")","v":""}]
[]
["Nb parties gagnées\ndans les poules",{"$f":"IF(ISERROR(VLOOKUP(B65&G65&H65,'Liste inscrits'!AH:AJ,1,FALSE)),\"\",VLOOKUP(B65&G65&H65,'Liste inscrits'!AH:AJ,3,FALSE))","v":""},"Classement \ndans la poule ",{"$f":"IF(ISERROR(VLOOKUP(B65&G65&H65,'Liste inscrits'!AH:AU,1,FALSE)),\"\",VLOOKUP(B65&G65&H65,'Liste inscrits'!AH:AU,14,FALSE)&\"  /  \"&VLOOKUP(B65&G65&H65,'Liste inscrits'!AH:AU,13,FALSE))","v":"  /  "},"Nb de parties gagnées \naprès les poules ",null,null,{"$f":"IF(ISERROR(VLOOKUP(B65&G65&H65,'Liste inscrits'!AH:AS,1,FALSE)),\"\",VLOOKUP(B65&G65&H65,'Liste inscrits'!AH:AS,11,FALSE))","v":""}]
[]
[]
["C.B.D. AIN",null,{"$f":"$C$2","v":0},null,null,null,null,{"$f":"$H$2","v":0}]
[]
["SECTEUR :",{"$f":"$B$4","v":{"$error":"#VALUE!"}},null,"Lieu de la compétition :",{"$f":"$E$4","v":0}]
[]
["Date : ",{"$f":"$B$6","v":0},null,null,"Nombre total d'équipes participantes ",null,null,null,{"$f":"$I$6","v":0}]
[]
["N° de LICENCE","NOM                     PRENOM\nen lettres capitales",null,"DIV","CR","CBD","N° \nSEC","N° \nASB","Qual. \nChpt AIN"]
[{"$f":"IF(B79<>\"\",VLOOKUP(B79,'Liste inscrits'!$A:$AD,2,FALSE),\"\")","v":""},{"$f":"IF(OFFSET('Liste inscrits'!$A$1,INT(ROW()/35)*4+(ROW()-INT(ROW()/35)*35)/7,0)<>\"\",OFFSET('Liste inscrits'!$A$1,INT(ROW()/35)*4+(ROW()-INT(ROW()/35)*35)/7,0),\"\")","v":""},null,{"$f":"IF(B79<>\"\",VLOOKUP(B79,'Liste inscrits'!$A:$AD,4,FALSE),\"\")","v":""},"ARA",1,{"$f":"IF(B79<>\"\",VLOOKUP(B79,'Liste inscrits'!$A:$AD,5,FALSE),\"\")","v":""},{"$f":"IF(B79<>\"\",VLOOKUP(B79,'Liste inscrits'!$A:$AD,6,FALSE),\"\")","v":""}]
[{"$f":"IF(B79<>\"\",VLOOKUP(B79,'Liste inscrits'!$A:$AD,8,FALSE),\"\")","v":""},{"$f":"IF(B79<>\"\",VLOOKUP(B79,'Liste inscrits'!$A:$AD,7,FALSE),\"\")","v":""},null,{"$f":"IF(B79<>\"\",VLOOKUP(B79,'Liste inscrits'!$A:$AD,10,FALSE),\"\")","v":""},"ARA",1,{"$f":"IF(B79<>\"\",VLOOKUP(B79,'Liste inscrits'!$A:$AD,11,FALSE),\"\")","v":""},{"$f":"IF(B79<>\"\",VLOOKUP(B79,'Liste inscrits'!$A:$AD,12,FALSE),\"\")","v":""}]
[{"$f":"IF(B79<>\"\",VLOOKUP(B79,'Liste inscrits'!$A:$AD,14,FALSE),\"\")","v":""},{"$f":"IF(B79<>\"\",VLOOKUP(B79,'Liste inscrits'!$A:$AD,13,FALSE),\"\")","v":""},null,{"$f":"IF(B79<>\"\",VLOOKUP(B79,'Liste inscrits'!$A:$AD,16,FALSE),\"\")","v":""},"ARA",1,{"$f":"IF(B79<>\"\",VLOOKUP(B79,'Liste inscrits'!$A:$AD,17,FALSE),\"\")","v":""},{"$f":"IF(B79<>\"\",VLOOKUP(B79,'Liste inscrits'!$A:$AD,18,FALSE),\"\")","v":""}]
[]
["Nb parties gagnées\ndans les poules",{"$f":"IF(ISERROR(VLOOKUP(B79&G79&H79,'Liste inscrits'!AH:AJ,1,FALSE)),\"\",VLOOKUP(B79&G79&H79,'Liste inscrits'!AH:AJ,3,FALSE))","v":""},"Classement \ndans la poule ",{"$f":"IF(ISERROR(VLOOKUP(B79&G79&H79,'Liste inscrits'!AH:AU,1,FALSE)),\"\",VLOOKUP(B79&G79&H79,'Liste inscrits'!AH:AU,14,FALSE)&\"  /  \"&VLOOKUP(B79&G79&H79,'Liste inscrits'!AH:AU,13,FALSE))","v":"  /  "},"Nb de parties gagnées \naprès les poules ",null,null,{"$f":"IF(ISERROR(VLOOKUP(B79&G79&H79,'Liste inscrits'!AH:AS,1,FALSE)),\"\",VLOOKUP(B79&G79&H79,'Liste inscrits'!AH:AS,11,FALSE))","v":""}]
[]
["N° de LICENCE","NOM                     PRENOM\nen lettres capitales",null,"DIV","CR","CBD","N° \nSEC","N° \nASB","Qual. \nChpt AIN"]
[{"$f":"IF(B86<>\"\",VLOOKUP(B86,'Liste inscrits'!$A:$AD,2,FALSE),\"\")","v":""},{"$f":"IF(OFFSET('Liste inscrits'!$A$1,INT(ROW()/35)*4+(ROW()-INT(ROW()/35)*35)/7,0)<>\"\",OFFSET('Liste inscrits'!$A$1,INT(ROW()/35)*4+(ROW()-INT(ROW()/35)*35)/7,0),\"\")","v":""},null,{"$f":"IF(B86<>\"\",VLOOKUP(B86,'Liste inscrits'!$A:$AD,4,FALSE),\"\")","v":""},"ARA",1,{"$f":"IF(B86<>\"\",VLOOKUP(B86,'Liste inscrits'!$A:$AD,5,FALSE),\"\")","v":""},{"$f":"IF(B86<>\"\",VLOOKUP(B86,'Liste inscrits'!$A:$AD,6,FALSE),\"\")","v":""}]
[{"$f":"IF(B86<>\"\",VLOOKUP(B86,'Liste inscrits'!$A:$AD,8,FALSE),\"\")","v":""},{"$f":"IF(B86<>\"\",VLOOKUP(B86,'Liste inscrits'!$A:$AD,7,FALSE),\"\")","v":""},null,{"$f":"IF(B86<>\"\",VLOOKUP(B86,'Liste inscrits'!$A:$AD,10,FALSE),\"\")","v":""},"ARA",1,{"$f":"IF(B86<>\"\",VLOOKUP(B86,'Liste inscrits'!$A:$AD,11,FALSE),\"\")","v":""},{"$f":"IF(B86<>\"\",VLOOKUP(B86,'Liste inscrits'!$A:$AD,12,FALSE),\"\")","v":""}]
[{"$f":"IF(B86<>\"\",VLOOKUP(B86,'Liste inscrits'!$A:$AD,14,FALSE),\"\")","v":""},{"$f":"IF(B86<>\"\",VLOOKUP(B86,'Liste inscrits'!$A:$AD,13,FALSE),\"\")","v":""},null,{"$f":"IF(B86<>\"\",VLOOKUP(B86,'Liste inscrits'!$A:$AD,16,FALSE),\"\")","v":""},"ARA",1,{"$f":"IF(B86<>\"\",VLOOKUP(B86,'Liste inscrits'!$A:$AD,17,FALSE),\"\")","v":""},{"$f":"IF(B86<>\"\",VLOOKUP(B86,'Liste inscrits'!$A:$AD,18,FALSE),\"\")","v":""}]
[]
["Nb parties gagnées\ndans les poules",{"$f":"IF(ISERROR(VLOOKUP(B86&G86&H86,'Liste inscrits'!AH:AJ,1,FALSE)),\"\",VLOOKUP(B86&G86&H86,'Liste inscrits'!AH:AJ,3,FALSE))","v":""},"Classement \ndans la poule ",{"$f":"IF(ISERROR(VLOOKUP(B86&G86&H86,'Liste inscrits'!AH:AU,1,FALSE)),\"\",VLOOKUP(B86&G86&H86,'Liste inscrits'!AH:AU,14,FALSE)&\"  /  \"&VLOOKUP(B86&G86&H86,'Liste inscrits'!AH:AU,13,FALSE))","v":"  /  "},"Nb de parties gagnées \naprès les poules ",null,null,{"$f":"IF(ISERROR(VLOOKUP(B86&G86&H86,'Liste inscrits'!AH:AS,1,FALSE)),\"\",VLOOKUP(B86&G86&H86,'Liste inscrits'!AH:AS,11,FALSE))","v":""}]
[]
["N° de LICENCE","NOM                     PRENOM\nen lettres capitales",null,"DIV","CR","CBD","N° \nSEC","N° \nASB","Qual. \nChpt AIN"]
[{"$f":"IF(B93<>\"\",VLOOKUP(B93,'Liste inscrits'!$A:$AD,2,FALSE),\"\")","v":""},{"$f":"IF(OFFSET('Liste inscrits'!$A$1,INT(ROW()/35)*4+(ROW()-INT(ROW()/35)*35)/7,0)<>\"\",OFFSET('Liste inscrits'!$A$1,INT(ROW()/35)*4+(ROW()-INT(ROW()/35)*35)/7,0),\"\")","v":""},null,{"$f":"IF(B93<>\"\",VLOOKUP(B93,'Liste inscrits'!$A:$AD,4,FALSE),\"\")","v":""},"ARA",1,{"$f":"IF(B93<>\"\",VLOOKUP(B93,'Liste inscrits'!$A:$AD,5,FALSE),\"\")","v":""},{"$f":"IF(B93<>\"\",VLOOKUP(B93,'Liste inscrits'!$A:$AD,6,FALSE),\"\")","v":""}]
[{"$f":"IF(B93<>\"\",VLOOKUP(B93,'Liste inscrits'!$A:$AD,8,FALSE),\"\")","v":""},{"$f":"IF(B93<>\"\",VLOOKUP(B93,'Liste inscrits'!$A:$AD,7,FALSE),\"\")","v":""},null,{"$f":"IF(B93<>\"\",VLOOKUP(B93,'Liste inscrits'!$A:$AD,10,FALSE),\"\")","v":""},"ARA",1,{"$f":"IF(B93<>\"\",VLOOKUP(B93,'Liste inscrits'!$A:$AD,11,FALSE),\"\")","v":""},{"$f":"IF(B93<>\"\",VLOOKUP(B93,'Liste inscrits'!$A:$AD,12,FALSE),\"\")","v":""}]
[{"$f":"IF(B93<>\"\",VLOOKUP(B93,'Liste inscrits'!$A:$AD,14,FALSE),\"\")","v":""},{"$f":"IF(B93<>\"\",VLOOKUP(B93,'Liste inscrits'!$A:$AD,13,FALSE),\"\")","v":""},null,{"$f":"IF(B93<>\"\",VLOOKUP(B93,'Liste inscrits'!$A:$AD,16,FALSE),\"\")","v":""},"ARA",1,{"$f":"IF(B93<>\"\",VLOOKUP(B93,'Liste inscrits'!$A:$AD,17,FALSE),\"\")","v":""},{"$f":"IF(B93<>\"\",VLOOKUP(B93,'Liste inscrits'!$A:$AD,18,FALSE),\"\")","v":""}]
[]
["Nb parties gagnées\ndans les poules",{"$f":"IF(ISERROR(VLOOKUP(B93&G93&H93,'Liste inscrits'!AH:AJ,1,FALSE)),\"\",VLOOKUP(B93&G93&H93,'Liste inscrits'!AH:AJ,3,FALSE))","v":""},"Classement \ndans la poule ",{"$f":"IF(ISERROR(VLOOKUP(B93&G93&H93,'Liste inscrits'!AH:AU,1,FALSE)),\"\",VLOOKUP(B93&G93&H93,'Liste inscrits'!AH:AU,14,FALSE)&\"  /  \"&VLOOKUP(B93&G93&H93,'Liste inscrits'!AH:AU,13,FALSE))","v":"  /  "},"Nb de parties gagnées \naprès les poules ",null,null,{"$f":"IF(ISERROR(VLOOKUP(B93&G93&H93,'Liste inscrits'!AH:AS,1,FALSE)),\"\",VLOOKUP(B93&G93&H93,'Liste inscrits'!AH:AS,11,FALSE))","v":""}]
[]
["N° de LICENCE","NOM                     PRENOM\nen lettres capitales",null,"DIV","CR","CBD","N° \nSEC","N° \nASB","Qual. \nChpt AIN"]
[{"$f":"IF(B100<>\"\",VLOOKUP(B100,'Liste inscrits'!$A:$AD,2,FALSE),\"\")","v":""},{"$f":"IF(OFFSET('Liste inscrits'!$A$1,INT(ROW()/35)*4+(ROW()-INT(ROW()/35)*35)/7,0)<>\"\",OFFSET('Liste inscrits'!$A$1,INT(ROW()/35)*4+(ROW()-INT(ROW()/35)*35)/7,0),\"\")","v":""},null,{"$f":"IF(B100<>\"\",VLOOKUP(B100,'Liste inscrits'!$A:$AD,4,FALSE),\"\")","v":""},"ARA",1,{"$f":"IF(B100<>\"\",VLOOKUP(B100,'Liste inscrits'!$A:$AD,5,FALSE),\"\")","v":""},{"$f":"IF(B100<>\"\",VLOOKUP(B100,'Liste inscrits'!$A:$AD,6,FALSE),\"\")","v":""}]
[{"$f":"IF(B100<>\"\",VLOOKUP(B100,'Liste inscrits'!$A:$AD,8,FALSE),\"\")","v":""},{"$f":"IF(B100<>\"\",VLOOKUP(B100,'Liste inscrits'!$A:$AD,7,FALSE),\"\")","v":""},null,{"$f":"IF(B100<>\"\",VLOOKUP(B100,'Liste inscrits'!$A:$AD,10,FALSE),\"\")","v":""},"ARA",1,{"$f":"IF(B100<>\"\",VLOOKUP(B100,'Liste inscrits'!$A:$AD,11,FALSE),\"\")","v":""},{"$f":"IF(B100<>\"\",VLOOKUP(B100,'Liste inscrits'!$A:$AD,12,FALSE),\"\")","v":""}]
[{"$f":"IF(B100<>\"\",VLOOKUP(B100,'Liste inscrits'!$A:$AD,14,FALSE),\"\")","v":""},{"$f":"IF(B100<>\"\",VLOOKUP(B100,'Liste inscrits'!$A:$AD,13,FALSE),\"\")","v":""},null,{"$f":"IF(B100<>\"\",VLOOKUP(B100,'Liste inscrits'!$A:$AD,16,FALSE),\"\")","v":""},"ARA",1,{"$f":"IF(B100<>\"\",VLOOKUP(B100,'Liste inscrits'!$A:$AD,17,FALSE),\"\")","v":""},{"$f":"IF(B100<>\"\",VLOOKUP(B100,'Liste inscrits'!$A:$AD,18,FALSE),\"\")","v":""}]
[]
["Nb parties gagnées\ndans les poules",{"$f":"IF(ISERROR(VLOOKUP(B100&G100&H100,'Liste inscrits'!AH:AJ,1,FALSE)),\"\",VLOOKUP(B100&G100&H100,'Liste inscrits'!AH:AJ,3,FALSE))","v":""},"Classement \ndans la poule ",{"$f":"IF(ISERROR(VLOOKUP(B100&G100&H100,'Liste inscrits'!AH:AU,1,FALSE)),\"\",VLOOKUP(B100&G100&H100,'Liste inscrits'!AH:AU,14,FALSE)&\"  /  \"&VLOOKUP(B100&G100&H100,'Liste inscrits'!AH:AU,13,FALSE))","v":"  /  "},"Nb de parties gagnées \naprès les poules ",null,null,{"$f":"IF(ISERROR(VLOOKUP(B100&G100&H100,'Liste inscrits'!AH:AS,1,FALSE)),\"\",VLOOKUP(B100&G100&H100,'Liste inscrits'!AH:AS,11,FALSE))","v":""}]
[]
[]
["C.B.D. AIN",null,{"$f":"$C$2","v":0},null,null,null,null,{"$f":"$H$2","v":0}]
[]
["SECTEUR :",{"$f":"$B$4","v":{"$error":"#VALUE!"}},null,"Lieu de la compétition :",{"$f":"$E$4","v":0}]
[]
["Date : ",{"$f":"$B$6","v":0},null,null,"Nombre total d'équipes participantes ",null,null,null,{"$f":"$I$6","v":0}]
[]
["N° de LICENCE","NOM                     PRENOM\nen lettres capitales",null,"DIV","CR","CBD","N° \nSEC","N° \nASB","Qual. \nChpt AIN"]
[{"$f":"IF(B114<>\"\",VLOOKUP(B114,'Liste inscrits'!$A:$AD,2,FALSE),\"\")","v":""},{"$f":"IF(OFFSET('Liste inscrits'!$A$1,INT(ROW()/35)*4+(ROW()-INT(ROW()/35)*35)/7,0)<>\"\",OFFSET('Liste inscrits'!$A$1,INT(ROW()/35)*4+(ROW()-INT(ROW()/35)*35)/7,0),\"\")","v":""},null,{"$f":"IF(B114<>\"\",VLOOKUP(B114,'Liste inscrits'!$A:$AD,4,FALSE),\"\")","v":""},"ARA",1,{"$f":"IF(B114<>\"\",VLOOKUP(B114,'Liste inscrits'!$A:$AD,5,FALSE),\"\")","v":""},{"$f":"IF(B114<>\"\",VLOOKUP(B114,'Liste inscrits'!$A:$AD,6,FALSE),\"\")","v":""}]
[{"$f":"IF(B114<>\"\",VLOOKUP(B114,'Liste inscrits'!$A:$AD,8,FALSE),\"\")","v":""},{"$f":"IF(B114<>\"\",VLOOKUP(B114,'Liste inscrits'!$A:$AD,7,FALSE),\"\")","v":""},null,{"$f":"IF(B114<>\"\",VLOOKUP(B114,'Liste inscrits'!$A:$AD,10,FALSE),\"\")","v":""},"ARA",1,{"$f":"IF(B114<>\"\",VLOOKUP(B114,'Liste inscrits'!$A:$AD,11,FALSE),\"\")","v":""},{"$f":"IF(B114<>\"\",VLOOKUP(B114,'Liste inscrits'!$A:$AD,12,FALSE),\"\")","v":""}]
[{"$f":"IF(B114<>\"\",VLOOKUP(B114,'Liste inscrits'!$A:$AD,14,FALSE),\"\")","v":""},{"$f":"IF(B114<>\"\",VLOOKUP(B114,'Liste inscrits'!$A:$AD,13,FALSE),\"\")","v":""},null,{"$f":"IF(B114<>\"\",VLOOKUP(B114,'Liste inscrits'!$A:$AD,16,FALSE),\"\")","v":""},"ARA",1,{"$f":"IF(B114<>\"\",VLOOKUP(B114,'Liste inscrits'!$A:$AD,17,FALSE),\"\")","v":""},{"$f":"IF(B114<>\"\",VLOOKUP(B114,'Liste inscrits'!$A:$AD,18,FALSE),\"\")","v":""}]
[]
["Nb parties gagnées\ndans les poules",{"$f":"IF(ISERROR(VLOOKUP(B114&G114&H114,'Liste inscrits'!AH:AJ,1,FALSE)),\"\",VLOOKUP(B114&G114&H114,'Liste inscrits'!AH:AJ,3,FALSE))","v":""},"Classement \ndans la poule ",{"$f":"IF(ISERROR(VLOOKUP(B114&G114&H114,'Liste inscrits'!AH:AU,1,FALSE)),\"\",VLOOKUP(B114&G114&H114,'Liste inscrits'!AH:AU,14,FALSE)&\"  /  \"&VLOOKUP(B114&G114&H114,'Liste inscrits'!AH:AU,13,FALSE))","v":"  /  "},"Nb de parties gagnées \naprès les poules ",null,null,{"$f":"IF(ISERROR(VLOOKUP(B114&G114&H114,'Liste inscrits'!AH:AS,1,FALSE)),\"\",VLOOKUP(B114&G114&H114,'Liste inscrits'!AH:AS,11,FALSE))","v":""}]
[]
["N° de LICENCE","NOM                     PRENOM\nen lettres capitales",null,"DIV","CR","CBD","N° \nSEC","N° \nASB","Qual. \nChpt AIN"]
[{"$f":"IF(B121<>\"\",VLOOKUP(B121,'Liste inscrits'!$A:$AD,2,FALSE),\"\")","v":""},{"$f":"IF(OFFSET('Liste inscrits'!$A$1,INT(ROW()/35)*4+(ROW()-INT(ROW()/35)*35)/7,0)<>\"\",OFFSET('Liste inscrits'!$A$1,INT(ROW()/35)*4+(ROW()-INT(ROW()/35)*35)/7,0),\"\")","v":""},null,{"$f":"IF(B121<>\"\",VLOOKUP(B121,'Liste inscrits'!$A:$AD,4,FALSE),\"\")","v":""},"ARA",1,{"$f":"IF(B121<>\"\",VLOOKUP(B121,'Liste inscrits'!$A:$AD,5,FALSE),\"\")","v":""},{"$f":"IF(B121<>\"\",VLOOKUP(B121,'Liste inscrits'!$A:$AD,6,FALSE),\"\")","v":""}]
[{"$f":"IF(B121<>\"\",VLOOKUP(B121,'Liste inscrits'!$A:$AD,8,FALSE),\"\")","v":""},{"$f":"IF(B121<>\"\",VLOOKUP(B121,'Liste inscrits'!$A:$AD,7,FALSE),\"\")","v":""},null,{"$f":"IF(B121<>\"\",VLOOKUP(B121,'Liste inscrits'!$A:$AD,10,FALSE),\"\")","v":""},"ARA",1,{"$f":"IF(B121<>\"\",VLOOKUP(B121,'Liste inscrits'!$A:$AD,11,FALSE),\"\")","v":""},{"$f":"IF(B121<>\"\",VLOOKUP(B121,'Liste inscrits'!$A:$AD,12,FALSE),\"\")","v":""}]
[{"$f":"IF(B121<>\"\",VLOOKUP(B121,'Liste inscrits'!$A:$AD,14,FALSE),\"\")","v":""},{"$f":"IF(B121<>\"\",VLOOKUP(B121,'Liste inscrits'!$A:$AD,13,FALSE),\"\")","v":""},null,{"$f":"IF(B121<>\"\",VLOOKUP(B121,'Liste inscrits'!$A:$AD,16,FALSE),\"\")","v":""},"ARA",1,{"$f":"IF(B121<>\"\",VLOOKUP(B121,'Liste inscrits'!$A:$AD,17,FALSE),\"\")","v":""},{"$f":"IF(B121<>\"\",VLOOKUP(B121,'Liste inscrits'!$A:$AD,18,FALSE),\"\")","v":""}]
[]
["Nb parties gagnées\ndans les poules",{"$f":"IF(ISERROR(VLOOKUP(B121&G121&H121,'Liste inscrits'!AH:AJ,1,FALSE)),\"\",VLOOKUP(B121&G121&H121,'Liste inscrits'!AH:AJ,3,FALSE))","v":""},"Classement \ndans la poule ",{"$f":"IF(ISERROR(VLOOKUP(B121&G121&H121,'Liste inscrits'!AH:AU,1,FALSE)),\"\",VLOOKUP(B121&G121&H121,'Liste inscrits'!AH:AU,14,FALSE)&\"  /  \"&VLOOKUP(B121&G121&H121,'Liste inscrits'!AH:AU,13,FALSE))","v":"  /  "},"Nb de parties gagnées \naprès les poules ",null,null,{"$f":"IF(ISERROR(VLOOKUP(B121&G121&H121,'Liste inscrits'!AH:AS,1,FALSE)),\"\",VLOOKUP(B121&G121&H121,'Liste inscrits'!AH:AS,11,FALSE))","v":""}]
[]
["N° de LICENCE","NOM                     PRENOM\nen lettres capitales",null,"DIV","CR","CBD","N° \nSEC","N° \nASB","Qual. \nChpt AIN"]
[{"$f":"IF(B128<>\"\",VLOOKUP(B128,'Liste inscrits'!$A:$AD,2,FALSE),\"\")","v":""},{"$f":"IF(OFFSET('Liste inscrits'!$A$1,INT(ROW()/35)*4+(ROW()-INT(ROW()/35)*35)/7,0)<>\"\",OFFSET('Liste inscrits'!$A$1,INT(ROW()/35)*4+(ROW()-INT(ROW()/35)*35)/7,0),\"\")","v":""},null,{"$f":"IF(B128<>\"\",VLOOKUP(B128,'Liste inscrits'!$A:$AD,4,FALSE),\"\")","v":""},"ARA",1,{"$f":"IF(B128<>\"\",VLOOKUP(B128,'Liste inscrits'!$A:$AD,5,FALSE),\"\")","v":""},{"$f":"IF(B128<>\"\",VLOOKUP(B128,'Liste inscrits'!$A:$AD,6,FALSE),\"\")","v":""}]
[{"$f":"IF(B128<>\"\",VLOOKUP(B128,'Liste inscrits'!$A:$AD,8,FALSE),\"\")","v":""},{"$f":"IF(B128<>\"\",VLOOKUP(B128,'Liste inscrits'!$A:$AD,7,FALSE),\"\")","v":""},null,{"$f":"IF(B128<>\"\",VLOOKUP(B128,'Liste inscrits'!$A:$AD,10,FALSE),\"\")","v":""},"ARA",1,{"$f":"IF(B128<>\"\",VLOOKUP(B128,'Liste inscrits'!$A:$AD,11,FALSE),\"\")","v":""},{"$f":"IF(B128<>\"\",VLOOKUP(B128,'Liste inscrits'!$A:$AD,12,FALSE),\"\")","v":""}]
[{"$f":"IF(B128<>\"\",VLOOKUP(B128,'Liste inscrits'!$A:$AD,14,FALSE),\"\")","v":""},{"$f":"IF(B128<>\"\",VLOOKUP(B128,'Liste inscrits'!$A:$AD,13,FALSE),\"\")","v":""},null,{"$f":"IF(B128<>\"\",VLOOKUP(B128,'Liste inscrits'!$A:$AD,16,FALSE),\"\")","v":""},"ARA",1,{"$f":"IF(B128<>\"\",VLOOKUP(B128,'Liste inscrits'!$A:$AD,17,FALSE),\"\")","v":""},{"$f":"IF(B128<>\"\",VLOOKUP(B128,'Liste inscrits'!$A:$AD,18,FALSE),\"\")","v":""}]
[]
["Nb parties gagnées\ndans les poules",{"$f":"IF(ISERROR(VLOOKUP(B128&G128&H128,'Liste inscrits'!AH:AJ,1,FALSE)),\"\",VLOOKUP(B128&G128&H128,'Liste inscrits'!AH:AJ,3,FALSE))","v":""},"Classement \ndans la poule ",{"$f":"IF(ISERROR(VLOOKUP(B128&G128&H128,'Liste inscrits'!AH:AU,1,FALSE)),\"\",VLOOKUP(B128&G128&H128,'Liste inscrits'!AH:AU,14,FALSE)&\"  /  \"&VLOOKUP(B128&G128&H128,'Liste inscrits'!AH:AU,13,FALSE))","v":"  /  "},"Nb de parties gagnées \naprès les poules ",null,null,{"$f":"IF(ISERROR(VLOOKUP(B128&G128&H128,'Liste inscrits'!AH:AS,1,FALSE)),\"\",VLOOKUP(B128&G128&H128,'Liste inscrits'!AH:AS,11,FALSE))","v":""}]
[]
["N° de LICENCE","NOM                     PRENOM\nen lettres capitales",null,"DIV","CR","CBD","N° \nSEC","N° \nASB","Qual. \nChpt AIN"]
[{"$f":"IF(B135<>\"\",VLOOKUP(B135,'Liste inscrits'!$A:$AD,2,FALSE),\"\")","v":""},{"$f":"IF(OFFSET('Liste inscrits'!$A$1,INT(ROW()/35)*4+(ROW()-INT(ROW()/35)*35)/7,0)<>\"\",OFFSET('Liste inscrits'!$A$1,INT(ROW()/35)*4+(ROW()-INT(ROW()/35)*35)/7,0),\"\")","v":""},null,{"$f":"IF(B135<>\"\",VLOOKUP(B135,'Liste inscrits'!$A:$AD,4,FALSE),\"\")","v":""},"ARA",1,{"$f":"IF(B135<>\"\",VLOOKUP(B135,'Liste inscrits'!$A:$AD,5,FALSE),\"\")","v":""},{"$f":"IF(B135<>\"\",VLOOKUP(B135,'Liste inscrits'!$A:$AD,6,FALSE),\"\")","v":""}]
[{"$f":"IF(B135<>\"\",VLOOKUP(B135,'Liste inscrits'!$A:$AD,8,FALSE),\"\")","v":""},{"$f":"IF(B135<>\"\",VLOOKUP(B135,'Liste inscrits'!$A:$AD,7,FALSE),\"\")","v":""},null,{"$f":"IF(B135<>\"\",VLOOKUP(B135,'Liste inscrits'!$A:$AD,10,FALSE),\"\")","v":""},"ARA",1,{"$f":"IF(B135<>\"\",VLOOKUP(B135,'Liste inscrits'!$A:$AD,11,FALSE),\"\")","v":""},{"$f":"IF(B135<>\"\",VLOOKUP(B135,'Liste inscrits'!$A:$AD,12,FALSE),\"\")","v":""}]
[{"$f":"IF(B135<>\"\",VLOOKUP(B135,'Liste inscrits'!$A:$AD,14,FALSE),\"\")","v":""},{"$f":"IF(B135<>\"\",VLOOKUP(B135,'Liste inscrits'!$A:$AD,13,FALSE),\"\")","v":""},null,{"$f":"IF(B135<>\"\",VLOOKUP(B135,'Liste inscrits'!$A:$AD,16,FALSE),\"\")","v":""},"ARA",1,{"$f":"IF(B135<>\"\",VLOOKUP(B135,'Liste inscrits'!$A:$AD,17,FALSE),\"\")","v":""},{"$f":"IF(B135<>\"\",VLOOKUP(B135,'Liste inscrits'!$A:$AD,18,FALSE),\"\")","v":""}]
[]
["Nb parties gagnées\ndans les poules",{"$f":"IF(ISERROR(VLOOKUP(B135&G135&H135,'Liste inscrits'!AH:AJ,1,FALSE)),\"\",VLOOKUP(B135&G135&H135,'Liste inscrits'!AH:AJ,3,FALSE))","v":""},"Classement \ndans la poule ",{"$f":"IF(ISERROR(VLOOKUP(B135&G135&H135,'Liste inscrits'!AH:AU,1,FALSE)),\"\",VLOOKUP(B135&G135&H135,'Liste inscrits'!AH:AU,14,FALSE)&\"  /  \"&VLOOKUP(B135&G135&H135,'Liste inscrits'!AH:AU,13,FALSE))","v":"  /  "},"Nb de parties gagnées \naprès les poules ",null,null,{"$f":"IF(ISERROR(VLOOKUP(B135&G135&H135,'Liste inscrits'!AH:AS,1,FALSE)),\"\",VLOOKUP(B135&G135&H135,'Liste inscrits'!AH:AS,11,FALSE))","v":""}]
[]
[]
["C.B.D. AIN",null,{"$f":"$C$2","v":0},null,null,null,null,{"$f":"$H$2","v":0}]
[]
["SECTEUR :",{"$f":"$B$4","v":{"$error":"#VALUE!"}},null,"Lieu de la compétition :",{"$f":"$E$4","v":0}]
[]
["Date : ",{"$f":"$B$6","v":0},null,null,"Nombre total d'équipes participantes ",null,null,null,{"$f":"$I$6","v":0}]
[]
["N° de LICENCE","NOM                     PRENOM\nen lettres capitales",null,"DIV","CR","CBD","N° \nSEC","N° \nASB","Qual. \nChpt AIN"]
[{"$f":"IF(B149<>\"\",VLOOKUP(B149,'Liste inscrits'!$A:$AD,2,FALSE),\"\")","v":""},{"$f":"IF(OFFSET('Liste inscrits'!$A$1,INT(ROW()/35)*4+(ROW()-INT(ROW()/35)*35)/7,0)<>\"\",OFFSET('Liste inscrits'!$A$1,INT(ROW()/35)*4+(ROW()-INT(ROW()/35)*35)/7,0),\"\")","v":""},null,{"$f":"IF(B149<>\"\",VLOOKUP(B149,'Liste inscrits'!$A:$AD,4,FALSE),\"\")","v":""},"ARA",1,{"$f":"IF(B149<>\"\",VLOOKUP(B149,'Liste inscrits'!$A:$AD,5,FALSE),\"\")","v":""},{"$f":"IF(B149<>\"\",VLOOKUP(B149,'Liste inscrits'!$A:$AD,6,FALSE),\"\")","v":""}]
[{"$f":"IF(B149<>\"\",VLOOKUP(B149,'Liste inscrits'!$A:$AD,8,FALSE),\"\")","v":""},{"$f":"IF(B149<>\"\",VLOOKUP(B149,'Liste inscrits'!$A:$AD,7,FALSE),\"\")","v":""},null,{"$f":"IF(B149<>\"\",VLOOKUP(B149,'Liste inscrits'!$A:$AD,10,FALSE),\"\")","v":""},"ARA",1,{"$f":"IF(B149<>\"\",VLOOKUP(B149,'Liste inscrits'!$A:$AD,11,FALSE),\"\")","v":""},{"$f":"IF(B149<>\"\",VLOOKUP(B149,'Liste inscrits'!$A:$AD,12,FALSE),\"\")","v":""}]
[{"$f":"IF(B149<>\"\",VLOOKUP(B149,'Liste inscrits'!$A:$AD,14,FALSE),\"\")","v":""},{"$f":"IF(B149<>\"\",VLOOKUP(B149,'Liste inscrits'!$A:$AD,13,FALSE),\"\")","v":""},null,{"$f":"IF(B149<>\"\",VLOOKUP(B149,'Liste inscrits'!$A:$AD,16,FALSE),\"\")","v":""},"ARA",1,{"$f":"IF(B149<>\"\",VLOOKUP(B149,'Liste inscrits'!$A:$AD,17,FALSE),\"\")","v":""},{"$f":"IF(B149<>\"\",VLOOKUP(B149,'Liste inscrits'!$A:$AD,18,FALSE),\"\")","v":""}]
[]
["Nb parties gagnées\ndans les poules",{"$f":"IF(ISERROR(VLOOKUP(B149&G149&H149,'Liste inscrits'!AH:AJ,1,FALSE)),\"\",VLOOKUP(B149&G149&H149,'Liste inscrits'!AH:AJ,3,FALSE))","v":""},"Classement \ndans la poule ",{"$f":"IF(ISERROR(VLOOKUP(B149&G149&H149,'Liste inscrits'!AH:AU,1,FALSE)),\"\",VLOOKUP(B149&G149&H149,'Liste inscrits'!AH:AU,14,FALSE)&\"  /  \"&VLOOKUP(B149&G149&H149,'Liste inscrits'!AH:AU,13,FALSE))","v":"  /  "},"Nb de parties gagnées \naprès les poules ",null,null,{"$f":"IF(ISERROR(VLOOKUP(B149&G149&H149,'Liste inscrits'!AH:AS,1,FALSE)),\"\",VLOOKUP(B149&G149&H149,'Liste inscrits'!AH:AS,11,FALSE))","v":""}]
[]
["N° de LICENCE","NOM                     PRENOM\nen lettres capitales",null,"DIV","CR","CBD","N° \nSEC","N° \nASB","Qual. \nChpt AIN"]
[{"$f":"IF(B156<>\"\",VLOOKUP(B156,'Liste inscrits'!$A:$AD,2,FALSE),\"\")","v":""},{"$f":"IF(OFFSET('Liste inscrits'!$A$1,INT(ROW()/35)*4+(ROW()-INT(ROW()/35)*35)/7,0)<>\"\",OFFSET('Liste inscrits'!$A$1,INT(ROW()/35)*4+(ROW()-INT(ROW()/35)*35)/7,0),\"\")","v":""},null,{"$f":"IF(B156<>\"\",VLOOKUP(B156,'Liste inscrits'!$A:$AD,4,FALSE),\"\")","v":""},"ARA",1,{"$f":"IF(B156<>\"\",VLOOKUP(B156,'Liste inscrits'!$A:$AD,5,FALSE),\"\")","v":""},{"$f":"IF(B156<>\"\",VLOOKUP(B156,'Liste inscrits'!$A:$AD,6,FALSE),\"\")","v":""}]
[{"$f":"IF(B156<>\"\",VLOOKUP(B156,'Liste inscrits'!$A:$AD,8,FALSE),\"\")","v":""},{"$f":"IF(B156<>\"\",VLOOKUP(B156,'Liste inscrits'!$A:$AD,7,FALSE),\"\")","v":""},null,{"$f":"IF(B156<>\"\",VLOOKUP(B156,'Liste inscrits'!$A:$AD,10,FALSE),\"\")","v":""},"ARA",1,{"$f":"IF(B156<>\"\",VLOOKUP(B156,'Liste inscrits'!$A:$AD,11,FALSE),\"\")","v":""},{"$f":"IF(B156<>\"\",VLOOKUP(B156,'Liste inscrits'!$A:$AD,12,FALSE),\"\")","v":""}]
[{"$f":"IF(B156<>\"\",VLOOKUP(B156,'Liste inscrits'!$A:$AD,14,FALSE),\"\")","v":""},{"$f":"IF(B156<>\"\",VLOOKUP(B156,'Liste inscrits'!$A:$AD,13,FALSE),\"\")","v":""},null,{"$f":"IF(B156<>\"\",VLOOKUP(B156,'Liste inscrits'!$A:$AD,16,FALSE),\"\")","v":""},"ARA",1,{"$f":"IF(B156<>\"\",VLOOKUP(B156,'Liste inscrits'!$A:$AD,17,FALSE),\"\")","v":""},{"$f":"IF(B156<>\"\",VLOOKUP(B156,'Liste inscrits'!$A:$AD,18,FALSE),\"\")","v":""}]
[]
["Nb parties gagnées\ndans les poules",{"$f":"IF(ISERROR(VLOOKUP(B156&G156&H156,'Liste inscrits'!AH:AJ,1,FALSE)),\"\",VLOOKUP(B156&G156&H156,'Liste inscrits'!AH:AJ,3,FALSE))","v":""},"Classement \ndans la poule ",{"$f":"IF(ISERROR(VLOOKUP(B156&G156&H156,'Liste inscrits'!AH:AU,1,FALSE)),\"\",VLOOKUP(B156&G156&H156,'Liste inscrits'!AH:AU,14,FALSE)&\"  /  \"&VLOOKUP(B156&G156&H156,'Liste inscrits'!AH:AU,13,FALSE))","v":"  /  "},"Nb de parties gagnées \naprès les poules ",null,null,{"$f":"IF(ISERROR(VLOOKUP(B156&G156&H156,'Liste inscrits'!AH:AS,1,FALSE)),\"\",VLOOKUP(B156&G156&H156,'Liste inscrits'!AH:AS,11,FALSE))","v":""}]
[]
["N° de LICENCE","NOM                     PRENOM\nen lettres capitales",null,"DIV","CR","CBD","N° \nSEC","N° \nASB","Qual. \nChpt AIN"]
[{"$f":"IF(B163<>\"\",VLOOKUP(B163,'Liste inscrits'!$A:$AD,2,FALSE),\"\")","v":""},{"$f":"IF(OFFSET('Liste inscrits'!$A$1,INT(ROW()/35)*4+(ROW()-INT(ROW()/35)*35)/7,0)<>\"\",OFFSET('Liste inscrits'!$A$1,INT(ROW()/35)*4+(ROW()-INT(ROW()/35)*35)/7,0),\"\")","v":""},null,{"$f":"IF(B163<>\"\",VLOOKUP(B163,'Liste inscrits'!$A:$AD,4,FALSE),\"\")","v":""},"ARA",1,{"$f":"IF(B163<>\"\",VLOOKUP(B163,'Liste inscrits'!$A:$AD,5,FALSE),\"\")","v":""},{"$f":"IF(B163<>\"\",VLOOKUP(B163,'Liste inscrits'!$A:$AD,6,FALSE),\"\")","v":""}]
[{"$f":"IF(B163<>\"\",VLOOKUP(B163,'Liste inscrits'!$A:$AD,8,FALSE),\"\")","v":""},{"$f":"IF(B163<>\"\",VLOOKUP(B163,'Liste inscrits'!$A:$AD,7,FALSE),\"\")","v":""},null,{"$f":"IF(B163<>\"\",VLOOKUP(B163,'Liste inscrits'!$A:$AD,10,FALSE),\"\")","v":""},"ARA",1,{"$f":"IF(B163<>\"\",VLOOKUP(B163,'Liste inscrits'!$A:$AD,11,FALSE),\"\")","v":""},{"$f":"IF(B163<>\"\",VLOOKUP(B163,'Liste inscrits'!$A:$AD,12,FALSE),\"\")","v":""}]
[{"$f":"IF(B163<>\"\",VLOOKUP(B163,'Liste inscrits'!$A:$AD,14,FALSE),\"\")","v":""},{"$f":"IF(B163<>\"\",VLOOKUP(B163,'Liste inscrits'!$A:$AD,13,FALSE),\"\")","v":""},null,{"$f":"IF(B163<>\"\",VLOOKUP(B163,'Liste inscrits'!$A:$AD,16,FALSE),\"\")","v":""},"ARA",1,{"$f":"IF(B163<>\"\",VLOOKUP(B163,'Liste inscrits'!$A:$AD,17,FALSE),\"\")","v":""},{"$f":"IF(B163<>\"\",VLOOKUP(B163,'Liste inscrits'!$A:$AD,18,FALSE),\"\")","v":""}]
[]
["Nb parties gagnées\ndans les poules",{"$f":"IF(ISERROR(VLOOKUP(B163&G163&H163,'Liste inscrits'!AH:AJ,1,FALSE)),\"\",VLOOKUP(B163&G163&H163,'Liste inscrits'!AH:AJ,3,FALSE))","v":""},"Classement \ndans la poule ",{"$f":"IF(ISERROR(VLOOKUP(B163&G163&H163,'Liste inscrits'!AH:AU,1,FALSE)),\"\",VLOOKUP(B163&G163&H163,'Liste inscrits'!AH:AU,14,FALSE)&\"  /  \"&VLOOKUP(B163&G163&H163,'Liste inscrits'!AH:AU,13,FALSE))","v":"  /  "},"Nb de parties gagnées \naprès les poules ",null,null,{"$f":"IF(ISERROR(VLOOKUP(B163&G163&H163,'Liste inscrits'!AH:AS,1,FALSE)),\"\",VLOOKUP(B163&G163&H163,'Liste inscrits'!AH:AS,11,FALSE))","v":""}]
[]
["N° de LICENCE","NOM                     PRENOM\nen lettres capitales",null,"DIV","CR","CBD","N° \nSEC","N° \nASB","Qual. \nChpt AIN"]
[{"$f":"IF(B170<>\"\",VLOOKUP(B170,'Liste inscrits'!$A:$AD,2,FALSE),\"\")","v":""},{"$f":"IF(OFFSET('Liste inscrits'!$A$1,INT(ROW()/35)*4+(ROW()-INT(ROW()/35)*35)/7,0)<>\"\",OFFSET('Liste inscrits'!$A$1,INT(ROW()/35)*4+(ROW()-INT(ROW()/35)*35)/7,0),\"\")","v":""},null,{"$f":"IF(B170<>\"\",VLOOKUP(B170,'Liste inscrits'!$A:$AD,4,FALSE),\"\")","v":""},"ARA",1,{"$f":"IF(B170<>\"\",VLOOKUP(B170,'Liste inscrits'!$A:$AD,5,FALSE),\"\")","v":""},{"$f":"IF(B170<>\"\",VLOOKUP(B170,'Liste inscrits'!$A:$AD,6,FALSE),\"\")","v":""}]
[{"$f":"IF(B170<>\"\",VLOOKUP(B170,'Liste inscrits'!$A:$AD,8,FALSE),\"\")","v":""},{"$f":"IF(B170<>\"\",VLOOKUP(B170,'Liste inscrits'!$A:$AD,7,FALSE),\"\")","v":""},null,{"$f":"IF(B170<>\"\",VLOOKUP(B170,'Liste inscrits'!$A:$AD,10,FALSE),\"\")","v":""},"ARA",1,{"$f":"IF(B170<>\"\",VLOOKUP(B170,'Liste inscrits'!$A:$AD,11,FALSE),\"\")","v":""},{"$f":"IF(B170<>\"\",VLOOKUP(B170,'Liste inscrits'!$A:$AD,12,FALSE),\"\")","v":""}]
[{"$f":"IF(B170<>\"\",VLOOKUP(B170,'Liste inscrits'!$A:$AD,14,FALSE),\"\")","v":""},{"$f":"IF(B170<>\"\",VLOOKUP(B170,'Liste inscrits'!$A:$AD,13,FALSE),\"\")","v":""},null,{"$f":"IF(B170<>\"\",VLOOKUP(B170,'Liste inscrits'!$A:$AD,16,FALSE),\"\")","v":""},"ARA",1,{"$f":"IF(B170<>\"\",VLOOKUP(B170,'Liste inscrits'!$A:$AD,17,FALSE),\"\")","v":""},{"$f":"IF(B170<>\"\",VLOOKUP(B170,'Liste inscrits'!$A:$AD,18,FALSE),\"\")","v":""}]
[]
["Nb parties gagnées\ndans les poules",{"$f":"IF(ISERROR(VLOOKUP(B170&G170&H170,'Liste inscrits'!AH:AJ,1,FALSE)),\"\",VLOOKUP(B170&G170&H170,'Liste inscrits'!AH:AJ,3,FALSE))","v":""},"Classement \ndans la poule ",{"$f":"IF(ISERROR(VLOOKUP(B170&G170&H170,'Liste inscrits'!AH:AU,1,FALSE)),\"\",VLOOKUP(B170&G170&H170,'Liste inscrits'!AH:AU,14,FALSE)&\"  /  \"&VLOOKUP(B170&G170&H170,'Liste inscrits'!AH:AU,13,FALSE))","v":"  /  "},"Nb de parties gagnées \naprès les poules ",null,null,{"$f":"IF(ISERROR(VLOOKUP(B170&G170&H170,'Liste inscrits'!AH:AS,1,FALSE)),\"\",VLOOKUP(B170&G170&H170,'Liste inscrits'!AH:AS,11,FALSE))","v":""}]
[]
[]
["C.B.D. AIN",null,{"$f":"$C$2","v":0},null,null,null,null,{"$f":"$H$2","v":0}]
[]
["SECTEUR :",{"$f":"$B$4","v":{"$error":"#VALUE!"}},null,"Lieu de la compétition :",{"$f":"$E$4","v":0}]
[]
["Date : ",{"$f":"$B$6","v":0},null,null,"Nombre total d'équipes participantes ",null,null,null,{"$f":"$I$6","v":0}]
[]
["N° de LICENCE","NOM                     PRENOM\nen lettres capitales",null,"DIV","CR","CBD","N° \nSEC","N° \nASB","Qual. \nChpt AIN"]
[{"$f":"IF(B184<>\"\",VLOOKUP(B184,'Liste inscrits'!$A:$AD,2,FALSE),\"\")","v":""},{"$f":"IF(OFFSET('Liste inscrits'!$A$1,INT(ROW()/35)*4+(ROW()-INT(ROW()/35)*35)/7,0)<>\"\",OFFSET('Liste inscrits'!$A$1,INT(ROW()/35)*4+(ROW()-INT(ROW()/35)*35)/7,0),\"\")","v":""},null,{"$f":"IF(B184<>\"\",VLOOKUP(B184,'Liste inscrits'!$A:$AD,4,FALSE),\"\")","v":""},"ARA",1,{"$f":"IF(B184<>\"\",VLOOKUP(B184,'Liste inscrits'!$A:$AD,5,FALSE),\"\")","v":""},{"$f":"IF(B184<>\"\",VLOOKUP(B184,'Liste inscrits'!$A:$AD,6,FALSE),\"\")","v":""}]
[{"$f":"IF(B184<>\"\",VLOOKUP(B184,'Liste inscrits'!$A:$AD,8,FALSE),\"\")","v":""},{"$f":"IF(B184<>\"\",VLOOKUP(B184,'Liste inscrits'!$A:$AD,7,FALSE),\"\")","v":""},null,{"$f":"IF(B184<>\"\",VLOOKUP(B184,'Liste inscrits'!$A:$AD,10,FALSE),\"\")","v":""},"ARA",1,{"$f":"IF(B184<>\"\",VLOOKUP(B184,'Liste inscrits'!$A:$AD,11,FALSE),\"\")","v":""},{"$f":"IF(B184<>\"\",VLOOKUP(B184,'Liste inscrits'!$A:$AD,12,FALSE),\"\")","v":""}]
[{"$f":"IF(B184<>\"\",VLOOKUP(B184,'Liste inscrits'!$A:$AD,14,FALSE),\"\")","v":""},{"$f":"IF(B184<>\"\",VLOOKUP(B184,'Liste inscrits'!$A:$AD,13,FALSE),\"\")","v":""},null,{"$f":"IF(B184<>\"\",VLOOKUP(B184,'Liste inscrits'!$A:$AD,16,FALSE),\"\")","v":""},"ARA",1,{"$f":"IF(B184<>\"\",VLOOKUP(B184,'Liste inscrits'!$A:$AD,17,FALSE),\"\")","v":""},{"$f":"IF(B184<>\"\",VLOOKUP(B184,'Liste inscrits'!$A:$AD,18,FALSE),\"\")","v":""}]
[]
["Nb parties gagnées\ndans les poules",{"$f":"IF(ISERROR(VLOOKUP(B184&G184&H184,'Liste inscrits'!AH:AJ,1,FALSE)),\"\",VLOOKUP(B184&G184&H184,'Liste inscrits'!AH:AJ,3,FALSE))","v":""},"Classement \ndans la poule ",{"$f":"IF(ISERROR(VLOOKUP(B184&G184&H184,'Liste inscrits'!AH:AU,1,FALSE)),\"\",VLOOKUP(B184&G184&H184,'Liste inscrits'!AH:AU,14,FALSE)&\"  /  \"&VLOOKUP(B184&G184&H184,'Liste inscrits'!AH:AU,13,FALSE))","v":"  /  "},"Nb de parties gagnées \naprès les poules ",null,null,{"$f":"IF(ISERROR(VLOOKUP(B184&G184&H184,'Liste inscrits'!AH:AS,1,FALSE)),\"\",VLOOKUP(B184&G184&H184,'Liste inscrits'!AH:AS,11,FALSE))","v":""}]
[]
["N° de LICENCE","NOM                     PRENOM\nen lettres capitales",null,"DIV","CR","CBD","N° \nSEC","N° \nASB","Qual. \nChpt AIN"]
[{"$f":"IF(B191<>\"\",VLOOKUP(B191,'Liste inscrits'!$A:$AD,2,FALSE),\"\")","v":""},{"$f":"IF(OFFSET('Liste inscrits'!$A$1,INT(ROW()/35)*4+(ROW()-INT(ROW()/35)*35)/7,0)<>\"\",OFFSET('Liste inscrits'!$A$1,INT(ROW()/35)*4+(ROW()-INT(ROW()/35)*35)/7,0),\"\")","v":""},null,{"$f":"IF(B191<>\"\",VLOOKUP(B191,'Liste inscrits'!$A:$AD,4,FALSE),\"\")","v":""},"ARA",1,{"$f":"IF(B191<>\"\",VLOOKUP(B191,'Liste inscrits'!$A:$AD,5,FALSE),\"\")","v":""},{"$f":"IF(B191<>\"\",VLOOKUP(B191,'Liste inscrits'!$A:$AD,6,FALSE),\"\")","v":""}]
[{"$f":"IF(B191<>\"\",VLOOKUP(B191,'Liste inscrits'!$A:$AD,8,FALSE),\"\")","v":""},{"$f":"IF(B191<>\"\",VLOOKUP(B191,'Liste inscrits'!$A:$AD,7,FALSE),\"\")","v":""},null,{"$f":"IF(B191<>\"\",VLOOKUP(B191,'Liste inscrits'!$A:$AD,10,FALSE),\"\")","v":""},"ARA",1,{"$f":"IF(B191<>\"\",VLOOKUP(B191,'Liste inscrits'!$A:$AD,11,FALSE),\"\")","v":""},{"$f":"IF(B191<>\"\",VLOOKUP(B191,'Liste inscrits'!$A:$AD,12,FALSE),\"\")","v":""}]
[{"$f":"IF(B191<>\"\",VLOOKUP(B191,'Liste inscrits'!$A:$AD,14,FALSE),\"\")","v":""},{"$f":"IF(B191<>\"\",VLOOKUP(B191,'Liste inscrits'!$A:$AD,13,FALSE),\"\")","v":""},null,{"$f":"IF(B191<>\"\",VLOOKUP(B191,'Liste inscrits'!$A:$AD,16,FALSE),\"\")","v":""},"ARA",1,{"$f":"IF(B191<>\"\",VLOOKUP(B191,'Liste inscrits'!$A:$AD,17,FALSE),\"\")","v":""},{"$f":"IF(B191<>\"\",VLOOKUP(B191,'Liste inscrits'!$A:$AD,18,FALSE),\"\")","v":""}]
[]
["Nb parties gagnées\ndans les poules",{"$f":"IF(ISERROR(VLOOKUP(B191&G191&H191,'Liste inscrits'!AH:AJ,1,FALSE)),\"\",VLOOKUP(B191&G191&H191,'Liste inscrits'!AH:AJ,3,FALSE))","v":""},"Classement \ndans la poule ",{"$f":"IF(ISERROR(VLOOKUP(B191&G191&H191,'Liste inscrits'!AH:AU,1,FALSE)),\"\",VLOOKUP(B191&G191&H191,'Liste inscrits'!AH:AU,14,FALSE)&\"  /  \"&VLOOKUP(B191&G191&H191,'Liste inscrits'!AH:AU,13,FALSE))","v":"  /  "},"Nb de parties gagnées \naprès les poules ",null,null,{"$f":"IF(ISERROR(VLOOKUP(B191&G191&H191,'Liste inscrits'!AH:AS,1,FALSE)),\"\",VLOOKUP(B191&G191&H191,'Liste inscrits'!AH:AS,11,FALSE))","v":""}]
[]
["N° de LICENCE","NOM                     PRENOM\nen lettres capitales",null,"DIV","CR","CBD","N° \nSEC","N° \nASB","Qual. \nChpt AIN"]
[{"$f":"IF(B198<>\"\",VLOOKUP(B198,'Liste inscrits'!$A:$AD,2,FALSE),\"\")","v":""},{"$f":"IF(OFFSET('Liste inscrits'!$A$1,INT(ROW()/35)*4+(ROW()-INT(ROW()/35)*35)/7,0)<>\"\",OFFSET('Liste inscrits'!$A$1,INT(ROW()/35)*4+(ROW()-INT(ROW()/35)*35)/7,0),\"\")","v":""},null,{"$f":"IF(B198<>\"\",VLOOKUP(B198,'Liste inscrits'!$A:$AD,4,FALSE),\"\")","v":""},"ARA",1,{"$f":"IF(B198<>\"\",VLOOKUP(B198,'Liste inscrits'!$A:$AD,5,FALSE),\"\")","v":""},{"$f":"IF(B198<>\"\",VLOOKUP(B198,'Liste inscrits'!$A:$AD,6,FALSE),\"\")","v":""}]
[{"$f":"IF(B198<>\"\",VLOOKUP(B198,'Liste inscrits'!$A:$AD,8,FALSE),\"\")","v":""},{"$f":"IF(B198<>\"\",VLOOKUP(B198,'Liste inscrits'!$A:$AD,7,FALSE),\"\")","v":""},null,{"$f":"IF(B198<>\"\",VLOOKUP(B198,'Liste inscrits'!$A:$AD,10,FALSE),\"\")","v":""},"ARA",1,{"$f":"IF(B198<>\"\",VLOOKUP(B198,'Liste inscrits'!$A:$AD,11,FALSE),\"\")","v":""},{"$f":"IF(B198<>\"\",VLOOKUP(B198,'Liste inscrits'!$A:$AD,12,FALSE),\"\")","v":""}]
[{"$f":"IF(B198<>\"\",VLOOKUP(B198,'Liste inscrits'!$A:$AD,14,FALSE),\"\")","v":""},{"$f":"IF(B198<>\"\",VLOOKUP(B198,'Liste inscrits'!$A:$AD,13,FALSE),\"\")","v":""},null,{"$f":"IF(B198<>\"\",VLOOKUP(B198,'Liste inscrits'!$A:$AD,16,FALSE),\"\")","v":""},"ARA",1,{"$f":"IF(B198<>\"\",VLOOKUP(B198,'Liste inscrits'!$A:$AD,17,FALSE),\"\")","v":""},{"$f":"IF(B198<>\"\",VLOOKUP(B198,'Liste inscrits'!$A:$AD,18,FALSE),\"\")","v":""}]
[]
["Nb parties gagnées\ndans les poules",{"$f":"IF(ISERROR(VLOOKUP(B198&G198&H198,'Liste inscrits'!AH:AJ,1,FALSE)),\"\",VLOOKUP(B198&G198&H198,'Liste inscrits'!AH:AJ,3,FALSE))","v":""},"Classement \ndans la poule ",{"$f":"IF(ISERROR(VLOOKUP(B198&G198&H198,'Liste inscrits'!AH:AU,1,FALSE)),\"\",VLOOKUP(B198&G198&H198,'Liste inscrits'!AH:AU,14,FALSE)&\"  /  \"&VLOOKUP(B198&G198&H198,'Liste inscrits'!AH:AU,13,FALSE))","v":"  /  "},"Nb de parties gagnées \naprès les poules ",null,null,{"$f":"IF(ISERROR(VLOOKUP(B198&G198&H198,'Liste inscrits'!AH:AS,1,FALSE)),\"\",VLOOKUP(B198&G198&H198,'Liste inscrits'!AH:AS,11,FALSE))","v":""}]
[]
["N° de LICENCE","NOM                     PRENOM\nen lettres capitales",null,"DIV","CR","CBD","N° \nSEC","N° \nASB","Qual. \nChpt AIN"]
[{"$f":"IF(B205<>\"\",VLOOKUP(B205,'Liste inscrits'!$A:$AD,2,FALSE),\"\")","v":""},{"$f":"IF(OFFSET('Liste inscrits'!$A$1,INT(ROW()/35)*4+(ROW()-INT(ROW()/35)*35)/7,0)<>\"\",OFFSET('Liste inscrits'!$A$1,INT(ROW()/35)*4+(ROW()-INT(ROW()/35)*35)/7,0),\"\")","v":""},null,{"$f":"IF(B205<>\"\",VLOOKUP(B205,'Liste inscrits'!$A:$AD,4,FALSE),\"\")","v":""},"ARA",1,{"$f":"IF(B205<>\"\",VLOOKUP(B205,'Liste inscrits'!$A:$AD,5,FALSE),\"\")","v":""},{"$f":"IF(B205<>\"\",VLOOKUP(B205,'Liste inscrits'!$A:$AD,6,FALSE),\"\")","v":""}]
[{"$f":"IF(B205<>\"\",VLOOKUP(B205,'Liste inscrits'!$A:$AD,8,FALSE),\"\")","v":""},{"$f":"IF(B205<>\"\",VLOOKUP(B205,'Liste inscrits'!$A:$AD,7,FALSE),\"\")","v":""},null,{"$f":"IF(B205<>\"\",VLOOKUP(B205,'Liste inscrits'!$A:$AD,10,FALSE),\"\")","v":""},"ARA",1,{"$f":"IF(B205<>\"\",VLOOKUP(B205,'Liste inscrits'!$A:$AD,11,FALSE),\"\")","v":""},{"$f":"IF(B205<>\"\",VLOOKUP(B205,'Liste inscrits'!$A:$AD,12,FALSE),\"\")","v":""}]
[{"$f":"IF(B205<>\"\",VLOOKUP(B205,'Liste inscrits'!$A:$AD,14,FALSE),\"\")","v":""},{"$f":"IF(B205<>\"\",VLOOKUP(B205,'Liste inscrits'!$A:$AD,13,FALSE),\"\")","v":""},null,{"$f":"IF(B205<>\"\",VLOOKUP(B205,'Liste inscrits'!$A:$AD,16,FALSE),\"\")","v":""},"ARA",1,{"$f":"IF(B205<>\"\",VLOOKUP(B205,'Liste inscrits'!$A:$AD,17,FALSE),\"\")","v":""},{"$f":"IF(B205<>\"\",VLOOKUP(B205,'Liste inscrits'!$A:$AD,18,FALSE),\"\")","v":""}]
[]
["Nb parties gagnées\ndans les poules",{"$f":"IF(ISERROR(VLOOKUP(B205&G205&H205,'Liste inscrits'!AH:AJ,1,FALSE)),\"\",VLOOKUP(B205&G205&H205,'Liste inscrits'!AH:AJ,3,FALSE))","v":""},"Classement \ndans la poule ",{"$f":"IF(ISERROR(VLOOKUP(B205&G205&H205,'Liste inscrits'!AH:AU,1,FALSE)),\"\",VLOOKUP(B205&G205&H205,'Liste inscrits'!AH:AU,14,FALSE)&\"  /  \"&VLOOKUP(B205&G205&H205,'Liste inscrits'!AH:AU,13,FALSE))","v":"  /  "},"Nb de parties gagnées \naprès les poules ",null,null,{"$f":"IF(ISERROR(VLOOKUP(B205&G205&H205,'Liste inscrits'!AH:AS,1,FALSE)),\"\",VLOOKUP(B205&G205&H205,'Liste inscrits'!AH:AS,11,FALSE))","v":""}]
[]
[]
["C.B.D. AIN",null,{"$f":"$C$2","v":0},null,null,null,null,{"$f":"$H$2","v":0}]
[]
["SECTEUR :",{"$f":"$B$4","v":{"$error":"#VALUE!"}},null,"Lieu de la compétition :",{"$f":"$E$4","v":0}]
[]
["Date : ",{"$f":"$B$6","v":0},null,null,"Nombre total d'équipes participantes ",null,null,null,{"$f":"$I$6","v":0}]
[]
["N° de LICENCE","NOM                     PRENOM\nen lettres capitales",null,"DIV","CR","CBD","N° \nSEC","N° \nASB","Qual. \nChpt AIN"]
[{"$f":"IF(B219<>\"\",VLOOKUP(B219,'Liste inscrits'!$A:$AD,2,FALSE),\"\")","v":""},{"$f":"IF(OFFSET('Liste inscrits'!$A$1,INT(ROW()/35)*4+(ROW()-INT(ROW()/35)*35)/7,0)<>\"\",OFFSET('Liste inscrits'!$A$1,INT(ROW()/35)*4+(ROW()-INT(ROW()/35)*35)/7,0),\"\")","v":""},null,{"$f":"IF(B219<>\"\",VLOOKUP(B219,'Liste inscrits'!$A:$AD,4,FALSE),\"\")","v":""},"ARA",1,{"$f":"IF(B219<>\"\",VLOOKUP(B219,'Liste inscrits'!$A:$AD,5,FALSE),\"\")","v":""},{"$f":"IF(B219<>\"\",VLOOKUP(B219,'Liste inscrits'!$A:$AD,6,FALSE),\"\")","v":""}]
[{"$f":"IF(B219<>\"\",VLOOKUP(B219,'Liste inscrits'!$A:$AD,8,FALSE),\"\")","v":""},{"$f":"IF(B219<>\"\",VLOOKUP(B219,'Liste inscrits'!$A:$AD,7,FALSE),\"\")","v":""},null,{"$f":"IF(B219<>\"\",VLOOKUP(B219,'Liste inscrits'!$A:$AD,10,FALSE),\"\")","v":""},"ARA",1,{"$f":"IF(B219<>\"\",VLOOKUP(B219,'Liste inscrits'!$A:$AD,11,FALSE),\"\")","v":""},{"$f":"IF(B219<>\"\",VLOOKUP(B219,'Liste inscrits'!$A:$AD,12,FALSE),\"\")","v":""}]
[{"$f":"IF(B219<>\"\",VLOOKUP(B219,'Liste inscrits'!$A:$AD,14,FALSE),\"\")","v":""},{"$f":"IF(B219<>\"\",VLOOKUP(B219,'Liste inscrits'!$A:$AD,13,FALSE),\"\")","v":""},null,{"$f":"IF(B219<>\"\",VLOOKUP(B219,'Liste inscrits'!$A:$AD,16,FALSE),\"\")","v":""},"ARA",1,{"$f":"IF(B219<>\"\",VLOOKUP(B219,'Liste inscrits'!$A:$AD,17,FALSE),\"\")","v":""},{"$f":"IF(B219<>\"\",VLOOKUP(B219,'Liste inscrits'!$A:$AD,18,FALSE),\"\")","v":""}]
[]
["Nb parties gagnées\ndans les poules",{"$f":"IF(ISERROR(VLOOKUP(B219&G219&H219,'Liste inscrits'!AH:AJ,1,FALSE)),\"\",VLOOKUP(B219&G219&H219,'Liste inscrits'!AH:AJ,3,FALSE))","v":""},"Classement \ndans la poule ",{"$f":"IF(ISERROR(VLOOKUP(B219&G219&H219,'Liste inscrits'!AH:AU,1,FALSE)),\"\",VLOOKUP(B219&G219&H219,'Liste inscrits'!AH:AU,14,FALSE)&\"  /  \"&VLOOKUP(B219&G219&H219,'Liste inscrits'!AH:AU,13,FALSE))","v":"  /  "},"Nb de parties gagnées \naprès les poules ",null,null,{"$f":"IF(ISERROR(VLOOKUP(B219&G219&H219,'Liste inscrits'!AH:AS,1,FALSE)),\"\",VLOOKUP(B219&G219&H219,'Liste inscrits'!AH:AS,11,FALSE))","v":""}]
[]
["N° de LICENCE","NOM                     PRENOM\nen lettres capitales",null,"DIV","CR","CBD","N° \nSEC","N° \nASB","Qual. \nChpt AIN"]
[{"$f":"IF(B226<>\"\",VLOOKUP(B226,'Liste inscrits'!$A:$AD,2,FALSE),\"\")","v":""},{"$f":"IF(OFFSET('Liste inscrits'!$A$1,INT(ROW()/35)*4+(ROW()-INT(ROW()/35)*35)/7,0)<>\"\",OFFSET('Liste inscrits'!$A$1,INT(ROW()/35)*4+(ROW()-INT(ROW()/35)*35)/7,0),\"\")","v":""},null,{"$f":"IF(B226<>\"\",VLOOKUP(B226,'Liste inscrits'!$A:$AD,4,FALSE),\"\")","v":""},"ARA",1,{"$f":"IF(B226<>\"\",VLOOKUP(B226,'Liste inscrits'!$A:$AD,5,FALSE),\"\")","v":""},{"$f":"IF(B226<>\"\",VLOOKUP(B226,'Liste inscrits'!$A:$AD,6,FALSE),\"\")","v":""}]
[{"$f":"IF(B226<>\"\",VLOOKUP(B226,'Liste inscrits'!$A:$AD,8,FALSE),\"\")","v":""},{"$f":"IF(B226<>\"\",VLOOKUP(B226,'Liste inscrits'!$A:$AD,7,FALSE),\"\")","v":""},null,{"$f":"IF(B226<>\"\",VLOOKUP(B226,'Liste inscrits'!$A:$AD,10,FALSE),\"\")","v":""},"ARA",1,{"$f":"IF(B226<>\"\",VLOOKUP(B226,'Liste inscrits'!$A:$AD,11,FALSE),\"\")","v":""},{"$f":"IF(B226<>\"\",VLOOKUP(B226,'Liste inscrits'!$A:$AD,12,FALSE),\"\")","v":""}]
[{"$f":"IF(B226<>\"\",VLOOKUP(B226,'Liste inscrits'!$A:$AD,14,FALSE),\"\")","v":""},{"$f":"IF(B226<>\"\",VLOOKUP(B226,'Liste inscrits'!$A:$AD,13,FALSE),\"\")","v":""},null,{"$f":"IF(B226<>\"\",VLOOKUP(B226,'Liste inscrits'!$A:$AD,16,FALSE),\"\")","v":""},"ARA",1,{"$f":"IF(B226<>\"\",VLOOKUP(B226,'Liste inscrits'!$A:$AD,17,FALSE),\"\")","v":""},{"$f":"IF(B226<>\"\",VLOOKUP(B226,'Liste inscrits'!$A:$AD,18,FALSE),\"\")","v":""}]
[]
["Nb parties gagnées\ndans les poules",{"$f":"IF(ISERROR(VLOOKUP(B226&G226&H226,'Liste inscrits'!AH:AJ,1,FALSE)),\"\",VLOOKUP(B226&G226&H226,'Liste inscrits'!AH:AJ,3,FALSE))","v":""},"Classement \ndans la poule ",{"$f":"IF(ISERROR(VLOOKUP(B226&G226&H226,'Liste inscrits'!AH:AU,1,FALSE)),\"\",VLOOKUP(B226&G226&H226,'Liste inscrits'!AH:AU,14,FALSE)&\"  /  \"&VLOOKUP(B226&G226&H226,'Liste inscrits'!AH:AU,13,FALSE))","v":"  /  "},"Nb de parties gagnées \naprès les poules ",null,null,{"$f":"IF(ISERROR(VLOOKUP(B226&G226&H226,'Liste inscrits'!AH:AS,1,FALSE)),\"\",VLOOKUP(B226&G226&H226,'Liste inscrits'!AH:AS,11,FALSE))","v":""}]
[]
["N° de LICENCE","NOM                     PRENOM\nen lettres capitales",null,"DIV","CR","CBD","N° \nSEC","N° \nASB","Qual. \nChpt AIN"]
[{"$f":"IF(B233<>\"\",VLOOKUP(B233,'Liste inscrits'!$A:$AD,2,FALSE),\"\")","v":""},{"$f":"IF(OFFSET('Liste inscrits'!$A$1,INT(ROW()/35)*4+(ROW()-INT(ROW()/35)*35)/7,0)<>\"\",OFFSET('Liste inscrits'!$A$1,INT(ROW()/35)*4+(ROW()-INT(ROW()/35)*35)/7,0),\"\")","v":""},null,{"$f":"IF(B233<>\"\",VLOOKUP(B233,'Liste inscrits'!$A:$AD,4,FALSE),\"\")","v":""},"ARA",1,{"$f":"IF(B233<>\"\",VLOOKUP(B233,'Liste inscrits'!$A:$AD,5,FALSE),\"\")","v":""},{"$f":"IF(B233<>\"\",VLOOKUP(B233,'Liste inscrits'!$A:$AD,6,FALSE),\"\")","v":""}]
[{"$f":"IF(B233<>\"\",VLOOKUP(B233,'Liste inscrits'!$A:$AD,8,FALSE),\"\")","v":""},{"$f":"IF(B233<>\"\",VLOOKUP(B233,'Liste inscrits'!$A:$AD,7,FALSE),\"\")","v":""},null,{"$f":"IF(B233<>\"\",VLOOKUP(B233,'Liste inscrits'!$A:$AD,10,FALSE),\"\")","v":""},"ARA",1,{"$f":"IF(B233<>\"\",VLOOKUP(B233,'Liste inscrits'!$A:$AD,11,FALSE),\"\")","v":""},{"$f":"IF(B233<>\"\",VLOOKUP(B233,'Liste inscrits'!$A:$AD,12,FALSE),\"\")","v":""}]
[{"$f":"IF(B233<>\"\",VLOOKUP(B233,'Liste inscrits'!$A:$AD,14,FALSE),\"\")","v":""},{"$f":"IF(B233<>\"\",VLOOKUP(B233,'Liste inscrits'!$A:$AD,13,FALSE),\"\")","v":""},null,{"$f":"IF(B233<>\"\",VLOOKUP(B233,'Liste inscrits'!$A:$AD,16,FALSE),\"\")","v":""},"ARA",1,{"$f":"IF(B233<>\"\",VLOOKUP(B233,'Liste inscrits'!$A:$AD,17,FALSE),\"\")","v":""},{"$f":"IF(B233<>\"\",VLOOKUP(B233,'Liste inscrits'!$A:$AD,18,FALSE),\"\")","v":""}]
[]
["Nb parties gagnées\ndans les poules",{"$f":"IF(ISERROR(VLOOKUP(B233&G233&H233,'Liste inscrits'!AH:AJ,1,FALSE)),\"\",VLOOKUP(B233&G233&H233,'Liste inscrits'!AH:AJ,3,FALSE))","v":""},"Classement \ndans la poule ",{"$f":"IF(ISERROR(VLOOKUP(B233&G233&H233,'Liste inscrits'!AH:AU,1,FALSE)),\"\",VLOOKUP(B233&G233&H233,'Liste inscrits'!AH:AU,14,FALSE)&\"  /  \"&VLOOKUP(B233&G233&H233,'Liste inscrits'!AH:AU,13,FALSE))","v":"  /  "},"Nb de parties gagnées \naprès les poules ",null,null,{"$f":"IF(ISERROR(VLOOKUP(B233&G233&H233,'Liste inscrits'!AH:AS,1,FALSE)),\"\",VLOOKUP(B233&G233&H233,'Liste inscrits'!AH:AS,11,FALSE))","v":""}]
[]
["N° de LICENCE","NOM                     PRENOM\nen lettres capitales",null,"DIV","CR","CBD","N° \nSEC","N° \nASB","Qual. \nChpt AIN"]
[{"$f":"IF(B240<>\"\",VLOOKUP(B240,'Liste inscrits'!$A:$AD,2,FALSE),\"\")","v":""},{"$f":"IF(OFFSET('Liste inscrits'!$A$1,INT(ROW()/35)*4+(ROW()-INT(ROW()/35)*35)/7,0)<>\"\",OFFSET('Liste inscrits'!$A$1,INT(ROW()/35)*4+(ROW()-INT(ROW()/35)*35)/7,0),\"\")","v":""},null,{"$f":"IF(B240<>\"\",VLOOKUP(B240,'Liste inscrits'!$A:$AD,4,FALSE),\"\")","v":""},"ARA",1,{"$f":"IF(B240<>\"\",VLOOKUP(B240,'Liste inscrits'!$A:$AD,5,FALSE),\"\")","v":""},{"$f":"IF(B240<>\"\",VLOOKUP(B240,'Liste inscrits'!$A:$AD,6,FALSE),\"\")","v":""}]
[{"$f":"IF(B240<>\"\",VLOOKUP(B240,'Liste inscrits'!$A:$AD,8,FALSE),\"\")","v":""},{"$f":"IF(B240<>\"\",VLOOKUP(B240,'Liste inscrits'!$A:$AD,7,FALSE),\"\")","v":""},null,{"$f":"IF(B240<>\"\",VLOOKUP(B240,'Liste inscrits'!$A:$AD,10,FALSE),\"\")","v":""},"ARA",1,{"$f":"IF(B240<>\"\",VLOOKUP(B240,'Liste inscrits'!$A:$AD,11,FALSE),\"\")","v":""},{"$f":"IF(B240<>\"\",VLOOKUP(B240,'Liste inscrits'!$A:$AD,12,FALSE),\"\")","v":""}]
[{"$f":"IF(B240<>\"\",VLOOKUP(B240,'Liste inscrits'!$A:$AD,14,FALSE),\"\")","v":""},{"$f":"IF(B240<>\"\",VLOOKUP(B240,'Liste inscrits'!$A:$AD,13,FALSE),\"\")","v":""},null,{"$f":"IF(B240<>\"\",VLOOKUP(B240,'Liste inscrits'!$A:$AD,16,FALSE),\"\")","v":""},"ARA",1,{"$f":"IF(B240<>\"\",VLOOKUP(B240,'Liste inscrits'!$A:$AD,17,FALSE),\"\")","v":""},{"$f":"IF(B240<>\"\",VLOOKUP(B240,'Liste inscrits'!$A:$AD,18,FALSE),\"\")","v":""}]
[]
["Nb parties gagnées\ndans les poules",{"$f":"IF(ISERROR(VLOOKUP(B240&G240&H240,'Liste inscrits'!AH:AJ,1,FALSE)),\"\",VLOOKUP(B240&G240&H240,'Liste inscrits'!AH:AJ,3,FALSE))","v":""},"Classement \ndans la poule ",{"$f":"IF(ISERROR(VLOOKUP(B240&G240&H240,'Liste inscrits'!AH:AU,1,FALSE)),\"\",VLOOKUP(B240&G240&H240,'Liste inscrits'!AH:AU,14,FALSE)&\"  /  \"&VLOOKUP(B240&G240&H240,'Liste inscrits'!AH:AU,13,FALSE))","v":"  /  "},"Nb de parties gagnées \naprès les poules ",null,null,{"$f":"IF(ISERROR(VLOOKUP(B240&G240&H240,'Liste inscrits'!AH:AS,1,FALSE)),\"\",VLOOKUP(B240&G240&H240,'Liste inscrits'!AH:AS,11,FALSE))","v":""}]
[]
[]
["C.B.D. AIN",null,{"$f":"$C$2","v":0},null,null,null,null,{"$f":"$H$2","v":0}]
[]
["SECTEUR :",{"$f":"$B$4","v":{"$error":"#VALUE!"}},null,"Lieu de la compétition :",{"$f":"$E$4","v":0}]
[]
["Date : ",{"$f":"$B$6","v":0},null,null,"Nombre total d'équipes participantes ",null,null,null,{"$f":"$I$6","v":0}]
[]
["N° de LICENCE","NOM                     PRENOM\nen lettres capitales",null,"DIV","CR","CBD","N° \nSEC","N° \nASB","Qual. \nChpt AIN"]
[{"$f":"IF(B254<>\"\",VLOOKUP(B254,'Liste inscrits'!$A:$AD,2,FALSE),\"\")","v":""},{"$f":"IF(OFFSET('Liste inscrits'!$A$1,INT(ROW()/35)*4+(ROW()-INT(ROW()/35)*35)/7,0)<>\"\",OFFSET('Liste inscrits'!$A$1,INT(ROW()/35)*4+(ROW()-INT(ROW()/35)*35)/7,0),\"\")","v":""},null,{"$f":"IF(B254<>\"\",VLOOKUP(B254,'Liste inscrits'!$A:$AD,4,FALSE),\"\")","v":""},"ARA",1,{"$f":"IF(B254<>\"\",VLOOKUP(B254,'Liste inscrits'!$A:$AD,5,FALSE),\"\")","v":""},{"$f":"IF(B254<>\"\",VLOOKUP(B254,'Liste inscrits'!$A:$AD,6,FALSE),\"\")","v":""}]
[{"$f":"IF(B254<>\"\",VLOOKUP(B254,'Liste inscrits'!$A:$AD,8,FALSE),\"\")","v":""},{"$f":"IF(B254<>\"\",VLOOKUP(B254,'Liste inscrits'!$A:$AD,7,FALSE),\"\")","v":""},null,{"$f":"IF(B254<>\"\",VLOOKUP(B254,'Liste inscrits'!$A:$AD,10,FALSE),\"\")","v":""},"ARA",1,{"$f":"IF(B254<>\"\",VLOOKUP(B254,'Liste inscrits'!$A:$AD,11,FALSE),\"\")","v":""},{"$f":"IF(B254<>\"\",VLOOKUP(B254,'Liste inscrits'!$A:$AD,12,FALSE),\"\")","v":""}]
[{"$f":"IF(B254<>\"\",VLOOKUP(B254,'Liste inscrits'!$A:$AD,14,FALSE),\"\")","v":""},{"$f":"IF(B254<>\"\",VLOOKUP(B254,'Liste inscrits'!$A:$AD,13,FALSE),\"\")","v":""},null,{"$f":"IF(B254<>\"\",VLOOKUP(B254,'Liste inscrits'!$A:$AD,16,FALSE),\"\")","v":""},"ARA",1,{"$f":"IF(B254<>\"\",VLOOKUP(B254,'Liste inscrits'!$A:$AD,17,FALSE),\"\")","v":""},{"$f":"IF(B254<>\"\",VLOOKUP(B254,'Liste inscrits'!$A:$AD,18,FALSE),\"\")","v":""}]
[]
["Nb parties gagnées\ndans les poules",{"$f":"IF(ISERROR(VLOOKUP(B254&G254&H254,'Liste inscrits'!AH:AJ,1,FALSE)),\"\",VLOOKUP(B254&G254&H254,'Liste inscrits'!AH:AJ,3,FALSE))","v":""},"Classement \ndans la poule ",{"$f":"IF(ISERROR(VLOOKUP(B254&G254&H254,'Liste inscrits'!AH:AU,1,FALSE)),\"\",VLOOKUP(B254&G254&H254,'Liste inscrits'!AH:AU,14,FALSE)&\"  /  \"&VLOOKUP(B254&G254&H254,'Liste inscrits'!AH:AU,13,FALSE))","v":"  /  "},"Nb de parties gagnées \naprès les poules ",null,null,{"$f":"IF(ISERROR(VLOOKUP(B254&G254&H254,'Liste inscrits'!AH:AS,1,FALSE)),\"\",VLOOKUP(B254&G254&H254,'Liste inscrits'!AH:AS,11,FALSE))","v":""}]
[]
["N° de LICENCE","NOM                     PRENOM\nen lettres capitales",null,"DIV","CR","CBD","N° \nSEC","N° \nASB","Qual. \nChpt AIN"]
[{"$f":"IF(B261<>\"\",VLOOKUP(B261,'Liste inscrits'!$A:$AD,2,FALSE),\"\")","v":""},{"$f":"IF(OFFSET('Liste inscrits'!$A$1,INT(ROW()/35)*4+(ROW()-INT(ROW()/35)*35)/7,0)<>\"\",OFFSET('Liste inscrits'!$A$1,INT(ROW()/35)*4+(ROW()-INT(ROW()/35)*35)/7,0),\"\")","v":""},null,{"$f":"IF(B261<>\"\",VLOOKUP(B261,'Liste inscrits'!$A:$AD,4,FALSE),\"\")","v":""},"ARA",1,{"$f":"IF(B261<>\"\",VLOOKUP(B261,'Liste inscrits'!$A:$AD,5,FALSE),\"\")","v":""},{"$f":"IF(B261<>\"\",VLOOKUP(B261,'Liste inscrits'!$A:$AD,6,FALSE),\"\")","v":""}]
[{"$f":"IF(B261<>\"\",VLOOKUP(B261,'Liste inscrits'!$A:$AD,8,FALSE),\"\")","v":""},{"$f":"IF(B261<>\"\",VLOOKUP(B261,'Liste inscrits'!$A:$AD,7,FALSE),\"\")","v":""},null,{"$f":"IF(B261<>\"\",VLOOKUP(B261,'Liste inscrits'!$A:$AD,10,FALSE),\"\")","v":""},"ARA",1,{"$f":"IF(B261<>\"\",VLOOKUP(B261,'Liste inscrits'!$A:$AD,11,FALSE),\"\")","v":""},{"$f":"IF(B261<>\"\",VLOOKUP(B261,'Liste inscrits'!$A:$AD,12,FALSE),\"\")","v":""}]
[{"$f":"IF(B261<>\"\",VLOOKUP(B261,'Liste inscrits'!$A:$AD,14,FALSE),\"\")","v":""},{"$f":"IF(B261<>\"\",VLOOKUP(B261,'Liste inscrits'!$A:$AD,13,FALSE),\"\")","v":""},null,{"$f":"IF(B261<>\"\",VLOOKUP(B261,'Liste inscrits'!$A:$AD,16,FALSE),\"\")","v":""},"ARA",1,{"$f":"IF(B261<>\"\",VLOOKUP(B261,'Liste inscrits'!$A:$AD,17,FALSE),\"\")","v":""},{"$f":"IF(B261<>\"\",VLOOKUP(B261,'Liste inscrits'!$A:$AD,18,FALSE),\"\")","v":""}]
[]
["Nb parties gagnées\ndans les poules",{"$f":"IF(ISERROR(VLOOKUP(B261&G261&H261,'Liste inscrits'!AH:AJ,1,FALSE)),\"\",VLOOKUP(B261&G261&H261,'Liste inscrits'!AH:AJ,3,FALSE))","v":""},"Classement \ndans la poule ",{"$f":"IF(ISERROR(VLOOKUP(B261&G261&H261,'Liste inscrits'!AH:AU,1,FALSE)),\"\",VLOOKUP(B261&G261&H261,'Liste inscrits'!AH:AU,14,FALSE)&\"  /  \"&VLOOKUP(B261&G261&H261,'Liste inscrits'!AH:AU,13,FALSE))","v":"  /  "},"Nb de parties gagnées \naprès les poules ",null,null,{"$f":"IF(ISERROR(VLOOKUP(B261&G261&H261,'Liste inscrits'!AH:AS,1,FALSE)),\"\",VLOOKUP(B261&G261&H261,'Liste inscrits'!AH:AS,11,FALSE))","v":""}]
[]
["N° de LICENCE","NOM                     PRENOM\nen lettres capitales",null,"DIV","CR","CBD","N° \nSEC","N° \nASB","Qual. \nChpt AIN"]
[{"$f":"IF(B268<>\"\",VLOOKUP(B268,'Liste inscrits'!$A:$AD,2,FALSE),\"\")","v":""},{"$f":"IF(OFFSET('Liste inscrits'!$A$1,INT(ROW()/35)*4+(ROW()-INT(ROW()/35)*35)/7,0)<>\"\",OFFSET('Liste inscrits'!$A$1,INT(ROW()/35)*4+(ROW()-INT(ROW()/35)*35)/7,0),\"\")","v":""},null,{"$f":"IF(B268<>\"\",VLOOKUP(B268,'Liste inscrits'!$A:$AD,4,FALSE),\"\")","v":""},"ARA",1,{"$f":"IF(B268<>\"\",VLOOKUP(B268,'Liste inscrits'!$A:$AD,5,FALSE),\"\")","v":""},{"$f":"IF(B268<>\"\",VLOOKUP(B268,'Liste inscrits'!$A:$AD,6,FALSE),\"\")","v":""}]
[{"$f":"IF(B268<>\"\",VLOOKUP(B268,'Liste inscrits'!$A:$AD,8,FALSE),\"\")","v":""},{"$f":"IF(B268<>\"\",VLOOKUP(B268,'Liste inscrits'!$A:$AD,7,FALSE),\"\")","v":""},null,{"$f":"IF(B268<>\"\",VLOOKUP(B268,'Liste inscrits'!$A:$AD,10,FALSE),\"\")","v":""},"ARA",1,{"$f":"IF(B268<>\"\",VLOOKUP(B268,'Liste inscrits'!$A:$AD,11,FALSE),\"\")","v":""},{"$f":"IF(B268<>\"\",VLOOKUP(B268,'Liste inscrits'!$A:$AD,12,FALSE),\"\")","v":""}]
[{"$f":"IF(B268<>\"\",VLOOKUP(B268,'Liste inscrits'!$A:$AD,14,FALSE),\"\")","v":""},{"$f":"IF(B268<>\"\",VLOOKUP(B268,'Liste inscrits'!$A:$AD,13,FALSE),\"\")","v":""},null,{"$f":"IF(B268<>\"\",VLOOKUP(B268,'Liste inscrits'!$A:$AD,16,FALSE),\"\")","v":""},"ARA",1,{"$f":"IF(B268<>\"\",VLOOKUP(B268,'Liste inscrits'!$A:$AD,17,FALSE),\"\")","v":""},{"$f":"IF(B268<>\"\",VLOOKUP(B268,'Liste inscrits'!$A:$AD,18,FALSE),\"\")","v":""}]
[]
["Nb parties gagnées\ndans les poules",{"$f":"IF(ISERROR(VLOOKUP(B268&G268&H268,'Liste inscrits'!AH:AJ,1,FALSE)),\"\",VLOOKUP(B268&G268&H268,'Liste inscrits'!AH:AJ,3,FALSE))","v":""},"Classement \ndans la poule ",{"$f":"IF(ISERROR(VLOOKUP(B268&G268&H268,'Liste inscrits'!AH:AU,1,FALSE)),\"\",VLOOKUP(B268&G268&H268,'Liste inscrits'!AH:AU,14,FALSE)&\"  /  \"&VLOOKUP(B268&G268&H268,'Liste inscrits'!AH:AU,13,FALSE))","v":"  /  "},"Nb de parties gagnées \naprès les poules ",null,null,{"$f":"IF(ISERROR(VLOOKUP(B268&G268&H268,'Liste inscrits'!AH:AS,1,FALSE)),\"\",VLOOKUP(B268&G268&H268,'Liste inscrits'!AH:AS,11,FALSE))","v":""}]
[]
["N° de LICENCE","NOM                     PRENOM\nen lettres capitales",null,"DIV","CR","CBD","N° \nSEC","N° \nASB","Qual. \nChpt AIN"]
[{"$f":"IF(B275<>\"\",VLOOKUP(B275,'Liste inscrits'!$A:$AD,2,FALSE),\"\")","v":""},{"$f":"IF(OFFSET('Liste inscrits'!$A$1,INT(ROW()/35)*4+(ROW()-INT(ROW()/35)*35)/7,0)<>\"\",OFFSET('Liste inscrits'!$A$1,INT(ROW()/35)*4+(ROW()-INT(ROW()/35)*35)/7,0),\"\")","v":""},null,{"$f":"IF(B275<>\"\",VLOOKUP(B275,'Liste inscrits'!$A:$AD,4,FALSE),\"\")","v":""},"ARA",1,{"$f":"IF(B275<>\"\",VLOOKUP(B275,'Liste inscrits'!$A:$AD,5,FALSE),\"\")","v":""},{"$f":"IF(B275<>\"\",VLOOKUP(B275,'Liste inscrits'!$A:$AD,6,FALSE),\"\")","v":""}]
[{"$f":"IF(B275<>\"\",VLOOKUP(B275,'Liste inscrits'!$A:$AD,8,FALSE),\"\")","v":""},{"$f":"IF(B275<>\"\",VLOOKUP(B275,'Liste inscrits'!$A:$AD,7,FALSE),\"\")","v":""},null,{"$f":"IF(B275<>\"\",VLOOKUP(B275,'Liste inscrits'!$A:$AD,10,FALSE),\"\")","v":""},"ARA",1,{"$f":"IF(B275<>\"\",VLOOKUP(B275,'Liste inscrits'!$A:$AD,11,FALSE),\"\")","v":""},{"$f":"IF(B275<>\"\",VLOOKUP(B275,'Liste inscrits'!$A:$AD,12,FALSE),\"\")","v":""}]
[{"$f":"IF(B275<>\"\",VLOOKUP(B275,'Liste inscrits'!$A:$AD,14,FALSE),\"\")","v":""},{"$f":"IF(B275<>\"\",VLOOKUP(B275,'Liste inscrits'!$A:$AD,13,FALSE),\"\")","v":""},null,{"$f":"IF(B275<>\"\",VLOOKUP(B275,'Liste inscrits'!$A:$AD,16,FALSE),\"\")","v":""},"ARA",1,{"$f":"IF(B275<>\"\",VLOOKUP(B275,'Liste inscrits'!$A:$AD,17,FALSE),\"\")","v":""},{"$f":"IF(B275<>\"\",VLOOKUP(B275,'Liste inscrits'!$A:$AD,18,FALSE),\"\")","v":""}]
[]
["Nb parties gagnées\ndans les poules",{"$f":"IF(ISERROR(VLOOKUP(B275&G275&H275,'Liste inscrits'!AH:AJ,1,FALSE)),\"\",VLOOKUP(B275&G275&H275,'Liste inscrits'!AH:AJ,3,FALSE))","v":""},"Classement \ndans la poule ",{"$f":"IF(ISERROR(VLOOKUP(B275&G275&H275,'Liste inscrits'!AH:AU,1,FALSE)),\"\",VLOOKUP(B275&G275&H275,'Liste inscrits'!AH:AU,14,FALSE)&\"  /  \"&VLOOKUP(B275&G275&H275,'Liste inscrits'!AH:AU,13,FALSE))","v":"  /  "},"Nb de parties gagnées \naprès les poules ",null,null,{"$f":"IF(ISERROR(VLOOKUP(B275&G275&H275,'Liste inscrits'!AH:AS,1,FALSE)),\"\",VLOOKUP(B275&G275&H275,'Liste inscrits'!AH:AS,11,FALSE))","v":""}]
[]
[]
["C.B.D. AIN",null,{"$f":"$C$2","v":0},null,null,null,null,{"$f":"$H$2","v":0}]
[]
["SECTEUR :",{"$f":"$B$4","v":{"$error":"#VALUE!"}},null,"Lieu de la compétition :",{"$f":"$E$4","v":0}]
[]
["Date : ",{"$f":"$B$6","v":0},null,null,"Nombre total d'équipes participantes ",null,null,null,{"$f":"$I$6","v":0}]
[]
["N° de LICENCE","NOM                     PRENOM\nen lettres capitales",null,"DIV","CR","CBD","N° \nSEC","N° \nASB","Qual. \nChpt AIN"]
[{"$f":"IF(B289<>\"\",VLOOKUP(B289,'Liste inscrits'!$A:$AD,2,FALSE),\"\")","v":""},{"$f":"IF(OFFSET('Liste inscrits'!$A$1,INT(ROW()/35)*4+(ROW()-INT(ROW()/35)*35)/7,0)<>\"\",OFFSET('Liste inscrits'!$A$1,INT(ROW()/35)*4+(ROW()-INT(ROW()/35)*35)/7,0),\"\")","v":""},null,{"$f":"IF(B289<>\"\",VLOOKUP(B289,'Liste inscrits'!$A:$AD,4,FALSE),\"\")","v":""},"ARA",1,{"$f":"IF(B289<>\"\",VLOOKUP(B289,'Liste inscrits'!$A:$AD,5,FALSE),\"\")","v":""},{"$f":"IF(B289<>\"\",VLOOKUP(B289,'Liste inscrits'!$A:$AD,6,FALSE),\"\")","v":""}]
[{"$f":"IF(B289<>\"\",VLOOKUP(B289,'Liste inscrits'!$A:$AD,8,FALSE),\"\")","v":""},{"$f":"IF(B289<>\"\",VLOOKUP(B289,'Liste inscrits'!$A:$AD,7,FALSE),\"\")","v":""},null,{"$f":"IF(B289<>\"\",VLOOKUP(B289,'Liste inscrits'!$A:$AD,10,FALSE),\"\")","v":""},"ARA",1,{"$f":"IF(B289<>\"\",VLOOKUP(B289,'Liste inscrits'!$A:$AD,11,FALSE),\"\")","v":""},{"$f":"IF(B289<>\"\",VLOOKUP(B289,'Liste inscrits'!$A:$AD,12,FALSE),\"\")","v":""}]
[{"$f":"IF(B289<>\"\",VLOOKUP(B289,'Liste inscrits'!$A:$AD,14,FALSE),\"\")","v":""},{"$f":"IF(B289<>\"\",VLOOKUP(B289,'Liste inscrits'!$A:$AD,13,FALSE),\"\")","v":""},null,{"$f":"IF(B289<>\"\",VLOOKUP(B289,'Liste inscrits'!$A:$AD,16,FALSE),\"\")","v":""},"ARA",1,{"$f":"IF(B289<>\"\",VLOOKUP(B289,'Liste inscrits'!$A:$AD,17,FALSE),\"\")","v":""},{"$f":"IF(B289<>\"\",VLOOKUP(B289,'Liste inscrits'!$A:$AD,18,FALSE),\"\")","v":""}]
[]
["Nb parties gagnées\ndans les poules",{"$f":"IF(ISERROR(VLOOKUP(B289&G289&H289,'Liste inscrits'!AH:AJ,1,FALSE)),\"\",VLOOKUP(B289&G289&H289,'Liste inscrits'!AH:AJ,3,FALSE))","v":""},"Classement \ndans la poule ",{"$f":"IF(ISERROR(VLOOKUP(B289&G289&H289,'Liste inscrits'!AH:AU,1,FALSE)),\"\",VLOOKUP(B289&G289&H289,'Liste inscrits'!AH:AU,14,FALSE)&\"  /  \"&VLOOKUP(B289&G289&H289,'Liste inscrits'!AH:AU,13,FALSE))","v":"  /  "},"Nb de parties gagnées \naprès les poules ",null,null,{"$f":"IF(ISERROR(VLOOKUP(B289&G289&H289,'Liste inscrits'!AH:AS,1,FALSE)),\"\",VLOOKUP(B289&G289&H289,'Liste inscrits'!AH:AS,11,FALSE))","v":""}]
[]
["N° de LICENCE","NOM                     PRENOM\nen lettres capitales",null,"DIV","CR","CBD","N° \nSEC","N° \nASB","Qual. \nChpt AIN"]
[{"$f":"IF(B296<>\"\",VLOOKUP(B296,'Liste inscrits'!$A:$AD,2,FALSE),\"\")","v":""},{"$f":"IF(OFFSET('Liste inscrits'!$A$1,INT(ROW()/35)*4+(ROW()-INT(ROW()/35)*35)/7,0)<>\"\",OFFSET('Liste inscrits'!$A$1,INT(ROW()/35)*4+(ROW()-INT(ROW()/35)*35)/7,0),\"\")","v":""},null,{"$f":"IF(B296<>\"\",VLOOKUP(B296,'Liste inscrits'!$A:$AD,4,FALSE),\"\")","v":""},"ARA",1,{"$f":"IF(B296<>\"\",VLOOKUP(B296,'Liste inscrits'!$A:$AD,5,FALSE),\"\")","v":""},{"$f":"IF(B296<>\"\",VLOOKUP(B296,'Liste inscrits'!$A:$AD,6,FALSE),\"\")","v":""}]
[{"$f":"IF(B296<>\"\",VLOOKUP(B296,'Liste inscrits'!$A:$AD,8,FALSE),\"\")","v":""},{"$f":"IF(B296<>\"\",VLOOKUP(B296,'Liste inscrits'!$A:$AD,7,FALSE),\"\")","v":""},null,{"$f":"IF(B296<>\"\",VLOOKUP(B296,'Liste inscrits'!$A:$AD,10,FALSE),\"\")","v":""},"ARA",1,{"$f":"IF(B296<>\"\",VLOOKUP(B296,'Liste inscrits'!$A:$AD,11,FALSE),\"\")","v":""},{"$f":"IF(B296<>\"\",VLOOKUP(B296,'Liste inscrits'!$A:$AD,12,FALSE),\"\")","v":""}]
[{"$f":"IF(B296<>\"\",VLOOKUP(B296,'Liste inscrits'!$A:$AD,14,FALSE),\"\")","v":""},{"$f":"IF(B296<>\"\",VLOOKUP(B296,'Liste inscrits'!$A:$AD,13,FALSE),\"\")","v":""},null,{"$f":"IF(B296<>\"\",VLOOKUP(B296,'Liste inscrits'!$A:$AD,16,FALSE),\"\")","v":""},"ARA",1,{"$f":"IF(B296<>\"\",VLOOKUP(B296,'Liste inscrits'!$A:$AD,17,FALSE),\"\")","v":""},{"$f":"IF(B296<>\"\",VLOOKUP(B296,'Liste inscrits'!$A:$AD,18,FALSE),\"\")","v":""}]
[]
["Nb parties gagnées\ndans les poules",{"$f":"IF(ISERROR(VLOOKUP(B296&G296&H296,'Liste inscrits'!AH:AJ,1,FALSE)),\"\",VLOOKUP(B296&G296&H296,'Liste inscrits'!AH:AJ,3,FALSE))","v":""},"Classement \ndans la poule ",{"$f":"IF(ISERROR(VLOOKUP(B296&G296&H296,'Liste inscrits'!AH:AU,1,FALSE)),\"\",VLOOKUP(B296&G296&H296,'Liste inscrits'!AH:AU,14,FALSE)&\"  /  \"&VLOOKUP(B296&G296&H296,'Liste inscrits'!AH:AU,13,FALSE))","v":"  /  "},"Nb de parties gagnées \naprès les poules ",null,null,{"$f":"IF(ISERROR(VLOOKUP(B296&G296&H296,'Liste inscrits'!AH:AS,1,FALSE)),\"\",VLOOKUP(B296&G296&H296,'Liste inscrits'!AH:AS,11,FALSE))","v":""}]
[]
["N° de LICENCE","NOM                     PRENOM\nen lettres capitales",null,"DIV","CR","CBD","N° \nSEC","N° \nASB","Qual. \nChpt AIN"]
[{"$f":"IF(B303<>\"\",VLOOKUP(B303,'Liste inscrits'!$A:$AD,2,FALSE),\"\")","v":""},{"$f":"IF(OFFSET('Liste inscrits'!$A$1,INT(ROW()/35)*4+(ROW()-INT(ROW()/35)*35)/7,0)<>\"\",OFFSET('Liste inscrits'!$A$1,INT(ROW()/35)*4+(ROW()-INT(ROW()/35)*35)/7,0),\"\")","v":""},null,{"$f":"IF(B303<>\"\",VLOOKUP(B303,'Liste inscrits'!$A:$AD,4,FALSE),\"\")","v":""},"ARA",1,{"$f":"IF(B303<>\"\",VLOOKUP(B303,'Liste inscrits'!$A:$AD,5,FALSE),\"\")","v":""},{"$f":"IF(B303<>\"\",VLOOKUP(B303,'Liste inscrits'!$A:$AD,6,FALSE),\"\")","v":""}]
[{"$f":"IF(B303<>\"\",VLOOKUP(B303,'Liste inscrits'!$A:$AD,8,FALSE),\"\")","v":""},{"$f":"IF(B303<>\"\",VLOOKUP(B303,'Liste inscrits'!$A:$AD,7,FALSE),\"\")","v":""},null,{"$f":"IF(B303<>\"\",VLOOKUP(B303,'Liste inscrits'!$A:$AD,10,FALSE),\"\")","v":""},"ARA",1,{"$f":"IF(B303<>\"\",VLOOKUP(B303,'Liste inscrits'!$A:$AD,11,FALSE),\"\")","v":""},{"$f":"IF(B303<>\"\",VLOOKUP(B303,'Liste inscrits'!$A:$AD,12,FALSE),\"\")","v":""}]
[{"$f":"IF(B303<>\"\",VLOOKUP(B303,'Liste inscrits'!$A:$AD,14,FALSE),\"\")","v":""},{"$f":"IF(B303<>\"\",VLOOKUP(B303,'Liste inscrits'!$A:$AD,13,FALSE),\"\")","v":""},null,{"$f":"IF(B303<>\"\",VLOOKUP(B303,'Liste inscrits'!$A:$AD,16,FALSE),\"\")","v":""},"ARA",1,{"$f":"IF(B303<>\"\",VLOOKUP(B303,'Liste inscrits'!$A:$AD,17,FALSE),\"\")","v":""},{"$f":"IF(B303<>\"\",VLOOKUP(B303,'Liste inscrits'!$A:$AD,18,FALSE),\"\")","v":""}]
[]
["Nb parties gagnées\ndans les poules",{"$f":"IF(ISERROR(VLOOKUP(B303&G303&H303,'Liste inscrits'!AH:AJ,1,FALSE)),\"\",VLOOKUP(B303&G303&H303,'Liste inscrits'!AH:AJ,3,FALSE))","v":""},"Classement \ndans la poule ",{"$f":"IF(ISERROR(VLOOKUP(B303&G303&H303,'Liste inscrits'!AH:AU,1,FALSE)),\"\",VLOOKUP(B303&G303&H303,'Liste inscrits'!AH:AU,14,FALSE)&\"  /  \"&VLOOKUP(B303&G303&H303,'Liste inscrits'!AH:AU,13,FALSE))","v":"  /  "},"Nb de parties gagnées \naprès les poules ",null,null,{"$f":"IF(ISERROR(VLOOKUP(B303&G303&H303,'Liste inscrits'!AH:AS,1,FALSE)),\"\",VLOOKUP(B303&G303&H303,'Liste inscrits'!AH:AS,11,FALSE))","v":""}]
[]
["N° de LICENCE","NOM                     PRENOM\nen lettres capitales",null,"DIV","CR","CBD","N° \nSEC","N° \nASB","Qual. \nChpt AIN"]
[{"$f":"IF(B310<>\"\",VLOOKUP(B310,'Liste inscrits'!$A:$AD,2,FALSE),\"\")","v":""},{"$f":"IF(OFFSET('Liste inscrits'!$A$1,INT(ROW()/35)*4+(ROW()-INT(ROW()/35)*35)/7,0)<>\"\",OFFSET('Liste inscrits'!$A$1,INT(ROW()/35)*4+(ROW()-INT(ROW()/35)*35)/7,0),\"\")","v":""},null,{"$f":"IF(B310<>\"\",VLOOKUP(B310,'Liste inscrits'!$A:$AD,4,FALSE),\"\")","v":""},"ARA",1,{"$f":"IF(B310<>\"\",VLOOKUP(B310,'Liste inscrits'!$A:$AD,5,FALSE),\"\")","v":""},{"$f":"IF(B310<>\"\",VLOOKUP(B310,'Liste inscrits'!$A:$AD,6,FALSE),\"\")","v":""}]
[{"$f":"IF(B310<>\"\",VLOOKUP(B310,'Liste inscrits'!$A:$AD,8,FALSE),\"\")","v":""},{"$f":"IF(B310<>\"\",VLOOKUP(B310,'Liste inscrits'!$A:$AD,7,FALSE),\"\")","v":""},null,{"$f":"IF(B310<>\"\",VLOOKUP(B310,'Liste inscrits'!$A:$AD,10,FALSE),\"\")","v":""},"ARA",1,{"$f":"IF(B310<>\"\",VLOOKUP(B310,'Liste inscrits'!$A:$AD,11,FALSE),\"\")","v":""},{"$f":"IF(B310<>\"\",VLOOKUP(B310,'Liste inscrits'!$A:$AD,12,FALSE),\"\")","v":""}]
[{"$f":"IF(B310<>\"\",VLOOKUP(B310,'Liste inscrits'!$A:$AD,14,FALSE),\"\")","v":""},{"$f":"IF(B310<>\"\",VLOOKUP(B310,'Liste inscrits'!$A:$AD,13,FALSE),\"\")","v":""},null,{"$f":"IF(B310<>\"\",VLOOKUP(B310,'Liste inscrits'!$A:$AD,16,FALSE),\"\")","v":""},"ARA",1,{"$f":"IF(B310<>\"\",VLOOKUP(B310,'Liste inscrits'!$A:$AD,17,FALSE),\"\")","v":""},{"$f":"IF(B310<>\"\",VLOOKUP(B310,'Liste inscrits'!$A:$AD,18,FALSE),\"\")","v":""}]
[]
["Nb parties gagnées\ndans les poules",{"$f":"IF(ISERROR(VLOOKUP(B310&G310&H310,'Liste inscrits'!AH:AJ,1,FALSE)),\"\",VLOOKUP(B310&G310&H310,'Liste inscrits'!AH:AJ,3,FALSE))","v":""},"Classement \ndans la poule ",{"$f":"IF(ISERROR(VLOOKUP(B310&G310&H310,'Liste inscrits'!AH:AU,1,FALSE)),\"\",VLOOKUP(B310&G310&H310,'Liste inscrits'!AH:AU,14,FALSE)&\"  /  \"&VLOOKUP(B310&G310&H310,'Liste inscrits'!AH:AU,13,FALSE))","v":"  /  "},"Nb de parties gagnées \naprès les poules ",null,null,{"$f":"IF(ISERROR(VLOOKUP(B310&G310&H310,'Liste inscrits'!AH:AS,1,FALSE)),\"\",VLOOKUP(B310&G310&H310,'Liste inscrits'!AH:AS,11,FALSE))","v":""}]
[]
[]
["C.B.D. AIN",null,{"$f":"$C$2","v":0},null,null,null,null,{"$f":"$H$2","v":0}]
[]
["SECTEUR :",{"$f":"$B$4","v":{"$error":"#VALUE!"}},null,"Lieu de la compétition :",{"$f":"$E$4","v":0}]
[]
["Date : ",{"$f":"$B$6","v":0},null,null,"Nombre total d'équipes participantes ",null,null,null,{"$f":"$I$6","v":0}]
[]
["N° de LICENCE","NOM                     PRENOM\nen lettres capitales",null,"DIV","CR","CBD","N° \nSEC","N° \nASB","Qual. \nChpt AIN"]
[{"$f":"IF(B324<>\"\",VLOOKUP(B324,'Liste inscrits'!$A:$AD,2,FALSE),\"\")","v":""},{"$f":"IF(OFFSET('Liste inscrits'!$A$1,INT(ROW()/35)*4+(ROW()-INT(ROW()/35)*35)/7,0)<>\"\",OFFSET('Liste inscrits'!$A$1,INT(ROW()/35)*4+(ROW()-INT(ROW()/35)*35)/7,0),\"\")","v":""},null,{"$f":"IF(B324<>\"\",VLOOKUP(B324,'Liste inscrits'!$A:$AD,4,FALSE),\"\")","v":""},"ARA",1,{"$f":"IF(B324<>\"\",VLOOKUP(B324,'Liste inscrits'!$A:$AD,5,FALSE),\"\")","v":""},{"$f":"IF(B324<>\"\",VLOOKUP(B324,'Liste inscrits'!$A:$AD,6,FALSE),\"\")","v":""}]
[{"$f":"IF(B324<>\"\",VLOOKUP(B324,'Liste inscrits'!$A:$AD,8,FALSE),\"\")","v":""},{"$f":"IF(B324<>\"\",VLOOKUP(B324,'Liste inscrits'!$A:$AD,7,FALSE),\"\")","v":""},null,{"$f":"IF(B324<>\"\",VLOOKUP(B324,'Liste inscrits'!$A:$AD,10,FALSE),\"\")","v":""},"ARA",1,{"$f":"IF(B324<>\"\",VLOOKUP(B324,'Liste inscrits'!$A:$AD,11,FALSE),\"\")","v":""},{"$f":"IF(B324<>\"\",VLOOKUP(B324,'Liste inscrits'!$A:$AD,12,FALSE),\"\")","v":""}]
[{"$f":"IF(B324<>\"\",VLOOKUP(B324,'Liste inscrits'!$A:$AD,14,FALSE),\"\")","v":""},{"$f":"IF(B324<>\"\",VLOOKUP(B324,'Liste inscrits'!$A:$AD,13,FALSE),\"\")","v":""},null,{"$f":"IF(B324<>\"\",VLOOKUP(B324,'Liste inscrits'!$A:$AD,16,FALSE),\"\")","v":""},"ARA",1,{"$f":"IF(B324<>\"\",VLOOKUP(B324,'Liste inscrits'!$A:$AD,17,FALSE),\"\")","v":""},{"$f":"IF(B324<>\"\",VLOOKUP(B324,'Liste inscrits'!$A:$AD,18,FALSE),\"\")","v":""}]
[]
["Nb parties gagnées\ndans les poules",{"$f":"IF(ISERROR(VLOOKUP(B324&G324&H324,'Liste inscrits'!AH:AJ,1,FALSE)),\"\",VLOOKUP(B324&G324&H324,'Liste inscrits'!AH:AJ,3,FALSE))","v":""},"Classement \ndans la poule ",{"$f":"IF(ISERROR(VLOOKUP(B324&G324&H324,'Liste inscrits'!AH:AU,1,FALSE)),\"\",VLOOKUP(B324&G324&H324,'Liste inscrits'!AH:AU,14,FALSE)&\"  /  \"&VLOOKUP(B324&G324&H324,'Liste inscrits'!AH:AU,13,FALSE))","v":"  /  "},"Nb de parties gagnées \naprès les poules ",null,null,{"$f":"IF(ISERROR(VLOOKUP(B324&G324&H324,'Liste inscrits'!AH:AS,1,FALSE)),\"\",VLOOKUP(B324&G324&H324,'Liste inscrits'!AH:AS,11,FALSE))","v":""}]
[]
["N° de LICENCE","NOM                     PRENOM\nen lettres capitales",null,"DIV","CR","CBD","N° \nSEC","N° \nASB","Qual. \nChpt AIN"]
[{"$f":"IF(B331<>\"\",VLOOKUP(B331,'Liste inscrits'!$A:$AD,2,FALSE),\"\")","v":""},{"$f":"IF(OFFSET('Liste inscrits'!$A$1,INT(ROW()/35)*4+(ROW()-INT(ROW()/35)*35)/7,0)<>\"\",OFFSET('Liste inscrits'!$A$1,INT(ROW()/35)*4+(ROW()-INT(ROW()/35)*35)/7,0),\"\")","v":""},null,{"$f":"IF(B331<>\"\",VLOOKUP(B331,'Liste inscrits'!$A:$AD,4,FALSE),\"\")","v":""},"ARA",1,{"$f":"IF(B331<>\"\",VLOOKUP(B331,'Liste inscrits'!$A:$AD,5,FALSE),\"\")","v":""},{"$f":"IF(B331<>\"\",VLOOKUP(B331,'Liste inscrits'!$A:$AD,6,FALSE),\"\")","v":""}]
[{"$f":"IF(B331<>\"\",VLOOKUP(B331,'Liste inscrits'!$A:$AD,8,FALSE),\"\")","v":""},{"$f":"IF(B331<>\"\",VLOOKUP(B331,'Liste inscrits'!$A:$AD,7,FALSE),\"\")","v":""},null,{"$f":"IF(B331<>\"\",VLOOKUP(B331,'Liste inscrits'!$A:$AD,10,FALSE),\"\")","v":""},"ARA",1,{"$f":"IF(B331<>\"\",VLOOKUP(B331,'Liste inscrits'!$A:$AD,11,FALSE),\"\")","v":""},{"$f":"IF(B331<>\"\",VLOOKUP(B331,'Liste inscrits'!$A:$AD,12,FALSE),\"\")","v":""}]
[{"$f":"IF(B331<>\"\",VLOOKUP(B331,'Liste inscrits'!$A:$AD,14,FALSE),\"\")","v":""},{"$f":"IF(B331<>\"\",VLOOKUP(B331,'Liste inscrits'!$A:$AD,13,FALSE),\"\")","v":""},null,{"$f":"IF(B331<>\"\",VLOOKUP(B331,'Liste inscrits'!$A:$AD,16,FALSE),\"\")","v":""},"ARA",1,{"$f":"IF(B331<>\"\",VLOOKUP(B331,'Liste inscrits'!$A:$AD,17,FALSE),\"\")","v":""},{"$f":"IF(B331<>\"\",VLOOKUP(B331,'Liste inscrits'!$A:$AD,18,FALSE),\"\")","v":""}]
[]
["Nb parties gagnées\ndans les poules",{"$f":"IF(ISERROR(VLOOKUP(B331&G331&H331,'Liste inscrits'!AH:AJ,1,FALSE)),\"\",VLOOKUP(B331&G331&H331,'Liste inscrits'!AH:AJ,3,FALSE))","v":""},"Classement \ndans la poule ",{"$f":"IF(ISERROR(VLOOKUP(B331&G331&H331,'Liste inscrits'!AH:AU,1,FALSE)),\"\",VLOOKUP(B331&G331&H331,'Liste inscrits'!AH:AU,14,FALSE)&\"  /  \"&VLOOKUP(B331&G331&H331,'Liste inscrits'!AH:AU,13,FALSE))","v":"  /  "},"Nb de parties gagnées \naprès les poules ",null,null,{"$f":"IF(ISERROR(VLOOKUP(B331&G331&H331,'Liste inscrits'!AH:AS,1,FALSE)),\"\",VLOOKUP(B331&G331&H331,'Liste inscrits'!AH:AS,11,FALSE))","v":""}]
[]
["N° de LICENCE","NOM                     PRENOM\nen lettres capitales",null,"DIV","CR","CBD","N° \nSEC","N° \nASB","Qual. \nChpt AIN"]
[{"$f":"IF(B338<>\"\",VLOOKUP(B338,'Liste inscrits'!$A:$AD,2,FALSE),\"\")","v":""},{"$f":"IF(OFFSET('Liste inscrits'!$A$1,INT(ROW()/35)*4+(ROW()-INT(ROW()/35)*35)/7,0)<>\"\",OFFSET('Liste inscrits'!$A$1,INT(ROW()/35)*4+(ROW()-INT(ROW()/35)*35)/7,0),\"\")","v":""},null,{"$f":"IF(B338<>\"\",VLOOKUP(B338,'Liste inscrits'!$A:$AD,4,FALSE),\"\")","v":""},"ARA",1,{"$f":"IF(B338<>\"\",VLOOKUP(B338,'Liste inscrits'!$A:$AD,5,FALSE),\"\")","v":""},{"$f":"IF(B338<>\"\",VLOOKUP(B338,'Liste inscrits'!$A:$AD,6,FALSE),\"\")","v":""}]
[{"$f":"IF(B338<>\"\",VLOOKUP(B338,'Liste inscrits'!$A:$AD,8,FALSE),\"\")","v":""},{"$f":"IF(B338<>\"\",VLOOKUP(B338,'Liste inscrits'!$A:$AD,7,FALSE),\"\")","v":""},null,{"$f":"IF(B338<>\"\",VLOOKUP(B338,'Liste inscrits'!$A:$AD,10,FALSE),\"\")","v":""},"ARA",1,{"$f":"IF(B338<>\"\",VLOOKUP(B338,'Liste inscrits'!$A:$AD,11,FALSE),\"\")","v":""},{"$f":"IF(B338<>\"\",VLOOKUP(B338,'Liste inscrits'!$A:$AD,12,FALSE),\"\")","v":""}]
[{"$f":"IF(B338<>\"\",VLOOKUP(B338,'Liste inscrits'!$A:$AD,14,FALSE),\"\")","v":""},{"$f":"IF(B338<>\"\",VLOOKUP(B338,'Liste inscrits'!$A:$AD,13,FALSE),\"\")","v":""},null,{"$f":"IF(B338<>\"\",VLOOKUP(B338,'Liste inscrits'!$A:$AD,16,FALSE),\"\")","v":""},"ARA",1,{"$f":"IF(B338<>\"\",VLOOKUP(B338,'Liste inscrits'!$A:$AD,17,FALSE),\"\")","v":""},{"$f":"IF(B338<>\"\",VLOOKUP(B338,'Liste inscrits'!$A:$AD,18,FALSE),\"\")","v":""}]
[]
["Nb parties gagnées\ndans les poules",{"$f":"IF(ISERROR(VLOOKUP(B338&G338&H338,'Liste inscrits'!AH:AJ,1,FALSE)),\"\",VLOOKUP(B338&G338&H338,'Liste inscrits'!AH:AJ,3,FALSE))","v":""},"Classement \ndans la poule ",{"$f":"IF(ISERROR(VLOOKUP(B338&G338&H338,'Liste inscrits'!AH:AU,1,FALSE)),\"\",VLOOKUP(B338&G338&H338,'Liste inscrits'!AH:AU,14,FALSE)&\"  /  \"&VLOOKUP(B338&G338&H338,'Liste inscrits'!AH:AU,13,FALSE))","v":"  /  "},"Nb de parties gagnées \naprès les poules ",null,null,{"$f":"IF(ISERROR(VLOOKUP(B338&G338&H338,'Liste inscrits'!AH:AS,1,FALSE)),\"\",VLOOKUP(B338&G338&H338,'Liste inscrits'!AH:AS,11,FALSE))","v":""}]
[]
["N° de LICENCE","NOM                     PRENOM\nen lettres capitales",null,"DIV","CR","CBD","N° \nSEC","N° \nASB","Qual. \nChpt AIN"]
[{"$f":"IF(B345<>\"\",VLOOKUP(B345,'Liste inscrits'!$A:$AD,2,FALSE),\"\")","v":""},{"$f":"IF(OFFSET('Liste inscrits'!$A$1,INT(ROW()/35)*4+(ROW()-INT(ROW()/35)*35)/7,0)<>\"\",OFFSET('Liste inscrits'!$A$1,INT(ROW()/35)*4+(ROW()-INT(ROW()/35)*35)/7,0),\"\")","v":""},null,{"$f":"IF(B345<>\"\",VLOOKUP(B345,'Liste inscrits'!$A:$AD,4,FALSE),\"\")","v":""},"ARA",1,{"$f":"IF(B345<>\"\",VLOOKUP(B345,'Liste inscrits'!$A:$AD,5,FALSE),\"\")","v":""},{"$f":"IF(B345<>\"\",VLOOKUP(B345,'Liste inscrits'!$A:$AD,6,FALSE),\"\")","v":""}]
[{"$f":"IF(B345<>\"\",VLOOKUP(B345,'Liste inscrits'!$A:$AD,8,FALSE),\"\")","v":""},{"$f":"IF(B345<>\"\",VLOOKUP(B345,'Liste inscrits'!$A:$AD,7,FALSE),\"\")","v":""},null,{"$f":"IF(B345<>\"\",VLOOKUP(B345,'Liste inscrits'!$A:$AD,10,FALSE),\"\")","v":""},"ARA",1,{"$f":"IF(B345<>\"\",VLOOKUP(B345,'Liste inscrits'!$A:$AD,11,FALSE),\"\")","v":""},{"$f":"IF(B345<>\"\",VLOOKUP(B345,'Liste inscrits'!$A:$AD,12,FALSE),\"\")","v":""}]
[{"$f":"IF(B345<>\"\",VLOOKUP(B345,'Liste inscrits'!$A:$AD,14,FALSE),\"\")","v":""},{"$f":"IF(B345<>\"\",VLOOKUP(B345,'Liste inscrits'!$A:$AD,13,FALSE),\"\")","v":""},null,{"$f":"IF(B345<>\"\",VLOOKUP(B345,'Liste inscrits'!$A:$AD,16,FALSE),\"\")","v":""},"ARA",1,{"$f":"IF(B345<>\"\",VLOOKUP(B345,'Liste inscrits'!$A:$AD,17,FALSE),\"\")","v":""},{"$f":"IF(B345<>\"\",VLOOKUP(B345,'Liste inscrits'!$A:$AD,18,FALSE),\"\")","v":""}]
[]
["Nb parties gagnées\ndans les poules",{"$f":"IF(ISERROR(VLOOKUP(B345&G345&H345,'Liste inscrits'!AH:AJ,1,FALSE)),\"\",VLOOKUP(B345&G345&H345,'Liste inscrits'!AH:AJ,3,FALSE))","v":""},"Classement \ndans la poule ",{"$f":"IF(ISERROR(VLOOKUP(B345&G345&H345,'Liste inscrits'!AH:AU,1,FALSE)),\"\",VLOOKUP(B345&G345&H345,'Liste inscrits'!AH:AU,14,FALSE)&\"  /  \"&VLOOKUP(B345&G345&H345,'Liste inscrits'!AH:AU,13,FALSE))","v":"  /  "},"Nb de parties gagnées \naprès les poules ",null,null,{"$f":"IF(ISERROR(VLOOKUP(B345&G345&H345,'Liste inscrits'!AH:AS,1,FALSE)),\"\",VLOOKUP(B345&G345&H345,'Liste inscrits'!AH:AS,11,FALSE))","v":""}]
[]
[]
["C.B.D. AIN",null,{"$f":"$C$2","v":0},null,null,null,null,{"$f":"$H$2","v":0}]
[]
["SECTEUR :",{"$f":"$B$4","v":{"$error":"#VALUE!"}},null,"Lieu de la compétition :",{"$f":"$E$4","v":0}]
[]
["Date : ",{"$f":"$B$6","v":0},null,null,"Nombre total d'équipes participantes ",null,null,null,{"$f":"$I$6","v":0}]
[]
["N° de LICENCE","NOM                     PRENOM\nen lettres capitales",null,"DIV","CR","CBD","N° \nSEC","N° \nASB","Qual. \nChpt AIN"]
[{"$f":"IF(B359<>\"\",VLOOKUP(B359,'Liste inscrits'!$A:$AD,2,FALSE),\"\")","v":""},{"$f":"IF(OFFSET('Liste inscrits'!$A$1,INT(ROW()/35)*4+(ROW()-INT(ROW()/35)*35)/7,0)<>\"\",OFFSET('Liste inscrits'!$A$1,INT(ROW()/35)*4+(ROW()-INT(ROW()/35)*35)/7,0),\"\")","v":""},null,{"$f":"IF(B359<>\"\",VLOOKUP(B359,'Liste inscrits'!$A:$AD,4,FALSE),\"\")","v":""},"ARA",1,{"$f":"IF(B359<>\"\",VLOOKUP(B359,'Liste inscrits'!$A:$AD,5,FALSE),\"\")","v":""},{"$f":"IF(B359<>\"\",VLOOKUP(B359,'Liste inscrits'!$A:$AD,6,FALSE),\"\")","v":""}]
[{"$f":"IF(B359<>\"\",VLOOKUP(B359,'Liste inscrits'!$A:$AD,8,FALSE),\"\")","v":""},{"$f":"IF(B359<>\"\",VLOOKUP(B359,'Liste inscrits'!$A:$AD,7,FALSE),\"\")","v":""},null,{"$f":"IF(B359<>\"\",VLOOKUP(B359,'Liste inscrits'!$A:$AD,10,FALSE),\"\")","v":""},"ARA",1,{"$f":"IF(B359<>\"\",VLOOKUP(B359,'Liste inscrits'!$A:$AD,11,FALSE),\"\")","v":""},{"$f":"IF(B359<>\"\",VLOOKUP(B359,'Liste inscrits'!$A:$AD,12,FALSE),\"\")","v":""}]
[{"$f":"IF(B359<>\"\",VLOOKUP(B359,'Liste inscrits'!$A:$AD,14,FALSE),\"\")","v":""},{"$f":"IF(B359<>\"\",VLOOKUP(B359,'Liste inscrits'!$A:$AD,13,FALSE),\"\")","v":""},null,{"$f":"IF(B359<>\"\",VLOOKUP(B359,'Liste inscrits'!$A:$AD,16,FALSE),\"\")","v":""},"ARA",1,{"$f":"IF(B359<>\"\",VLOOKUP(B359,'Liste inscrits'!$A:$AD,17,FALSE),\"\")","v":""},{"$f":"IF(B359<>\"\",VLOOKUP(B359,'Liste inscrits'!$A:$AD,18,FALSE),\"\")","v":""}]
[]
["Nb parties gagnées\ndans les poules",{"$f":"IF(ISERROR(VLOOKUP(B359&G359&H359,'Liste inscrits'!AH:AJ,1,FALSE)),\"\",VLOOKUP(B359&G359&H359,'Liste inscrits'!AH:AJ,3,FALSE))","v":""},"Classement \ndans la poule ",{"$f":"IF(ISERROR(VLOOKUP(B359&G359&H359,'Liste inscrits'!AH:AU,1,FALSE)),\"\",VLOOKUP(B359&G359&H359,'Liste inscrits'!AH:AU,14,FALSE)&\"  /  \"&VLOOKUP(B359&G359&H359,'Liste inscrits'!AH:AU,13,FALSE))","v":"  /  "},"Nb de parties gagnées \naprès les poules ",null,null,{"$f":"IF(ISERROR(VLOOKUP(B359&G359&H359,'Liste inscrits'!AH:AS,1,FALSE)),\"\",VLOOKUP(B359&G359&H359,'Liste inscrits'!AH:AS,11,FALSE))","v":""}]
[]
["N° de LICENCE","NOM                     PRENOM\nen lettres capitales",null,"DIV","CR","CBD","N° \nSEC","N° \nASB","Qual. \nChpt AIN"]
[{"$f":"IF(B366<>\"\",VLOOKUP(B366,'Liste inscrits'!$A:$AD,2,FALSE),\"\")","v":""},{"$f":"IF(OFFSET('Liste inscrits'!$A$1,INT(ROW()/35)*4+(ROW()-INT(ROW()/35)*35)/7,0)<>\"\",OFFSET('Liste inscrits'!$A$1,INT(ROW()/35)*4+(ROW()-INT(ROW()/35)*35)/7,0),\"\")","v":""},null,{"$f":"IF(B366<>\"\",VLOOKUP(B366,'Liste inscrits'!$A:$AD,4,FALSE),\"\")","v":""},"ARA",1,{"$f":"IF(B366<>\"\",VLOOKUP(B366,'Liste inscrits'!$A:$AD,5,FALSE),\"\")","v":""},{"$f":"IF(B366<>\"\",VLOOKUP(B366,'Liste inscrits'!$A:$AD,6,FALSE),\"\")","v":""}]
[{"$f":"IF(B366<>\"\",VLOOKUP(B366,'Liste inscrits'!$A:$AD,8,FALSE),\"\")","v":""},{"$f":"IF(B366<>\"\",VLOOKUP(B366,'Liste inscrits'!$A:$AD,7,FALSE),\"\")","v":""},null,{"$f":"IF(B366<>\"\",VLOOKUP(B366,'Liste inscrits'!$A:$AD,10,FALSE),\"\")","v":""},"ARA",1,{"$f":"IF(B366<>\"\",VLOOKUP(B366,'Liste inscrits'!$A:$AD,11,FALSE),\"\")","v":""},{"$f":"IF(B366<>\"\",VLOOKUP(B366,'Liste inscrits'!$A:$AD,12,FALSE),\"\")","v":""}]
[{"$f":"IF(B366<>\"\",VLOOKUP(B366,'Liste inscrits'!$A:$AD,14,FALSE),\"\")","v":""},{"$f":"IF(B366<>\"\",VLOOKUP(B366,'Liste inscrits'!$A:$AD,13,FALSE),\"\")","v":""},null,{"$f":"IF(B366<>\"\",VLOOKUP(B366,'Liste inscrits'!$A:$AD,16,FALSE),\"\")","v":""},"ARA",1,{"$f":"IF(B366<>\"\",VLOOKUP(B366,'Liste inscrits'!$A:$AD,17,FALSE),\"\")","v":""},{"$f":"IF(B366<>\"\",VLOOKUP(B366,'Liste inscrits'!$A:$AD,18,FALSE),\"\")","v":""}]
[]
["Nb parties gagnées\ndans les poules",{"$f":"IF(ISERROR(VLOOKUP(B366&G366&H366,'Liste inscrits'!AH:AJ,1,FALSE)),\"\",VLOOKUP(B366&G366&H366,'Liste inscrits'!AH:AJ,3,FALSE))","v":""},"Classement \ndans la poule ",{"$f":"IF(ISERROR(VLOOKUP(B366&G366&H366,'Liste inscrits'!AH:AU,1,FALSE)),\"\",VLOOKUP(B366&G366&H366,'Liste inscrits'!AH:AU,14,FALSE)&\"  /  \"&VLOOKUP(B366&G366&H366,'Liste inscrits'!AH:AU,13,FALSE))","v":"  /  "},"Nb de parties gagnées \naprès les poules ",null,null,{"$f":"IF(ISERROR(VLOOKUP(B366&G366&H366,'Liste inscrits'!AH:AS,1,FALSE)),\"\",VLOOKUP(B366&G366&H366,'Liste inscrits'!AH:AS,11,FALSE))","v":""}]
[]
["N° de LICENCE","NOM                     PRENOM\nen lettres capitales",null,"DIV","CR","CBD","N° \nSEC","N° \nASB","Qual. \nChpt AIN"]
[{"$f":"IF(B373<>\"\",VLOOKUP(B373,'Liste inscrits'!$A:$AD,2,FALSE),\"\")","v":""},{"$f":"IF(OFFSET('Liste inscrits'!$A$1,INT(ROW()/35)*4+(ROW()-INT(ROW()/35)*35)/7,0)<>\"\",OFFSET('Liste inscrits'!$A$1,INT(ROW()/35)*4+(ROW()-INT(ROW()/35)*35)/7,0),\"\")","v":""},null,{"$f":"IF(B373<>\"\",VLOOKUP(B373,'Liste inscrits'!$A:$AD,4,FALSE),\"\")","v":""},"ARA",1,{"$f":"IF(B373<>\"\",VLOOKUP(B373,'Liste inscrits'!$A:$AD,5,FALSE),\"\")","v":""},{"$f":"IF(B373<>\"\",VLOOKUP(B373,'Liste inscrits'!$A:$AD,6,FALSE),\"\")","v":""}]
[{"$f":"IF(B373<>\"\",VLOOKUP(B373,'Liste inscrits'!$A:$AD,8,FALSE),\"\")","v":""},{"$f":"IF(B373<>\"\",VLOOKUP(B373,'Liste inscrits'!$A:$AD,7,FALSE),\"\")","v":""},null,{"$f":"IF(B373<>\"\",VLOOKUP(B373,'Liste inscrits'!$A:$AD,10,FALSE),\"\")","v":""},"ARA",1,{"$f":"IF(B373<>\"\",VLOOKUP(B373,'Liste inscrits'!$A:$AD,11,FALSE),\"\")","v":""},{"$f":"IF(B373<>\"\",VLOOKUP(B373,'Liste inscrits'!$A:$AD,12,FALSE),\"\")","v":""}]
[{"$f":"IF(B373<>\"\",VLOOKUP(B373,'Liste inscrits'!$A:$AD,14,FALSE),\"\")","v":""},{"$f":"IF(B373<>\"\",VLOOKUP(B373,'Liste inscrits'!$A:$AD,13,FALSE),\"\")","v":""},null,{"$f":"IF(B373<>\"\",VLOOKUP(B373,'Liste inscrits'!$A:$AD,16,FALSE),\"\")","v":""},"ARA",1,{"$f":"IF(B373<>\"\",VLOOKUP(B373,'Liste inscrits'!$A:$AD,17,FALSE),\"\")","v":""},{"$f":"IF(B373<>\"\",VLOOKUP(B373,'Liste inscrits'!$A:$AD,18,FALSE),\"\")","v":""}]
[]
["Nb parties gagnées\ndans les poules",{"$f":"IF(ISERROR(VLOOKUP(B373&G373&H373,'Liste inscrits'!AH:AJ,1,FALSE)),\"\",VLOOKUP(B373&G373&H373,'Liste inscrits'!AH:AJ,3,FALSE))","v":""},"Classement \ndans la poule ",{"$f":"IF(ISERROR(VLOOKUP(B373&G373&H373,'Liste inscrits'!AH:AU,1,FALSE)),\"\",VLOOKUP(B373&G373&H373,'Liste inscrits'!AH:AU,14,FALSE)&\"  /  \"&VLOOKUP(B373&G373&H373,'Liste inscrits'!AH:AU,13,FALSE))","v":"  /  "},"Nb de parties gagnées \naprès les poules ",null,null,{"$f":"IF(ISERROR(VLOOKUP(B373&G373&H373,'Liste inscrits'!AH:AS,1,FALSE)),\"\",VLOOKUP(B373&G373&H373,'Liste inscrits'!AH:AS,11,FALSE))","v":""}]
[]
["N° de LICENCE","NOM                     PRENOM\nen lettres capitales",null,"DIV","CR","CBD","N° \nSEC","N° \nASB","Qual. \nChpt AIN"]
[{"$f":"IF(B380<>\"\",VLOOKUP(B380,'Liste inscrits'!$A:$AD,2,FALSE),\"\")","v":""},{"$f":"IF(OFFSET('Liste inscrits'!$A$1,INT(ROW()/35)*4+(ROW()-INT(ROW()/35)*35)/7,0)<>\"\",OFFSET('Liste inscrits'!$A$1,INT(ROW()/35)*4+(ROW()-INT(ROW()/35)*35)/7,0),\"\")","v":""},null,{"$f":"IF(B380<>\"\",VLOOKUP(B380,'Liste inscrits'!$A:$AD,4,FALSE),\"\")","v":""},"ARA",1,{"$f":"IF(B380<>\"\",VLOOKUP(B380,'Liste inscrits'!$A:$AD,5,FALSE),\"\")","v":""},{"$f":"IF(B380<>\"\",VLOOKUP(B380,'Liste inscrits'!$A:$AD,6,FALSE),\"\")","v":""}]
[{"$f":"IF(B380<>\"\",VLOOKUP(B380,'Liste inscrits'!$A:$AD,8,FALSE),\"\")","v":""},{"$f":"IF(B380<>\"\",VLOOKUP(B380,'Liste inscrits'!$A:$AD,7,FALSE),\"\")","v":""},null,{"$f":"IF(B380<>\"\",VLOOKUP(B380,'Liste inscrits'!$A:$AD,10,FALSE),\"\")","v":""},"ARA",1,{"$f":"IF(B380<>\"\",VLOOKUP(B380,'Liste inscrits'!$A:$AD,11,FALSE),\"\")","v":""},{"$f":"IF(B380<>\"\",VLOOKUP(B380,'Liste inscrits'!$A:$AD,12,FALSE),\"\")","v":""}]
[{"$f":"IF(B380<>\"\",VLOOKUP(B380,'Liste inscrits'!$A:$AD,14,FALSE),\"\")","v":""},{"$f":"IF(B380<>\"\",VLOOKUP(B380,'Liste inscrits'!$A:$AD,13,FALSE),\"\")","v":""},null,{"$f":"IF(B380<>\"\",VLOOKUP(B380,'Liste inscrits'!$A:$AD,16,FALSE),\"\")","v":""},"ARA",1,{"$f":"IF(B380<>\"\",VLOOKUP(B380,'Liste inscrits'!$A:$AD,17,FALSE),\"\")","v":""},{"$f":"IF(B380<>\"\",VLOOKUP(B380,'Liste inscrits'!$A:$AD,18,FALSE),\"\")","v":""}]
[]
["Nb parties gagnées\ndans les poules",{"$f":"IF(ISERROR(VLOOKUP(B380&G380&H380,'Liste inscrits'!AH:AJ,1,FALSE)),\"\",VLOOKUP(B380&G380&H380,'Liste inscrits'!AH:AJ,3,FALSE))","v":""},"Classement \ndans la poule ",{"$f":"IF(ISERROR(VLOOKUP(B380&G380&H380,'Liste inscrits'!AH:AU,1,FALSE)),\"\",VLOOKUP(B380&G380&H380,'Liste inscrits'!AH:AU,14,FALSE)&\"  /  \"&VLOOKUP(B380&G380&H380,'Liste inscrits'!AH:AU,13,FALSE))","v":"  /  "},"Nb de parties gagnées \naprès les poules ",null,null,{"$f":"IF(ISERROR(VLOOKUP(B380&G380&H380,'Liste inscrits'!AH:AS,1,FALSE)),\"\",VLOOKUP(B380&G380&H380,'Liste inscrits'!AH:AS,11,FALSE))","v":""}]
[]
[]
["C.B.D. AIN",null,{"$f":"$C$2","v":0},null,null,null,null,{"$f":"$H$2","v":0}]
[]
["SECTEUR :",{"$f":"$B$4","v":{"$error":"#VALUE!"}},null,"Lieu de la compétition :",{"$f":"$E$4","v":0}]
[]
["Date : ",{"$f":"$B$6","v":0},null,null,"Nombre total d'équipes participantes ",null,null,null,{"$f":"$I$6","v":0}]
[]
["N° de LICENCE","NOM                     PRENOM\nen lettres capitales",null,"DIV","CR","CBD","N° \nSEC","N° \nASB","Qual. \nChpt AIN"]
[{"$f":"IF(B394<>\"\",VLOOKUP(B394,'Liste inscrits'!$A:$AD,2,FALSE),\"\")","v":""},{"$f":"IF(OFFSET('Liste inscrits'!$A$1,INT(ROW()/35)*4+(ROW()-INT(ROW()/35)*35)/7,0)<>\"\",OFFSET('Liste inscrits'!$A$1,INT(ROW()/35)*4+(ROW()-INT(ROW()/35)*35)/7,0),\"\")","v":""},null,{"$f":"IF(B394<>\"\",VLOOKUP(B394,'Liste inscrits'!$A:$AD,4,FALSE),\"\")","v":""},"ARA",1,{"$f":"IF(B394<>\"\",VLOOKUP(B394,'Liste inscrits'!$A:$AD,5,FALSE),\"\")","v":""},{"$f":"IF(B394<>\"\",VLOOKUP(B394,'Liste inscrits'!$A:$AD,6,FALSE),\"\")","v":""}]
[{"$f":"IF(B394<>\"\",VLOOKUP(B394,'Liste inscrits'!$A:$AD,8,FALSE),\"\")","v":""},{"$f":"IF(B394<>\"\",VLOOKUP(B394,'Liste inscrits'!$A:$AD,7,FALSE),\"\")","v":""},null,{"$f":"IF(B394<>\"\",VLOOKUP(B394,'Liste inscrits'!$A:$AD,10,FALSE),\"\")","v":""},"ARA",1,{"$f":"IF(B394<>\"\",VLOOKUP(B394,'Liste inscrits'!$A:$AD,11,FALSE),\"\")","v":""},{"$f":"IF(B394<>\"\",VLOOKUP(B394,'Liste inscrits'!$A:$AD,12,FALSE),\"\")","v":""}]
[{"$f":"IF(B394<>\"\",VLOOKUP(B394,'Liste inscrits'!$A:$AD,14,FALSE),\"\")","v":""},{"$f":"IF(B394<>\"\",VLOOKUP(B394,'Liste inscrits'!$A:$AD,13,FALSE),\"\")","v":""},null,{"$f":"IF(B394<>\"\",VLOOKUP(B394,'Liste inscrits'!$A:$AD,16,FALSE),\"\")","v":""},"ARA",1,{"$f":"IF(B394<>\"\",VLOOKUP(B394,'Liste inscrits'!$A:$AD,17,FALSE),\"\")","v":""},{"$f":"IF(B394<>\"\",VLOOKUP(B394,'Liste inscrits'!$A:$AD,18,FALSE),\"\")","v":""}]
[]
["Nb parties gagnées\ndans les poules",{"$f":"IF(ISERROR(VLOOKUP(B394&G394&H394,'Liste inscrits'!AH:AJ,1,FALSE)),\"\",VLOOKUP(B394&G394&H394,'Liste inscrits'!AH:AJ,3,FALSE))","v":""},"Classement \ndans la poule ",{"$f":"IF(ISERROR(VLOOKUP(B394&G394&H394,'Liste inscrits'!AH:AU,1,FALSE)),\"\",VLOOKUP(B394&G394&H394,'Liste inscrits'!AH:AU,14,FALSE)&\"  /  \"&VLOOKUP(B394&G394&H394,'Liste inscrits'!AH:AU,13,FALSE))","v":"  /  "},"Nb de parties gagnées \naprès les poules ",null,null,{"$f":"IF(ISERROR(VLOOKUP(B394&G394&H394,'Liste inscrits'!AH:AS,1,FALSE)),\"\",VLOOKUP(B394&G394&H394,'Liste inscrits'!AH:AS,11,FALSE))","v":""}]
[]
["N° de LICENCE","NOM                     PRENOM\nen lettres capitales",null,"DIV","CR","CBD","N° \nSEC","N° \nASB","Qual. \nChpt AIN"]
[{"$f":"IF(B401<>\"\",VLOOKUP(B401,'Liste inscrits'!$A:$AD,2,FALSE),\"\")","v":""},{"$f":"IF(OFFSET('Liste inscrits'!$A$1,INT(ROW()/35)*4+(ROW()-INT(ROW()/35)*35)/7,0)<>\"\",OFFSET('Liste inscrits'!$A$1,INT(ROW()/35)*4+(ROW()-INT(ROW()/35)*35)/7,0),\"\")","v":""},null,{"$f":"IF(B401<>\"\",VLOOKUP(B401,'Liste inscrits'!$A:$AD,4,FALSE),\"\")","v":""},"ARA",1,{"$f":"IF(B401<>\"\",VLOOKUP(B401,'Liste inscrits'!$A:$AD,5,FALSE),\"\")","v":""},{"$f":"IF(B401<>\"\",VLOOKUP(B401,'Liste inscrits'!$A:$AD,6,FALSE),\"\")","v":""}]
[{"$f":"IF(B401<>\"\",VLOOKUP(B401,'Liste inscrits'!$A:$AD,8,FALSE),\"\")","v":""},{"$f":"IF(B401<>\"\",VLOOKUP(B401,'Liste inscrits'!$A:$AD,7,FALSE),\"\")","v":""},null,{"$f":"IF(B401<>\"\",VLOOKUP(B401,'Liste inscrits'!$A:$AD,10,FALSE),\"\")","v":""},"ARA",1,{"$f":"IF(B401<>\"\",VLOOKUP(B401,'Liste inscrits'!$A:$AD,11,FALSE),\"\")","v":""},{"$f":"IF(B401<>\"\",VLOOKUP(B401,'Liste inscrits'!$A:$AD,12,FALSE),\"\")","v":""}]
[{"$f":"IF(B401<>\"\",VLOOKUP(B401,'Liste inscrits'!$A:$AD,14,FALSE),\"\")","v":""},{"$f":"IF(B401<>\"\",VLOOKUP(B401,'Liste inscrits'!$A:$AD,13,FALSE),\"\")","v":""},null,{"$f":"IF(B401<>\"\",VLOOKUP(B401,'Liste inscrits'!$A:$AD,16,FALSE),\"\")","v":""},"ARA",1,{"$f":"IF(B401<>\"\",VLOOKUP(B401,'Liste inscrits'!$A:$AD,17,FALSE),\"\")","v":""},{"$f":"IF(B401<>\"\",VLOOKUP(B401,'Liste inscrits'!$A:$AD,18,FALSE),\"\")","v":""}]
[]
["Nb parties gagnées\ndans les poules",{"$f":"IF(ISERROR(VLOOKUP(B401&G401&H401,'Liste inscrits'!AH:AJ,1,FALSE)),\"\",VLOOKUP(B401&G401&H401,'Liste inscrits'!AH:AJ,3,FALSE))","v":""},"Classement \ndans la poule ",{"$f":"IF(ISERROR(VLOOKUP(B401&G401&H401,'Liste inscrits'!AH:AU,1,FALSE)),\"\",VLOOKUP(B401&G401&H401,'Liste inscrits'!AH:AU,14,FALSE)&\"  /  \"&VLOOKUP(B401&G401&H401,'Liste inscrits'!AH:AU,13,FALSE))","v":"  /  "},"Nb de parties gagnées \naprès les poules ",null,null,{"$f":"IF(ISERROR(VLOOKUP(B401&G401&H401,'Liste inscrits'!AH:AS,1,FALSE)),\"\",VLOOKUP(B401&G401&H401,'Liste inscrits'!AH:AS,11,FALSE))","v":""}]
[]
["N° de LICENCE","NOM                     PRENOM\nen lettres capitales",null,"DIV","CR","CBD","N° \nSEC","N° \nASB","Qual. \nChpt AIN"]
[{"$f":"IF(B408<>\"\",VLOOKUP(B408,'Liste inscrits'!$A:$AD,2,FALSE),\"\")","v":""},{"$f":"IF(OFFSET('Liste inscrits'!$A$1,INT(ROW()/35)*4+(ROW()-INT(ROW()/35)*35)/7,0)<>\"\",OFFSET('Liste inscrits'!$A$1,INT(ROW()/35)*4+(ROW()-INT(ROW()/35)*35)/7,0),\"\")","v":""},null,{"$f":"IF(B408<>\"\",VLOOKUP(B408,'Liste inscrits'!$A:$AD,4,FALSE),\"\")","v":""},"ARA",1,{"$f":"IF(B408<>\"\",VLOOKUP(B408,'Liste inscrits'!$A:$AD,5,FALSE),\"\")","v":""},{"$f":"IF(B408<>\"\",VLOOKUP(B408,'Liste inscrits'!$A:$AD,6,FALSE),\"\")","v":""}]
[{"$f":"IF(B408<>\"\",VLOOKUP(B408,'Liste inscrits'!$A:$AD,8,FALSE),\"\")","v":""},{"$f":"IF(B408<>\"\",VLOOKUP(B408,'Liste inscrits'!$A:$AD,7,FALSE),\"\")","v":""},null,{"$f":"IF(B408<>\"\",VLOOKUP(B408,'Liste inscrits'!$A:$AD,10,FALSE),\"\")","v":""},"ARA",1,{"$f":"IF(B408<>\"\",VLOOKUP(B408,'Liste inscrits'!$A:$AD,11,FALSE),\"\")","v":""},{"$f":"IF(B408<>\"\",VLOOKUP(B408,'Liste inscrits'!$A:$AD,12,FALSE),\"\")","v":""}]
[{"$f":"IF(B408<>\"\",VLOOKUP(B408,'Liste inscrits'!$A:$AD,14,FALSE),\"\")","v":""},{"$f":"IF(B408<>\"\",VLOOKUP(B408,'Liste inscrits'!$A:$AD,13,FALSE),\"\")","v":""},null,{"$f":"IF(B408<>\"\",VLOOKUP(B408,'Liste inscrits'!$A:$AD,16,FALSE),\"\")","v":""},"ARA",1,{"$f":"IF(B408<>\"\",VLOOKUP(B408,'Liste inscrits'!$A:$AD,17,FALSE),\"\")","v":""},{"$f":"IF(B408<>\"\",VLOOKUP(B408,'Liste inscrits'!$A:$AD,18,FALSE),\"\")","v":""}]
[]
["Nb parties gagnées\ndans les poules",{"$f":"IF(ISERROR(VLOOKUP(B408&G408&H408,'Liste inscrits'!AH:AJ,1,FALSE)),\"\",VLOOKUP(B408&G408&H408,'Liste inscrits'!AH:AJ,3,FALSE))","v":""},"Classement \ndans la poule ",{"$f":"IF(ISERROR(VLOOKUP(B408&G408&H408,'Liste inscrits'!AH:AU,1,FALSE)),\"\",VLOOKUP(B408&G408&H408,'Liste inscrits'!AH:AU,14,FALSE)&\"  /  \"&VLOOKUP(B408&G408&H408,'Liste inscrits'!AH:AU,13,FALSE))","v":"  /  "},"Nb de parties gagnées \naprès les poules ",null,null,{"$f":"IF(ISERROR(VLOOKUP(B408&G408&H408,'Liste inscrits'!AH:AS,1,FALSE)),\"\",VLOOKUP(B408&G408&H408,'Liste inscrits'!AH:AS,11,FALSE))","v":""}]
[]
["N° de LICENCE","NOM                     PRENOM\nen lettres capitales",null,"DIV","CR","CBD","N° \nSEC","N° \nASB","Qual. \nChpt AIN"]
[{"$f":"IF(B415<>\"\",VLOOKUP(B415,'Liste inscrits'!$A:$AD,2,FALSE),\"\")","v":""},{"$f":"IF(OFFSET('Liste inscrits'!$A$1,INT(ROW()/35)*4+(ROW()-INT(ROW()/35)*35)/7,0)<>\"\",OFFSET('Liste inscrits'!$A$1,INT(ROW()/35)*4+(ROW()-INT(ROW()/35)*35)/7,0),\"\")","v":""},null,{"$f":"IF(B415<>\"\",VLOOKUP(B415,'Liste inscrits'!$A:$AD,4,FALSE),\"\")","v":""},"ARA",1,{"$f":"IF(B415<>\"\",VLOOKUP(B415,'Liste inscrits'!$A:$AD,5,FALSE),\"\")","v":""},{"$f":"IF(B415<>\"\",VLOOKUP(B415,'Liste inscrits'!$A:$AD,6,FALSE),\"\")","v":""}]
[{"$f":"IF(B415<>\"\",VLOOKUP(B415,'Liste inscrits'!$A:$AD,8,FALSE),\"\")","v":""},{"$f":"IF(B415<>\"\",VLOOKUP(B415,'Liste inscrits'!$A:$AD,7,FALSE),\"\")","v":""},null,{"$f":"IF(B415<>\"\",VLOOKUP(B415,'Liste inscrits'!$A:$AD,10,FALSE),\"\")","v":""},"ARA",1,{"$f":"IF(B415<>\"\",VLOOKUP(B415,'Liste inscrits'!$A:$AD,11,FALSE),\"\")","v":""},{"$f":"IF(B415<>\"\",VLOOKUP(B415,'Liste inscrits'!$A:$AD,12,FALSE),\"\")","v":""}]
[{"$f":"IF(B415<>\"\",VLOOKUP(B415,'Liste inscrits'!$A:$AD,14,FALSE),\"\")","v":""},{"$f":"IF(B415<>\"\",VLOOKUP(B415,'Liste inscrits'!$A:$AD,13,FALSE),\"\")","v":""},null,{"$f":"IF(B415<>\"\",VLOOKUP(B415,'Liste inscrits'!$A:$AD,16,FALSE),\"\")","v":""},"ARA",1,{"$f":"IF(B415<>\"\",VLOOKUP(B415,'Liste inscrits'!$A:$AD,17,FALSE),\"\")","v":""},{"$f":"IF(B415<>\"\",VLOOKUP(B415,'Liste inscrits'!$A:$AD,18,FALSE),\"\")","v":""}]
[]
["Nb parties gagnées\ndans les poules",{"$f":"IF(ISERROR(VLOOKUP(B415&G415&H415,'Liste inscrits'!AH:AJ,1,FALSE)),\"\",VLOOKUP(B415&G415&H415,'Liste inscrits'!AH:AJ,3,FALSE))","v":""},"Classement \ndans la poule ",{"$f":"IF(ISERROR(VLOOKUP(B415&G415&H415,'Liste inscrits'!AH:AU,1,FALSE)),\"\",VLOOKUP(B415&G415&H415,'Liste inscrits'!AH:AU,14,FALSE)&\"  /  \"&VLOOKUP(B415&G415&H415,'Liste inscrits'!AH:AU,13,FALSE))","v":"  /  "},"Nb de parties gagnées \naprès les poules ",null,null,{"$f":"IF(ISERROR(VLOOKUP(B415&G415&H415,'Liste inscrits'!AH:AS,1,FALSE)),\"\",VLOOKUP(B415&G415&H415,'Liste inscrits'!AH:AS,11,FALSE))","v":""}]
[]
[]
["C.B.D. AIN",null,{"$f":"$C$2","v":0},null,null,null,null,{"$f":"$H$2","v":0}]
[]
["SECTEUR :",{"$f":"$B$4","v":{"$error":"#VALUE!"}},null,"Lieu de la compétition :",{"$f":"$E$4","v":0}]
[]
["Date : ",{"$f":"$B$6","v":0},null,null,"Nombre total d'équipes participantes ",null,null,null,{"$f":"$I$6","v":0}]
[]
["N° de LICENCE","NOM                     PRENOM\nen lettres capitales",null,"DIV","CR","CBD","N° \nSEC","N° \nASB","Qual. \nChpt AIN"]
[{"$f":"IF(B429<>\"\",VLOOKUP(B429,'Liste inscrits'!$A:$AD,2,FALSE),\"\")","v":""},{"$f":"IF(OFFSET('Liste inscrits'!$A$1,INT(ROW()/35)*4+(ROW()-INT(ROW()/35)*35)/7,0)<>\"\",OFFSET('Liste inscrits'!$A$1,INT(ROW()/35)*4+(ROW()-INT(ROW()/35)*35)/7,0),\"\")","v":""},null,{"$f":"IF(B429<>\"\",VLOOKUP(B429,'Liste inscrits'!$A:$AD,4,FALSE),\"\")","v":""},"ARA",1,{"$f":"IF(B429<>\"\",VLOOKUP(B429,'Liste inscrits'!$A:$AD,5,FALSE),\"\")","v":""},{"$f":"IF(B429<>\"\",VLOOKUP(B429,'Liste inscrits'!$A:$AD,6,FALSE),\"\")","v":""}]
[{"$f":"IF(B429<>\"\",VLOOKUP(B429,'Liste inscrits'!$A:$AD,8,FALSE),\"\")","v":""},{"$f":"IF(B429<>\"\",VLOOKUP(B429,'Liste inscrits'!$A:$AD,7,FALSE),\"\")","v":""},null,{"$f":"IF(B429<>\"\",VLOOKUP(B429,'Liste inscrits'!$A:$AD,10,FALSE),\"\")","v":""},"ARA",1,{"$f":"IF(B429<>\"\",VLOOKUP(B429,'Liste inscrits'!$A:$AD,11,FALSE),\"\")","v":""},{"$f":"IF(B429<>\"\",VLOOKUP(B429,'Liste inscrits'!$A:$AD,12,FALSE),\"\")","v":""}]
[{"$f":"IF(B429<>\"\",VLOOKUP(B429,'Liste inscrits'!$A:$AD,14,FALSE),\"\")","v":""},{"$f":"IF(B429<>\"\",VLOOKUP(B429,'Liste inscrits'!$A:$AD,13,FALSE),\"\")","v":""},null,{"$f":"IF(B429<>\"\",VLOOKUP(B429,'Liste inscrits'!$A:$AD,16,FALSE),\"\")","v":""},"ARA",1,{"$f":"IF(B429<>\"\",VLOOKUP(B429,'Liste inscrits'!$A:$AD,17,FALSE),\"\")","v":""},{"$f":"IF(B429<>\"\",VLOOKUP(B429,'Liste inscrits'!$A:$AD,18,FALSE),\"\")","v":""}]
[]
["Nb parties gagnées\ndans les poules",{"$f":"IF(ISERROR(VLOOKUP(B429&G429&H429,'Liste inscrits'!AH:AJ,1,FALSE)),\"\",VLOOKUP(B429&G429&H429,'Liste inscrits'!AH:AJ,3,FALSE))","v":""},"Classement \ndans la poule ",{"$f":"IF(ISERROR(VLOOKUP(B429&G429&H429,'Liste inscrits'!AH:AU,1,FALSE)),\"\",VLOOKUP(B429&G429&H429,'Liste inscrits'!AH:AU,14,FALSE)&\"  /  \"&VLOOKUP(B429&G429&H429,'Liste inscrits'!AH:AU,13,FALSE))","v":"  /  "},"Nb de parties gagnées \naprès les poules ",null,null,{"$f":"IF(ISERROR(VLOOKUP(B429&G429&H429,'Liste inscrits'!AH:AS,1,FALSE)),\"\",VLOOKUP(B429&G429&H429,'Liste inscrits'!AH:AS,11,FALSE))","v":""}]
[]
["N° de LICENCE","NOM                     PRENOM\nen lettres capitales",null,"DIV","CR","CBD","N° \nSEC","N° \nASB","Qual. \nChpt AIN"]
[{"$f":"IF(B436<>\"\",VLOOKUP(B436,'Liste inscrits'!$A:$AD,2,FALSE),\"\")","v":""},{"$f":"IF(OFFSET('Liste inscrits'!$A$1,INT(ROW()/35)*4+(ROW()-INT(ROW()/35)*35)/7,0)<>\"\",OFFSET('Liste inscrits'!$A$1,INT(ROW()/35)*4+(ROW()-INT(ROW()/35)*35)/7,0),\"\")","v":""},null,{"$f":"IF(B436<>\"\",VLOOKUP(B436,'Liste inscrits'!$A:$AD,4,FALSE),\"\")","v":""},"ARA",1,{"$f":"IF(B436<>\"\",VLOOKUP(B436,'Liste inscrits'!$A:$AD,5,FALSE),\"\")","v":""},{"$f":"IF(B436<>\"\",VLOOKUP(B436,'Liste inscrits'!$A:$AD,6,FALSE),\"\")","v":""}]
[{"$f":"IF(B436<>\"\",VLOOKUP(B436,'Liste inscrits'!$A:$AD,8,FALSE),\"\")","v":""},{"$f":"IF(B436<>\"\",VLOOKUP(B436,'Liste inscrits'!$A:$AD,7,FALSE),\"\")","v":""},null,{"$f":"IF(B436<>\"\",VLOOKUP(B436,'Liste inscrits'!$A:$AD,10,FALSE),\"\")","v":""},"ARA",1,{"$f":"IF(B436<>\"\",VLOOKUP(B436,'Liste inscrits'!$A:$AD,11,FALSE),\"\")","v":""},{"$f":"IF(B436<>\"\",VLOOKUP(B436,'Liste inscrits'!$A:$AD,12,FALSE),\"\")","v":""}]
[{"$f":"IF(B436<>\"\",VLOOKUP(B436,'Liste inscrits'!$A:$AD,14,FALSE),\"\")","v":""},{"$f":"IF(B436<>\"\",VLOOKUP(B436,'Liste inscrits'!$A:$AD,13,FALSE),\"\")","v":""},null,{"$f":"IF(B436<>\"\",VLOOKUP(B436,'Liste inscrits'!$A:$AD,16,FALSE),\"\")","v":""},"ARA",1,{"$f":"IF(B436<>\"\",VLOOKUP(B436,'Liste inscrits'!$A:$AD,17,FALSE),\"\")","v":""},{"$f":"IF(B436<>\"\",VLOOKUP(B436,'Liste inscrits'!$A:$AD,18,FALSE),\"\")","v":""}]
[]
["Nb parties gagnées\ndans les poules",{"$f":"IF(ISERROR(VLOOKUP(B436&G436&H436,'Liste inscrits'!AH:AJ,1,FALSE)),\"\",VLOOKUP(B436&G436&H436,'Liste inscrits'!AH:AJ,3,FALSE))","v":""},"Classement \ndans la poule ",{"$f":"IF(ISERROR(VLOOKUP(B436&G436&H436,'Liste inscrits'!AH:AU,1,FALSE)),\"\",VLOOKUP(B436&G436&H436,'Liste inscrits'!AH:AU,14,FALSE)&\"  /  \"&VLOOKUP(B436&G436&H436,'Liste inscrits'!AH:AU,13,FALSE))","v":"  /  "},"Nb de parties gagnées \naprès les poules ",null,null,{"$f":"IF(ISERROR(VLOOKUP(B436&G436&H436,'Liste inscrits'!AH:AS,1,FALSE)),\"\",VLOOKUP(B436&G436&H436,'Liste inscrits'!AH:AS,11,FALSE))","v":""}]
[]
["N° de LICENCE","NOM                     PRENOM\nen lettres capitales",null,"DIV","CR","CBD","N° \nSEC","N° \nASB","Qual. \nChpt AIN"]
[{"$f":"IF(B443<>\"\",VLOOKUP(B443,'Liste inscrits'!$A:$AD,2,FALSE),\"\")","v":""},{"$f":"IF(OFFSET('Liste inscrits'!$A$1,INT(ROW()/35)*4+(ROW()-INT(ROW()/35)*35)/7,0)<>\"\",OFFSET('Liste inscrits'!$A$1,INT(ROW()/35)*4+(ROW()-INT(ROW()/35)*35)/7,0),\"\")","v":""},null,{"$f":"IF(B443<>\"\",VLOOKUP(B443,'Liste inscrits'!$A:$AD,4,FALSE),\"\")","v":""},"ARA",1,{"$f":"IF(B443<>\"\",VLOOKUP(B443,'Liste inscrits'!$A:$AD,5,FALSE),\"\")","v":""},{"$f":"IF(B443<>\"\",VLOOKUP(B443,'Liste inscrits'!$A:$AD,6,FALSE),\"\")","v":""}]
[{"$f":"IF(B443<>\"\",VLOOKUP(B443,'Liste inscrits'!$A:$AD,8,FALSE),\"\")","v":""},{"$f":"IF(B443<>\"\",VLOOKUP(B443,'Liste inscrits'!$A:$AD,7,FALSE),\"\")","v":""},null,{"$f":"IF(B443<>\"\",VLOOKUP(B443,'Liste inscrits'!$A:$AD,10,FALSE),\"\")","v":""},"ARA",1,{"$f":"IF(B443<>\"\",VLOOKUP(B443,'Liste inscrits'!$A:$AD,11,FALSE),\"\")","v":""},{"$f":"IF(B443<>\"\",VLOOKUP(B443,'Liste inscrits'!$A:$AD,12,FALSE),\"\")","v":""}]
[{"$f":"IF(B443<>\"\",VLOOKUP(B443,'Liste inscrits'!$A:$AD,14,FALSE),\"\")","v":""},{"$f":"IF(B443<>\"\",VLOOKUP(B443,'Liste inscrits'!$A:$AD,13,FALSE),\"\")","v":""},null,{"$f":"IF(B443<>\"\",VLOOKUP(B443,'Liste inscrits'!$A:$AD,16,FALSE),\"\")","v":""},"ARA",1,{"$f":"IF(B443<>\"\",VLOOKUP(B443,'Liste inscrits'!$A:$AD,17,FALSE),\"\")","v":""},{"$f":"IF(B443<>\"\",VLOOKUP(B443,'Liste inscrits'!$A:$AD,18,FALSE),\"\")","v":""}]
[]
["Nb parties gagnées\ndans les poules",{"$f":"IF(ISERROR(VLOOKUP(B443&G443&H443,'Liste inscrits'!AH:AJ,1,FALSE)),\"\",VLOOKUP(B443&G443&H443,'Liste inscrits'!AH:AJ,3,FALSE))","v":""},"Classement \ndans la poule ",{"$f":"IF(ISERROR(VLOOKUP(B443&G443&H443,'Liste inscrits'!AH:AU,1,FALSE)),\"\",VLOOKUP(B443&G443&H443,'Liste inscrits'!AH:AU,14,FALSE)&\"  /  \"&VLOOKUP(B443&G443&H443,'Liste inscrits'!AH:AU,13,FALSE))","v":"  /  "},"Nb de parties gagnées \naprès les poules ",null,null,{"$f":"IF(ISERROR(VLOOKUP(B443&G443&H443,'Liste inscrits'!AH:AS,1,FALSE)),\"\",VLOOKUP(B443&G443&H443,'Liste inscrits'!AH:AS,11,FALSE))","v":""}]
[]
["N° de LICENCE","NOM                     PRENOM\nen lettres capitales",null,"DIV","CR","CBD","N° \nSEC","N° \nASB","Qual. \nChpt AIN"]
[{"$f":"IF(B450<>\"\",VLOOKUP(B450,'Liste inscrits'!$A:$AD,2,FALSE),\"\")","v":""},{"$f":"IF(OFFSET('Liste inscrits'!$A$1,INT(ROW()/35)*4+(ROW()-INT(ROW()/35)*35)/7,0)<>\"\",OFFSET('Liste inscrits'!$A$1,INT(ROW()/35)*4+(ROW()-INT(ROW()/35)*35)/7,0),\"\")","v":""},null,{"$f":"IF(B450<>\"\",VLOOKUP(B450,'Liste inscrits'!$A:$AD,4,FALSE),\"\")","v":""},"ARA",1,{"$f":"IF(B450<>\"\",VLOOKUP(B450,'Liste inscrits'!$A:$AD,5,FALSE),\"\")","v":""},{"$f":"IF(B450<>\"\",VLOOKUP(B450,'Liste inscrits'!$A:$AD,6,FALSE),\"\")","v":""}]
[{"$f":"IF(B450<>\"\",VLOOKUP(B450,'Liste inscrits'!$A:$AD,8,FALSE),\"\")","v":""},{"$f":"IF(B450<>\"\",VLOOKUP(B450,'Liste inscrits'!$A:$AD,7,FALSE),\"\")","v":""},null,{"$f":"IF(B450<>\"\",VLOOKUP(B450,'Liste inscrits'!$A:$AD,10,FALSE),\"\")","v":""},"ARA",1,{"$f":"IF(B450<>\"\",VLOOKUP(B450,'Liste inscrits'!$A:$AD,11,FALSE),\"\")","v":""},{"$f":"IF(B450<>\"\",VLOOKUP(B450,'Liste inscrits'!$A:$AD,12,FALSE),\"\")","v":""}]
[{"$f":"IF(B450<>\"\",VLOOKUP(B450,'Liste inscrits'!$A:$AD,14,FALSE),\"\")","v":""},{"$f":"IF(B450<>\"\",VLOOKUP(B450,'Liste inscrits'!$A:$AD,13,FALSE),\"\")","v":""},null,{"$f":"IF(B450<>\"\",VLOOKUP(B450,'Liste inscrits'!$A:$AD,16,FALSE),\"\")","v":""},"ARA",1,{"$f":"IF(B450<>\"\",VLOOKUP(B450,'Liste inscrits'!$A:$AD,17,FALSE),\"\")","v":""},{"$f":"IF(B450<>\"\",VLOOKUP(B450,'Liste inscrits'!$A:$AD,18,FALSE),\"\")","v":""}]
[]
["Nb parties gagnées\ndans les poules",{"$f":"IF(ISERROR(VLOOKUP(B450&G450&H450,'Liste inscrits'!AH:AJ,1,FALSE)),\"\",VLOOKUP(B450&G450&H450,'Liste inscrits'!AH:AJ,3,FALSE))","v":""},"Classement \ndans la poule ",{"$f":"IF(ISERROR(VLOOKUP(B450&G450&H450,'Liste inscrits'!AH:AU,1,FALSE)),\"\",VLOOKUP(B450&G450&H450,'Liste inscrits'!AH:AU,14,FALSE)&\"  /  \"&VLOOKUP(B450&G450&H450,'Liste inscrits'!AH:AU,13,FALSE))","v":"  /  "},"Nb de parties gagnées \naprès les poules ",null,null,{"$f":"IF(ISERROR(VLOOKUP(B450&G450&H450,'Liste inscrits'!AH:AS,1,FALSE)),\"\",VLOOKUP(B450&G450&H450,'Liste inscrits'!AH:AS,11,FALSE))","v":""}]
[]
[]
["C.B.D. AIN",null,{"$f":"$C$2","v":0},null,null,null,null,{"$f":"$H$2","v":0}]
[]
["SECTEUR :",{"$f":"$B$4","v":{"$error":"#VALUE!"}},null,"Lieu de la compétition :",{"$f":"$E$4","v":0}]
[]
["Date : ",{"$f":"$B$6","v":0},null,null,"Nombre total d'équipes participantes ",null,null,null,{"$f":"$I$6","v":0}]
[]
["N° de LICENCE","NOM                     PRENOM\nen lettres capitales",null,"DIV","CR","CBD","N° \nSEC","N° \nASB","Qual. \nChpt AIN"]
[{"$f":"IF(B464<>\"\",VLOOKUP(B464,'Liste inscrits'!$A:$AD,2,FALSE),\"\")","v":""},{"$f":"IF(OFFSET('Liste inscrits'!$A$1,INT(ROW()/35)*4+(ROW()-INT(ROW()/35)*35)/7,0)<>\"\",OFFSET('Liste inscrits'!$A$1,INT(ROW()/35)*4+(ROW()-INT(ROW()/35)*35)/7,0),\"\")","v":""},null,{"$f":"IF(B464<>\"\",VLOOKUP(B464,'Liste inscrits'!$A:$AD,4,FALSE),\"\")","v":""},"ARA",1,{"$f":"IF(B464<>\"\",VLOOKUP(B464,'Liste inscrits'!$A:$AD,5,FALSE),\"\")","v":""},{"$f":"IF(B464<>\"\",VLOOKUP(B464,'Liste inscrits'!$A:$AD,6,FALSE),\"\")","v":""}]
[{"$f":"IF(B464<>\"\",VLOOKUP(B464,'Liste inscrits'!$A:$AD,8,FALSE),\"\")","v":""},{"$f":"IF(B464<>\"\",VLOOKUP(B464,'Liste inscrits'!$A:$AD,7,FALSE),\"\")","v":""},null,{"$f":"IF(B464<>\"\",VLOOKUP(B464,'Liste inscrits'!$A:$AD,10,FALSE),\"\")","v":""},"ARA",1,{"$f":"IF(B464<>\"\",VLOOKUP(B464,'Liste inscrits'!$A:$AD,11,FALSE),\"\")","v":""},{"$f":"IF(B464<>\"\",VLOOKUP(B464,'Liste inscrits'!$A:$AD,12,FALSE),\"\")","v":""}]
[{"$f":"IF(B464<>\"\",VLOOKUP(B464,'Liste inscrits'!$A:$AD,14,FALSE),\"\")","v":""},{"$f":"IF(B464<>\"\",VLOOKUP(B464,'Liste inscrits'!$A:$AD,13,FALSE),\"\")","v":""},null,{"$f":"IF(B464<>\"\",VLOOKUP(B464,'Liste inscrits'!$A:$AD,16,FALSE),\"\")","v":""},"ARA",1,{"$f":"IF(B464<>\"\",VLOOKUP(B464,'Liste inscrits'!$A:$AD,17,FALSE),\"\")","v":""},{"$f":"IF(B464<>\"\",VLOOKUP(B464,'Liste inscrits'!$A:$AD,18,FALSE),\"\")","v":""}]
[]
["Nb parties gagnées\ndans les poules",{"$f":"IF(ISERROR(VLOOKUP(B464&G464&H464,'Liste inscrits'!AH:AJ,1,FALSE)),\"\",VLOOKUP(B464&G464&H464,'Liste inscrits'!AH:AJ,3,FALSE))","v":""},"Classement \ndans la poule ",{"$f":"IF(ISERROR(VLOOKUP(B464&G464&H464,'Liste inscrits'!AH:AU,1,FALSE)),\"\",VLOOKUP(B464&G464&H464,'Liste inscrits'!AH:AU,14,FALSE)&\"  /  \"&VLOOKUP(B464&G464&H464,'Liste inscrits'!AH:AU,13,FALSE))","v":"  /  "},"Nb de parties gagnées \naprès les poules ",null,null,{"$f":"IF(ISERROR(VLOOKUP(B464&G464&H464,'Liste inscrits'!AH:AS,1,FALSE)),\"\",VLOOKUP(B464&G464&H464,'Liste inscrits'!AH:AS,11,FALSE))","v":""}]
[]
["N° de LICENCE","NOM                     PRENOM\nen lettres capitales",null,"DIV","CR","CBD","N° \nSEC","N° \nASB","Qual. \nChpt AIN"]
[{"$f":"IF(B471<>\"\",VLOOKUP(B471,'Liste inscrits'!$A:$AD,2,FALSE),\"\")","v":""},{"$f":"IF(OFFSET('Liste inscrits'!$A$1,INT(ROW()/35)*4+(ROW()-INT(ROW()/35)*35)/7,0)<>\"\",OFFSET('Liste inscrits'!$A$1,INT(ROW()/35)*4+(ROW()-INT(ROW()/35)*35)/7,0),\"\")","v":""},null,{"$f":"IF(B471<>\"\",VLOOKUP(B471,'Liste inscrits'!$A:$AD,4,FALSE),\"\")","v":""},"ARA",1,{"$f":"IF(B471<>\"\",VLOOKUP(B471,'Liste inscrits'!$A:$AD,5,FALSE),\"\")","v":""},{"$f":"IF(B471<>\"\",VLOOKUP(B471,'Liste inscrits'!$A:$AD,6,FALSE),\"\")","v":""}]
[{"$f":"IF(B471<>\"\",VLOOKUP(B471,'Liste inscrits'!$A:$AD,8,FALSE),\"\")","v":""},{"$f":"IF(B471<>\"\",VLOOKUP(B471,'Liste inscrits'!$A:$AD,7,FALSE),\"\")","v":""},null,{"$f":"IF(B471<>\"\",VLOOKUP(B471,'Liste inscrits'!$A:$AD,10,FALSE),\"\")","v":""},"ARA",1,{"$f":"IF(B471<>\"\",VLOOKUP(B471,'Liste inscrits'!$A:$AD,11,FALSE),\"\")","v":""},{"$f":"IF(B471<>\"\",VLOOKUP(B471,'Liste inscrits'!$A:$AD,12,FALSE),\"\")","v":""}]
[{"$f":"IF(B471<>\"\",VLOOKUP(B471,'Liste inscrits'!$A:$AD,14,FALSE),\"\")","v":""},{"$f":"IF(B471<>\"\",VLOOKUP(B471,'Liste inscrits'!$A:$AD,13,FALSE),\"\")","v":""},null,{"$f":"IF(B471<>\"\",VLOOKUP(B471,'Liste inscrits'!$A:$AD,16,FALSE),\"\")","v":""},"ARA",1,{"$f":"IF(B471<>\"\",VLOOKUP(B471,'Liste inscrits'!$A:$AD,17,FALSE),\"\")","v":""},{"$f":"IF(B471<>\"\",VLOOKUP(B471,'Liste inscrits'!$A:$AD,18,FALSE),\"\")","v":""}]
[]
["Nb parties gagnées\ndans les poules",{"$f":"IF(ISERROR(VLOOKUP(B471&G471&H471,'Liste inscrits'!AH:AJ,1,FALSE)),\"\",VLOOKUP(B471&G471&H471,'Liste inscrits'!AH:AJ,3,FALSE))","v":""},"Classement \ndans la poule ",{"$f":"IF(ISERROR(VLOOKUP(B471&G471&H471,'Liste inscrits'!AH:AU,1,FALSE)),\"\",VLOOKUP(B471&G471&H471,'Liste inscrits'!AH:AU,14,FALSE)&\"  /  \"&VLOOKUP(B471&G471&H471,'Liste inscrits'!AH:AU,13,FALSE))","v":"  /  "},"Nb de parties gagnées \naprès les poules ",null,null,{"$f":"IF(ISERROR(VLOOKUP(B471&G471&H471,'Liste inscrits'!AH:AS,1,FALSE)),\"\",VLOOKUP(B471&G471&H471,'Liste inscrits'!AH:AS,11,FALSE))","v":""}]
[]
["N° de LICENCE","NOM                     PRENOM\nen lettres capitales",null,"DIV","CR","CBD","N° \nSEC","N° \nASB","Qual. \nChpt AIN"]
[{"$f":"IF(B478<>\"\",VLOOKUP(B478,'Liste inscrits'!$A:$AD,2,FALSE),\"\")","v":""},{"$f":"IF(OFFSET('Liste inscrits'!$A$1,INT(ROW()/35)*4+(ROW()-INT(ROW()/35)*35)/7,0)<>\"\",OFFSET('Liste inscrits'!$A$1,INT(ROW()/35)*4+(ROW()-INT(ROW()/35)*35)/7,0),\"\")","v":""},null,{"$f":"IF(B478<>\"\",VLOOKUP(B478,'Liste inscrits'!$A:$AD,4,FALSE),\"\")","v":""},"ARA",1,{"$f":"IF(B478<>\"\",VLOOKUP(B478,'Liste inscrits'!$A:$AD,5,FALSE),\"\")","v":""},{"$f":"IF(B478<>\"\",VLOOKUP(B478,'Liste inscrits'!$A:$AD,6,FALSE),\"\")","v":""}]
[{"$f":"IF(B478<>\"\",VLOOKUP(B478,'Liste inscrits'!$A:$AD,8,FALSE),\"\")","v":""},{"$f":"IF(B478<>\"\",VLOOKUP(B478,'Liste inscrits'!$A:$AD,7,FALSE),\"\")","v":""},null,{"$f":"IF(B478<>\"\",VLOOKUP(B478,'Liste inscrits'!$A:$AD,10,FALSE),\"\")","v":""},"ARA",1,{"$f":"IF(B478<>\"\",VLOOKUP(B478,'Liste inscrits'!$A:$AD,11,FALSE),\"\")","v":""},{"$f":"IF(B478<>\"\",VLOOKUP(B478,'Liste inscrits'!$A:$AD,12,FALSE),\"\")","v":""}]
[{"$f":"IF(B478<>\"\",VLOOKUP(B478,'Liste inscrits'!$A:$AD,14,FALSE),\"\")","v":""},{"$f":"IF(B478<>\"\",VLOOKUP(B478,'Liste inscrits'!$A:$AD,13,FALSE),\"\")","v":""},null,{"$f":"IF(B478<>\"\",VLOOKUP(B478,'Liste inscrits'!$A:$AD,16,FALSE),\"\")","v":""},"ARA",1,{"$f":"IF(B478<>\"\",VLOOKUP(B478,'Liste inscrits'!$A:$AD,17,FALSE),\"\")","v":""},{"$f":"IF(B478<>\"\",VLOOKUP(B478,'Liste inscrits'!$A:$AD,18,FALSE),\"\")","v":""}]
[]
["Nb parties gagnées\ndans les poules",{"$f":"IF(ISERROR(VLOOKUP(B478&G478&H478,'Liste inscrits'!AH:AJ,1,FALSE)),\"\",VLOOKUP(B478&G478&H478,'Liste inscrits'!AH:AJ,3,FALSE))","v":""},"Classement \ndans la poule ",{"$f":"IF(ISERROR(VLOOKUP(B478&G478&H478,'Liste inscrits'!AH:AU,1,FALSE)),\"\",VLOOKUP(B478&G478&H478,'Liste inscrits'!AH:AU,14,FALSE)&\"  /  \"&VLOOKUP(B478&G478&H478,'Liste inscrits'!AH:AU,13,FALSE))","v":"  /  "},"Nb de parties gagnées \naprès les poules ",null,null,{"$f":"IF(ISERROR(VLOOKUP(B478&G478&H478,'Liste inscrits'!AH:AS,1,FALSE)),\"\",VLOOKUP(B478&G478&H478,'Liste inscrits'!AH:AS,11,FALSE))","v":""}]
[]
["N° de LICENCE","NOM                     PRENOM\nen lettres capitales",null,"DIV","CR","CBD","N° \nSEC","N° \nASB","Qual. \nChpt AIN"]
[{"$f":"IF(B485<>\"\",VLOOKUP(B485,'Liste inscrits'!$A:$AD,2,FALSE),\"\")","v":""},{"$f":"IF(OFFSET('Liste inscrits'!$A$1,INT(ROW()/35)*4+(ROW()-INT(ROW()/35)*35)/7,0)<>\"\",OFFSET('Liste inscrits'!$A$1,INT(ROW()/35)*4+(ROW()-INT(ROW()/35)*35)/7,0),\"\")","v":""},null,{"$f":"IF(B485<>\"\",VLOOKUP(B485,'Liste inscrits'!$A:$AD,4,FALSE),\"\")","v":""},"ARA",1,{"$f":"IF(B485<>\"\",VLOOKUP(B485,'Liste inscrits'!$A:$AD,5,FALSE),\"\")","v":""},{"$f":"IF(B485<>\"\",VLOOKUP(B485,'Liste inscrits'!$A:$AD,6,FALSE),\"\")","v":""}]
[{"$f":"IF(B485<>\"\",VLOOKUP(B485,'Liste inscrits'!$A:$AD,8,FALSE),\"\")","v":""},{"$f":"IF(B485<>\"\",VLOOKUP(B485,'Liste inscrits'!$A:$AD,7,FALSE),\"\")","v":""},null,{"$f":"IF(B485<>\"\",VLOOKUP(B485,'Liste inscrits'!$A:$AD,10,FALSE),\"\")","v":""},"ARA",1,{"$f":"IF(B485<>\"\",VLOOKUP(B485,'Liste inscrits'!$A:$AD,11,FALSE),\"\")","v":""},{"$f":"IF(B485<>\"\",VLOOKUP(B485,'Liste inscrits'!$A:$AD,12,FALSE),\"\")","v":""}]
[{"$f":"IF(B485<>\"\",VLOOKUP(B485,'Liste inscrits'!$A:$AD,14,FALSE),\"\")","v":""},{"$f":"IF(B485<>\"\",VLOOKUP(B485,'Liste inscrits'!$A:$AD,13,FALSE),\"\")","v":""},null,{"$f":"IF(B485<>\"\",VLOOKUP(B485,'Liste inscrits'!$A:$AD,16,FALSE),\"\")","v":""},"ARA",1,{"$f":"IF(B485<>\"\",VLOOKUP(B485,'Liste inscrits'!$A:$AD,17,FALSE),\"\")","v":""},{"$f":"IF(B485<>\"\",VLOOKUP(B485,'Liste inscrits'!$A:$AD,18,FALSE),\"\")","v":""}]
[]
["Nb parties gagnées\ndans les poules",{"$f":"IF(ISERROR(VLOOKUP(B485&G485&H485,'Liste inscrits'!AH:AJ,1,FALSE)),\"\",VLOOKUP(B485&G485&H485,'Liste inscrits'!AH:AJ,3,FALSE))","v":""},"Classement \ndans la poule ",{"$f":"IF(ISERROR(VLOOKUP(B485&G485&H485,'Liste inscrits'!AH:AU,1,FALSE)),\"\",VLOOKUP(B485&G485&H485,'Liste inscrits'!AH:AU,14,FALSE)&\"  /  \"&VLOOKUP(B485&G485&H485,'Liste inscrits'!AH:AU,13,FALSE))","v":"  /  "},"Nb de parties gagnées \naprès les poules ",null,null,{"$f":"IF(ISERROR(VLOOKUP(B485&G485&H485,'Liste inscrits'!AH:AS,1,FALSE)),\"\",VLOOKUP(B485&G485&H485,'Liste inscrits'!AH:AS,11,FALSE))","v":""}]
[]
[]
["C.B.D. AIN",null,{"$f":"$C$2","v":0},null,null,null,null,{"$f":"$H$2","v":0}]
[]
["SECTEUR :",{"$f":"$B$4","v":{"$error":"#VALUE!"}},null,"Lieu de la compétition :",{"$f":"$E$4","v":0}]
[]
["Date : ",{"$f":"$B$6","v":0},null,null,"Nombre total d'équipes participantes ",null,null,null,{"$f":"$I$6","v":0}]
[]
["N° de LICENCE","NOM                     PRENOM\nen lettres capitales",null,"DIV","CR","CBD","N° \nSEC","N° \nASB","Qual. \nChpt AIN"]
[{"$f":"IF(B499<>\"\",VLOOKUP(B499,'Liste inscrits'!$A:$AD,2,FALSE),\"\")","v":""},{"$f":"IF(OFFSET('Liste inscrits'!$A$1,INT(ROW()/35)*4+(ROW()-INT(ROW()/35)*35)/7,0)<>\"\",OFFSET('Liste inscrits'!$A$1,INT(ROW()/35)*4+(ROW()-INT(ROW()/35)*35)/7,0),\"\")","v":""},null,{"$f":"IF(B499<>\"\",VLOOKUP(B499,'Liste inscrits'!$A:$AD,4,FALSE),\"\")","v":""},"ARA",1,{"$f":"IF(B499<>\"\",VLOOKUP(B499,'Liste inscrits'!$A:$AD,5,FALSE),\"\")","v":""},{"$f":"IF(B499<>\"\",VLOOKUP(B499,'Liste inscrits'!$A:$AD,6,FALSE),\"\")","v":""}]
[{"$f":"IF(B499<>\"\",VLOOKUP(B499,'Liste inscrits'!$A:$AD,8,FALSE),\"\")","v":""},{"$f":"IF(B499<>\"\",VLOOKUP(B499,'Liste inscrits'!$A:$AD,7,FALSE),\"\")","v":""},null,{"$f":"IF(B499<>\"\",VLOOKUP(B499,'Liste inscrits'!$A:$AD,10,FALSE),\"\")","v":""},"ARA",1,{"$f":"IF(B499<>\"\",VLOOKUP(B499,'Liste inscrits'!$A:$AD,11,FALSE),\"\")","v":""},{"$f":"IF(B499<>\"\",VLOOKUP(B499,'Liste inscrits'!$A:$AD,12,FALSE),\"\")","v":""}]
[{"$f":"IF(B499<>\"\",VLOOKUP(B499,'Liste inscrits'!$A:$AD,14,FALSE),\"\")","v":""},{"$f":"IF(B499<>\"\",VLOOKUP(B499,'Liste inscrits'!$A:$AD,13,FALSE),\"\")","v":""},null,{"$f":"IF(B499<>\"\",VLOOKUP(B499,'Liste inscrits'!$A:$AD,16,FALSE),\"\")","v":""},"ARA",1,{"$f":"IF(B499<>\"\",VLOOKUP(B499,'Liste inscrits'!$A:$AD,17,FALSE),\"\")","v":""},{"$f":"IF(B499<>\"\",VLOOKUP(B499,'Liste inscrits'!$A:$AD,18,FALSE),\"\")","v":""}]
[]
["Nb parties gagnées\ndans les poules",{"$f":"IF(ISERROR(VLOOKUP(B499&G499&H499,'Liste inscrits'!AH:AJ,1,FALSE)),\"\",VLOOKUP(B499&G499&H499,'Liste inscrits'!AH:AJ,3,FALSE))","v":""},"Classement \ndans la poule ",{"$f":"IF(ISERROR(VLOOKUP(B499&G499&H499,'Liste inscrits'!AH:AU,1,FALSE)),\"\",VLOOKUP(B499&G499&H499,'Liste inscrits'!AH:AU,14,FALSE)&\"  /  \"&VLOOKUP(B499&G499&H499,'Liste inscrits'!AH:AU,13,FALSE))","v":"  /  "},"Nb de parties gagnées \naprès les poules ",null,null,{"$f":"IF(ISERROR(VLOOKUP(B499&G499&H499,'Liste inscrits'!AH:AS,1,FALSE)),\"\",VLOOKUP(B499&G499&H499,'Liste inscrits'!AH:AS,11,FALSE))","v":""}]
[]
["N° de LICENCE","NOM                     PRENOM\nen lettres capitales",null,"DIV","CR","CBD","N° \nSEC","N° \nASB","Qual. \nChpt AIN"]
[{"$f":"IF(B506<>\"\",VLOOKUP(B506,'Liste inscrits'!$A:$AD,2,FALSE),\"\")","v":""},{"$f":"IF(OFFSET('Liste inscrits'!$A$1,INT(ROW()/35)*4+(ROW()-INT(ROW()/35)*35)/7,0)<>\"\",OFFSET('Liste inscrits'!$A$1,INT(ROW()/35)*4+(ROW()-INT(ROW()/35)*35)/7,0),\"\")","v":""},null,{"$f":"IF(B506<>\"\",VLOOKUP(B506,'Liste inscrits'!$A:$AD,4,FALSE),\"\")","v":""},"ARA",1,{"$f":"IF(B506<>\"\",VLOOKUP(B506,'Liste inscrits'!$A:$AD,5,FALSE),\"\")","v":""},{"$f":"IF(B506<>\"\",VLOOKUP(B506,'Liste inscrits'!$A:$AD,6,FALSE),\"\")","v":""}]
[{"$f":"IF(B506<>\"\",VLOOKUP(B506,'Liste inscrits'!$A:$AD,8,FALSE),\"\")","v":""},{"$f":"IF(B506<>\"\",VLOOKUP(B506,'Liste inscrits'!$A:$AD,7,FALSE),\"\")","v":""},null,{"$f":"IF(B506<>\"\",VLOOKUP(B506,'Liste inscrits'!$A:$AD,10,FALSE),\"\")","v":""},"ARA",1,{"$f":"IF(B506<>\"\",VLOOKUP(B506,'Liste inscrits'!$A:$AD,11,FALSE),\"\")","v":""},{"$f":"IF(B506<>\"\",VLOOKUP(B506,'Liste inscrits'!$A:$AD,12,FALSE),\"\")","v":""}]
[{"$f":"IF(B506<>\"\",VLOOKUP(B506,'Liste inscrits'!$A:$AD,14,FALSE),\"\")","v":""},{"$f":"IF(B506<>\"\",VLOOKUP(B506,'Liste inscrits'!$A:$AD,13,FALSE),\"\")","v":""},null,{"$f":"IF(B506<>\"\",VLOOKUP(B506,'Liste inscrits'!$A:$AD,16,FALSE),\"\")","v":""},"ARA",1,{"$f":"IF(B506<>\"\",VLOOKUP(B506,'Liste inscrits'!$A:$AD,17,FALSE),\"\")","v":""},{"$f":"IF(B506<>\"\",VLOOKUP(B506,'Liste inscrits'!$A:$AD,18,FALSE),\"\")","v":""}]
[]
["Nb parties gagnées\ndans les poules",{"$f":"IF(ISERROR(VLOOKUP(B506&G506&H506,'Liste inscrits'!AH:AJ,1,FALSE)),\"\",VLOOKUP(B506&G506&H506,'Liste inscrits'!AH:AJ,3,FALSE))","v":""},"Classement \ndans la poule ",{"$f":"IF(ISERROR(VLOOKUP(B506&G506&H506,'Liste inscrits'!AH:AU,1,FALSE)),\"\",VLOOKUP(B506&G506&H506,'Liste inscrits'!AH:AU,14,FALSE)&\"  /  \"&VLOOKUP(B506&G506&H506,'Liste inscrits'!AH:AU,13,FALSE))","v":"  /  "},"Nb de parties gagnées \naprès les poules ",null,null,{"$f":"IF(ISERROR(VLOOKUP(B506&G506&H506,'Liste inscrits'!AH:AS,1,FALSE)),\"\",VLOOKUP(B506&G506&H506,'Liste inscrits'!AH:AS,11,FALSE))","v":""}]
[]
["N° de LICENCE","NOM                     PRENOM\nen lettres capitales",null,"DIV","CR","CBD","N° \nSEC","N° \nASB","Qual. \nChpt AIN"]
[{"$f":"IF(B513<>\"\",VLOOKUP(B513,'Liste inscrits'!$A:$AD,2,FALSE),\"\")","v":""},{"$f":"IF(OFFSET('Liste inscrits'!$A$1,INT(ROW()/35)*4+(ROW()-INT(ROW()/35)*35)/7,0)<>\"\",OFFSET('Liste inscrits'!$A$1,INT(ROW()/35)*4+(ROW()-INT(ROW()/35)*35)/7,0),\"\")","v":""},null,{"$f":"IF(B513<>\"\",VLOOKUP(B513,'Liste inscrits'!$A:$AD,4,FALSE),\"\")","v":""},"ARA",1,{"$f":"IF(B513<>\"\",VLOOKUP(B513,'Liste inscrits'!$A:$AD,5,FALSE),\"\")","v":""},{"$f":"IF(B513<>\"\",VLOOKUP(B513,'Liste inscrits'!$A:$AD,6,FALSE),\"\")","v":""}]
[{"$f":"IF(B513<>\"\",VLOOKUP(B513,'Liste inscrits'!$A:$AD,8,FALSE),\"\")","v":""},{"$f":"IF(B513<>\"\",VLOOKUP(B513,'Liste inscrits'!$A:$AD,7,FALSE),\"\")","v":""},null,{"$f":"IF(B513<>\"\",VLOOKUP(B513,'Liste inscrits'!$A:$AD,10,FALSE),\"\")","v":""},"ARA",1,{"$f":"IF(B513<>\"\",VLOOKUP(B513,'Liste inscrits'!$A:$AD,11,FALSE),\"\")","v":""},{"$f":"IF(B513<>\"\",VLOOKUP(B513,'Liste inscrits'!$A:$AD,12,FALSE),\"\")","v":""}]
[{"$f":"IF(B513<>\"\",VLOOKUP(B513,'Liste inscrits'!$A:$AD,14,FALSE),\"\")","v":""},{"$f":"IF(B513<>\"\",VLOOKUP(B513,'Liste inscrits'!$A:$AD,13,FALSE),\"\")","v":""},null,{"$f":"IF(B513<>\"\",VLOOKUP(B513,'Liste inscrits'!$A:$AD,16,FALSE),\"\")","v":""},"ARA",1,{"$f":"IF(B513<>\"\",VLOOKUP(B513,'Liste inscrits'!$A:$AD,17,FALSE),\"\")","v":""},{"$f":"IF(B513<>\"\",VLOOKUP(B513,'Liste inscrits'!$A:$AD,18,FALSE),\"\")","v":""}]
[]
["Nb parties gagnées\ndans les poules",{"$f":"IF(ISERROR(VLOOKUP(B513&G513&H513,'Liste inscrits'!AH:AJ,1,FALSE)),\"\",VLOOKUP(B513&G513&H513,'Liste inscrits'!AH:AJ,3,FALSE))","v":""},"Classement \ndans la poule ",{"$f":"IF(ISERROR(VLOOKUP(B513&G513&H513,'Liste inscrits'!AH:AU,1,FALSE)),\"\",VLOOKUP(B513&G513&H513,'Liste inscrits'!AH:AU,14,FALSE)&\"  /  \"&VLOOKUP(B513&G513&H513,'Liste inscrits'!AH:AU,13,FALSE))","v":"  /  "},"Nb de parties gagnées \naprès les poules ",null,null,{"$f":"IF(ISERROR(VLOOKUP(B513&G513&H513,'Liste inscrits'!AH:AS,1,FALSE)),\"\",VLOOKUP(B513&G513&H513,'Liste inscrits'!AH:AS,11,FALSE))","v":""}]
[]
["N° de LICENCE","NOM                     PRENOM\nen lettres capitales",null,"DIV","CR","CBD","N° \nSEC","N° \nASB","Qual. \nChpt AIN"]
[{"$f":"IF(B520<>\"\",VLOOKUP(B520,'Liste inscrits'!$A:$AD,2,FALSE),\"\")","v":""},{"$f":"IF(OFFSET('Liste inscrits'!$A$1,INT(ROW()/35)*4+(ROW()-INT(ROW()/35)*35)/7,0)<>\"\",OFFSET('Liste inscrits'!$A$1,INT(ROW()/35)*4+(ROW()-INT(ROW()/35)*35)/7,0),\"\")","v":""},null,{"$f":"IF(B520<>\"\",VLOOKUP(B520,'Liste inscrits'!$A:$AD,4,FALSE),\"\")","v":""},"ARA",1,{"$f":"IF(B520<>\"\",VLOOKUP(B520,'Liste inscrits'!$A:$AD,5,FALSE),\"\")","v":""},{"$f":"IF(B520<>\"\",VLOOKUP(B520,'Liste inscrits'!$A:$AD,6,FALSE),\"\")","v":""}]
[{"$f":"IF(B520<>\"\",VLOOKUP(B520,'Liste inscrits'!$A:$AD,8,FALSE),\"\")","v":""},{"$f":"IF(B520<>\"\",VLOOKUP(B520,'Liste inscrits'!$A:$AD,7,FALSE),\"\")","v":""},null,{"$f":"IF(B520<>\"\",VLOOKUP(B520,'Liste inscrits'!$A:$AD,10,FALSE),\"\")","v":""},"ARA",1,{"$f":"IF(B520<>\"\",VLOOKUP(B520,'Liste inscrits'!$A:$AD,11,FALSE),\"\")","v":""},{"$f":"IF(B520<>\"\",VLOOKUP(B520,'Liste inscrits'!$A:$AD,12,FALSE),\"\")","v":""}]
[{"$f":"IF(B520<>\"\",VLOOKUP(B520,'Liste inscrits'!$A:$AD,14,FALSE),\"\")","v":""},{"$f":"IF(B520<>\"\",VLOOKUP(B520,'Liste inscrits'!$A:$AD,13,FALSE),\"\")","v":""},null,{"$f":"IF(B520<>\"\",VLOOKUP(B520,'Liste inscrits'!$A:$AD,16,FALSE),\"\")","v":""},"ARA",1,{"$f":"IF(B520<>\"\",VLOOKUP(B520,'Liste inscrits'!$A:$AD,17,FALSE),\"\")","v":""},{"$f":"IF(B520<>\"\",VLOOKUP(B520,'Liste inscrits'!$A:$AD,18,FALSE),\"\")","v":""}]
[]
["Nb parties gagnées\ndans les poules",{"$f":"IF(ISERROR(VLOOKUP(B520&G520&H520,'Liste inscrits'!AH:AJ,1,FALSE)),\"\",VLOOKUP(B520&G520&H520,'Liste inscrits'!AH:AJ,3,FALSE))","v":""},"Classement \ndans la poule ",{"$f":"IF(ISERROR(VLOOKUP(B520&G520&H520,'Liste inscrits'!AH:AU,1,FALSE)),\"\",VLOOKUP(B520&G520&H520,'Liste inscrits'!AH:AU,14,FALSE)&\"  /  \"&VLOOKUP(B520&G520&H520,'Liste inscrits'!AH:AU,13,FALSE))","v":"  /  "},"Nb de parties gagnées \naprès les poules ",null,null,{"$f":"IF(ISERROR(VLOOKUP(B520&G520&H520,'Liste inscrits'!AH:AS,1,FALSE)),\"\",VLOOKUP(B520&G520&H520,'Liste inscrits'!AH:AS,11,FALSE))","v":""}]
[]
[]
["C.B.D. AIN",null,{"$f":"$C$2","v":0},null,null,null,null,{"$f":"$H$2","v":0}]
[]
["SECTEUR :",{"$f":"$B$4","v":{"$error":"#VALUE!"}},null,"Lieu de la compétition :",{"$f":"$E$4","v":0}]
[]
["Date : ",{"$f":"$B$6","v":0},null,null,"Nombre total d'équipes participantes ",null,null,null,{"$f":"$I$6","v":0}]
[]
["N° de LICENCE","NOM                     PRENOM\nen lettres capitales",null,"DIV","CR","CBD","N° \nSEC","N° \nASB","Qual. \nChpt AIN"]
[{"$f":"IF(B534<>\"\",VLOOKUP(B534,'Liste inscrits'!$A:$AD,2,FALSE),\"\")","v":""},{"$f":"IF(OFFSET('Liste inscrits'!$A$1,INT(ROW()/35)*4+(ROW()-INT(ROW()/35)*35)/7,0)<>\"\",OFFSET('Liste inscrits'!$A$1,INT(ROW()/35)*4+(ROW()-INT(ROW()/35)*35)/7,0),\"\")","v":""},null,{"$f":"IF(B534<>\"\",VLOOKUP(B534,'Liste inscrits'!$A:$AD,4,FALSE),\"\")","v":""},"ARA",1,{"$f":"IF(B534<>\"\",VLOOKUP(B534,'Liste inscrits'!$A:$AD,5,FALSE),\"\")","v":""},{"$f":"IF(B534<>\"\",VLOOKUP(B534,'Liste inscrits'!$A:$AD,6,FALSE),\"\")","v":""}]
[{"$f":"IF(B534<>\"\",VLOOKUP(B534,'Liste inscrits'!$A:$AD,8,FALSE),\"\")","v":""},{"$f":"IF(B534<>\"\",VLOOKUP(B534,'Liste inscrits'!$A:$AD,7,FALSE),\"\")","v":""},null,{"$f":"IF(B534<>\"\",VLOOKUP(B534,'Liste inscrits'!$A:$AD,10,FALSE),\"\")","v":""},"ARA",1,{"$f":"IF(B534<>\"\",VLOOKUP(B534,'Liste inscrits'!$A:$AD,11,FALSE),\"\")","v":""},{"$f":"IF(B534<>\"\",VLOOKUP(B534,'Liste inscrits'!$A:$AD,12,FALSE),\"\")","v":""}]
[{"$f":"IF(B534<>\"\",VLOOKUP(B534,'Liste inscrits'!$A:$AD,14,FALSE),\"\")","v":""},{"$f":"IF(B534<>\"\",VLOOKUP(B534,'Liste inscrits'!$A:$AD,13,FALSE),\"\")","v":""},null,{"$f":"IF(B534<>\"\",VLOOKUP(B534,'Liste inscrits'!$A:$AD,16,FALSE),\"\")","v":""},"ARA",1,{"$f":"IF(B534<>\"\",VLOOKUP(B534,'Liste inscrits'!$A:$AD,17,FALSE),\"\")","v":""},{"$f":"IF(B534<>\"\",VLOOKUP(B534,'Liste inscrits'!$A:$AD,18,FALSE),\"\")","v":""}]
[]
["Nb parties gagnées\ndans les poules",{"$f":"IF(ISERROR(VLOOKUP(B534&G534&H534,'Liste inscrits'!AH:AJ,1,FALSE)),\"\",VLOOKUP(B534&G534&H534,'Liste inscrits'!AH:AJ,3,FALSE))","v":""},"Classement \ndans la poule ",{"$f":"IF(ISERROR(VLOOKUP(B534&G534&H534,'Liste inscrits'!AH:AU,1,FALSE)),\"\",VLOOKUP(B534&G534&H534,'Liste inscrits'!AH:AU,14,FALSE)&\"  /  \"&VLOOKUP(B534&G534&H534,'Liste inscrits'!AH:AU,13,FALSE))","v":"  /  "},"Nb de parties gagnées \naprès les poules ",null,null,{"$f":"IF(ISERROR(VLOOKUP(B534&G534&H534,'Liste inscrits'!AH:AS,1,FALSE)),\"\",VLOOKUP(B534&G534&H534,'Liste inscrits'!AH:AS,11,FALSE))","v":""}]
[]
["N° de LICENCE","NOM                     PRENOM\nen lettres capitales",null,"DIV","CR","CBD","N° \nSEC","N° \nASB","Qual. \nChpt AIN"]
[{"$f":"IF(B541<>\"\",VLOOKUP(B541,'Liste inscrits'!$A:$AD,2,FALSE),\"\")","v":""},{"$f":"IF(OFFSET('Liste inscrits'!$A$1,INT(ROW()/35)*4+(ROW()-INT(ROW()/35)*35)/7,0)<>\"\",OFFSET('Liste inscrits'!$A$1,INT(ROW()/35)*4+(ROW()-INT(ROW()/35)*35)/7,0),\"\")","v":""},null,{"$f":"IF(B541<>\"\",VLOOKUP(B541,'Liste inscrits'!$A:$AD,4,FALSE),\"\")","v":""},"ARA",1,{"$f":"IF(B541<>\"\",VLOOKUP(B541,'Liste inscrits'!$A:$AD,5,FALSE),\"\")","v":""},{"$f":"IF(B541<>\"\",VLOOKUP(B541,'Liste inscrits'!$A:$AD,6,FALSE),\"\")","v":""}]
[{"$f":"IF(B541<>\"\",VLOOKUP(B541,'Liste inscrits'!$A:$AD,8,FALSE),\"\")","v":""},{"$f":"IF(B541<>\"\",VLOOKUP(B541,'Liste inscrits'!$A:$AD,7,FALSE),\"\")","v":""},null,{"$f":"IF(B541<>\"\",VLOOKUP(B541,'Liste inscrits'!$A:$AD,10,FALSE),\"\")","v":""},"ARA",1,{"$f":"IF(B541<>\"\",VLOOKUP(B541,'Liste inscrits'!$A:$AD,11,FALSE),\"\")","v":""},{"$f":"IF(B541<>\"\",VLOOKUP(B541,'Liste inscrits'!$A:$AD,12,FALSE),\"\")","v":""}]
[{"$f":"IF(B541<>\"\",VLOOKUP(B541,'Liste inscrits'!$A:$AD,14,FALSE),\"\")","v":""},{"$f":"IF(B541<>\"\",VLOOKUP(B541,'Liste inscrits'!$A:$AD,13,FALSE),\"\")","v":""},null,{"$f":"IF(B541<>\"\",VLOOKUP(B541,'Liste inscrits'!$A:$AD,16,FALSE),\"\")","v":""},"ARA",1,{"$f":"IF(B541<>\"\",VLOOKUP(B541,'Liste inscrits'!$A:$AD,17,FALSE),\"\")","v":""},{"$f":"IF(B541<>\"\",VLOOKUP(B541,'Liste inscrits'!$A:$AD,18,FALSE),\"\")","v":""}]
[]
["Nb parties gagnées\ndans les poules",{"$f":"IF(ISERROR(VLOOKUP(B541&G541&H541,'Liste inscrits'!AH:AJ,1,FALSE)),\"\",VLOOKUP(B541&G541&H541,'Liste inscrits'!AH:AJ,3,FALSE))","v":""},"Classement \ndans la poule ",{"$f":"IF(ISERROR(VLOOKUP(B541&G541&H541,'Liste inscrits'!AH:AU,1,FALSE)),\"\",VLOOKUP(B541&G541&H541,'Liste inscrits'!AH:AU,14,FALSE)&\"  /  \"&VLOOKUP(B541&G541&H541,'Liste inscrits'!AH:AU,13,FALSE))","v":"  /  "},"Nb de parties gagnées \naprès les poules ",null,null,{"$f":"IF(ISERROR(VLOOKUP(B541&G541&H541,'Liste inscrits'!AH:AS,1,FALSE)),\"\",VLOOKUP(B541&G541&H541,'Liste inscrits'!AH:AS,11,FALSE))","v":""}]
[]
["N° de LICENCE","NOM                     PRENOM\nen lettres capitales",null,"DIV","CR","CBD","N° \nSEC","N° \nASB","Qual. \nChpt AIN"]
[{"$f":"IF(B548<>\"\",VLOOKUP(B548,'Liste inscrits'!$A:$AD,2,FALSE),\"\")","v":""},{"$f":"IF(OFFSET('Liste inscrits'!$A$1,INT(ROW()/35)*4+(ROW()-INT(ROW()/35)*35)/7,0)<>\"\",OFFSET('Liste inscrits'!$A$1,INT(ROW()/35)*4+(ROW()-INT(ROW()/35)*35)/7,0),\"\")","v":""},null,{"$f":"IF(B548<>\"\",VLOOKUP(B548,'Liste inscrits'!$A:$AD,4,FALSE),\"\")","v":""},"ARA",1,{"$f":"IF(B548<>\"\",VLOOKUP(B548,'Liste inscrits'!$A:$AD,5,FALSE),\"\")","v":""},{"$f":"IF(B548<>\"\",VLOOKUP(B548,'Liste inscrits'!$A:$AD,6,FALSE),\"\")","v":""}]
[{"$f":"IF(B548<>\"\",VLOOKUP(B548,'Liste inscrits'!$A:$AD,8,FALSE),\"\")","v":""},{"$f":"IF(B548<>\"\",VLOOKUP(B548,'Liste inscrits'!$A:$AD,7,FALSE),\"\")","v":""},null,{"$f":"IF(B548<>\"\",VLOOKUP(B548,'Liste inscrits'!$A:$AD,10,FALSE),\"\")","v":""},"ARA",1,{"$f":"IF(B548<>\"\",VLOOKUP(B548,'Liste inscrits'!$A:$AD,11,FALSE),\"\")","v":""},{"$f":"IF(B548<>\"\",VLOOKUP(B548,'Liste inscrits'!$A:$AD,12,FALSE),\"\")","v":""}]
[{"$f":"IF(B548<>\"\",VLOOKUP(B548,'Liste inscrits'!$A:$AD,14,FALSE),\"\")","v":""},{"$f":"IF(B548<>\"\",VLOOKUP(B548,'Liste inscrits'!$A:$AD,13,FALSE),\"\")","v":""},null,{"$f":"IF(B548<>\"\",VLOOKUP(B548,'Liste inscrits'!$A:$AD,16,FALSE),\"\")","v":""},"ARA",1,{"$f":"IF(B548<>\"\",VLOOKUP(B548,'Liste inscrits'!$A:$AD,17,FALSE),\"\")","v":""},{"$f":"IF(B548<>\"\",VLOOKUP(B548,'Liste inscrits'!$A:$AD,18,FALSE),\"\")","v":""}]
[]
["Nb parties gagnées\ndans les poules",{"$f":"IF(ISERROR(VLOOKUP(B548&G548&H548,'Liste inscrits'!AH:AJ,1,FALSE)),\"\",VLOOKUP(B548&G548&H548,'Liste inscrits'!AH:AJ,3,FALSE))","v":""},"Classement \ndans la poule ",{"$f":"IF(ISERROR(VLOOKUP(B548&G548&H548,'Liste inscrits'!AH:AU,1,FALSE)),\"\",VLOOKUP(B548&G548&H548,'Liste inscrits'!AH:AU,14,FALSE)&\"  /  \"&VLOOKUP(B548&G548&H548,'Liste inscrits'!AH:AU,13,FALSE))","v":"  /  "},"Nb de parties gagnées \naprès les poules ",null,null,{"$f":"IF(ISERROR(VLOOKUP(B548&G548&H548,'Liste inscrits'!AH:AS,1,FALSE)),\"\",VLOOKUP(B548&G548&H548,'Liste inscrits'!AH:AS,11,FALSE))","v":""}]
[]
["N° de LICENCE","NOM                     PRENOM\nen lettres capitales",null,"DIV","CR","CBD","N° \nSEC","N° \nASB","Qual. \nChpt AIN"]
[{"$f":"IF(B555<>\"\",VLOOKUP(B555,'Liste inscrits'!$A:$AD,2,FALSE),\"\")","v":""},{"$f":"IF(OFFSET('Liste inscrits'!$A$1,INT(ROW()/35)*4+(ROW()-INT(ROW()/35)*35)/7,0)<>\"\",OFFSET('Liste inscrits'!$A$1,INT(ROW()/35)*4+(ROW()-INT(ROW()/35)*35)/7,0),\"\")","v":""},null,{"$f":"IF(B555<>\"\",VLOOKUP(B555,'Liste inscrits'!$A:$AD,4,FALSE),\"\")","v":""},"ARA",1,{"$f":"IF(B555<>\"\",VLOOKUP(B555,'Liste inscrits'!$A:$AD,5,FALSE),\"\")","v":""},{"$f":"IF(B555<>\"\",VLOOKUP(B555,'Liste inscrits'!$A:$AD,6,FALSE),\"\")","v":""}]
[{"$f":"IF(B555<>\"\",VLOOKUP(B555,'Liste inscrits'!$A:$AD,8,FALSE),\"\")","v":""},{"$f":"IF(B555<>\"\",VLOOKUP(B555,'Liste inscrits'!$A:$AD,7,FALSE),\"\")","v":""},null,{"$f":"IF(B555<>\"\",VLOOKUP(B555,'Liste inscrits'!$A:$AD,10,FALSE),\"\")","v":""},"ARA",1,{"$f":"IF(B555<>\"\",VLOOKUP(B555,'Liste inscrits'!$A:$AD,11,FALSE),\"\")","v":""},{"$f":"IF(B555<>\"\",VLOOKUP(B555,'Liste inscrits'!$A:$AD,12,FALSE),\"\")","v":""}]
[{"$f":"IF(B555<>\"\",VLOOKUP(B555,'Liste inscrits'!$A:$AD,14,FALSE),\"\")","v":""},{"$f":"IF(B555<>\"\",VLOOKUP(B555,'Liste inscrits'!$A:$AD,13,FALSE),\"\")","v":""},null,{"$f":"IF(B555<>\"\",VLOOKUP(B555,'Liste inscrits'!$A:$AD,16,FALSE),\"\")","v":""},"ARA",1,{"$f":"IF(B555<>\"\",VLOOKUP(B555,'Liste inscrits'!$A:$AD,17,FALSE),\"\")","v":""},{"$f":"IF(B555<>\"\",VLOOKUP(B555,'Liste inscrits'!$A:$AD,18,FALSE),\"\")","v":""}]
[]
["Nb parties gagnées\ndans les poules",{"$f":"IF(ISERROR(VLOOKUP(B555&G555&H555,'Liste inscrits'!AH:AJ,1,FALSE)),\"\",VLOOKUP(B555&G555&H555,'Liste inscrits'!AH:AJ,3,FALSE))","v":""},"Classement \ndans la poule ",{"$f":"IF(ISERROR(VLOOKUP(B555&G555&H555,'Liste inscrits'!AH:AU,1,FALSE)),\"\",VLOOKUP(B555&G555&H555,'Liste inscrits'!AH:AU,14,FALSE)&\"  /  \"&VLOOKUP(B555&G555&H555,'Liste inscrits'!AH:AU,13,FALSE))","v":"  /  "},"Nb de parties gagnées \naprès les poules ",null,null,{"$f":"IF(ISERROR(VLOOKUP(B555&G555&H555,'Liste inscrits'!AH:AS,1,FALSE)),\"\",VLOOKUP(B555&G555&H555,'Liste inscrits'!AH:AS,11,FALSE))","v":""}]
[]
[]
["C.B.D. AIN",null,{"$f":"$C$2","v":0},null,null,null,null,{"$f":"$H$2","v":0}]
[]
["SECTEUR :",{"$f":"$B$4","v":{"$error":"#VALUE!"}},null,"Lieu de la compétition :",{"$f":"$E$4","v":0}]
[]
["Date : ",{"$f":"$B$6","v":0},null,null,"Nombre total d'équipes participantes ",null,null,null,{"$f":"$I$6","v":0}]
[]
["N° de LICENCE","NOM                     PRENOM\nen lettres capitales",null,"DIV","CR","CBD","N° \nSEC","N° \nASB","Qual. \nChpt AIN"]
[{"$f":"IF(B569<>\"\",VLOOKUP(B569,'Liste inscrits'!$A:$AD,2,FALSE),\"\")","v":""},{"$f":"IF(OFFSET('Liste inscrits'!$A$1,INT(ROW()/35)*4+(ROW()-INT(ROW()/35)*35)/7,0)<>\"\",OFFSET('Liste inscrits'!$A$1,INT(ROW()/35)*4+(ROW()-INT(ROW()/35)*35)/7,0),\"\")","v":""},null,{"$f":"IF(B569<>\"\",VLOOKUP(B569,'Liste inscrits'!$A:$AD,4,FALSE),\"\")","v":""},"ARA",1,{"$f":"IF(B569<>\"\",VLOOKUP(B569,'Liste inscrits'!$A:$AD,5,FALSE),\"\")","v":""},{"$f":"IF(B569<>\"\",VLOOKUP(B569,'Liste inscrits'!$A:$AD,6,FALSE),\"\")","v":""}]
[{"$f":"IF(B569<>\"\",VLOOKUP(B569,'Liste inscrits'!$A:$AD,8,FALSE),\"\")","v":""},{"$f":"IF(B569<>\"\",VLOOKUP(B569,'Liste inscrits'!$A:$AD,7,FALSE),\"\")","v":""},null,{"$f":"IF(B569<>\"\",VLOOKUP(B569,'Liste inscrits'!$A:$AD,10,FALSE),\"\")","v":""},"ARA",1,{"$f":"IF(B569<>\"\",VLOOKUP(B569,'Liste inscrits'!$A:$AD,11,FALSE),\"\")","v":""},{"$f":"IF(B569<>\"\",VLOOKUP(B569,'Liste inscrits'!$A:$AD,12,FALSE),\"\")","v":""}]
[{"$f":"IF(B569<>\"\",VLOOKUP(B569,'Liste inscrits'!$A:$AD,14,FALSE),\"\")","v":""},{"$f":"IF(B569<>\"\",VLOOKUP(B569,'Liste inscrits'!$A:$AD,13,FALSE),\"\")","v":""},null,{"$f":"IF(B569<>\"\",VLOOKUP(B569,'Liste inscrits'!$A:$AD,16,FALSE),\"\")","v":""},"ARA",1,{"$f":"IF(B569<>\"\",VLOOKUP(B569,'Liste inscrits'!$A:$AD,17,FALSE),\"\")","v":""},{"$f":"IF(B569<>\"\",VLOOKUP(B569,'Liste inscrits'!$A:$AD,18,FALSE),\"\")","v":""}]
[]
["Nb parties gagnées\ndans les poules",{"$f":"IF(ISERROR(VLOOKUP(B569&G569&H569,'Liste inscrits'!AH:AJ,1,FALSE)),\"\",VLOOKUP(B569&G569&H569,'Liste inscrits'!AH:AJ,3,FALSE))","v":""},"Classement \ndans la poule ",{"$f":"IF(ISERROR(VLOOKUP(B569&G569&H569,'Liste inscrits'!AH:AU,1,FALSE)),\"\",VLOOKUP(B569&G569&H569,'Liste inscrits'!AH:AU,14,FALSE)&\"  /  \"&VLOOKUP(B569&G569&H569,'Liste inscrits'!AH:AU,13,FALSE))","v":"  /  "},"Nb de parties gagnées \naprès les poules ",null,null,{"$f":"IF(ISERROR(VLOOKUP(B569&G569&H569,'Liste inscrits'!AH:AS,1,FALSE)),\"\",VLOOKUP(B569&G569&H569,'Liste inscrits'!AH:AS,11,FALSE))","v":""}]
[]
["N° de LICENCE","NOM                     PRENOM\nen lettres capitales",null,"DIV","CR","CBD","N° \nSEC","N° \nASB","Qual. \nChpt AIN"]
[{"$f":"IF(B576<>\"\",VLOOKUP(B576,'Liste inscrits'!$A:$AD,2,FALSE),\"\")","v":""},{"$f":"IF(OFFSET('Liste inscrits'!$A$1,INT(ROW()/35)*4+(ROW()-INT(ROW()/35)*35)/7,0)<>\"\",OFFSET('Liste inscrits'!$A$1,INT(ROW()/35)*4+(ROW()-INT(ROW()/35)*35)/7,0),\"\")","v":""},null,{"$f":"IF(B576<>\"\",VLOOKUP(B576,'Liste inscrits'!$A:$AD,4,FALSE),\"\")","v":""},"ARA",1,{"$f":"IF(B576<>\"\",VLOOKUP(B576,'Liste inscrits'!$A:$AD,5,FALSE),\"\")","v":""},{"$f":"IF(B576<>\"\",VLOOKUP(B576,'Liste inscrits'!$A:$AD,6,FALSE),\"\")","v":""}]
[{"$f":"IF(B576<>\"\",VLOOKUP(B576,'Liste inscrits'!$A:$AD,8,FALSE),\"\")","v":""},{"$f":"IF(B576<>\"\",VLOOKUP(B576,'Liste inscrits'!$A:$AD,7,FALSE),\"\")","v":""},null,{"$f":"IF(B576<>\"\",VLOOKUP(B576,'Liste inscrits'!$A:$AD,10,FALSE),\"\")","v":""},"ARA",1,{"$f":"IF(B576<>\"\",VLOOKUP(B576,'Liste inscrits'!$A:$AD,11,FALSE),\"\")","v":""},{"$f":"IF(B576<>\"\",VLOOKUP(B576,'Liste inscrits'!$A:$AD,12,FALSE),\"\")","v":""}]
[{"$f":"IF(B576<>\"\",VLOOKUP(B576,'Liste inscrits'!$A:$AD,14,FALSE),\"\")","v":""},{"$f":"IF(B576<>\"\",VLOOKUP(B576,'Liste inscrits'!$A:$AD,13,FALSE),\"\")","v":""},null,{"$f":"IF(B576<>\"\",VLOOKUP(B576,'Liste inscrits'!$A:$AD,16,FALSE),\"\")","v":""},"ARA",1,{"$f":"IF(B576<>\"\",VLOOKUP(B576,'Liste inscrits'!$A:$AD,17,FALSE),\"\")","v":""},{"$f":"IF(B576<>\"\",VLOOKUP(B576,'Liste inscrits'!$A:$AD,18,FALSE),\"\")","v":""}]
[]
["Nb parties gagnées\ndans les poules",{"$f":"IF(ISERROR(VLOOKUP(B576&G576&H576,'Liste inscrits'!AH:AJ,1,FALSE)),\"\",VLOOKUP(B576&G576&H576,'Liste inscrits'!AH:AJ,3,FALSE))","v":""},"Classement \ndans la poule ",{"$f":"IF(ISERROR(VLOOKUP(B576&G576&H576,'Liste inscrits'!AH:AU,1,FALSE)),\"\",VLOOKUP(B576&G576&H576,'Liste inscrits'!AH:AU,14,FALSE)&\"  /  \"&VLOOKUP(B576&G576&H576,'Liste inscrits'!AH:AU,13,FALSE))","v":"  /  "},"Nb de parties gagnées \naprès les poules ",null,null,{"$f":"IF(ISERROR(VLOOKUP(B576&G576&H576,'Liste inscrits'!AH:AS,1,FALSE)),\"\",VLOOKUP(B576&G576&H576,'Liste inscrits'!AH:AS,11,FALSE))","v":""}]
[]
["N° de LICENCE","NOM                     PRENOM\nen lettres capitales",null,"DIV","CR","CBD","N° \nSEC","N° \nASB","Qual. \nChpt AIN"]
[{"$f":"IF(B583<>\"\",VLOOKUP(B583,'Liste inscrits'!$A:$AD,2,FALSE),\"\")","v":""},{"$f":"IF(OFFSET('Liste inscrits'!$A$1,INT(ROW()/35)*4+(ROW()-INT(ROW()/35)*35)/7,0)<>\"\",OFFSET('Liste inscrits'!$A$1,INT(ROW()/35)*4+(ROW()-INT(ROW()/35)*35)/7,0),\"\")","v":""},null,{"$f":"IF(B583<>\"\",VLOOKUP(B583,'Liste inscrits'!$A:$AD,4,FALSE),\"\")","v":""},"ARA",1,{"$f":"IF(B583<>\"\",VLOOKUP(B583,'Liste inscrits'!$A:$AD,5,FALSE),\"\")","v":""},{"$f":"IF(B583<>\"\",VLOOKUP(B583,'Liste inscrits'!$A:$AD,6,FALSE),\"\")","v":""}]
[{"$f":"IF(B583<>\"\",VLOOKUP(B583,'Liste inscrits'!$A:$AD,8,FALSE),\"\")","v":""},{"$f":"IF(B583<>\"\",VLOOKUP(B583,'Liste inscrits'!$A:$AD,7,FALSE),\"\")","v":""},null,{"$f":"IF(B583<>\"\",VLOOKUP(B583,'Liste inscrits'!$A:$AD,10,FALSE),\"\")","v":""},"ARA",1,{"$f":"IF(B583<>\"\",VLOOKUP(B583,'Liste inscrits'!$A:$AD,11,FALSE),\"\")","v":""},{"$f":"IF(B583<>\"\",VLOOKUP(B583,'Liste inscrits'!$A:$AD,12,FALSE),\"\")","v":""}]
[{"$f":"IF(B583<>\"\",VLOOKUP(B583,'Liste inscrits'!$A:$AD,14,FALSE),\"\")","v":""},{"$f":"IF(B583<>\"\",VLOOKUP(B583,'Liste inscrits'!$A:$AD,13,FALSE),\"\")","v":""},null,{"$f":"IF(B583<>\"\",VLOOKUP(B583,'Liste inscrits'!$A:$AD,16,FALSE),\"\")","v":""},"ARA",1,{"$f":"IF(B583<>\"\",VLOOKUP(B583,'Liste inscrits'!$A:$AD,17,FALSE),\"\")","v":""},{"$f":"IF(B583<>\"\",VLOOKUP(B583,'Liste inscrits'!$A:$AD,18,FALSE),\"\")","v":""}]
[]
["Nb parties gagnées\ndans les poules",{"$f":"IF(ISERROR(VLOOKUP(B583&G583&H583,'Liste inscrits'!AH:AJ,1,FALSE)),\"\",VLOOKUP(B583&G583&H583,'Liste inscrits'!AH:AJ,3,FALSE))","v":""},"Classement \ndans la poule ",{"$f":"IF(ISERROR(VLOOKUP(B583&G583&H583,'Liste inscrits'!AH:AU,1,FALSE)),\"\",VLOOKUP(B583&G583&H583,'Liste inscrits'!AH:AU,14,FALSE)&\"  /  \"&VLOOKUP(B583&G583&H583,'Liste inscrits'!AH:AU,13,FALSE))","v":"  /  "},"Nb de parties gagnées \naprès les poules ",null,null,{"$f":"IF(ISERROR(VLOOKUP(B583&G583&H583,'Liste inscrits'!AH:AS,1,FALSE)),\"\",VLOOKUP(B583&G583&H583,'Liste inscrits'!AH:AS,11,FALSE))","v":""}]
[]
["N° de LICENCE","NOM                     PRENOM\nen lettres capitales",null,"DIV","CR","CBD","N° \nSEC","N° \nASB","Qual. \nChpt AIN"]
[{"$f":"IF(B590<>\"\",VLOOKUP(B590,'Liste inscrits'!$A:$AD,2,FALSE),\"\")","v":""},{"$f":"IF(OFFSET('Liste inscrits'!$A$1,INT(ROW()/35)*4+(ROW()-INT(ROW()/35)*35)/7,0)<>\"\",OFFSET('Liste inscrits'!$A$1,INT(ROW()/35)*4+(ROW()-INT(ROW()/35)*35)/7,0),\"\")","v":""},null,{"$f":"IF(B590<>\"\",VLOOKUP(B590,'Liste inscrits'!$A:$AD,4,FALSE),\"\")","v":""},"ARA",1,{"$f":"IF(B590<>\"\",VLOOKUP(B590,'Liste inscrits'!$A:$AD,5,FALSE),\"\")","v":""},{"$f":"IF(B590<>\"\",VLOOKUP(B590,'Liste inscrits'!$A:$AD,6,FALSE),\"\")","v":""}]
[{"$f":"IF(B590<>\"\",VLOOKUP(B590,'Liste inscrits'!$A:$AD,8,FALSE),\"\")","v":""},{"$f":"IF(B590<>\"\",VLOOKUP(B590,'Liste inscrits'!$A:$AD,7,FALSE),\"\")","v":""},null,{"$f":"IF(B590<>\"\",VLOOKUP(B590,'Liste inscrits'!$A:$AD,10,FALSE),\"\")","v":""},"ARA",1,{"$f":"IF(B590<>\"\",VLOOKUP(B590,'Liste inscrits'!$A:$AD,11,FALSE),\"\")","v":""},{"$f":"IF(B590<>\"\",VLOOKUP(B590,'Liste inscrits'!$A:$AD,12,FALSE),\"\")","v":""}]
[{"$f":"IF(B590<>\"\",VLOOKUP(B590,'Liste inscrits'!$A:$AD,14,FALSE),\"\")","v":""},{"$f":"IF(B590<>\"\",VLOOKUP(B590,'Liste inscrits'!$A:$AD,13,FALSE),\"\")","v":""},null,{"$f":"IF(B590<>\"\",VLOOKUP(B590,'Liste inscrits'!$A:$AD,16,FALSE),\"\")","v":""},"ARA",1,{"$f":"IF(B590<>\"\",VLOOKUP(B590,'Liste inscrits'!$A:$AD,17,FALSE),\"\")","v":""},{"$f":"IF(B590<>\"\",VLOOKUP(B590,'Liste inscrits'!$A:$AD,18,FALSE),\"\")","v":""}]
[]
["Nb parties gagnées\ndans les poules",{"$f":"IF(ISERROR(VLOOKUP(B590&G590&H590,'Liste inscrits'!AH:AJ,1,FALSE)),\"\",VLOOKUP(B590&G590&H590,'Liste inscrits'!AH:AJ,3,FALSE))","v":""},"Classement \ndans la poule ",{"$f":"IF(ISERROR(VLOOKUP(B590&G590&H590,'Liste inscrits'!AH:AU,1,FALSE)),\"\",VLOOKUP(B590&G590&H590,'Liste inscrits'!AH:AU,14,FALSE)&\"  /  \"&VLOOKUP(B590&G590&H590,'Liste inscrits'!AH:AU,13,FALSE))","v":"  /  "},"Nb de parties gagnées \naprès les poules ",null,null,{"$f":"IF(ISERROR(VLOOKUP(B590&G590&H590,'Liste inscrits'!AH:AS,1,FALSE)),\"\",VLOOKUP(B590&G590&H590,'Liste inscrits'!AH:AS,11,FALSE))","v":""}]
[]
[]
["C.B.D. AIN",null,{"$f":"$C$2","v":0},null,null,null,null,{"$f":"$H$2","v":0}]
[]
["SECTEUR :",{"$f":"$B$4","v":{"$error":"#VALUE!"}},null,"Lieu de la compétition :",{"$f":"$E$4","v":0}]
[]
["Date : ",{"$f":"$B$6","v":0},null,null,"Nombre total d'équipes participantes ",null,null,null,{"$f":"$I$6","v":0}]
[]
["N° de LICENCE","NOM                     PRENOM\nen lettres capitales",null,"DIV","CR","CBD","N° \nSEC","N° \nASB","Qual. \nChpt AIN"]
[{"$f":"IF(B604<>\"\",VLOOKUP(B604,'Liste inscrits'!$A:$AD,2,FALSE),\"\")","v":""},{"$f":"IF(OFFSET('Liste inscrits'!$A$1,INT(ROW()/35)*4+(ROW()-INT(ROW()/35)*35)/7,0)<>\"\",OFFSET('Liste inscrits'!$A$1,INT(ROW()/35)*4+(ROW()-INT(ROW()/35)*35)/7,0),\"\")","v":""},null,{"$f":"IF(B604<>\"\",VLOOKUP(B604,'Liste inscrits'!$A:$AD,4,FALSE),\"\")","v":""},"ARA",1,{"$f":"IF(B604<>\"\",VLOOKUP(B604,'Liste inscrits'!$A:$AD,5,FALSE),\"\")","v":""},{"$f":"IF(B604<>\"\",VLOOKUP(B604,'Liste inscrits'!$A:$AD,6,FALSE),\"\")","v":""}]
[{"$f":"IF(B604<>\"\",VLOOKUP(B604,'Liste inscrits'!$A:$AD,8,FALSE),\"\")","v":""},{"$f":"IF(B604<>\"\",VLOOKUP(B604,'Liste inscrits'!$A:$AD,7,FALSE),\"\")","v":""},null,{"$f":"IF(B604<>\"\",VLOOKUP(B604,'Liste inscrits'!$A:$AD,10,FALSE),\"\")","v":""},"ARA",1,{"$f":"IF(B604<>\"\",VLOOKUP(B604,'Liste inscrits'!$A:$AD,11,FALSE),\"\")","v":""},{"$f":"IF(B604<>\"\",VLOOKUP(B604,'Liste inscrits'!$A:$AD,12,FALSE),\"\")","v":""}]
[{"$f":"IF(B604<>\"\",VLOOKUP(B604,'Liste inscrits'!$A:$AD,14,FALSE),\"\")","v":""},{"$f":"IF(B604<>\"\",VLOOKUP(B604,'Liste inscrits'!$A:$AD,13,FALSE),\"\")","v":""},null,{"$f":"IF(B604<>\"\",VLOOKUP(B604,'Liste inscrits'!$A:$AD,16,FALSE),\"\")","v":""},"ARA",1,{"$f":"IF(B604<>\"\",VLOOKUP(B604,'Liste inscrits'!$A:$AD,17,FALSE),\"\")","v":""},{"$f":"IF(B604<>\"\",VLOOKUP(B604,'Liste inscrits'!$A:$AD,18,FALSE),\"\")","v":""}]
[]
["Nb parties gagnées\ndans les poules",{"$f":"IF(ISERROR(VLOOKUP(B604&G604&H604,'Liste inscrits'!AH:AJ,1,FALSE)),\"\",VLOOKUP(B604&G604&H604,'Liste inscrits'!AH:AJ,3,FALSE))","v":""},"Classement \ndans la poule ",{"$f":"IF(ISERROR(VLOOKUP(B604&G604&H604,'Liste inscrits'!AH:AU,1,FALSE)),\"\",VLOOKUP(B604&G604&H604,'Liste inscrits'!AH:AU,14,FALSE)&\"  /  \"&VLOOKUP(B604&G604&H604,'Liste inscrits'!AH:AU,13,FALSE))","v":"  /  "},"Nb de parties gagnées \naprès les poules ",null,null,{"$f":"IF(ISERROR(VLOOKUP(B604&G604&H604,'Liste inscrits'!AH:AS,1,FALSE)),\"\",VLOOKUP(B604&G604&H604,'Liste inscrits'!AH:AS,11,FALSE))","v":""}]
[]
["N° de LICENCE","NOM                     PRENOM\nen lettres capitales",null,"DIV","CR","CBD","N° \nSEC","N° \nASB","Qual. \nChpt AIN"]
[{"$f":"IF(B611<>\"\",VLOOKUP(B611,'Liste inscrits'!$A:$AD,2,FALSE),\"\")","v":""},{"$f":"IF(OFFSET('Liste inscrits'!$A$1,INT(ROW()/35)*4+(ROW()-INT(ROW()/35)*35)/7,0)<>\"\",OFFSET('Liste inscrits'!$A$1,INT(ROW()/35)*4+(ROW()-INT(ROW()/35)*35)/7,0),\"\")","v":""},null,{"$f":"IF(B611<>\"\",VLOOKUP(B611,'Liste inscrits'!$A:$AD,4,FALSE),\"\")","v":""},"ARA",1,{"$f":"IF(B611<>\"\",VLOOKUP(B611,'Liste inscrits'!$A:$AD,5,FALSE),\"\")","v":""},{"$f":"IF(B611<>\"\",VLOOKUP(B611,'Liste inscrits'!$A:$AD,6,FALSE),\"\")","v":""}]
[{"$f":"IF(B611<>\"\",VLOOKUP(B611,'Liste inscrits'!$A:$AD,8,FALSE),\"\")","v":""},{"$f":"IF(B611<>\"\",VLOOKUP(B611,'Liste inscrits'!$A:$AD,7,FALSE),\"\")","v":""},null,{"$f":"IF(B611<>\"\",VLOOKUP(B611,'Liste inscrits'!$A:$AD,10,FALSE),\"\")","v":""},"ARA",1,{"$f":"IF(B611<>\"\",VLOOKUP(B611,'Liste inscrits'!$A:$AD,11,FALSE),\"\")","v":""},{"$f":"IF(B611<>\"\",VLOOKUP(B611,'Liste inscrits'!$A:$AD,12,FALSE),\"\")","v":""}]
[{"$f":"IF(B611<>\"\",VLOOKUP(B611,'Liste inscrits'!$A:$AD,14,FALSE),\"\")","v":""},{"$f":"IF(B611<>\"\",VLOOKUP(B611,'Liste inscrits'!$A:$AD,13,FALSE),\"\")","v":""},null,{"$f":"IF(B611<>\"\",VLOOKUP(B611,'Liste inscrits'!$A:$AD,16,FALSE),\"\")","v":""},"ARA",1,{"$f":"IF(B611<>\"\",VLOOKUP(B611,'Liste inscrits'!$A:$AD,17,FALSE),\"\")","v":""},{"$f":"IF(B611<>\"\",VLOOKUP(B611,'Liste inscrits'!$A:$AD,18,FALSE),\"\")","v":""}]
[]
["Nb parties gagnées\ndans les poules",{"$f":"IF(ISERROR(VLOOKUP(B611&G611&H611,'Liste inscrits'!AH:AJ,1,FALSE)),\"\",VLOOKUP(B611&G611&H611,'Liste inscrits'!AH:AJ,3,FALSE))","v":""},"Classement \ndans la poule ",{"$f":"IF(ISERROR(VLOOKUP(B611&G611&H611,'Liste inscrits'!AH:AU,1,FALSE)),\"\",VLOOKUP(B611&G611&H611,'Liste inscrits'!AH:AU,14,FALSE)&\"  /  \"&VLOOKUP(B611&G611&H611,'Liste inscrits'!AH:AU,13,FALSE))","v":"  /  "},"Nb de parties gagnées \naprès les poules ",null,null,{"$f":"IF(ISERROR(VLOOKUP(B611&G611&H611,'Liste inscrits'!AH:AS,1,FALSE)),\"\",VLOOKUP(B611&G611&H611,'Liste inscrits'!AH:AS,11,FALSE))","v":""}]
[]
["N° de LICENCE","NOM                     PRENOM\nen lettres capitales",null,"DIV","CR","CBD","N° \nSEC","N° \nASB","Qual. \nChpt AIN"]
[{"$f":"IF(B618<>\"\",VLOOKUP(B618,'Liste inscrits'!$A:$AD,2,FALSE),\"\")","v":""},{"$f":"IF(OFFSET('Liste inscrits'!$A$1,INT(ROW()/35)*4+(ROW()-INT(ROW()/35)*35)/7,0)<>\"\",OFFSET('Liste inscrits'!$A$1,INT(ROW()/35)*4+(ROW()-INT(ROW()/35)*35)/7,0),\"\")","v":""},null,{"$f":"IF(B618<>\"\",VLOOKUP(B618,'Liste inscrits'!$A:$AD,4,FALSE),\"\")","v":""},"ARA",1,{"$f":"IF(B618<>\"\",VLOOKUP(B618,'Liste inscrits'!$A:$AD,5,FALSE),\"\")","v":""},{"$f":"IF(B618<>\"\",VLOOKUP(B618,'Liste inscrits'!$A:$AD,6,FALSE),\"\")","v":""}]
[{"$f":"IF(B618<>\"\",VLOOKUP(B618,'Liste inscrits'!$A:$AD,8,FALSE),\"\")","v":""},{"$f":"IF(B618<>\"\",VLOOKUP(B618,'Liste inscrits'!$A:$AD,7,FALSE),\"\")","v":""},null,{"$f":"IF(B618<>\"\",VLOOKUP(B618,'Liste inscrits'!$A:$AD,10,FALSE),\"\")","v":""},"ARA",1,{"$f":"IF(B618<>\"\",VLOOKUP(B618,'Liste inscrits'!$A:$AD,11,FALSE),\"\")","v":""},{"$f":"IF(B618<>\"\",VLOOKUP(B618,'Liste inscrits'!$A:$AD,12,FALSE),\"\")","v":""}]
[{"$f":"IF(B618<>\"\",VLOOKUP(B618,'Liste inscrits'!$A:$AD,14,FALSE),\"\")","v":""},{"$f":"IF(B618<>\"\",VLOOKUP(B618,'Liste inscrits'!$A:$AD,13,FALSE),\"\")","v":""},null,{"$f":"IF(B618<>\"\",VLOOKUP(B618,'Liste inscrits'!$A:$AD,16,FALSE),\"\")","v":""},"ARA",1,{"$f":"IF(B618<>\"\",VLOOKUP(B618,'Liste inscrits'!$A:$AD,17,FALSE),\"\")","v":""},{"$f":"IF(B618<>\"\",VLOOKUP(B618,'Liste inscrits'!$A:$AD,18,FALSE),\"\")","v":""}]
[]
["Nb parties gagnées\ndans les poules",{"$f":"IF(ISERROR(VLOOKUP(B618&G618&H618,'Liste inscrits'!AH:AJ,1,FALSE)),\"\",VLOOKUP(B618&G618&H618,'Liste inscrits'!AH:AJ,3,FALSE))","v":""},"Classement \ndans la poule ",{"$f":"IF(ISERROR(VLOOKUP(B618&G618&H618,'Liste inscrits'!AH:AU,1,FALSE)),\"\",VLOOKUP(B618&G618&H618,'Liste inscrits'!AH:AU,14,FALSE)&\"  /  \"&VLOOKUP(B618&G618&H618,'Liste inscrits'!AH:AU,13,FALSE))","v":"  /  "},"Nb de parties gagnées \naprès les poules ",null,null,{"$f":"IF(ISERROR(VLOOKUP(B618&G618&H618,'Liste inscrits'!AH:AS,1,FALSE)),\"\",VLOOKUP(B618&G618&H618,'Liste inscrits'!AH:AS,11,FALSE))","v":""}]
[]
["N° de LICENCE","NOM                     PRENOM\nen lettres capitales",null,"DIV","CR","CBD","N° \nSEC","N° \nASB","Qual. \nChpt AIN"]
[{"$f":"IF(B625<>\"\",VLOOKUP(B625,'Liste inscrits'!$A:$AD,2,FALSE),\"\")","v":""},{"$f":"IF(OFFSET('Liste inscrits'!$A$1,INT(ROW()/35)*4+(ROW()-INT(ROW()/35)*35)/7,0)<>\"\",OFFSET('Liste inscrits'!$A$1,INT(ROW()/35)*4+(ROW()-INT(ROW()/35)*35)/7,0),\"\")","v":""},null,{"$f":"IF(B625<>\"\",VLOOKUP(B625,'Liste inscrits'!$A:$AD,4,FALSE),\"\")","v":""},"ARA",1,{"$f":"IF(B625<>\"\",VLOOKUP(B625,'Liste inscrits'!$A:$AD,5,FALSE),\"\")","v":""},{"$f":"IF(B625<>\"\",VLOOKUP(B625,'Liste inscrits'!$A:$AD,6,FALSE),\"\")","v":""}]
[{"$f":"IF(B625<>\"\",VLOOKUP(B625,'Liste inscrits'!$A:$AD,8,FALSE),\"\")","v":""},{"$f":"IF(B625<>\"\",VLOOKUP(B625,'Liste inscrits'!$A:$AD,7,FALSE),\"\")","v":""},null,{"$f":"IF(B625<>\"\",VLOOKUP(B625,'Liste inscrits'!$A:$AD,10,FALSE),\"\")","v":""},"ARA",1,{"$f":"IF(B625<>\"\",VLOOKUP(B625,'Liste inscrits'!$A:$AD,11,FALSE),\"\")","v":""},{"$f":"IF(B625<>\"\",VLOOKUP(B625,'Liste inscrits'!$A:$AD,12,FALSE),\"\")","v":""}]
[{"$f":"IF(B625<>\"\",VLOOKUP(B625,'Liste inscrits'!$A:$AD,14,FALSE),\"\")","v":""},{"$f":"IF(B625<>\"\",VLOOKUP(B625,'Liste inscrits'!$A:$AD,13,FALSE),\"\")","v":""},null,{"$f":"IF(B625<>\"\",VLOOKUP(B625,'Liste inscrits'!$A:$AD,16,FALSE),\"\")","v":""},"ARA",1,{"$f":"IF(B625<>\"\",VLOOKUP(B625,'Liste inscrits'!$A:$AD,17,FALSE),\"\")","v":""},{"$f":"IF(B625<>\"\",VLOOKUP(B625,'Liste inscrits'!$A:$AD,18,FALSE),\"\")","v":""}]
[]
["Nb parties gagnées\ndans les poules",{"$f":"IF(ISERROR(VLOOKUP(B625&G625&H625,'Liste inscrits'!AH:AJ,1,FALSE)),\"\",VLOOKUP(B625&G625&H625,'Liste inscrits'!AH:AJ,3,FALSE))","v":""},"Classement \ndans la poule ",{"$f":"IF(ISERROR(VLOOKUP(B625&G625&H625,'Liste inscrits'!AH:AU,1,FALSE)),\"\",VLOOKUP(B625&G625&H625,'Liste inscrits'!AH:AU,14,FALSE)&\"  /  \"&VLOOKUP(B625&G625&H625,'Liste inscrits'!AH:AU,13,FALSE))","v":"  /  "},"Nb de parties gagnées \naprès les poules ",null,null,{"$f":"IF(ISERROR(VLOOKUP(B625&G625&H625,'Liste inscrits'!AH:AS,1,FALSE)),\"\",VLOOKUP(B625&G625&H625,'Liste inscrits'!AH:AS,11,FALSE))","v":""}]
[]
[]
["C.B.D. AIN",null,{"$f":"$C$2","v":0},null,null,null,null,{"$f":"$H$2","v":0}]
[]
["SECTEUR :",{"$f":"$B$4","v":{"$error":"#VALUE!"}},null,"Lieu de la compétition :",{"$f":"$E$4","v":0}]
[]
["Date : ",{"$f":"$B$6","v":0},null,null,"Nombre total d'équipes participantes ",null,null,null,{"$f":"$I$6","v":0}]
[]
["N° de LICENCE","NOM                     PRENOM\nen lettres capitales",null,"DIV","CR","CBD","N° \nSEC","N° \nASB","Qual. \nChpt AIN"]
[{"$f":"IF(B639<>\"\",VLOOKUP(B639,'Liste inscrits'!$A:$AD,2,FALSE),\"\")","v":""},{"$f":"IF(OFFSET('Liste inscrits'!$A$1,INT(ROW()/35)*4+(ROW()-INT(ROW()/35)*35)/7,0)<>\"\",OFFSET('Liste inscrits'!$A$1,INT(ROW()/35)*4+(ROW()-INT(ROW()/35)*35)/7,0),\"\")","v":""},null,{"$f":"IF(B639<>\"\",VLOOKUP(B639,'Liste inscrits'!$A:$AD,4,FALSE),\"\")","v":""},"ARA",1,{"$f":"IF(B639<>\"\",VLOOKUP(B639,'Liste inscrits'!$A:$AD,5,FALSE),\"\")","v":""},{"$f":"IF(B639<>\"\",VLOOKUP(B639,'Liste inscrits'!$A:$AD,6,FALSE),\"\")","v":""}]
[{"$f":"IF(B639<>\"\",VLOOKUP(B639,'Liste inscrits'!$A:$AD,8,FALSE),\"\")","v":""},{"$f":"IF(B639<>\"\",VLOOKUP(B639,'Liste inscrits'!$A:$AD,7,FALSE),\"\")","v":""},null,{"$f":"IF(B639<>\"\",VLOOKUP(B639,'Liste inscrits'!$A:$AD,10,FALSE),\"\")","v":""},"ARA",1,{"$f":"IF(B639<>\"\",VLOOKUP(B639,'Liste inscrits'!$A:$AD,11,FALSE),\"\")","v":""},{"$f":"IF(B639<>\"\",VLOOKUP(B639,'Liste inscrits'!$A:$AD,12,FALSE),\"\")","v":""}]
[{"$f":"IF(B639<>\"\",VLOOKUP(B639,'Liste inscrits'!$A:$AD,14,FALSE),\"\")","v":""},{"$f":"IF(B639<>\"\",VLOOKUP(B639,'Liste inscrits'!$A:$AD,13,FALSE),\"\")","v":""},null,{"$f":"IF(B639<>\"\",VLOOKUP(B639,'Liste inscrits'!$A:$AD,16,FALSE),\"\")","v":""},"ARA",1,{"$f":"IF(B639<>\"\",VLOOKUP(B639,'Liste inscrits'!$A:$AD,17,FALSE),\"\")","v":""},{"$f":"IF(B639<>\"\",VLOOKUP(B639,'Liste inscrits'!$A:$AD,18,FALSE),\"\")","v":""}]
[]
["Nb parties gagnées\ndans les poules",{"$f":"IF(ISERROR(VLOOKUP(B639&G639&H639,'Liste inscrits'!AH:AJ,1,FALSE)),\"\",VLOOKUP(B639&G639&H639,'Liste inscrits'!AH:AJ,3,FALSE))","v":""},"Classement \ndans la poule ",{"$f":"IF(ISERROR(VLOOKUP(B639&G639&H639,'Liste inscrits'!AH:AU,1,FALSE)),\"\",VLOOKUP(B639&G639&H639,'Liste inscrits'!AH:AU,14,FALSE)&\"  /  \"&VLOOKUP(B639&G639&H639,'Liste inscrits'!AH:AU,13,FALSE))","v":"  /  "},"Nb de parties gagnées \naprès les poules ",null,null,{"$f":"IF(ISERROR(VLOOKUP(B639&G639&H639,'Liste inscrits'!AH:AS,1,FALSE)),\"\",VLOOKUP(B639&G639&H639,'Liste inscrits'!AH:AS,11,FALSE))","v":""}]
[]
["N° de LICENCE","NOM                     PRENOM\nen lettres capitales",null,"DIV","CR","CBD","N° \nSEC","N° \nASB","Qual. \nChpt AIN"]
[{"$f":"IF(B646<>\"\",VLOOKUP(B646,'Liste inscrits'!$A:$AD,2,FALSE),\"\")","v":""},{"$f":"IF(OFFSET('Liste inscrits'!$A$1,INT(ROW()/35)*4+(ROW()-INT(ROW()/35)*35)/7,0)<>\"\",OFFSET('Liste inscrits'!$A$1,INT(ROW()/35)*4+(ROW()-INT(ROW()/35)*35)/7,0),\"\")","v":""},null,{"$f":"IF(B646<>\"\",VLOOKUP(B646,'Liste inscrits'!$A:$AD,4,FALSE),\"\")","v":""},"ARA",1,{"$f":"IF(B646<>\"\",VLOOKUP(B646,'Liste inscrits'!$A:$AD,5,FALSE),\"\")","v":""},{"$f":"IF(B646<>\"\",VLOOKUP(B646,'Liste inscrits'!$A:$AD,6,FALSE),\"\")","v":""}]
[{"$f":"IF(B646<>\"\",VLOOKUP(B646,'Liste inscrits'!$A:$AD,8,FALSE),\"\")","v":""},{"$f":"IF(B646<>\"\",VLOOKUP(B646,'Liste inscrits'!$A:$AD,7,FALSE),\"\")","v":""},null,{"$f":"IF(B646<>\"\",VLOOKUP(B646,'Liste inscrits'!$A:$AD,10,FALSE),\"\")","v":""},"ARA",1,{"$f":"IF(B646<>\"\",VLOOKUP(B646,'Liste inscrits'!$A:$AD,11,FALSE),\"\")","v":""},{"$f":"IF(B646<>\"\",VLOOKUP(B646,'Liste inscrits'!$A:$AD,12,FALSE),\"\")","v":""}]
[{"$f":"IF(B646<>\"\",VLOOKUP(B646,'Liste inscrits'!$A:$AD,14,FALSE),\"\")","v":""},{"$f":"IF(B646<>\"\",VLOOKUP(B646,'Liste inscrits'!$A:$AD,13,FALSE),\"\")","v":""},null,{"$f":"IF(B646<>\"\",VLOOKUP(B646,'Liste inscrits'!$A:$AD,16,FALSE),\"\")","v":""},"ARA",1,{"$f":"IF(B646<>\"\",VLOOKUP(B646,'Liste inscrits'!$A:$AD,17,FALSE),\"\")","v":""},{"$f":"IF(B646<>\"\",VLOOKUP(B646,'Liste inscrits'!$A:$AD,18,FALSE),\"\")","v":""}]
[]
["Nb parties gagnées\ndans les poules",{"$f":"IF(ISERROR(VLOOKUP(B646&G646&H646,'Liste inscrits'!AH:AJ,1,FALSE)),\"\",VLOOKUP(B646&G646&H646,'Liste inscrits'!AH:AJ,3,FALSE))","v":""},"Classement \ndans la poule ",{"$f":"IF(ISERROR(VLOOKUP(B646&G646&H646,'Liste inscrits'!AH:AU,1,FALSE)),\"\",VLOOKUP(B646&G646&H646,'Liste inscrits'!AH:AU,14,FALSE)&\"  /  \"&VLOOKUP(B646&G646&H646,'Liste inscrits'!AH:AU,13,FALSE))","v":"  /  "},"Nb de parties gagnées \naprès les poules ",null,null,{"$f":"IF(ISERROR(VLOOKUP(B646&G646&H646,'Liste inscrits'!AH:AS,1,FALSE)),\"\",VLOOKUP(B646&G646&H646,'Liste inscrits'!AH:AS,11,FALSE))","v":""}]
[]
["N° de LICENCE","NOM                     PRENOM\nen lettres capitales",null,"DIV","CR","CBD","N° \nSEC","N° \nASB","Qual. \nChpt AIN"]
[{"$f":"IF(B653<>\"\",VLOOKUP(B653,'Liste inscrits'!$A:$AD,2,FALSE),\"\")","v":""},{"$f":"IF(OFFSET('Liste inscrits'!$A$1,INT(ROW()/35)*4+(ROW()-INT(ROW()/35)*35)/7,0)<>\"\",OFFSET('Liste inscrits'!$A$1,INT(ROW()/35)*4+(ROW()-INT(ROW()/35)*35)/7,0),\"\")","v":""},null,{"$f":"IF(B653<>\"\",VLOOKUP(B653,'Liste inscrits'!$A:$AD,4,FALSE),\"\")","v":""},"ARA",1,{"$f":"IF(B653<>\"\",VLOOKUP(B653,'Liste inscrits'!$A:$AD,5,FALSE),\"\")","v":""},{"$f":"IF(B653<>\"\",VLOOKUP(B653,'Liste inscrits'!$A:$AD,6,FALSE),\"\")","v":""}]
[{"$f":"IF(B653<>\"\",VLOOKUP(B653,'Liste inscrits'!$A:$AD,8,FALSE),\"\")","v":""},{"$f":"IF(B653<>\"\",VLOOKUP(B653,'Liste inscrits'!$A:$AD,7,FALSE),\"\")","v":""},null,{"$f":"IF(B653<>\"\",VLOOKUP(B653,'Liste inscrits'!$A:$AD,10,FALSE),\"\")","v":""},"ARA",1,{"$f":"IF(B653<>\"\",VLOOKUP(B653,'Liste inscrits'!$A:$AD,11,FALSE),\"\")","v":""},{"$f":"IF(B653<>\"\",VLOOKUP(B653,'Liste inscrits'!$A:$AD,12,FALSE),\"\")","v":""}]
[{"$f":"IF(B653<>\"\",VLOOKUP(B653,'Liste inscrits'!$A:$AD,14,FALSE),\"\")","v":""},{"$f":"IF(B653<>\"\",VLOOKUP(B653,'Liste inscrits'!$A:$AD,13,FALSE),\"\")","v":""},null,{"$f":"IF(B653<>\"\",VLOOKUP(B653,'Liste inscrits'!$A:$AD,16,FALSE),\"\")","v":""},"ARA",1,{"$f":"IF(B653<>\"\",VLOOKUP(B653,'Liste inscrits'!$A:$AD,17,FALSE),\"\")","v":""},{"$f":"IF(B653<>\"\",VLOOKUP(B653,'Liste inscrits'!$A:$AD,18,FALSE),\"\")","v":""}]
[]
["Nb parties gagnées\ndans les poules",{"$f":"IF(ISERROR(VLOOKUP(B653&G653&H653,'Liste inscrits'!AH:AJ,1,FALSE)),\"\",VLOOKUP(B653&G653&H653,'Liste inscrits'!AH:AJ,3,FALSE))","v":""},"Classement \ndans la poule ",{"$f":"IF(ISERROR(VLOOKUP(B653&G653&H653,'Liste inscrits'!AH:AU,1,FALSE)),\"\",VLOOKUP(B653&G653&H653,'Liste inscrits'!AH:AU,14,FALSE)&\"  /  \"&VLOOKUP(B653&G653&H653,'Liste inscrits'!AH:AU,13,FALSE))","v":"  /  "},"Nb de parties gagnées \naprès les poules ",null,null,{"$f":"IF(ISERROR(VLOOKUP(B653&G653&H653,'Liste inscrits'!AH:AS,1,FALSE)),\"\",VLOOKUP(B653&G653&H653,'Liste inscrits'!AH:AS,11,FALSE))","v":""}]
[]
["N° de LICENCE","NOM                     PRENOM\nen lettres capitales",null,"DIV","CR","CBD","N° \nSEC","N° \nASB","Qual. \nChpt AIN"]
[{"$f":"IF(B660<>\"\",VLOOKUP(B660,'Liste inscrits'!$A:$AD,2,FALSE),\"\")","v":""},{"$f":"IF(OFFSET('Liste inscrits'!$A$1,INT(ROW()/35)*4+(ROW()-INT(ROW()/35)*35)/7,0)<>\"\",OFFSET('Liste inscrits'!$A$1,INT(ROW()/35)*4+(ROW()-INT(ROW()/35)*35)/7,0),\"\")","v":""},null,{"$f":"IF(B660<>\"\",VLOOKUP(B660,'Liste inscrits'!$A:$AD,4,FALSE),\"\")","v":""},"ARA",1,{"$f":"IF(B660<>\"\",VLOOKUP(B660,'Liste inscrits'!$A:$AD,5,FALSE),\"\")","v":""},{"$f":"IF(B660<>\"\",VLOOKUP(B660,'Liste inscrits'!$A:$AD,6,FALSE),\"\")","v":""}]
[{"$f":"IF(B660<>\"\",VLOOKUP(B660,'Liste inscrits'!$A:$AD,8,FALSE),\"\")","v":""},{"$f":"IF(B660<>\"\",VLOOKUP(B660,'Liste inscrits'!$A:$AD,7,FALSE),\"\")","v":""},null,{"$f":"IF(B660<>\"\",VLOOKUP(B660,'Liste inscrits'!$A:$AD,10,FALSE),\"\")","v":""},"ARA",1,{"$f":"IF(B660<>\"\",VLOOKUP(B660,'Liste inscrits'!$A:$AD,11,FALSE),\"\")","v":""},{"$f":"IF(B660<>\"\",VLOOKUP(B660,'Liste inscrits'!$A:$AD,12,FALSE),\"\")","v":""}]
[{"$f":"IF(B660<>\"\",VLOOKUP(B660,'Liste inscrits'!$A:$AD,14,FALSE),\"\")","v":""},{"$f":"IF(B660<>\"\",VLOOKUP(B660,'Liste inscrits'!$A:$AD,13,FALSE),\"\")","v":""},null,{"$f":"IF(B660<>\"\",VLOOKUP(B660,'Liste inscrits'!$A:$AD,16,FALSE),\"\")","v":""},"ARA",1,{"$f":"IF(B660<>\"\",VLOOKUP(B660,'Liste inscrits'!$A:$AD,17,FALSE),\"\")","v":""},{"$f":"IF(B660<>\"\",VLOOKUP(B660,'Liste inscrits'!$A:$AD,18,FALSE),\"\")","v":""}]
[]
["Nb parties gagnées\ndans les poules",{"$f":"IF(ISERROR(VLOOKUP(B660&G660&H660,'Liste inscrits'!AH:AJ,1,FALSE)),\"\",VLOOKUP(B660&G660&H660,'Liste inscrits'!AH:AJ,3,FALSE))","v":""},"Classement \ndans la poule ",{"$f":"IF(ISERROR(VLOOKUP(B660&G660&H660,'Liste inscrits'!AH:AU,1,FALSE)),\"\",VLOOKUP(B660&G660&H660,'Liste inscrits'!AH:AU,14,FALSE)&\"  /  \"&VLOOKUP(B660&G660&H660,'Liste inscrits'!AH:AU,13,FALSE))","v":"  /  "},"Nb de parties gagnées \naprès les poules ",null,null,{"$f":"IF(ISERROR(VLOOKUP(B660&G660&H660,'Liste inscrits'!AH:AS,1,FALSE)),\"\",VLOOKUP(B660&G660&H660,'Liste inscrits'!AH:AS,11,FALSE))","v":""}]
[]
[]
["C.B.D. AIN",null,{"$f":"$C$2","v":0},null,null,null,null,{"$f":"$H$2","v":0}]
[]
["SECTEUR :",{"$f":"$B$4","v":{"$error":"#VALUE!"}},null,"Lieu de la compétition :",{"$f":"$E$4","v":0}]
[]
["Date : ",{"$f":"$B$6","v":0},null,null,"Nombre total d'équipes participantes ",null,null,null,{"$f":"$I$6","v":0}]
[]
["N° de LICENCE","NOM                     PRENOM\nen lettres capitales",null,"DIV","CR","CBD","N° \nSEC","N° \nASB","Qual. \nChpt AIN"]
[{"$f":"IF(B674<>\"\",VLOOKUP(B674,'Liste inscrits'!$A:$AD,2,FALSE),\"\")","v":""},{"$f":"IF(OFFSET('Liste inscrits'!$A$1,INT(ROW()/35)*4+(ROW()-INT(ROW()/35)*35)/7,0)<>\"\",OFFSET('Liste inscrits'!$A$1,INT(ROW()/35)*4+(ROW()-INT(ROW()/35)*35)/7,0),\"\")","v":""},null,{"$f":"IF(B674<>\"\",VLOOKUP(B674,'Liste inscrits'!$A:$AD,4,FALSE),\"\")","v":""},"ARA",1,{"$f":"IF(B674<>\"\",VLOOKUP(B674,'Liste inscrits'!$A:$AD,5,FALSE),\"\")","v":""},{"$f":"IF(B674<>\"\",VLOOKUP(B674,'Liste inscrits'!$A:$AD,6,FALSE),\"\")","v":""}]
[{"$f":"IF(B674<>\"\",VLOOKUP(B674,'Liste inscrits'!$A:$AD,8,FALSE),\"\")","v":""},{"$f":"IF(B674<>\"\",VLOOKUP(B674,'Liste inscrits'!$A:$AD,7,FALSE),\"\")","v":""},null,{"$f":"IF(B674<>\"\",VLOOKUP(B674,'Liste inscrits'!$A:$AD,10,FALSE),\"\")","v":""},"ARA",1,{"$f":"IF(B674<>\"\",VLOOKUP(B674,'Liste inscrits'!$A:$AD,11,FALSE),\"\")","v":""},{"$f":"IF(B674<>\"\",VLOOKUP(B674,'Liste inscrits'!$A:$AD,12,FALSE),\"\")","v":""}]
[{"$f":"IF(B674<>\"\",VLOOKUP(B674,'Liste inscrits'!$A:$AD,14,FALSE),\"\")","v":""},{"$f":"IF(B674<>\"\",VLOOKUP(B674,'Liste inscrits'!$A:$AD,13,FALSE),\"\")","v":""},null,{"$f":"IF(B674<>\"\",VLOOKUP(B674,'Liste inscrits'!$A:$AD,16,FALSE),\"\")","v":""},"ARA",1,{"$f":"IF(B674<>\"\",VLOOKUP(B674,'Liste inscrits'!$A:$AD,17,FALSE),\"\")","v":""},{"$f":"IF(B674<>\"\",VLOOKUP(B674,'Liste inscrits'!$A:$AD,18,FALSE),\"\")","v":""}]
[]
["Nb parties gagnées\ndans les poules",{"$f":"IF(ISERROR(VLOOKUP(B674&G674&H674,'Liste inscrits'!AH:AJ,1,FALSE)),\"\",VLOOKUP(B674&G674&H674,'Liste inscrits'!AH:AJ,3,FALSE))","v":""},"Classement \ndans la poule ",{"$f":"IF(ISERROR(VLOOKUP(B674&G674&H674,'Liste inscrits'!AH:AU,1,FALSE)),\"\",VLOOKUP(B674&G674&H674,'Liste inscrits'!AH:AU,14,FALSE)&\"  /  \"&VLOOKUP(B674&G674&H674,'Liste inscrits'!AH:AU,13,FALSE))","v":"  /  "},"Nb de parties gagnées \naprès les poules ",null,null,{"$f":"IF(ISERROR(VLOOKUP(B674&G674&H674,'Liste inscrits'!AH:AS,1,FALSE)),\"\",VLOOKUP(B674&G674&H674,'Liste inscrits'!AH:AS,11,FALSE))","v":""}]
[]
["N° de LICENCE","NOM                     PRENOM\nen lettres capitales",null,"DIV","CR","CBD","N° \nSEC","N° \nASB","Qual. \nChpt AIN"]
[{"$f":"IF(B681<>\"\",VLOOKUP(B681,'Liste inscrits'!$A:$AD,2,FALSE),\"\")","v":""},{"$f":"IF(OFFSET('Liste inscrits'!$A$1,INT(ROW()/35)*4+(ROW()-INT(ROW()/35)*35)/7,0)<>\"\",OFFSET('Liste inscrits'!$A$1,INT(ROW()/35)*4+(ROW()-INT(ROW()/35)*35)/7,0),\"\")","v":""},null,{"$f":"IF(B681<>\"\",VLOOKUP(B681,'Liste inscrits'!$A:$AD,4,FALSE),\"\")","v":""},"ARA",1,{"$f":"IF(B681<>\"\",VLOOKUP(B681,'Liste inscrits'!$A:$AD,5,FALSE),\"\")","v":""},{"$f":"IF(B681<>\"\",VLOOKUP(B681,'Liste inscrits'!$A:$AD,6,FALSE),\"\")","v":""}]
[{"$f":"IF(B681<>\"\",VLOOKUP(B681,'Liste inscrits'!$A:$AD,8,FALSE),\"\")","v":""},{"$f":"IF(B681<>\"\",VLOOKUP(B681,'Liste inscrits'!$A:$AD,7,FALSE),\"\")","v":""},null,{"$f":"IF(B681<>\"\",VLOOKUP(B681,'Liste inscrits'!$A:$AD,10,FALSE),\"\")","v":""},"ARA",1,{"$f":"IF(B681<>\"\",VLOOKUP(B681,'Liste inscrits'!$A:$AD,11,FALSE),\"\")","v":""},{"$f":"IF(B681<>\"\",VLOOKUP(B681,'Liste inscrits'!$A:$AD,12,FALSE),\"\")","v":""}]
[{"$f":"IF(B681<>\"\",VLOOKUP(B681,'Liste inscrits'!$A:$AD,14,FALSE),\"\")","v":""},{"$f":"IF(B681<>\"\",VLOOKUP(B681,'Liste inscrits'!$A:$AD,13,FALSE),\"\")","v":""},null,{"$f":"IF(B681<>\"\",VLOOKUP(B681,'Liste inscrits'!$A:$AD,16,FALSE),\"\")","v":""},"ARA",1,{"$f":"IF(B681<>\"\",VLOOKUP(B681,'Liste inscrits'!$A:$AD,17,FALSE),\"\")","v":""},{"$f":"IF(B681<>\"\",VLOOKUP(B681,'Liste inscrits'!$A:$AD,18,FALSE),\"\")","v":""}]
[]
["Nb parties gagnées\ndans les poules",{"$f":"IF(ISERROR(VLOOKUP(B681&G681&H681,'Liste inscrits'!AH:AJ,1,FALSE)),\"\",VLOOKUP(B681&G681&H681,'Liste inscrits'!AH:AJ,3,FALSE))","v":""},"Classement \ndans la poule ",{"$f":"IF(ISERROR(VLOOKUP(B681&G681&H681,'Liste inscrits'!AH:AU,1,FALSE)),\"\",VLOOKUP(B681&G681&H681,'Liste inscrits'!AH:AU,14,FALSE)&\"  /  \"&VLOOKUP(B681&G681&H681,'Liste inscrits'!AH:AU,13,FALSE))","v":"  /  "},"Nb de parties gagnées \naprès les poules ",null,null,{"$f":"IF(ISERROR(VLOOKUP(B681&G681&H681,'Liste inscrits'!AH:AS,1,FALSE)),\"\",VLOOKUP(B681&G681&H681,'Liste inscrits'!AH:AS,11,FALSE))","v":""}]
[]
["N° de LICENCE","NOM                     PRENOM\nen lettres capitales",null,"DIV","CR","CBD","N° \nSEC","N° \nASB","Qual. \nChpt AIN"]
[{"$f":"IF(B688<>\"\",VLOOKUP(B688,'Liste inscrits'!$A:$AD,2,FALSE),\"\")","v":""},{"$f":"IF(OFFSET('Liste inscrits'!$A$1,INT(ROW()/35)*4+(ROW()-INT(ROW()/35)*35)/7,0)<>\"\",OFFSET('Liste inscrits'!$A$1,INT(ROW()/35)*4+(ROW()-INT(ROW()/35)*35)/7,0),\"\")","v":""},null,{"$f":"IF(B688<>\"\",VLOOKUP(B688,'Liste inscrits'!$A:$AD,4,FALSE),\"\")","v":""},"ARA",1,{"$f":"IF(B688<>\"\",VLOOKUP(B688,'Liste inscrits'!$A:$AD,5,FALSE),\"\")","v":""},{"$f":"IF(B688<>\"\",VLOOKUP(B688,'Liste inscrits'!$A:$AD,6,FALSE),\"\")","v":""}]
[{"$f":"IF(B688<>\"\",VLOOKUP(B688,'Liste inscrits'!$A:$AD,8,FALSE),\"\")","v":""},{"$f":"IF(B688<>\"\",VLOOKUP(B688,'Liste inscrits'!$A:$AD,7,FALSE),\"\")","v":""},null,{"$f":"IF(B688<>\"\",VLOOKUP(B688,'Liste inscrits'!$A:$AD,10,FALSE),\"\")","v":""},"ARA",1,{"$f":"IF(B688<>\"\",VLOOKUP(B688,'Liste inscrits'!$A:$AD,11,FALSE),\"\")","v":""},{"$f":"IF(B688<>\"\",VLOOKUP(B688,'Liste inscrits'!$A:$AD,12,FALSE),\"\")","v":""}]
[{"$f":"IF(B688<>\"\",VLOOKUP(B688,'Liste inscrits'!$A:$AD,14,FALSE),\"\")","v":""},{"$f":"IF(B688<>\"\",VLOOKUP(B688,'Liste inscrits'!$A:$AD,13,FALSE),\"\")","v":""},null,{"$f":"IF(B688<>\"\",VLOOKUP(B688,'Liste inscrits'!$A:$AD,16,FALSE),\"\")","v":""},"ARA",1,{"$f":"IF(B688<>\"\",VLOOKUP(B688,'Liste inscrits'!$A:$AD,17,FALSE),\"\")","v":""},{"$f":"IF(B688<>\"\",VLOOKUP(B688,'Liste inscrits'!$A:$AD,18,FALSE),\"\")","v":""}]
[]
["Nb parties gagnées\ndans les poules",{"$f":"IF(ISERROR(VLOOKUP(B688&G688&H688,'Liste inscrits'!AH:AJ,1,FALSE)),\"\",VLOOKUP(B688&G688&H688,'Liste inscrits'!AH:AJ,3,FALSE))","v":""},"Classement \ndans la poule ",{"$f":"IF(ISERROR(VLOOKUP(B688&G688&H688,'Liste inscrits'!AH:AU,1,FALSE)),\"\",VLOOKUP(B688&G688&H688,'Liste inscrits'!AH:AU,14,FALSE)&\"  /  \"&VLOOKUP(B688&G688&H688,'Liste inscrits'!AH:AU,13,FALSE))","v":"  /  "},"Nb de parties gagnées \naprès les poules ",null,null,{"$f":"IF(ISERROR(VLOOKUP(B688&G688&H688,'Liste inscrits'!AH:AS,1,FALSE)),\"\",VLOOKUP(B688&G688&H688,'Liste inscrits'!AH:AS,11,FALSE))","v":""}]
[]
["N° de LICENCE","NOM                     PRENOM\nen lettres capitales",null,"DIV","CR","CBD","N° \nSEC","N° \nASB","Qual. \nChpt AIN"]
[{"$f":"IF(B695<>\"\",VLOOKUP(B695,'Liste inscrits'!$A:$AD,2,FALSE),\"\")","v":""},{"$f":"IF(OFFSET('Liste inscrits'!$A$1,INT(ROW()/35)*4+(ROW()-INT(ROW()/35)*35)/7,0)<>\"\",OFFSET('Liste inscrits'!$A$1,INT(ROW()/35)*4+(ROW()-INT(ROW()/35)*35)/7,0),\"\")","v":""},null,{"$f":"IF(B695<>\"\",VLOOKUP(B695,'Liste inscrits'!$A:$AD,4,FALSE),\"\")","v":""},"ARA",1,{"$f":"IF(B695<>\"\",VLOOKUP(B695,'Liste inscrits'!$A:$AD,5,FALSE),\"\")","v":""},{"$f":"IF(B695<>\"\",VLOOKUP(B695,'Liste inscrits'!$A:$AD,6,FALSE),\"\")","v":""}]
[{"$f":"IF(B695<>\"\",VLOOKUP(B695,'Liste inscrits'!$A:$AD,8,FALSE),\"\")","v":""},{"$f":"IF(B695<>\"\",VLOOKUP(B695,'Liste inscrits'!$A:$AD,7,FALSE),\"\")","v":""},null,{"$f":"IF(B695<>\"\",VLOOKUP(B695,'Liste inscrits'!$A:$AD,10,FALSE),\"\")","v":""},"ARA",1,{"$f":"IF(B695<>\"\",VLOOKUP(B695,'Liste inscrits'!$A:$AD,11,FALSE),\"\")","v":""},{"$f":"IF(B695<>\"\",VLOOKUP(B695,'Liste inscrits'!$A:$AD,12,FALSE),\"\")","v":""}]
[{"$f":"IF(B695<>\"\",VLOOKUP(B695,'Liste inscrits'!$A:$AD,14,FALSE),\"\")","v":""},{"$f":"IF(B695<>\"\",VLOOKUP(B695,'Liste inscrits'!$A:$AD,13,FALSE),\"\")","v":""},null,{"$f":"IF(B695<>\"\",VLOOKUP(B695,'Liste inscrits'!$A:$AD,16,FALSE),\"\")","v":""},"ARA",1,{"$f":"IF(B695<>\"\",VLOOKUP(B695,'Liste inscrits'!$A:$AD,17,FALSE),\"\")","v":""},{"$f":"IF(B695<>\"\",VLOOKUP(B695,'Liste inscrits'!$A:$AD,18,FALSE),\"\")","v":""}]
[]
["Nb parties gagnées\ndans les poules",{"$f":"IF(ISERROR(VLOOKUP(B695&G695&H695,'Liste inscrits'!AH:AJ,1,FALSE)),\"\",VLOOKUP(B695&G695&H695,'Liste inscrits'!AH:AJ,3,FALSE))","v":""},"Classement \ndans la poule ",{"$f":"IF(ISERROR(VLOOKUP(B695&G695&H695,'Liste inscrits'!AH:AU,1,FALSE)),\"\",VLOOKUP(B695&G695&H695,'Liste inscrits'!AH:AU,14,FALSE)&\"  /  \"&VLOOKUP(B695&G695&H695,'Liste inscrits'!AH:AU,13,FALSE))","v":"  /  "},"Nb de parties gagnées \naprès les poules ",null,null,{"$f":"IF(ISERROR(VLOOKUP(B695&G695&H695,'Liste inscrits'!AH:AS,1,FALSE)),\"\",VLOOKUP(B695&G695&H695,'Liste inscrits'!AH:AS,11,FALSE))","v":""}]
[]
[]
["C.B.D. AIN",null,{"$f":"$C$2","v":0},null,null,null,null,{"$f":"$H$2","v":0}]
[]
["SECTEUR :",{"$f":"$B$4","v":{"$error":"#VALUE!"}},null,"Lieu de la compétition :",{"$f":"$E$4","v":0}]
[]
["Date : ",{"$f":"$B$6","v":0},null,null,"Nombre total d'équipes participantes ",null,null,null,{"$f":"$I$6","v":0}]
[]
["N° de LICENCE","NOM                     PRENOM\nen lettres capitales",null,"DIV","CR","CBD","N° \nSEC","N° \nASB","Qual. \nChpt AIN"]
[{"$f":"IF(B709<>\"\",VLOOKUP(B709,'Liste inscrits'!$A:$AD,2,FALSE),\"\")","v":""},{"$f":"IF(OFFSET('Liste inscrits'!$A$1,INT(ROW()/35)*4+(ROW()-INT(ROW()/35)*35)/7,0)<>\"\",OFFSET('Liste inscrits'!$A$1,INT(ROW()/35)*4+(ROW()-INT(ROW()/35)*35)/7,0),\"\")","v":""},null,{"$f":"IF(B709<>\"\",VLOOKUP(B709,'Liste inscrits'!$A:$AD,4,FALSE),\"\")","v":""},"ARA",1,{"$f":"IF(B709<>\"\",VLOOKUP(B709,'Liste inscrits'!$A:$AD,5,FALSE),\"\")","v":""},{"$f":"IF(B709<>\"\",VLOOKUP(B709,'Liste inscrits'!$A:$AD,6,FALSE),\"\")","v":""}]
[{"$f":"IF(B709<>\"\",VLOOKUP(B709,'Liste inscrits'!$A:$AD,8,FALSE),\"\")","v":""},{"$f":"IF(B709<>\"\",VLOOKUP(B709,'Liste inscrits'!$A:$AD,7,FALSE),\"\")","v":""},null,{"$f":"IF(B709<>\"\",VLOOKUP(B709,'Liste inscrits'!$A:$AD,10,FALSE),\"\")","v":""},"ARA",1,{"$f":"IF(B709<>\"\",VLOOKUP(B709,'Liste inscrits'!$A:$AD,11,FALSE),\"\")","v":""},{"$f":"IF(B709<>\"\",VLOOKUP(B709,'Liste inscrits'!$A:$AD,12,FALSE),\"\")","v":""}]
[{"$f":"IF(B709<>\"\",VLOOKUP(B709,'Liste inscrits'!$A:$AD,14,FALSE),\"\")","v":""},{"$f":"IF(B709<>\"\",VLOOKUP(B709,'Liste inscrits'!$A:$AD,13,FALSE),\"\")","v":""},null,{"$f":"IF(B709<>\"\",VLOOKUP(B709,'Liste inscrits'!$A:$AD,16,FALSE),\"\")","v":""},"ARA",1,{"$f":"IF(B709<>\"\",VLOOKUP(B709,'Liste inscrits'!$A:$AD,17,FALSE),\"\")","v":""},{"$f":"IF(B709<>\"\",VLOOKUP(B709,'Liste inscrits'!$A:$AD,18,FALSE),\"\")","v":""}]
[]
["Nb parties gagnées\ndans les poules",{"$f":"IF(ISERROR(VLOOKUP(B709&G709&H709,'Liste inscrits'!AH:AJ,1,FALSE)),\"\",VLOOKUP(B709&G709&H709,'Liste inscrits'!AH:AJ,3,FALSE))","v":""},"Classement \ndans la poule ",{"$f":"IF(ISERROR(VLOOKUP(B709&G709&H709,'Liste inscrits'!AH:AU,1,FALSE)),\"\",VLOOKUP(B709&G709&H709,'Liste inscrits'!AH:AU,14,FALSE)&\"  /  \"&VLOOKUP(B709&G709&H709,'Liste inscrits'!AH:AU,13,FALSE))","v":"  /  "},"Nb de parties gagnées \naprès les poules ",null,null,{"$f":"IF(ISERROR(VLOOKUP(B709&G709&H709,'Liste inscrits'!AH:AS,1,FALSE)),\"\",VLOOKUP(B709&G709&H709,'Liste inscrits'!AH:AS,11,FALSE))","v":""}]
[]
["N° de LICENCE","NOM                     PRENOM\nen lettres capitales",null,"DIV","CR","CBD","N° \nSEC","N° \nASB","Qual. \nChpt AIN"]
[{"$f":"IF(B716<>\"\",VLOOKUP(B716,'Liste inscrits'!$A:$AD,2,FALSE),\"\")","v":""},{"$f":"IF(OFFSET('Liste inscrits'!$A$1,INT(ROW()/35)*4+(ROW()-INT(ROW()/35)*35)/7,0)<>\"\",OFFSET('Liste inscrits'!$A$1,INT(ROW()/35)*4+(ROW()-INT(ROW()/35)*35)/7,0),\"\")","v":""},null,{"$f":"IF(B716<>\"\",VLOOKUP(B716,'Liste inscrits'!$A:$AD,4,FALSE),\"\")","v":""},"ARA",1,{"$f":"IF(B716<>\"\",VLOOKUP(B716,'Liste inscrits'!$A:$AD,5,FALSE),\"\")","v":""},{"$f":"IF(B716<>\"\",VLOOKUP(B716,'Liste inscrits'!$A:$AD,6,FALSE),\"\")","v":""}]
[{"$f":"IF(B716<>\"\",VLOOKUP(B716,'Liste inscrits'!$A:$AD,8,FALSE),\"\")","v":""},{"$f":"IF(B716<>\"\",VLOOKUP(B716,'Liste inscrits'!$A:$AD,7,FALSE),\"\")","v":""},null,{"$f":"IF(B716<>\"\",VLOOKUP(B716,'Liste inscrits'!$A:$AD,10,FALSE),\"\")","v":""},"ARA",1,{"$f":"IF(B716<>\"\",VLOOKUP(B716,'Liste inscrits'!$A:$AD,11,FALSE),\"\")","v":""},{"$f":"IF(B716<>\"\",VLOOKUP(B716,'Liste inscrits'!$A:$AD,12,FALSE),\"\")","v":""}]
[{"$f":"IF(B716<>\"\",VLOOKUP(B716,'Liste inscrits'!$A:$AD,14,FALSE),\"\")","v":""},{"$f":"IF(B716<>\"\",VLOOKUP(B716,'Liste inscrits'!$A:$AD,13,FALSE),\"\")","v":""},null,{"$f":"IF(B716<>\"\",VLOOKUP(B716,'Liste inscrits'!$A:$AD,16,FALSE),\"\")","v":""},"ARA",1,{"$f":"IF(B716<>\"\",VLOOKUP(B716,'Liste inscrits'!$A:$AD,17,FALSE),\"\")","v":""},{"$f":"IF(B716<>\"\",VLOOKUP(B716,'Liste inscrits'!$A:$AD,18,FALSE),\"\")","v":""}]
[]
["Nb parties gagnées\ndans les poules",{"$f":"IF(ISERROR(VLOOKUP(B716&G716&H716,'Liste inscrits'!AH:AJ,1,FALSE)),\"\",VLOOKUP(B716&G716&H716,'Liste inscrits'!AH:AJ,3,FALSE))","v":""},"Classement \ndans la poule ",{"$f":"IF(ISERROR(VLOOKUP(B716&G716&H716,'Liste inscrits'!AH:AU,1,FALSE)),\"\",VLOOKUP(B716&G716&H716,'Liste inscrits'!AH:AU,14,FALSE)&\"  /  \"&VLOOKUP(B716&G716&H716,'Liste inscrits'!AH:AU,13,FALSE))","v":"  /  "},"Nb de parties gagnées \naprès les poules ",null,null,{"$f":"IF(ISERROR(VLOOKUP(B716&G716&H716,'Liste inscrits'!AH:AS,1,FALSE)),\"\",VLOOKUP(B716&G716&H716,'Liste inscrits'!AH:AS,11,FALSE))","v":""}]
[]
["N° de LICENCE","NOM                     PRENOM\nen lettres capitales",null,"DIV","CR","CBD","N° \nSEC","N° \nASB","Qual. \nChpt AIN"]
[{"$f":"IF(B723<>\"\",VLOOKUP(B723,'Liste inscrits'!$A:$AD,2,FALSE),\"\")","v":""},{"$f":"IF(OFFSET('Liste inscrits'!$A$1,INT(ROW()/35)*4+(ROW()-INT(ROW()/35)*35)/7,0)<>\"\",OFFSET('Liste inscrits'!$A$1,INT(ROW()/35)*4+(ROW()-INT(ROW()/35)*35)/7,0),\"\")","v":""},null,{"$f":"IF(B723<>\"\",VLOOKUP(B723,'Liste inscrits'!$A:$AD,4,FALSE),\"\")","v":""},"ARA",1,{"$f":"IF(B723<>\"\",VLOOKUP(B723,'Liste inscrits'!$A:$AD,5,FALSE),\"\")","v":""},{"$f":"IF(B723<>\"\",VLOOKUP(B723,'Liste inscrits'!$A:$AD,6,FALSE),\"\")","v":""}]
[{"$f":"IF(B723<>\"\",VLOOKUP(B723,'Liste inscrits'!$A:$AD,8,FALSE),\"\")","v":""},{"$f":"IF(B723<>\"\",VLOOKUP(B723,'Liste inscrits'!$A:$AD,7,FALSE),\"\")","v":""},null,{"$f":"IF(B723<>\"\",VLOOKUP(B723,'Liste inscrits'!$A:$AD,10,FALSE),\"\")","v":""},"ARA",1,{"$f":"IF(B723<>\"\",VLOOKUP(B723,'Liste inscrits'!$A:$AD,11,FALSE),\"\")","v":""},{"$f":"IF(B723<>\"\",VLOOKUP(B723,'Liste inscrits'!$A:$AD,12,FALSE),\"\")","v":""}]
[{"$f":"IF(B723<>\"\",VLOOKUP(B723,'Liste inscrits'!$A:$AD,14,FALSE),\"\")","v":""},{"$f":"IF(B723<>\"\",VLOOKUP(B723,'Liste inscrits'!$A:$AD,13,FALSE),\"\")","v":""},null,{"$f":"IF(B723<>\"\",VLOOKUP(B723,'Liste inscrits'!$A:$AD,16,FALSE),\"\")","v":""},"ARA",1,{"$f":"IF(B723<>\"\",VLOOKUP(B723,'Liste inscrits'!$A:$AD,17,FALSE),\"\")","v":""},{"$f":"IF(B723<>\"\",VLOOKUP(B723,'Liste inscrits'!$A:$AD,18,FALSE),\"\")","v":""}]
[]
["Nb parties gagnées\ndans les poules",{"$f":"IF(ISERROR(VLOOKUP(B723&G723&H723,'Liste inscrits'!AH:AJ,1,FALSE)),\"\",VLOOKUP(B723&G723&H723,'Liste inscrits'!AH:AJ,3,FALSE))","v":""},"Classement \ndans la poule ",{"$f":"IF(ISERROR(VLOOKUP(B723&G723&H723,'Liste inscrits'!AH:AU,1,FALSE)),\"\",VLOOKUP(B723&G723&H723,'Liste inscrits'!AH:AU,14,FALSE)&\"  /  \"&VLOOKUP(B723&G723&H723,'Liste inscrits'!AH:AU,13,FALSE))","v":"  /  "},"Nb de parties gagnées \naprès les poules ",null,null,{"$f":"IF(ISERROR(VLOOKUP(B723&G723&H723,'Liste inscrits'!AH:AS,1,FALSE)),\"\",VLOOKUP(B723&G723&H723,'Liste inscrits'!AH:AS,11,FALSE))","v":""}]
[]
["N° de LICENCE","NOM                     PRENOM\nen lettres capitales",null,"DIV","CR","CBD","N° \nSEC","N° \nASB","Qual. \nChpt AIN"]
[{"$f":"IF(B730<>\"\",VLOOKUP(B730,'Liste inscrits'!$A:$AD,2,FALSE),\"\")","v":""},{"$f":"IF(OFFSET('Liste inscrits'!$A$1,INT(ROW()/35)*4+(ROW()-INT(ROW()/35)*35)/7,0)<>\"\",OFFSET('Liste inscrits'!$A$1,INT(ROW()/35)*4+(ROW()-INT(ROW()/35)*35)/7,0),\"\")","v":""},null,{"$f":"IF(B730<>\"\",VLOOKUP(B730,'Liste inscrits'!$A:$AD,4,FALSE),\"\")","v":""},"ARA",1,{"$f":"IF(B730<>\"\",VLOOKUP(B730,'Liste inscrits'!$A:$AD,5,FALSE),\"\")","v":""},{"$f":"IF(B730<>\"\",VLOOKUP(B730,'Liste inscrits'!$A:$AD,6,FALSE),\"\")","v":""}]
[{"$f":"IF(B730<>\"\",VLOOKUP(B730,'Liste inscrits'!$A:$AD,8,FALSE),\"\")","v":""},{"$f":"IF(B730<>\"\",VLOOKUP(B730,'Liste inscrits'!$A:$AD,7,FALSE),\"\")","v":""},null,{"$f":"IF(B730<>\"\",VLOOKUP(B730,'Liste inscrits'!$A:$AD,10,FALSE),\"\")","v":""},"ARA",1,{"$f":"IF(B730<>\"\",VLOOKUP(B730,'Liste inscrits'!$A:$AD,11,FALSE),\"\")","v":""},{"$f":"IF(B730<>\"\",VLOOKUP(B730,'Liste inscrits'!$A:$AD,12,FALSE),\"\")","v":""}]
[{"$f":"IF(B730<>\"\",VLOOKUP(B730,'Liste inscrits'!$A:$AD,14,FALSE),\"\")","v":""},{"$f":"IF(B730<>\"\",VLOOKUP(B730,'Liste inscrits'!$A:$AD,13,FALSE),\"\")","v":""},null,{"$f":"IF(B730<>\"\",VLOOKUP(B730,'Liste inscrits'!$A:$AD,16,FALSE),\"\")","v":""},"ARA",1,{"$f":"IF(B730<>\"\",VLOOKUP(B730,'Liste inscrits'!$A:$AD,17,FALSE),\"\")","v":""},{"$f":"IF(B730<>\"\",VLOOKUP(B730,'Liste inscrits'!$A:$AD,18,FALSE),\"\")","v":""}]
[]
["Nb parties gagnées\ndans les poules",{"$f":"IF(ISERROR(VLOOKUP(B730&G730&H730,'Liste inscrits'!AH:AJ,1,FALSE)),\"\",VLOOKUP(B730&G730&H730,'Liste inscrits'!AH:AJ,3,FALSE))","v":""},"Classement \ndans la poule ",{"$f":"IF(ISERROR(VLOOKUP(B730&G730&H730,'Liste inscrits'!AH:AU,1,FALSE)),\"\",VLOOKUP(B730&G730&H730,'Liste inscrits'!AH:AU,14,FALSE)&\"  /  \"&VLOOKUP(B730&G730&H730,'Liste inscrits'!AH:AU,13,FALSE))","v":"  /  "},"Nb de parties gagnées \naprès les poules ",null,null,{"$f":"IF(ISERROR(VLOOKUP(B730&G730&H730,'Liste inscrits'!AH:AS,1,FALSE)),\"\",VLOOKUP(B730&G730&H730,'Liste inscrits'!AH:AS,11,FALSE))","v":""}]
[]
[]
["C.B.D. AIN",null,{"$f":"$C$2","v":0},null,null,null,null,{"$f":"$H$2","v":0}]
[]
["SECTEUR :",{"$f":"$B$4","v":{"$error":"#VALUE!"}},null,"Lieu de la compétition :",{"$f":"$E$4","v":0}]
[]
["Date : ",{"$f":"$B$6","v":0},null,null,"Nombre total d'équipes participantes ",null,null,null,{"$f":"$I$6","v":0}]
[]
["N° de LICENCE","NOM                     PRENOM\nen lettres capitales",null,"DIV","CR","CBD","N° \nSEC","N° \nASB","Qual. \nChpt AIN"]
[{"$f":"IF(B744<>\"\",VLOOKUP(B744,'Liste inscrits'!$A:$AD,2,FALSE),\"\")","v":""},{"$f":"IF(OFFSET('Liste inscrits'!$A$1,INT(ROW()/35)*4+(ROW()-INT(ROW()/35)*35)/7,0)<>\"\",OFFSET('Liste inscrits'!$A$1,INT(ROW()/35)*4+(ROW()-INT(ROW()/35)*35)/7,0),\"\")","v":""},null,{"$f":"IF(B744<>\"\",VLOOKUP(B744,'Liste inscrits'!$A:$AD,4,FALSE),\"\")","v":""},"ARA",1,{"$f":"IF(B744<>\"\",VLOOKUP(B744,'Liste inscrits'!$A:$AD,5,FALSE),\"\")","v":""},{"$f":"IF(B744<>\"\",VLOOKUP(B744,'Liste inscrits'!$A:$AD,6,FALSE),\"\")","v":""}]
[{"$f":"IF(B744<>\"\",VLOOKUP(B744,'Liste inscrits'!$A:$AD,8,FALSE),\"\")","v":""},{"$f":"IF(B744<>\"\",VLOOKUP(B744,'Liste inscrits'!$A:$AD,7,FALSE),\"\")","v":""},null,{"$f":"IF(B744<>\"\",VLOOKUP(B744,'Liste inscrits'!$A:$AD,10,FALSE),\"\")","v":""},"ARA",1,{"$f":"IF(B744<>\"\",VLOOKUP(B744,'Liste inscrits'!$A:$AD,11,FALSE),\"\")","v":""},{"$f":"IF(B744<>\"\",VLOOKUP(B744,'Liste inscrits'!$A:$AD,12,FALSE),\"\")","v":""}]
[{"$f":"IF(B744<>\"\",VLOOKUP(B744,'Liste inscrits'!$A:$AD,14,FALSE),\"\")","v":""},{"$f":"IF(B744<>\"\",VLOOKUP(B744,'Liste inscrits'!$A:$AD,13,FALSE),\"\")","v":""},null,{"$f":"IF(B744<>\"\",VLOOKUP(B744,'Liste inscrits'!$A:$AD,16,FALSE),\"\")","v":""},"ARA",1,{"$f":"IF(B744<>\"\",VLOOKUP(B744,'Liste inscrits'!$A:$AD,17,FALSE),\"\")","v":""},{"$f":"IF(B744<>\"\",VLOOKUP(B744,'Liste inscrits'!$A:$AD,18,FALSE),\"\")","v":""}]
[]
["Nb parties gagnées\ndans les poules",{"$f":"IF(ISERROR(VLOOKUP(B744&G744&H744,'Liste inscrits'!AH:AJ,1,FALSE)),\"\",VLOOKUP(B744&G744&H744,'Liste inscrits'!AH:AJ,3,FALSE))","v":""},"Classement \ndans la poule ",{"$f":"IF(ISERROR(VLOOKUP(B744&G744&H744,'Liste inscrits'!AH:AU,1,FALSE)),\"\",VLOOKUP(B744&G744&H744,'Liste inscrits'!AH:AU,14,FALSE)&\"  /  \"&VLOOKUP(B744&G744&H744,'Liste inscrits'!AH:AU,13,FALSE))","v":"  /  "},"Nb de parties gagnées \naprès les poules ",null,null,{"$f":"IF(ISERROR(VLOOKUP(B744&G744&H744,'Liste inscrits'!AH:AS,1,FALSE)),\"\",VLOOKUP(B744&G744&H744,'Liste inscrits'!AH:AS,11,FALSE))","v":""}]
[]
["N° de LICENCE","NOM                     PRENOM\nen lettres capitales",null,"DIV","CR","CBD","N° \nSEC","N° \nASB","Qual. \nChpt AIN"]
[{"$f":"IF(B751<>\"\",VLOOKUP(B751,'Liste inscrits'!$A:$AD,2,FALSE),\"\")","v":""},{"$f":"IF(OFFSET('Liste inscrits'!$A$1,INT(ROW()/35)*4+(ROW()-INT(ROW()/35)*35)/7,0)<>\"\",OFFSET('Liste inscrits'!$A$1,INT(ROW()/35)*4+(ROW()-INT(ROW()/35)*35)/7,0),\"\")","v":""},null,{"$f":"IF(B751<>\"\",VLOOKUP(B751,'Liste inscrits'!$A:$AD,4,FALSE),\"\")","v":""},"ARA",1,{"$f":"IF(B751<>\"\",VLOOKUP(B751,'Liste inscrits'!$A:$AD,5,FALSE),\"\")","v":""},{"$f":"IF(B751<>\"\",VLOOKUP(B751,'Liste inscrits'!$A:$AD,6,FALSE),\"\")","v":""}]
[{"$f":"IF(B751<>\"\",VLOOKUP(B751,'Liste inscrits'!$A:$AD,8,FALSE),\"\")","v":""},{"$f":"IF(B751<>\"\",VLOOKUP(B751,'Liste inscrits'!$A:$AD,7,FALSE),\"\")","v":""},null,{"$f":"IF(B751<>\"\",VLOOKUP(B751,'Liste inscrits'!$A:$AD,10,FALSE),\"\")","v":""},"ARA",1,{"$f":"IF(B751<>\"\",VLOOKUP(B751,'Liste inscrits'!$A:$AD,11,FALSE),\"\")","v":""},{"$f":"IF(B751<>\"\",VLOOKUP(B751,'Liste inscrits'!$A:$AD,12,FALSE),\"\")","v":""}]
[{"$f":"IF(B751<>\"\",VLOOKUP(B751,'Liste inscrits'!$A:$AD,14,FALSE),\"\")","v":""},{"$f":"IF(B751<>\"\",VLOOKUP(B751,'Liste inscrits'!$A:$AD,13,FALSE),\"\")","v":""},null,{"$f":"IF(B751<>\"\",VLOOKUP(B751,'Liste inscrits'!$A:$AD,16,FALSE),\"\")","v":""},"ARA",1,{"$f":"IF(B751<>\"\",VLOOKUP(B751,'Liste inscrits'!$A:$AD,17,FALSE),\"\")","v":""},{"$f":"IF(B751<>\"\",VLOOKUP(B751,'Liste inscrits'!$A:$AD,18,FALSE),\"\")","v":""}]
[]
["Nb parties gagnées\ndans les poules",{"$f":"IF(ISERROR(VLOOKUP(B751&G751&H751,'Liste inscrits'!AH:AJ,1,FALSE)),\"\",VLOOKUP(B751&G751&H751,'Liste inscrits'!AH:AJ,3,FALSE))","v":""},"Classement \ndans la poule ",{"$f":"IF(ISERROR(VLOOKUP(B751&G751&H751,'Liste inscrits'!AH:AU,1,FALSE)),\"\",VLOOKUP(B751&G751&H751,'Liste inscrits'!AH:AU,14,FALSE)&\"  /  \"&VLOOKUP(B751&G751&H751,'Liste inscrits'!AH:AU,13,FALSE))","v":"  /  "},"Nb de parties gagnées \naprès les poules ",null,null,{"$f":"IF(ISERROR(VLOOKUP(B751&G751&H751,'Liste inscrits'!AH:AS,1,FALSE)),\"\",VLOOKUP(B751&G751&H751,'Liste inscrits'!AH:AS,11,FALSE))","v":""}]
[]
["N° de LICENCE","NOM                     PRENOM\nen lettres capitales",null,"DIV","CR","CBD","N° \nSEC","N° \nASB","Qual. \nChpt AIN"]
[{"$f":"IF(B758<>\"\",VLOOKUP(B758,'Liste inscrits'!$A:$AD,2,FALSE),\"\")","v":""},{"$f":"IF(OFFSET('Liste inscrits'!$A$1,INT(ROW()/35)*4+(ROW()-INT(ROW()/35)*35)/7,0)<>\"\",OFFSET('Liste inscrits'!$A$1,INT(ROW()/35)*4+(ROW()-INT(ROW()/35)*35)/7,0),\"\")","v":""},null,{"$f":"IF(B758<>\"\",VLOOKUP(B758,'Liste inscrits'!$A:$AD,4,FALSE),\"\")","v":""},"ARA",1,{"$f":"IF(B758<>\"\",VLOOKUP(B758,'Liste inscrits'!$A:$AD,5,FALSE),\"\")","v":""},{"$f":"IF(B758<>\"\",VLOOKUP(B758,'Liste inscrits'!$A:$AD,6,FALSE),\"\")","v":""}]
[{"$f":"IF(B758<>\"\",VLOOKUP(B758,'Liste inscrits'!$A:$AD,8,FALSE),\"\")","v":""},{"$f":"IF(B758<>\"\",VLOOKUP(B758,'Liste inscrits'!$A:$AD,7,FALSE),\"\")","v":""},null,{"$f":"IF(B758<>\"\",VLOOKUP(B758,'Liste inscrits'!$A:$AD,10,FALSE),\"\")","v":""},"ARA",1,{"$f":"IF(B758<>\"\",VLOOKUP(B758,'Liste inscrits'!$A:$AD,11,FALSE),\"\")","v":""},{"$f":"IF(B758<>\"\",VLOOKUP(B758,'Liste inscrits'!$A:$AD,12,FALSE),\"\")","v":""}]
[{"$f":"IF(B758<>\"\",VLOOKUP(B758,'Liste inscrits'!$A:$AD,14,FALSE),\"\")","v":""},{"$f":"IF(B758<>\"\",VLOOKUP(B758,'Liste inscrits'!$A:$AD,13,FALSE),\"\")","v":""},null,{"$f":"IF(B758<>\"\",VLOOKUP(B758,'Liste inscrits'!$A:$AD,16,FALSE),\"\")","v":""},"ARA",1,{"$f":"IF(B758<>\"\",VLOOKUP(B758,'Liste inscrits'!$A:$AD,17,FALSE),\"\")","v":""},{"$f":"IF(B758<>\"\",VLOOKUP(B758,'Liste inscrits'!$A:$AD,18,FALSE),\"\")","v":""}]
[]
["Nb parties gagnées\ndans les poules",{"$f":"IF(ISERROR(VLOOKUP(B758&G758&H758,'Liste inscrits'!AH:AJ,1,FALSE)),\"\",VLOOKUP(B758&G758&H758,'Liste inscrits'!AH:AJ,3,FALSE))","v":""},"Classement \ndans la poule ",{"$f":"IF(ISERROR(VLOOKUP(B758&G758&H758,'Liste inscrits'!AH:AU,1,FALSE)),\"\",VLOOKUP(B758&G758&H758,'Liste inscrits'!AH:AU,14,FALSE)&\"  /  \"&VLOOKUP(B758&G758&H758,'Liste inscrits'!AH:AU,13,FALSE))","v":"  /  "},"Nb de parties gagnées \naprès les poules ",null,null,{"$f":"IF(ISERROR(VLOOKUP(B758&G758&H758,'Liste inscrits'!AH:AS,1,FALSE)),\"\",VLOOKUP(B758&G758&H758,'Liste inscrits'!AH:AS,11,FALSE))","v":""}]
[]
["N° de LICENCE","NOM                     PRENOM\nen lettres capitales",null,"DIV","CR","CBD","N° \nSEC","N° \nASB","Qual. \nChpt AIN"]
[{"$f":"IF(B765<>\"\",VLOOKUP(B765,'Liste inscrits'!$A:$AD,2,FALSE),\"\")","v":""},{"$f":"IF(OFFSET('Liste inscrits'!$A$1,INT(ROW()/35)*4+(ROW()-INT(ROW()/35)*35)/7,0)<>\"\",OFFSET('Liste inscrits'!$A$1,INT(ROW()/35)*4+(ROW()-INT(ROW()/35)*35)/7,0),\"\")","v":""},null,{"$f":"IF(B765<>\"\",VLOOKUP(B765,'Liste inscrits'!$A:$AD,4,FALSE),\"\")","v":""},"ARA",1,{"$f":"IF(B765<>\"\",VLOOKUP(B765,'Liste inscrits'!$A:$AD,5,FALSE),\"\")","v":""},{"$f":"IF(B765<>\"\",VLOOKUP(B765,'Liste inscrits'!$A:$AD,6,FALSE),\"\")","v":""}]
[{"$f":"IF(B765<>\"\",VLOOKUP(B765,'Liste inscrits'!$A:$AD,8,FALSE),\"\")","v":""},{"$f":"IF(B765<>\"\",VLOOKUP(B765,'Liste inscrits'!$A:$AD,7,FALSE),\"\")","v":""},null,{"$f":"IF(B765<>\"\",VLOOKUP(B765,'Liste inscrits'!$A:$AD,10,FALSE),\"\")","v":""},"ARA",1,{"$f":"IF(B765<>\"\",VLOOKUP(B765,'Liste inscrits'!$A:$AD,11,FALSE),\"\")","v":""},{"$f":"IF(B765<>\"\",VLOOKUP(B765,'Liste inscrits'!$A:$AD,12,FALSE),\"\")","v":""}]
[{"$f":"IF(B765<>\"\",VLOOKUP(B765,'Liste inscrits'!$A:$AD,14,FALSE),\"\")","v":""},{"$f":"IF(B765<>\"\",VLOOKUP(B765,'Liste inscrits'!$A:$AD,13,FALSE),\"\")","v":""},null,{"$f":"IF(B765<>\"\",VLOOKUP(B765,'Liste inscrits'!$A:$AD,16,FALSE),\"\")","v":""},"ARA",1,{"$f":"IF(B765<>\"\",VLOOKUP(B765,'Liste inscrits'!$A:$AD,17,FALSE),\"\")","v":""},{"$f":"IF(B765<>\"\",VLOOKUP(B765,'Liste inscrits'!$A:$AD,18,FALSE),\"\")","v":""}]
[]
["Nb parties gagnées\ndans les poules",{"$f":"IF(ISERROR(VLOOKUP(B765&G765&H765,'Liste inscrits'!AH:AJ,1,FALSE)),\"\",VLOOKUP(B765&G765&H765,'Liste inscrits'!AH:AJ,3,FALSE))","v":""},"Classement \ndans la poule ",{"$f":"IF(ISERROR(VLOOKUP(B765&G765&H765,'Liste inscrits'!AH:AU,1,FALSE)),\"\",VLOOKUP(B765&G765&H765,'Liste inscrits'!AH:AU,14,FALSE)&\"  /  \"&VLOOKUP(B765&G765&H765,'Liste inscrits'!AH:AU,13,FALSE))","v":"  /  "},"Nb de parties gagnées \naprès les poules ",null,null,{"$f":"IF(ISERROR(VLOOKUP(B765&G765&H765,'Liste inscrits'!AH:AS,1,FALSE)),\"\",VLOOKUP(B765&G765&H765,'Liste inscrits'!AH:AS,11,FALSE))","v":""}]
[]
[]
["C.B.D. AIN",null,{"$f":"$C$2","v":0},null,null,null,null,{"$f":"$H$2","v":0}]
[]
["SECTEUR :",{"$f":"$B$4","v":{"$error":"#VALUE!"}},null,"Lieu de la compétition :",{"$f":"$E$4","v":0}]
[]
["Date : ",{"$f":"$B$6","v":0},null,null,"Nombre total d'équipes participantes ",null,null,null,{"$f":"$I$6","v":0}]
[]
["N° de LICENCE","NOM                     PRENOM\nen lettres capitales",null,"DIV","CR","CBD","N° \nSEC","N° \nASB","Qual. \nChpt AIN"]
[{"$f":"IF(B779<>\"\",VLOOKUP(B779,'Liste inscrits'!$A:$AD,2,FALSE),\"\")","v":""},{"$f":"IF(OFFSET('Liste inscrits'!$A$1,INT(ROW()/35)*4+(ROW()-INT(ROW()/35)*35)/7,0)<>\"\",OFFSET('Liste inscrits'!$A$1,INT(ROW()/35)*4+(ROW()-INT(ROW()/35)*35)/7,0),\"\")","v":""},null,{"$f":"IF(B779<>\"\",VLOOKUP(B779,'Liste inscrits'!$A:$AD,4,FALSE),\"\")","v":""},"ARA",1,{"$f":"IF(B779<>\"\",VLOOKUP(B779,'Liste inscrits'!$A:$AD,5,FALSE),\"\")","v":""},{"$f":"IF(B779<>\"\",VLOOKUP(B779,'Liste inscrits'!$A:$AD,6,FALSE),\"\")","v":""}]
[{"$f":"IF(B779<>\"\",VLOOKUP(B779,'Liste inscrits'!$A:$AD,8,FALSE),\"\")","v":""},{"$f":"IF(B779<>\"\",VLOOKUP(B779,'Liste inscrits'!$A:$AD,7,FALSE),\"\")","v":""},null,{"$f":"IF(B779<>\"\",VLOOKUP(B779,'Liste inscrits'!$A:$AD,10,FALSE),\"\")","v":""},"ARA",1,{"$f":"IF(B779<>\"\",VLOOKUP(B779,'Liste inscrits'!$A:$AD,11,FALSE),\"\")","v":""},{"$f":"IF(B779<>\"\",VLOOKUP(B779,'Liste inscrits'!$A:$AD,12,FALSE),\"\")","v":""}]
[{"$f":"IF(B779<>\"\",VLOOKUP(B779,'Liste inscrits'!$A:$AD,14,FALSE),\"\")","v":""},{"$f":"IF(B779<>\"\",VLOOKUP(B779,'Liste inscrits'!$A:$AD,13,FALSE),\"\")","v":""},null,{"$f":"IF(B779<>\"\",VLOOKUP(B779,'Liste inscrits'!$A:$AD,16,FALSE),\"\")","v":""},"ARA",1,{"$f":"IF(B779<>\"\",VLOOKUP(B779,'Liste inscrits'!$A:$AD,17,FALSE),\"\")","v":""},{"$f":"IF(B779<>\"\",VLOOKUP(B779,'Liste inscrits'!$A:$AD,18,FALSE),\"\")","v":""}]
[]
["Nb parties gagnées\ndans les poules",{"$f":"IF(ISERROR(VLOOKUP(B779&G779&H779,'Liste inscrits'!AH:AJ,1,FALSE)),\"\",VLOOKUP(B779&G779&H779,'Liste inscrits'!AH:AJ,3,FALSE))","v":""},"Classement \ndans la poule ",{"$f":"IF(ISERROR(VLOOKUP(B779&G779&H779,'Liste inscrits'!AH:AU,1,FALSE)),\"\",VLOOKUP(B779&G779&H779,'Liste inscrits'!AH:AU,14,FALSE)&\"  /  \"&VLOOKUP(B779&G779&H779,'Liste inscrits'!AH:AU,13,FALSE))","v":"  /  "},"Nb de parties gagnées \naprès les poules ",null,null,{"$f":"IF(ISERROR(VLOOKUP(B779&G779&H779,'Liste inscrits'!AH:AS,1,FALSE)),\"\",VLOOKUP(B779&G779&H779,'Liste inscrits'!AH:AS,11,FALSE))","v":""}]
[]
["N° de LICENCE","NOM                     PRENOM\nen lettres capitales",null,"DIV","CR","CBD","N° \nSEC","N° \nASB","Qual. \nChpt AIN"]
[{"$f":"IF(B786<>\"\",VLOOKUP(B786,'Liste inscrits'!$A:$AD,2,FALSE),\"\")","v":""},{"$f":"IF(OFFSET('Liste inscrits'!$A$1,INT(ROW()/35)*4+(ROW()-INT(ROW()/35)*35)/7,0)<>\"\",OFFSET('Liste inscrits'!$A$1,INT(ROW()/35)*4+(ROW()-INT(ROW()/35)*35)/7,0),\"\")","v":""},null,{"$f":"IF(B786<>\"\",VLOOKUP(B786,'Liste inscrits'!$A:$AD,4,FALSE),\"\")","v":""},"ARA",1,{"$f":"IF(B786<>\"\",VLOOKUP(B786,'Liste inscrits'!$A:$AD,5,FALSE),\"\")","v":""},{"$f":"IF(B786<>\"\",VLOOKUP(B786,'Liste inscrits'!$A:$AD,6,FALSE),\"\")","v":""}]
[{"$f":"IF(B786<>\"\",VLOOKUP(B786,'Liste inscrits'!$A:$AD,8,FALSE),\"\")","v":""},{"$f":"IF(B786<>\"\",VLOOKUP(B786,'Liste inscrits'!$A:$AD,7,FALSE),\"\")","v":""},null,{"$f":"IF(B786<>\"\",VLOOKUP(B786,'Liste inscrits'!$A:$AD,10,FALSE),\"\")","v":""},"ARA",1,{"$f":"IF(B786<>\"\",VLOOKUP(B786,'Liste inscrits'!$A:$AD,11,FALSE),\"\")","v":""},{"$f":"IF(B786<>\"\",VLOOKUP(B786,'Liste inscrits'!$A:$AD,12,FALSE),\"\")","v":""}]
[{"$f":"IF(B786<>\"\",VLOOKUP(B786,'Liste inscrits'!$A:$AD,14,FALSE),\"\")","v":""},{"$f":"IF(B786<>\"\",VLOOKUP(B786,'Liste inscrits'!$A:$AD,13,FALSE),\"\")","v":""},null,{"$f":"IF(B786<>\"\",VLOOKUP(B786,'Liste inscrits'!$A:$AD,16,FALSE),\"\")","v":""},"ARA",1,{"$f":"IF(B786<>\"\",VLOOKUP(B786,'Liste inscrits'!$A:$AD,17,FALSE),\"\")","v":""},{"$f":"IF(B786<>\"\",VLOOKUP(B786,'Liste inscrits'!$A:$AD,18,FALSE),\"\")","v":""}]
[]
["Nb parties gagnées\ndans les poules",{"$f":"IF(ISERROR(VLOOKUP(B786&G786&H786,'Liste inscrits'!AH:AJ,1,FALSE)),\"\",VLOOKUP(B786&G786&H786,'Liste inscrits'!AH:AJ,3,FALSE))","v":""},"Classement \ndans la poule ",{"$f":"IF(ISERROR(VLOOKUP(B786&G786&H786,'Liste inscrits'!AH:AU,1,FALSE)),\"\",VLOOKUP(B786&G786&H786,'Liste inscrits'!AH:AU,14,FALSE)&\"  /  \"&VLOOKUP(B786&G786&H786,'Liste inscrits'!AH:AU,13,FALSE))","v":"  /  "},"Nb de parties gagnées \naprès les poules ",null,null,{"$f":"IF(ISERROR(VLOOKUP(B786&G786&H786,'Liste inscrits'!AH:AS,1,FALSE)),\"\",VLOOKUP(B786&G786&H786,'Liste inscrits'!AH:AS,11,FALSE))","v":""}]
[]
["N° de LICENCE","NOM                     PRENOM\nen lettres capitales",null,"DIV","CR","CBD","N° \nSEC","N° \nASB","Qual. \nChpt AIN"]
[{"$f":"IF(B793<>\"\",VLOOKUP(B793,'Liste inscrits'!$A:$AD,2,FALSE),\"\")","v":""},{"$f":"IF(OFFSET('Liste inscrits'!$A$1,INT(ROW()/35)*4+(ROW()-INT(ROW()/35)*35)/7,0)<>\"\",OFFSET('Liste inscrits'!$A$1,INT(ROW()/35)*4+(ROW()-INT(ROW()/35)*35)/7,0),\"\")","v":""},null,{"$f":"IF(B793<>\"\",VLOOKUP(B793,'Liste inscrits'!$A:$AD,4,FALSE),\"\")","v":""},"ARA",1,{"$f":"IF(B793<>\"\",VLOOKUP(B793,'Liste inscrits'!$A:$AD,5,FALSE),\"\")","v":""},{"$f":"IF(B793<>\"\",VLOOKUP(B793,'Liste inscrits'!$A:$AD,6,FALSE),\"\")","v":""}]
[{"$f":"IF(B793<>\"\",VLOOKUP(B793,'Liste inscrits'!$A:$AD,8,FALSE),\"\")","v":""},{"$f":"IF(B793<>\"\",VLOOKUP(B793,'Liste inscrits'!$A:$AD,7,FALSE),\"\")","v":""},null,{"$f":"IF(B793<>\"\",VLOOKUP(B793,'Liste inscrits'!$A:$AD,10,FALSE),\"\")","v":""},"ARA",1,{"$f":"IF(B793<>\"\",VLOOKUP(B793,'Liste inscrits'!$A:$AD,11,FALSE),\"\")","v":""},{"$f":"IF(B793<>\"\",VLOOKUP(B793,'Liste inscrits'!$A:$AD,12,FALSE),\"\")","v":""}]
[{"$f":"IF(B793<>\"\",VLOOKUP(B793,'Liste inscrits'!$A:$AD,14,FALSE),\"\")","v":""},{"$f":"IF(B793<>\"\",VLOOKUP(B793,'Liste inscrits'!$A:$AD,13,FALSE),\"\")","v":""},null,{"$f":"IF(B793<>\"\",VLOOKUP(B793,'Liste inscrits'!$A:$AD,16,FALSE),\"\")","v":""},"ARA",1,{"$f":"IF(B793<>\"\",VLOOKUP(B793,'Liste inscrits'!$A:$AD,17,FALSE),\"\")","v":""},{"$f":"IF(B793<>\"\",VLOOKUP(B793,'Liste inscrits'!$A:$AD,18,FALSE),\"\")","v":""}]
[]
["Nb parties gagnées\ndans les poules",{"$f":"IF(ISERROR(VLOOKUP(B793&G793&H793,'Liste inscrits'!AH:AJ,1,FALSE)),\"\",VLOOKUP(B793&G793&H793,'Liste inscrits'!AH:AJ,3,FALSE))","v":""},"Classement \ndans la poule ",{"$f":"IF(ISERROR(VLOOKUP(B793&G793&H793,'Liste inscrits'!AH:AU,1,FALSE)),\"\",VLOOKUP(B793&G793&H793,'Liste inscrits'!AH:AU,14,FALSE)&\"  /  \"&VLOOKUP(B793&G793&H793,'Liste inscrits'!AH:AU,13,FALSE))","v":"  /  "},"Nb de parties gagnées \naprès les poules ",null,null,{"$f":"IF(ISERROR(VLOOKUP(B793&G793&H793,'Liste inscrits'!AH:AS,1,FALSE)),\"\",VLOOKUP(B793&G793&H793,'Liste inscrits'!AH:AS,11,FALSE))","v":""}]
[]
["N° de LICENCE","NOM                     PRENOM\nen lettres capitales",null,"DIV","CR","CBD","N° \nSEC","N° \nASB","Qual. \nChpt AIN"]
[{"$f":"IF(B800<>\"\",VLOOKUP(B800,'Liste inscrits'!$A:$AD,2,FALSE),\"\")","v":""},{"$f":"IF(OFFSET('Liste inscrits'!$A$1,INT(ROW()/35)*4+(ROW()-INT(ROW()/35)*35)/7,0)<>\"\",OFFSET('Liste inscrits'!$A$1,INT(ROW()/35)*4+(ROW()-INT(ROW()/35)*35)/7,0),\"\")","v":""},null,{"$f":"IF(B800<>\"\",VLOOKUP(B800,'Liste inscrits'!$A:$AD,4,FALSE),\"\")","v":""},"ARA",1,{"$f":"IF(B800<>\"\",VLOOKUP(B800,'Liste inscrits'!$A:$AD,5,FALSE),\"\")","v":""},{"$f":"IF(B800<>\"\",VLOOKUP(B800,'Liste inscrits'!$A:$AD,6,FALSE),\"\")","v":""}]
[{"$f":"IF(B800<>\"\",VLOOKUP(B800,'Liste inscrits'!$A:$AD,8,FALSE),\"\")","v":""},{"$f":"IF(B800<>\"\",VLOOKUP(B800,'Liste inscrits'!$A:$AD,7,FALSE),\"\")","v":""},null,{"$f":"IF(B800<>\"\",VLOOKUP(B800,'Liste inscrits'!$A:$AD,10,FALSE),\"\")","v":""},"ARA",1,{"$f":"IF(B800<>\"\",VLOOKUP(B800,'Liste inscrits'!$A:$AD,11,FALSE),\"\")","v":""},{"$f":"IF(B800<>\"\",VLOOKUP(B800,'Liste inscrits'!$A:$AD,12,FALSE),\"\")","v":""}]
[{"$f":"IF(B800<>\"\",VLOOKUP(B800,'Liste inscrits'!$A:$AD,14,FALSE),\"\")","v":""},{"$f":"IF(B800<>\"\",VLOOKUP(B800,'Liste inscrits'!$A:$AD,13,FALSE),\"\")","v":""},null,{"$f":"IF(B800<>\"\",VLOOKUP(B800,'Liste inscrits'!$A:$AD,16,FALSE),\"\")","v":""},"ARA",1,{"$f":"IF(B800<>\"\",VLOOKUP(B800,'Liste inscrits'!$A:$AD,17,FALSE),\"\")","v":""},{"$f":"IF(B800<>\"\",VLOOKUP(B800,'Liste inscrits'!$A:$AD,18,FALSE),\"\")","v":""}]
[]
["Nb parties gagnées\ndans les poules",{"$f":"IF(ISERROR(VLOOKUP(B800&G800&H800,'Liste inscrits'!AH:AJ,1,FALSE)),\"\",VLOOKUP(B800&G800&H800,'Liste inscrits'!AH:AJ,3,FALSE))","v":""},"Classement \ndans la poule ",{"$f":"IF(ISERROR(VLOOKUP(B800&G800&H800,'Liste inscrits'!AH:AU,1,FALSE)),\"\",VLOOKUP(B800&G800&H800,'Liste inscrits'!AH:AU,14,FALSE)&\"  /  \"&VLOOKUP(B800&G800&H800,'Liste inscrits'!AH:AU,13,FALSE))","v":"  /  "},"Nb de parties gagnées \naprès les poules ",null,null,{"$f":"IF(ISERROR(VLOOKUP(B800&G800&H800,'Liste inscrits'!AH:AS,1,FALSE)),\"\",VLOOKUP(B800&G800&H800,'Liste inscrits'!AH:AS,11,FALSE))","v":""}]
[]
[]
["C.B.D. AIN",null,{"$f":"$C$2","v":0},null,null,null,null,{"$f":"$H$2","v":0}]
[]
["SECTEUR :",{"$f":"$B$4","v":{"$error":"#VALUE!"}},null,"Lieu de la compétition :",{"$f":"$E$4","v":0}]
[]
["Date : ",{"$f":"$B$6","v":0},null,null,"Nombre total d'équipes participantes ",null,null,null,{"$f":"$I$6","v":0}]
[]
["N° de LICENCE","NOM                     PRENOM\nen lettres capitales",null,"DIV","CR","CBD","N° \nSEC","N° \nASB","Qual. \nChpt AIN"]
[{"$f":"IF(B814<>\"\",VLOOKUP(B814,'Liste inscrits'!$A:$AD,2,FALSE),\"\")","v":""},{"$f":"IF(OFFSET('Liste inscrits'!$A$1,INT(ROW()/35)*4+(ROW()-INT(ROW()/35)*35)/7,0)<>\"\",OFFSET('Liste inscrits'!$A$1,INT(ROW()/35)*4+(ROW()-INT(ROW()/35)*35)/7,0),\"\")","v":""},null,{"$f":"IF(B814<>\"\",VLOOKUP(B814,'Liste inscrits'!$A:$AD,4,FALSE),\"\")","v":""},"ARA",1,{"$f":"IF(B814<>\"\",VLOOKUP(B814,'Liste inscrits'!$A:$AD,5,FALSE),\"\")","v":""},{"$f":"IF(B814<>\"\",VLOOKUP(B814,'Liste inscrits'!$A:$AD,6,FALSE),\"\")","v":""}]
[{"$f":"IF(B814<>\"\",VLOOKUP(B814,'Liste inscrits'!$A:$AD,8,FALSE),\"\")","v":""},{"$f":"IF(B814<>\"\",VLOOKUP(B814,'Liste inscrits'!$A:$AD,7,FALSE),\"\")","v":""},null,{"$f":"IF(B814<>\"\",VLOOKUP(B814,'Liste inscrits'!$A:$AD,10,FALSE),\"\")","v":""},"ARA",1,{"$f":"IF(B814<>\"\",VLOOKUP(B814,'Liste inscrits'!$A:$AD,11,FALSE),\"\")","v":""},{"$f":"IF(B814<>\"\",VLOOKUP(B814,'Liste inscrits'!$A:$AD,12,FALSE),\"\")","v":""}]
[{"$f":"IF(B814<>\"\",VLOOKUP(B814,'Liste inscrits'!$A:$AD,14,FALSE),\"\")","v":""},{"$f":"IF(B814<>\"\",VLOOKUP(B814,'Liste inscrits'!$A:$AD,13,FALSE),\"\")","v":""},null,{"$f":"IF(B814<>\"\",VLOOKUP(B814,'Liste inscrits'!$A:$AD,16,FALSE),\"\")","v":""},"ARA",1,{"$f":"IF(B814<>\"\",VLOOKUP(B814,'Liste inscrits'!$A:$AD,17,FALSE),\"\")","v":""},{"$f":"IF(B814<>\"\",VLOOKUP(B814,'Liste inscrits'!$A:$AD,18,FALSE),\"\")","v":""}]
[]
["Nb parties gagnées\ndans les poules",{"$f":"IF(ISERROR(VLOOKUP(B814&G814&H814,'Liste inscrits'!AH:AJ,1,FALSE)),\"\",VLOOKUP(B814&G814&H814,'Liste inscrits'!AH:AJ,3,FALSE))","v":""},"Classement \ndans la poule ",{"$f":"IF(ISERROR(VLOOKUP(B814&G814&H814,'Liste inscrits'!AH:AU,1,FALSE)),\"\",VLOOKUP(B814&G814&H814,'Liste inscrits'!AH:AU,14,FALSE)&\"  /  \"&VLOOKUP(B814&G814&H814,'Liste inscrits'!AH:AU,13,FALSE))","v":"  /  "},"Nb de parties gagnées \naprès les poules ",null,null,{"$f":"IF(ISERROR(VLOOKUP(B814&G814&H814,'Liste inscrits'!AH:AS,1,FALSE)),\"\",VLOOKUP(B814&G814&H814,'Liste inscrits'!AH:AS,11,FALSE))","v":""}]
[]
["N° de LICENCE","NOM                     PRENOM\nen lettres capitales",null,"DIV","CR","CBD","N° \nSEC","N° \nASB","Qual. \nChpt AIN"]
[{"$f":"IF(B821<>\"\",VLOOKUP(B821,'Liste inscrits'!$A:$AD,2,FALSE),\"\")","v":""},{"$f":"IF(OFFSET('Liste inscrits'!$A$1,INT(ROW()/35)*4+(ROW()-INT(ROW()/35)*35)/7,0)<>\"\",OFFSET('Liste inscrits'!$A$1,INT(ROW()/35)*4+(ROW()-INT(ROW()/35)*35)/7,0),\"\")","v":""},null,{"$f":"IF(B821<>\"\",VLOOKUP(B821,'Liste inscrits'!$A:$AD,4,FALSE),\"\")","v":""},"ARA",1,{"$f":"IF(B821<>\"\",VLOOKUP(B821,'Liste inscrits'!$A:$AD,5,FALSE),\"\")","v":""},{"$f":"IF(B821<>\"\",VLOOKUP(B821,'Liste inscrits'!$A:$AD,6,FALSE),\"\")","v":""}]
[{"$f":"IF(B821<>\"\",VLOOKUP(B821,'Liste inscrits'!$A:$AD,8,FALSE),\"\")","v":""},{"$f":"IF(B821<>\"\",VLOOKUP(B821,'Liste inscrits'!$A:$AD,7,FALSE),\"\")","v":""},null,{"$f":"IF(B821<>\"\",VLOOKUP(B821,'Liste inscrits'!$A:$AD,10,FALSE),\"\")","v":""},"ARA",1,{"$f":"IF(B821<>\"\",VLOOKUP(B821,'Liste inscrits'!$A:$AD,11,FALSE),\"\")","v":""},{"$f":"IF(B821<>\"\",VLOOKUP(B821,'Liste inscrits'!$A:$AD,12,FALSE),\"\")","v":""}]
[{"$f":"IF(B821<>\"\",VLOOKUP(B821,'Liste inscrits'!$A:$AD,14,FALSE),\"\")","v":""},{"$f":"IF(B821<>\"\",VLOOKUP(B821,'Liste inscrits'!$A:$AD,13,FALSE),\"\")","v":""},null,{"$f":"IF(B821<>\"\",VLOOKUP(B821,'Liste inscrits'!$A:$AD,16,FALSE),\"\")","v":""},"ARA",1,{"$f":"IF(B821<>\"\",VLOOKUP(B821,'Liste inscrits'!$A:$AD,17,FALSE),\"\")","v":""},{"$f":"IF(B821<>\"\",VLOOKUP(B821,'Liste inscrits'!$A:$AD,18,FALSE),\"\")","v":""}]
[]
["Nb parties gagnées\ndans les poules",{"$f":"IF(ISERROR(VLOOKUP(B821&G821&H821,'Liste inscrits'!AH:AJ,1,FALSE)),\"\",VLOOKUP(B821&G821&H821,'Liste inscrits'!AH:AJ,3,FALSE))","v":""},"Classement \ndans la poule ",{"$f":"IF(ISERROR(VLOOKUP(B821&G821&H821,'Liste inscrits'!AH:AU,1,FALSE)),\"\",VLOOKUP(B821&G821&H821,'Liste inscrits'!AH:AU,14,FALSE)&\"  /  \"&VLOOKUP(B821&G821&H821,'Liste inscrits'!AH:AU,13,FALSE))","v":"  /  "},"Nb de parties gagnées \naprès les poules ",null,null,{"$f":"IF(ISERROR(VLOOKUP(B821&G821&H821,'Liste inscrits'!AH:AS,1,FALSE)),\"\",VLOOKUP(B821&G821&H821,'Liste inscrits'!AH:AS,11,FALSE))","v":""}]
[]
["N° de LICENCE","NOM                     PRENOM\nen lettres capitales",null,"DIV","CR","CBD","N° \nSEC","N° \nASB","Qual. \nChpt AIN"]
[{"$f":"IF(B828<>\"\",VLOOKUP(B828,'Liste inscrits'!$A:$AD,2,FALSE),\"\")","v":""},{"$f":"IF(OFFSET('Liste inscrits'!$A$1,INT(ROW()/35)*4+(ROW()-INT(ROW()/35)*35)/7,0)<>\"\",OFFSET('Liste inscrits'!$A$1,INT(ROW()/35)*4+(ROW()-INT(ROW()/35)*35)/7,0),\"\")","v":""},null,{"$f":"IF(B828<>\"\",VLOOKUP(B828,'Liste inscrits'!$A:$AD,4,FALSE),\"\")","v":""},"ARA",1,{"$f":"IF(B828<>\"\",VLOOKUP(B828,'Liste inscrits'!$A:$AD,5,FALSE),\"\")","v":""},{"$f":"IF(B828<>\"\",VLOOKUP(B828,'Liste inscrits'!$A:$AD,6,FALSE),\"\")","v":""}]
[{"$f":"IF(B828<>\"\",VLOOKUP(B828,'Liste inscrits'!$A:$AD,8,FALSE),\"\")","v":""},{"$f":"IF(B828<>\"\",VLOOKUP(B828,'Liste inscrits'!$A:$AD,7,FALSE),\"\")","v":""},null,{"$f":"IF(B828<>\"\",VLOOKUP(B828,'Liste inscrits'!$A:$AD,10,FALSE),\"\")","v":""},"ARA",1,{"$f":"IF(B828<>\"\",VLOOKUP(B828,'Liste inscrits'!$A:$AD,11,FALSE),\"\")","v":""},{"$f":"IF(B828<>\"\",VLOOKUP(B828,'Liste inscrits'!$A:$AD,12,FALSE),\"\")","v":""}]
[{"$f":"IF(B828<>\"\",VLOOKUP(B828,'Liste inscrits'!$A:$AD,14,FALSE),\"\")","v":""},{"$f":"IF(B828<>\"\",VLOOKUP(B828,'Liste inscrits'!$A:$AD,13,FALSE),\"\")","v":""},null,{"$f":"IF(B828<>\"\",VLOOKUP(B828,'Liste inscrits'!$A:$AD,16,FALSE),\"\")","v":""},"ARA",1,{"$f":"IF(B828<>\"\",VLOOKUP(B828,'Liste inscrits'!$A:$AD,17,FALSE),\"\")","v":""},{"$f":"IF(B828<>\"\",VLOOKUP(B828,'Liste inscrits'!$A:$AD,18,FALSE),\"\")","v":""}]
[]
["Nb parties gagnées\ndans les poules",{"$f":"IF(ISERROR(VLOOKUP(B828&G828&H828,'Liste inscrits'!AH:AJ,1,FALSE)),\"\",VLOOKUP(B828&G828&H828,'Liste inscrits'!AH:AJ,3,FALSE))","v":""},"Classement \ndans la poule ",{"$f":"IF(ISERROR(VLOOKUP(B828&G828&H828,'Liste inscrits'!AH:AU,1,FALSE)),\"\",VLOOKUP(B828&G828&H828,'Liste inscrits'!AH:AU,14,FALSE)&\"  /  \"&VLOOKUP(B828&G828&H828,'Liste inscrits'!AH:AU,13,FALSE))","v":"  /  "},"Nb de parties gagnées \naprès les poules ",null,null,{"$f":"IF(ISERROR(VLOOKUP(B828&G828&H828,'Liste inscrits'!AH:AS,1,FALSE)),\"\",VLOOKUP(B828&G828&H828,'Liste inscrits'!AH:AS,11,FALSE))","v":""}]
[]
["N° de LICENCE","NOM                     PRENOM\nen lettres capitales",null,"DIV","CR","CBD","N° \nSEC","N° \nASB","Qual. \nChpt AIN"]
[{"$f":"IF(B835<>\"\",VLOOKUP(B835,'Liste inscrits'!$A:$AD,2,FALSE),\"\")","v":""},{"$f":"IF(OFFSET('Liste inscrits'!$A$1,INT(ROW()/35)*4+(ROW()-INT(ROW()/35)*35)/7,0)<>\"\",OFFSET('Liste inscrits'!$A$1,INT(ROW()/35)*4+(ROW()-INT(ROW()/35)*35)/7,0),\"\")","v":""},null,{"$f":"IF(B835<>\"\",VLOOKUP(B835,'Liste inscrits'!$A:$AD,4,FALSE),\"\")","v":""},"ARA",1,{"$f":"IF(B835<>\"\",VLOOKUP(B835,'Liste inscrits'!$A:$AD,5,FALSE),\"\")","v":""},{"$f":"IF(B835<>\"\",VLOOKUP(B835,'Liste inscrits'!$A:$AD,6,FALSE),\"\")","v":""}]
[{"$f":"IF(B835<>\"\",VLOOKUP(B835,'Liste inscrits'!$A:$AD,8,FALSE),\"\")","v":""},{"$f":"IF(B835<>\"\",VLOOKUP(B835,'Liste inscrits'!$A:$AD,7,FALSE),\"\")","v":""},null,{"$f":"IF(B835<>\"\",VLOOKUP(B835,'Liste inscrits'!$A:$AD,10,FALSE),\"\")","v":""},"ARA",1,{"$f":"IF(B835<>\"\",VLOOKUP(B835,'Liste inscrits'!$A:$AD,11,FALSE),\"\")","v":""},{"$f":"IF(B835<>\"\",VLOOKUP(B835,'Liste inscrits'!$A:$AD,12,FALSE),\"\")","v":""}]
[{"$f":"IF(B835<>\"\",VLOOKUP(B835,'Liste inscrits'!$A:$AD,14,FALSE),\"\")","v":""},{"$f":"IF(B835<>\"\",VLOOKUP(B835,'Liste inscrits'!$A:$AD,13,FALSE),\"\")","v":""},null,{"$f":"IF(B835<>\"\",VLOOKUP(B835,'Liste inscrits'!$A:$AD,16,FALSE),\"\")","v":""},"ARA",1,{"$f":"IF(B835<>\"\",VLOOKUP(B835,'Liste inscrits'!$A:$AD,17,FALSE),\"\")","v":""},{"$f":"IF(B835<>\"\",VLOOKUP(B835,'Liste inscrits'!$A:$AD,18,FALSE),\"\")","v":""}]
[]
["Nb parties gagnées\ndans les poules",{"$f":"IF(ISERROR(VLOOKUP(B835&G835&H835,'Liste inscrits'!AH:AJ,1,FALSE)),\"\",VLOOKUP(B835&G835&H835,'Liste inscrits'!AH:AJ,3,FALSE))","v":""},"Classement \ndans la poule ",{"$f":"IF(ISERROR(VLOOKUP(B835&G835&H835,'Liste inscrits'!AH:AU,1,FALSE)),\"\",VLOOKUP(B835&G835&H835,'Liste inscrits'!AH:AU,14,FALSE)&\"  /  \"&VLOOKUP(B835&G835&H835,'Liste inscrits'!AH:AU,13,FALSE))","v":"  /  "},"Nb de parties gagnées \naprès les poules ",null,null,{"$f":"IF(ISERROR(VLOOKUP(B835&G835&H835,'Liste inscrits'!AH:AS,1,FALSE)),\"\",VLOOKUP(B835&G835&H835,'Liste inscrits'!AH:AS,11,FALSE))","v":""}]
[]
[]
["C.B.D. AIN",null,{"$f":"$C$2","v":0},null,null,null,null,{"$f":"$H$2","v":0}]
[]
["SECTEUR :",{"$f":"$B$4","v":{"$error":"#VALUE!"}},null,"Lieu de la compétition :",{"$f":"$E$4","v":0}]
[]
["Date : ",{"$f":"$B$6","v":0},null,null,"Nombre total d'équipes participantes ",null,null,null,{"$f":"$I$6","v":0}]
[]
["N° de LICENCE","NOM                     PRENOM\nen lettres capitales",null,"DIV","CR","CBD","N° \nSEC","N° \nASB","Qual. \nChpt AIN"]
[{"$f":"IF(B849<>\"\",VLOOKUP(B849,'Liste inscrits'!$A:$AD,2,FALSE),\"\")","v":""},{"$f":"IF(OFFSET('Liste inscrits'!$A$1,INT(ROW()/35)*4+(ROW()-INT(ROW()/35)*35)/7,0)<>\"\",OFFSET('Liste inscrits'!$A$1,INT(ROW()/35)*4+(ROW()-INT(ROW()/35)*35)/7,0),\"\")","v":""},null,{"$f":"IF(B849<>\"\",VLOOKUP(B849,'Liste inscrits'!$A:$AD,4,FALSE),\"\")","v":""},"ARA",1,{"$f":"IF(B849<>\"\",VLOOKUP(B849,'Liste inscrits'!$A:$AD,5,FALSE),\"\")","v":""},{"$f":"IF(B849<>\"\",VLOOKUP(B849,'Liste inscrits'!$A:$AD,6,FALSE),\"\")","v":""}]
[{"$f":"IF(B849<>\"\",VLOOKUP(B849,'Liste inscrits'!$A:$AD,8,FALSE),\"\")","v":""},{"$f":"IF(B849<>\"\",VLOOKUP(B849,'Liste inscrits'!$A:$AD,7,FALSE),\"\")","v":""},null,{"$f":"IF(B849<>\"\",VLOOKUP(B849,'Liste inscrits'!$A:$AD,10,FALSE),\"\")","v":""},"ARA",1,{"$f":"IF(B849<>\"\",VLOOKUP(B849,'Liste inscrits'!$A:$AD,11,FALSE),\"\")","v":""},{"$f":"IF(B849<>\"\",VLOOKUP(B849,'Liste inscrits'!$A:$AD,12,FALSE),\"\")","v":""}]
[{"$f":"IF(B849<>\"\",VLOOKUP(B849,'Liste inscrits'!$A:$AD,14,FALSE),\"\")","v":""},{"$f":"IF(B849<>\"\",VLOOKUP(B849,'Liste inscrits'!$A:$AD,13,FALSE),\"\")","v":""},null,{"$f":"IF(B849<>\"\",VLOOKUP(B849,'Liste inscrits'!$A:$AD,16,FALSE),\"\")","v":""},"ARA",1,{"$f":"IF(B849<>\"\",VLOOKUP(B849,'Liste inscrits'!$A:$AD,17,FALSE),\"\")","v":""},{"$f":"IF(B849<>\"\",VLOOKUP(B849,'Liste inscrits'!$A:$AD,18,FALSE),\"\")","v":""}]
[]
["Nb parties gagnées\ndans les poules",{"$f":"IF(ISERROR(VLOOKUP(B849&G849&H849,'Liste inscrits'!AH:AJ,1,FALSE)),\"\",VLOOKUP(B849&G849&H849,'Liste inscrits'!AH:AJ,3,FALSE))","v":""},"Classement \ndans la poule ",{"$f":"IF(ISERROR(VLOOKUP(B849&G849&H849,'Liste inscrits'!AH:AU,1,FALSE)),\"\",VLOOKUP(B849&G849&H849,'Liste inscrits'!AH:AU,14,FALSE)&\"  /  \"&VLOOKUP(B849&G849&H849,'Liste inscrits'!AH:AU,13,FALSE))","v":"  /  "},"Nb de parties gagnées \naprès les poules ",null,null,{"$f":"IF(ISERROR(VLOOKUP(B849&G849&H849,'Liste inscrits'!AH:AS,1,FALSE)),\"\",VLOOKUP(B849&G849&H849,'Liste inscrits'!AH:AS,11,FALSE))","v":""}]
[]
["N° de LICENCE","NOM                     PRENOM\nen lettres capitales",null,"DIV","CR","CBD","N° \nSEC","N° \nASB","Qual. \nChpt AIN"]
[{"$f":"IF(B856<>\"\",VLOOKUP(B856,'Liste inscrits'!$A:$AD,2,FALSE),\"\")","v":""},{"$f":"IF(OFFSET('Liste inscrits'!$A$1,INT(ROW()/35)*4+(ROW()-INT(ROW()/35)*35)/7,0)<>\"\",OFFSET('Liste inscrits'!$A$1,INT(ROW()/35)*4+(ROW()-INT(ROW()/35)*35)/7,0),\"\")","v":""},null,{"$f":"IF(B856<>\"\",VLOOKUP(B856,'Liste inscrits'!$A:$AD,4,FALSE),\"\")","v":""},"ARA",1,{"$f":"IF(B856<>\"\",VLOOKUP(B856,'Liste inscrits'!$A:$AD,5,FALSE),\"\")","v":""},{"$f":"IF(B856<>\"\",VLOOKUP(B856,'Liste inscrits'!$A:$AD,6,FALSE),\"\")","v":""}]
[{"$f":"IF(B856<>\"\",VLOOKUP(B856,'Liste inscrits'!$A:$AD,8,FALSE),\"\")","v":""},{"$f":"IF(B856<>\"\",VLOOKUP(B856,'Liste inscrits'!$A:$AD,7,FALSE),\"\")","v":""},null,{"$f":"IF(B856<>\"\",VLOOKUP(B856,'Liste inscrits'!$A:$AD,10,FALSE),\"\")","v":""},"ARA",1,{"$f":"IF(B856<>\"\",VLOOKUP(B856,'Liste inscrits'!$A:$AD,11,FALSE),\"\")","v":""},{"$f":"IF(B856<>\"\",VLOOKUP(B856,'Liste inscrits'!$A:$AD,12,FALSE),\"\")","v":""}]
[{"$f":"IF(B856<>\"\",VLOOKUP(B856,'Liste inscrits'!$A:$AD,14,FALSE),\"\")","v":""},{"$f":"IF(B856<>\"\",VLOOKUP(B856,'Liste inscrits'!$A:$AD,13,FALSE),\"\")","v":""},null,{"$f":"IF(B856<>\"\",VLOOKUP(B856,'Liste inscrits'!$A:$AD,16,FALSE),\"\")","v":""},"ARA",1,{"$f":"IF(B856<>\"\",VLOOKUP(B856,'Liste inscrits'!$A:$AD,17,FALSE),\"\")","v":""},{"$f":"IF(B856<>\"\",VLOOKUP(B856,'Liste inscrits'!$A:$AD,18,FALSE),\"\")","v":""}]
[]
["Nb parties gagnées\ndans les poules",{"$f":"IF(ISERROR(VLOOKUP(B856&G856&H856,'Liste inscrits'!AH:AJ,1,FALSE)),\"\",VLOOKUP(B856&G856&H856,'Liste inscrits'!AH:AJ,3,FALSE))","v":""},"Classement \ndans la poule ",{"$f":"IF(ISERROR(VLOOKUP(B856&G856&H856,'Liste inscrits'!AH:AU,1,FALSE)),\"\",VLOOKUP(B856&G856&H856,'Liste inscrits'!AH:AU,14,FALSE)&\"  /  \"&VLOOKUP(B856&G856&H856,'Liste inscrits'!AH:AU,13,FALSE))","v":"  /  "},"Nb de parties gagnées \naprès les poules ",null,null,{"$f":"IF(ISERROR(VLOOKUP(B856&G856&H856,'Liste inscrits'!AH:AS,1,FALSE)),\"\",VLOOKUP(B856&G856&H856,'Liste inscrits'!AH:AS,11,FALSE))","v":""}]
[]
["N° de LICENCE","NOM                     PRENOM\nen lettres capitales",null,"DIV","CR","CBD","N° \nSEC","N° \nASB","Qual. \nChpt AIN"]
[{"$f":"IF(B863<>\"\",VLOOKUP(B863,'Liste inscrits'!$A:$AD,2,FALSE),\"\")","v":""},{"$f":"IF(OFFSET('Liste inscrits'!$A$1,INT(ROW()/35)*4+(ROW()-INT(ROW()/35)*35)/7,0)<>\"\",OFFSET('Liste inscrits'!$A$1,INT(ROW()/35)*4+(ROW()-INT(ROW()/35)*35)/7,0),\"\")","v":""},null,{"$f":"IF(B863<>\"\",VLOOKUP(B863,'Liste inscrits'!$A:$AD,4,FALSE),\"\")","v":""},"ARA",1,{"$f":"IF(B863<>\"\",VLOOKUP(B863,'Liste inscrits'!$A:$AD,5,FALSE),\"\")","v":""},{"$f":"IF(B863<>\"\",VLOOKUP(B863,'Liste inscrits'!$A:$AD,6,FALSE),\"\")","v":""}]
[{"$f":"IF(B863<>\"\",VLOOKUP(B863,'Liste inscrits'!$A:$AD,8,FALSE),\"\")","v":""},{"$f":"IF(B863<>\"\",VLOOKUP(B863,'Liste inscrits'!$A:$AD,7,FALSE),\"\")","v":""},null,{"$f":"IF(B863<>\"\",VLOOKUP(B863,'Liste inscrits'!$A:$AD,10,FALSE),\"\")","v":""},"ARA",1,{"$f":"IF(B863<>\"\",VLOOKUP(B863,'Liste inscrits'!$A:$AD,11,FALSE),\"\")","v":""},{"$f":"IF(B863<>\"\",VLOOKUP(B863,'Liste inscrits'!$A:$AD,12,FALSE),\"\")","v":""}]
[{"$f":"IF(B863<>\"\",VLOOKUP(B863,'Liste inscrits'!$A:$AD,14,FALSE),\"\")","v":""},{"$f":"IF(B863<>\"\",VLOOKUP(B863,'Liste inscrits'!$A:$AD,13,FALSE),\"\")","v":""},null,{"$f":"IF(B863<>\"\",VLOOKUP(B863,'Liste inscrits'!$A:$AD,16,FALSE),\"\")","v":""},"ARA",1,{"$f":"IF(B863<>\"\",VLOOKUP(B863,'Liste inscrits'!$A:$AD,17,FALSE),\"\")","v":""},{"$f":"IF(B863<>\"\",VLOOKUP(B863,'Liste inscrits'!$A:$AD,18,FALSE),\"\")","v":""}]
[]
["Nb parties gagnées\ndans les poules",{"$f":"IF(ISERROR(VLOOKUP(B863&G863&H863,'Liste inscrits'!AH:AJ,1,FALSE)),\"\",VLOOKUP(B863&G863&H863,'Liste inscrits'!AH:AJ,3,FALSE))","v":""},"Classement \ndans la poule ",{"$f":"IF(ISERROR(VLOOKUP(B863&G863&H863,'Liste inscrits'!AH:AU,1,FALSE)),\"\",VLOOKUP(B863&G863&H863,'Liste inscrits'!AH:AU,14,FALSE)&\"  /  \"&VLOOKUP(B863&G863&H863,'Liste inscrits'!AH:AU,13,FALSE))","v":"  /  "},"Nb de parties gagnées \naprès les poules ",null,null,{"$f":"IF(ISERROR(VLOOKUP(B863&G863&H863,'Liste inscrits'!AH:AS,1,FALSE)),\"\",VLOOKUP(B863&G863&H863,'Liste inscrits'!AH:AS,11,FALSE))","v":""}]
[]
["N° de LICENCE","NOM                     PRENOM\nen lettres capitales",null,"DIV","CR","CBD","N° \nSEC","N° \nASB","Qual. \nChpt AIN"]
[{"$f":"IF(B870<>\"\",VLOOKUP(B870,'Liste inscrits'!$A:$AD,2,FALSE),\"\")","v":""},{"$f":"IF(OFFSET('Liste inscrits'!$A$1,INT(ROW()/35)*4+(ROW()-INT(ROW()/35)*35)/7,0)<>\"\",OFFSET('Liste inscrits'!$A$1,INT(ROW()/35)*4+(ROW()-INT(ROW()/35)*35)/7,0),\"\")","v":""},null,{"$f":"IF(B870<>\"\",VLOOKUP(B870,'Liste inscrits'!$A:$AD,4,FALSE),\"\")","v":""},"ARA",1,{"$f":"IF(B870<>\"\",VLOOKUP(B870,'Liste inscrits'!$A:$AD,5,FALSE),\"\")","v":""},{"$f":"IF(B870<>\"\",VLOOKUP(B870,'Liste inscrits'!$A:$AD,6,FALSE),\"\")","v":""}]
[{"$f":"IF(B870<>\"\",VLOOKUP(B870,'Liste inscrits'!$A:$AD,8,FALSE),\"\")","v":""},{"$f":"IF(B870<>\"\",VLOOKUP(B870,'Liste inscrits'!$A:$AD,7,FALSE),\"\")","v":""},null,{"$f":"IF(B870<>\"\",VLOOKUP(B870,'Liste inscrits'!$A:$AD,10,FALSE),\"\")","v":""},"ARA",1,{"$f":"IF(B870<>\"\",VLOOKUP(B870,'Liste inscrits'!$A:$AD,11,FALSE),\"\")","v":""},{"$f":"IF(B870<>\"\",VLOOKUP(B870,'Liste inscrits'!$A:$AD,12,FALSE),\"\")","v":""}]
[{"$f":"IF(B870<>\"\",VLOOKUP(B870,'Liste inscrits'!$A:$AD,14,FALSE),\"\")","v":""},{"$f":"IF(B870<>\"\",VLOOKUP(B870,'Liste inscrits'!$A:$AD,13,FALSE),\"\")","v":""},null,{"$f":"IF(B870<>\"\",VLOOKUP(B870,'Liste inscrits'!$A:$AD,16,FALSE),\"\")","v":""},"ARA",1,{"$f":"IF(B870<>\"\",VLOOKUP(B870,'Liste inscrits'!$A:$AD,17,FALSE),\"\")","v":""},{"$f":"IF(B870<>\"\",VLOOKUP(B870,'Liste inscrits'!$A:$AD,18,FALSE),\"\")","v":""}]
[]
["Nb parties gagnées\ndans les poules",{"$f":"IF(ISERROR(VLOOKUP(B870&G870&H870,'Liste inscrits'!AH:AJ,1,FALSE)),\"\",VLOOKUP(B870&G870&H870,'Liste inscrits'!AH:AJ,3,FALSE))","v":""},"Classement \ndans la poule ",{"$f":"IF(ISERROR(VLOOKUP(B870&G870&H870,'Liste inscrits'!AH:AU,1,FALSE)),\"\",VLOOKUP(B870&G870&H870,'Liste inscrits'!AH:AU,14,FALSE)&\"  /  \"&VLOOKUP(B870&G870&H870,'Liste inscrits'!AH:AU,13,FALSE))","v":"  /  "},"Nb de parties gagnées \naprès les poules ",null,null,{"$f":"IF(ISERROR(VLOOKUP(B870&G870&H870,'Liste inscrits'!AH:AS,1,FALSE)),\"\",VLOOKUP(B870&G870&H870,'Liste inscrits'!AH:AS,11,FALSE))","v":""}]
[]
[]
["C.B.D. AIN",null,{"$f":"$C$2","v":0},null,null,null,null,{"$f":"$H$2","v":0}]
[]
["SECTEUR :",{"$f":"$B$4","v":{"$error":"#VALUE!"}},null,"Lieu de la compétition :",{"$f":"$E$4","v":0}]
[]
["Date : ",{"$f":"$B$6","v":0},null,null,"Nombre total d'équipes participantes ",null,null,null,{"$f":"$I$6","v":0}]
[]
["N° de LICENCE","NOM                     PRENOM\nen lettres capitales",null,"DIV","CR","CBD","N° \nSEC","N° \nASB","Qual. \nChpt AIN"]
[{"$f":"IF(B884<>\"\",VLOOKUP(B884,'Liste inscrits'!$A:$AD,2,FALSE),\"\")","v":""},{"$f":"IF(OFFSET('Liste inscrits'!$A$1,INT(ROW()/35)*4+(ROW()-INT(ROW()/35)*35)/7,0)<>\"\",OFFSET('Liste inscrits'!$A$1,INT(ROW()/35)*4+(ROW()-INT(ROW()/35)*35)/7,0),\"\")","v":""},null,{"$f":"IF(B884<>\"\",VLOOKUP(B884,'Liste inscrits'!$A:$AD,4,FALSE),\"\")","v":""},"ARA",1,{"$f":"IF(B884<>\"\",VLOOKUP(B884,'Liste inscrits'!$A:$AD,5,FALSE),\"\")","v":""},{"$f":"IF(B884<>\"\",VLOOKUP(B884,'Liste inscrits'!$A:$AD,6,FALSE),\"\")","v":""}]
[{"$f":"IF(B884<>\"\",VLOOKUP(B884,'Liste inscrits'!$A:$AD,8,FALSE),\"\")","v":""},{"$f":"IF(B884<>\"\",VLOOKUP(B884,'Liste inscrits'!$A:$AD,7,FALSE),\"\")","v":""},null,{"$f":"IF(B884<>\"\",VLOOKUP(B884,'Liste inscrits'!$A:$AD,10,FALSE),\"\")","v":""},"ARA",1,{"$f":"IF(B884<>\"\",VLOOKUP(B884,'Liste inscrits'!$A:$AD,11,FALSE),\"\")","v":""},{"$f":"IF(B884<>\"\",VLOOKUP(B884,'Liste inscrits'!$A:$AD,12,FALSE),\"\")","v":""}]
[{"$f":"IF(B884<>\"\",VLOOKUP(B884,'Liste inscrits'!$A:$AD,14,FALSE),\"\")","v":""},{"$f":"IF(B884<>\"\",VLOOKUP(B884,'Liste inscrits'!$A:$AD,13,FALSE),\"\")","v":""},null,{"$f":"IF(B884<>\"\",VLOOKUP(B884,'Liste inscrits'!$A:$AD,16,FALSE),\"\")","v":""},"ARA",1,{"$f":"IF(B884<>\"\",VLOOKUP(B884,'Liste inscrits'!$A:$AD,17,FALSE),\"\")","v":""},{"$f":"IF(B884<>\"\",VLOOKUP(B884,'Liste inscrits'!$A:$AD,18,FALSE),\"\")","v":""}]
[]
["Nb parties gagnées\ndans les poules",{"$f":"IF(ISERROR(VLOOKUP(B884&G884&H884,'Liste inscrits'!AH:AJ,1,FALSE)),\"\",VLOOKUP(B884&G884&H884,'Liste inscrits'!AH:AJ,3,FALSE))","v":""},"Classement \ndans la poule ",{"$f":"IF(ISERROR(VLOOKUP(B884&G884&H884,'Liste inscrits'!AH:AU,1,FALSE)),\"\",VLOOKUP(B884&G884&H884,'Liste inscrits'!AH:AU,14,FALSE)&\"  /  \"&VLOOKUP(B884&G884&H884,'Liste inscrits'!AH:AU,13,FALSE))","v":"  /  "},"Nb de parties gagnées \naprès les poules ",null,null,{"$f":"IF(ISERROR(VLOOKUP(B884&G884&H884,'Liste inscrits'!AH:AS,1,FALSE)),\"\",VLOOKUP(B884&G884&H884,'Liste inscrits'!AH:AS,11,FALSE))","v":""}]
[]
["N° de LICENCE","NOM                     PRENOM\nen lettres capitales",null,"DIV","CR","CBD","N° \nSEC","N° \nASB","Qual. \nChpt AIN"]
[{"$f":"IF(B891<>\"\",VLOOKUP(B891,'Liste inscrits'!$A:$AD,2,FALSE),\"\")","v":""},{"$f":"IF(OFFSET('Liste inscrits'!$A$1,INT(ROW()/35)*4+(ROW()-INT(ROW()/35)*35)/7,0)<>\"\",OFFSET('Liste inscrits'!$A$1,INT(ROW()/35)*4+(ROW()-INT(ROW()/35)*35)/7,0),\"\")","v":""},null,{"$f":"IF(B891<>\"\",VLOOKUP(B891,'Liste inscrits'!$A:$AD,4,FALSE),\"\")","v":""},"ARA",1,{"$f":"IF(B891<>\"\",VLOOKUP(B891,'Liste inscrits'!$A:$AD,5,FALSE),\"\")","v":""},{"$f":"IF(B891<>\"\",VLOOKUP(B891,'Liste inscrits'!$A:$AD,6,FALSE),\"\")","v":""}]
[{"$f":"IF(B891<>\"\",VLOOKUP(B891,'Liste inscrits'!$A:$AD,8,FALSE),\"\")","v":""},{"$f":"IF(B891<>\"\",VLOOKUP(B891,'Liste inscrits'!$A:$AD,7,FALSE),\"\")","v":""},null,{"$f":"IF(B891<>\"\",VLOOKUP(B891,'Liste inscrits'!$A:$AD,10,FALSE),\"\")","v":""},"ARA",1,{"$f":"IF(B891<>\"\",VLOOKUP(B891,'Liste inscrits'!$A:$AD,11,FALSE),\"\")","v":""},{"$f":"IF(B891<>\"\",VLOOKUP(B891,'Liste inscrits'!$A:$AD,12,FALSE),\"\")","v":""}]
[{"$f":"IF(B891<>\"\",VLOOKUP(B891,'Liste inscrits'!$A:$AD,14,FALSE),\"\")","v":""},{"$f":"IF(B891<>\"\",VLOOKUP(B891,'Liste inscrits'!$A:$AD,13,FALSE),\"\")","v":""},null,{"$f":"IF(B891<>\"\",VLOOKUP(B891,'Liste inscrits'!$A:$AD,16,FALSE),\"\")","v":""},"ARA",1,{"$f":"IF(B891<>\"\",VLOOKUP(B891,'Liste inscrits'!$A:$AD,17,FALSE),\"\")","v":""},{"$f":"IF(B891<>\"\",VLOOKUP(B891,'Liste inscrits'!$A:$AD,18,FALSE),\"\")","v":""}]
[]
["Nb parties gagnées\ndans les poules",{"$f":"IF(ISERROR(VLOOKUP(B891&G891&H891,'Liste inscrits'!AH:AJ,1,FALSE)),\"\",VLOOKUP(B891&G891&H891,'Liste inscrits'!AH:AJ,3,FALSE))","v":""},"Classement \ndans la poule ",{"$f":"IF(ISERROR(VLOOKUP(B891&G891&H891,'Liste inscrits'!AH:AU,1,FALSE)),\"\",VLOOKUP(B891&G891&H891,'Liste inscrits'!AH:AU,14,FALSE)&\"  /  \"&VLOOKUP(B891&G891&H891,'Liste inscrits'!AH:AU,13,FALSE))","v":"  /  "},"Nb de parties gagnées \naprès les poules ",null,null,{"$f":"IF(ISERROR(VLOOKUP(B891&G891&H891,'Liste inscrits'!AH:AS,1,FALSE)),\"\",VLOOKUP(B891&G891&H891,'Liste inscrits'!AH:AS,11,FALSE))","v":""}]
[]
["N° de LICENCE","NOM                     PRENOM\nen lettres capitales",null,"DIV","CR","CBD","N° \nSEC","N° \nASB","Qual. \nChpt AIN"]
[{"$f":"IF(B898<>\"\",VLOOKUP(B898,'Liste inscrits'!$A:$AD,2,FALSE),\"\")","v":""},{"$f":"IF(OFFSET('Liste inscrits'!$A$1,INT(ROW()/35)*4+(ROW()-INT(ROW()/35)*35)/7,0)<>\"\",OFFSET('Liste inscrits'!$A$1,INT(ROW()/35)*4+(ROW()-INT(ROW()/35)*35)/7,0),\"\")","v":""},null,{"$f":"IF(B898<>\"\",VLOOKUP(B898,'Liste inscrits'!$A:$AD,4,FALSE),\"\")","v":""},"ARA",1,{"$f":"IF(B898<>\"\",VLOOKUP(B898,'Liste inscrits'!$A:$AD,5,FALSE),\"\")","v":""},{"$f":"IF(B898<>\"\",VLOOKUP(B898,'Liste inscrits'!$A:$AD,6,FALSE),\"\")","v":""}]
[{"$f":"IF(B898<>\"\",VLOOKUP(B898,'Liste inscrits'!$A:$AD,8,FALSE),\"\")","v":""},{"$f":"IF(B898<>\"\",VLOOKUP(B898,'Liste inscrits'!$A:$AD,7,FALSE),\"\")","v":""},null,{"$f":"IF(B898<>\"\",VLOOKUP(B898,'Liste inscrits'!$A:$AD,10,FALSE),\"\")","v":""},"ARA",1,{"$f":"IF(B898<>\"\",VLOOKUP(B898,'Liste inscrits'!$A:$AD,11,FALSE),\"\")","v":""},{"$f":"IF(B898<>\"\",VLOOKUP(B898,'Liste inscrits'!$A:$AD,12,FALSE),\"\")","v":""}]
[{"$f":"IF(B898<>\"\",VLOOKUP(B898,'Liste inscrits'!$A:$AD,14,FALSE),\"\")","v":""},{"$f":"IF(B898<>\"\",VLOOKUP(B898,'Liste inscrits'!$A:$AD,13,FALSE),\"\")","v":""},null,{"$f":"IF(B898<>\"\",VLOOKUP(B898,'Liste inscrits'!$A:$AD,16,FALSE),\"\")","v":""},"ARA",1,{"$f":"IF(B898<>\"\",VLOOKUP(B898,'Liste inscrits'!$A:$AD,17,FALSE),\"\")","v":""},{"$f":"IF(B898<>\"\",VLOOKUP(B898,'Liste inscrits'!$A:$AD,18,FALSE),\"\")","v":""}]
[]
["Nb parties gagnées\ndans les poules",{"$f":"IF(ISERROR(VLOOKUP(B898&G898&H898,'Liste inscrits'!AH:AJ,1,FALSE)),\"\",VLOOKUP(B898&G898&H898,'Liste inscrits'!AH:AJ,3,FALSE))","v":""},"Classement \ndans la poule ",{"$f":"IF(ISERROR(VLOOKUP(B898&G898&H898,'Liste inscrits'!AH:AU,1,FALSE)),\"\",VLOOKUP(B898&G898&H898,'Liste inscrits'!AH:AU,14,FALSE)&\"  /  \"&VLOOKUP(B898&G898&H898,'Liste inscrits'!AH:AU,13,FALSE))","v":"  /  "},"Nb de parties gagnées \naprès les poules ",null,null,{"$f":"IF(ISERROR(VLOOKUP(B898&G898&H898,'Liste inscrits'!AH:AS,1,FALSE)),\"\",VLOOKUP(B898&G898&H898,'Liste inscrits'!AH:AS,11,FALSE))","v":""}]
[]
["N° de LICENCE","NOM                     PRENOM\nen lettres capitales",null,"DIV","CR","CBD","N° \nSEC","N° \nASB","Qual. \nChpt AIN"]
[{"$f":"IF(B905<>\"\",VLOOKUP(B905,'Liste inscrits'!$A:$AD,2,FALSE),\"\")","v":""},{"$f":"IF(OFFSET('Liste inscrits'!$A$1,INT(ROW()/35)*4+(ROW()-INT(ROW()/35)*35)/7,0)<>\"\",OFFSET('Liste inscrits'!$A$1,INT(ROW()/35)*4+(ROW()-INT(ROW()/35)*35)/7,0),\"\")","v":""},null,{"$f":"IF(B905<>\"\",VLOOKUP(B905,'Liste inscrits'!$A:$AD,4,FALSE),\"\")","v":""},"ARA",1,{"$f":"IF(B905<>\"\",VLOOKUP(B905,'Liste inscrits'!$A:$AD,5,FALSE),\"\")","v":""},{"$f":"IF(B905<>\"\",VLOOKUP(B905,'Liste inscrits'!$A:$AD,6,FALSE),\"\")","v":""}]
[{"$f":"IF(B905<>\"\",VLOOKUP(B905,'Liste inscrits'!$A:$AD,8,FALSE),\"\")","v":""},{"$f":"IF(B905<>\"\",VLOOKUP(B905,'Liste inscrits'!$A:$AD,7,FALSE),\"\")","v":""},null,{"$f":"IF(B905<>\"\",VLOOKUP(B905,'Liste inscrits'!$A:$AD,10,FALSE),\"\")","v":""},"ARA",1,{"$f":"IF(B905<>\"\",VLOOKUP(B905,'Liste inscrits'!$A:$AD,11,FALSE),\"\")","v":""},{"$f":"IF(B905<>\"\",VLOOKUP(B905,'Liste inscrits'!$A:$AD,12,FALSE),\"\")","v":""}]
[{"$f":"IF(B905<>\"\",VLOOKUP(B905,'Liste inscrits'!$A:$AD,14,FALSE),\"\")","v":""},{"$f":"IF(B905<>\"\",VLOOKUP(B905,'Liste inscrits'!$A:$AD,13,FALSE),\"\")","v":""},null,{"$f":"IF(B905<>\"\",VLOOKUP(B905,'Liste inscrits'!$A:$AD,16,FALSE),\"\")","v":""},"ARA",1,{"$f":"IF(B905<>\"\",VLOOKUP(B905,'Liste inscrits'!$A:$AD,17,FALSE),\"\")","v":""},{"$f":"IF(B905<>\"\",VLOOKUP(B905,'Liste inscrits'!$A:$AD,18,FALSE),\"\")","v":""}]
[]
["Nb parties gagnées\ndans les poules",{"$f":"IF(ISERROR(VLOOKUP(B905&G905&H905,'Liste inscrits'!AH:AJ,1,FALSE)),\"\",VLOOKUP(B905&G905&H905,'Liste inscrits'!AH:AJ,3,FALSE))","v":""},"Classement \ndans la poule ",{"$f":"IF(ISERROR(VLOOKUP(B905&G905&H905,'Liste inscrits'!AH:AU,1,FALSE)),\"\",VLOOKUP(B905&G905&H905,'Liste inscrits'!AH:AU,14,FALSE)&\"  /  \"&VLOOKUP(B905&G905&H905,'Liste inscrits'!AH:AU,13,FALSE))","v":"  /  "},"Nb de parties gagnées \naprès les poules ",null,null,{"$f":"IF(ISERROR(VLOOKUP(B905&G905&H905,'Liste inscrits'!AH:AS,1,FALSE)),\"\",VLOOKUP(B905&G905&H905,'Liste inscrits'!AH:AS,11,FALSE))","v":""}]
[]
[]
["C.B.D. AIN",null,{"$f":"$C$2","v":0},null,null,null,null,{"$f":"$H$2","v":0}]
[]
["SECTEUR :",{"$f":"$B$4","v":{"$error":"#VALUE!"}},null,"Lieu de la compétition :",{"$f":"$E$4","v":0}]
[]
["Date : ",{"$f":"$B$6","v":0},null,null,"Nombre total d'équipes participantes ",null,null,null,{"$f":"$I$6","v":0}]
[]
["N° de LICENCE","NOM                     PRENOM\nen lettres capitales",null,"DIV","CR","CBD","N° \nSEC","N° \nASB","Qual. \nChpt AIN"]
[{"$f":"IF(B919<>\"\",VLOOKUP(B919,'Liste inscrits'!$A:$AD,2,FALSE),\"\")","v":""},{"$f":"IF(OFFSET('Liste inscrits'!$A$1,INT(ROW()/35)*4+(ROW()-INT(ROW()/35)*35)/7,0)<>\"\",OFFSET('Liste inscrits'!$A$1,INT(ROW()/35)*4+(ROW()-INT(ROW()/35)*35)/7,0),\"\")","v":""},null,{"$f":"IF(B919<>\"\",VLOOKUP(B919,'Liste inscrits'!$A:$AD,4,FALSE),\"\")","v":""},"ARA",1,{"$f":"IF(B919<>\"\",VLOOKUP(B919,'Liste inscrits'!$A:$AD,5,FALSE),\"\")","v":""},{"$f":"IF(B919<>\"\",VLOOKUP(B919,'Liste inscrits'!$A:$AD,6,FALSE),\"\")","v":""}]
[{"$f":"IF(B919<>\"\",VLOOKUP(B919,'Liste inscrits'!$A:$AD,8,FALSE),\"\")","v":""},{"$f":"IF(B919<>\"\",VLOOKUP(B919,'Liste inscrits'!$A:$AD,7,FALSE),\"\")","v":""},null,{"$f":"IF(B919<>\"\",VLOOKUP(B919,'Liste inscrits'!$A:$AD,10,FALSE),\"\")","v":""},"ARA",1,{"$f":"IF(B919<>\"\",VLOOKUP(B919,'Liste inscrits'!$A:$AD,11,FALSE),\"\")","v":""},{"$f":"IF(B919<>\"\",VLOOKUP(B919,'Liste inscrits'!$A:$AD,12,FALSE),\"\")","v":""}]
[{"$f":"IF(B919<>\"\",VLOOKUP(B919,'Liste inscrits'!$A:$AD,14,FALSE),\"\")","v":""},{"$f":"IF(B919<>\"\",VLOOKUP(B919,'Liste inscrits'!$A:$AD,13,FALSE),\"\")","v":""},null,{"$f":"IF(B919<>\"\",VLOOKUP(B919,'Liste inscrits'!$A:$AD,16,FALSE),\"\")","v":""},"ARA",1,{"$f":"IF(B919<>\"\",VLOOKUP(B919,'Liste inscrits'!$A:$AD,17,FALSE),\"\")","v":""},{"$f":"IF(B919<>\"\",VLOOKUP(B919,'Liste inscrits'!$A:$AD,18,FALSE),\"\")","v":""}]
[]
["Nb parties gagnées\ndans les poules",{"$f":"IF(ISERROR(VLOOKUP(B919&G919&H919,'Liste inscrits'!AH:AJ,1,FALSE)),\"\",VLOOKUP(B919&G919&H919,'Liste inscrits'!AH:AJ,3,FALSE))","v":""},"Classement \ndans la poule ",{"$f":"IF(ISERROR(VLOOKUP(B919&G919&H919,'Liste inscrits'!AH:AU,1,FALSE)),\"\",VLOOKUP(B919&G919&H919,'Liste inscrits'!AH:AU,14,FALSE)&\"  /  \"&VLOOKUP(B919&G919&H919,'Liste inscrits'!AH:AU,13,FALSE))","v":"  /  "},"Nb de parties gagnées \naprès les poules ",null,null,{"$f":"IF(ISERROR(VLOOKUP(B919&G919&H919,'Liste inscrits'!AH:AS,1,FALSE)),\"\",VLOOKUP(B919&G919&H919,'Liste inscrits'!AH:AS,11,FALSE))","v":""}]
[]
["N° de LICENCE","NOM                     PRENOM\nen lettres capitales",null,"DIV","CR","CBD","N° \nSEC","N° \nASB","Qual. \nChpt AIN"]
[{"$f":"IF(B926<>\"\",VLOOKUP(B926,'Liste inscrits'!$A:$AD,2,FALSE),\"\")","v":""},{"$f":"IF(OFFSET('Liste inscrits'!$A$1,INT(ROW()/35)*4+(ROW()-INT(ROW()/35)*35)/7,0)<>\"\",OFFSET('Liste inscrits'!$A$1,INT(ROW()/35)*4+(ROW()-INT(ROW()/35)*35)/7,0),\"\")","v":""},null,{"$f":"IF(B926<>\"\",VLOOKUP(B926,'Liste inscrits'!$A:$AD,4,FALSE),\"\")","v":""},"ARA",1,{"$f":"IF(B926<>\"\",VLOOKUP(B926,'Liste inscrits'!$A:$AD,5,FALSE),\"\")","v":""},{"$f":"IF(B926<>\"\",VLOOKUP(B926,'Liste inscrits'!$A:$AD,6,FALSE),\"\")","v":""}]
[{"$f":"IF(B926<>\"\",VLOOKUP(B926,'Liste inscrits'!$A:$AD,8,FALSE),\"\")","v":""},{"$f":"IF(B926<>\"\",VLOOKUP(B926,'Liste inscrits'!$A:$AD,7,FALSE),\"\")","v":""},null,{"$f":"IF(B926<>\"\",VLOOKUP(B926,'Liste inscrits'!$A:$AD,10,FALSE),\"\")","v":""},"ARA",1,{"$f":"IF(B926<>\"\",VLOOKUP(B926,'Liste inscrits'!$A:$AD,11,FALSE),\"\")","v":""},{"$f":"IF(B926<>\"\",VLOOKUP(B926,'Liste inscrits'!$A:$AD,12,FALSE),\"\")","v":""}]
[{"$f":"IF(B926<>\"\",VLOOKUP(B926,'Liste inscrits'!$A:$AD,14,FALSE),\"\")","v":""},{"$f":"IF(B926<>\"\",VLOOKUP(B926,'Liste inscrits'!$A:$AD,13,FALSE),\"\")","v":""},null,{"$f":"IF(B926<>\"\",VLOOKUP(B926,'Liste inscrits'!$A:$AD,16,FALSE),\"\")","v":""},"ARA",1,{"$f":"IF(B926<>\"\",VLOOKUP(B926,'Liste inscrits'!$A:$AD,17,FALSE),\"\")","v":""},{"$f":"IF(B926<>\"\",VLOOKUP(B926,'Liste inscrits'!$A:$AD,18,FALSE),\"\")","v":""}]
[]
["Nb parties gagnées\ndans les poules",{"$f":"IF(ISERROR(VLOOKUP(B926&G926&H926,'Liste inscrits'!AH:AJ,1,FALSE)),\"\",VLOOKUP(B926&G926&H926,'Liste inscrits'!AH:AJ,3,FALSE))","v":""},"Classement \ndans la poule ",{"$f":"IF(ISERROR(VLOOKUP(B926&G926&H926,'Liste inscrits'!AH:AU,1,FALSE)),\"\",VLOOKUP(B926&G926&H926,'Liste inscrits'!AH:AU,14,FALSE)&\"  /  \"&VLOOKUP(B926&G926&H926,'Liste inscrits'!AH:AU,13,FALSE))","v":"  /  "},"Nb de parties gagnées \naprès les poules ",null,null,{"$f":"IF(ISERROR(VLOOKUP(B926&G926&H926,'Liste inscrits'!AH:AS,1,FALSE)),\"\",VLOOKUP(B926&G926&H926,'Liste inscrits'!AH:AS,11,FALSE))","v":""}]
[]
["N° de LICENCE","NOM                     PRENOM\nen lettres capitales",null,"DIV","CR","CBD","N° \nSEC","N° \nASB","Qual. \nChpt AIN"]
[{"$f":"IF(B933<>\"\",VLOOKUP(B933,'Liste inscrits'!$A:$AD,2,FALSE),\"\")","v":""},{"$f":"IF(OFFSET('Liste inscrits'!$A$1,INT(ROW()/35)*4+(ROW()-INT(ROW()/35)*35)/7,0)<>\"\",OFFSET('Liste inscrits'!$A$1,INT(ROW()/35)*4+(ROW()-INT(ROW()/35)*35)/7,0),\"\")","v":""},null,{"$f":"IF(B933<>\"\",VLOOKUP(B933,'Liste inscrits'!$A:$AD,4,FALSE),\"\")","v":""},"ARA",1,{"$f":"IF(B933<>\"\",VLOOKUP(B933,'Liste inscrits'!$A:$AD,5,FALSE),\"\")","v":""},{"$f":"IF(B933<>\"\",VLOOKUP(B933,'Liste inscrits'!$A:$AD,6,FALSE),\"\")","v":""}]
[{"$f":"IF(B933<>\"\",VLOOKUP(B933,'Liste inscrits'!$A:$AD,8,FALSE),\"\")","v":""},{"$f":"IF(B933<>\"\",VLOOKUP(B933,'Liste inscrits'!$A:$AD,7,FALSE),\"\")","v":""},null,{"$f":"IF(B933<>\"\",VLOOKUP(B933,'Liste inscrits'!$A:$AD,10,FALSE),\"\")","v":""},"ARA",1,{"$f":"IF(B933<>\"\",VLOOKUP(B933,'Liste inscrits'!$A:$AD,11,FALSE),\"\")","v":""},{"$f":"IF(B933<>\"\",VLOOKUP(B933,'Liste inscrits'!$A:$AD,12,FALSE),\"\")","v":""}]
[{"$f":"IF(B933<>\"\",VLOOKUP(B933,'Liste inscrits'!$A:$AD,14,FALSE),\"\")","v":""},{"$f":"IF(B933<>\"\",VLOOKUP(B933,'Liste inscrits'!$A:$AD,13,FALSE),\"\")","v":""},null,{"$f":"IF(B933<>\"\",VLOOKUP(B933,'Liste inscrits'!$A:$AD,16,FALSE),\"\")","v":""},"ARA",1,{"$f":"IF(B933<>\"\",VLOOKUP(B933,'Liste inscrits'!$A:$AD,17,FALSE),\"\")","v":""},{"$f":"IF(B933<>\"\",VLOOKUP(B933,'Liste inscrits'!$A:$AD,18,FALSE),\"\")","v":""}]
[]
["Nb parties gagnées\ndans les poules",{"$f":"IF(ISERROR(VLOOKUP(B933&G933&H933,'Liste inscrits'!AH:AJ,1,FALSE)),\"\",VLOOKUP(B933&G933&H933,'Liste inscrits'!AH:AJ,3,FALSE))","v":""},"Classement \ndans la poule ",{"$f":"IF(ISERROR(VLOOKUP(B933&G933&H933,'Liste inscrits'!AH:AU,1,FALSE)),\"\",VLOOKUP(B933&G933&H933,'Liste inscrits'!AH:AU,14,FALSE)&\"  /  \"&VLOOKUP(B933&G933&H933,'Liste inscrits'!AH:AU,13,FALSE))","v":"  /  "},"Nb de parties gagnées \naprès les poules ",null,null,{"$f":"IF(ISERROR(VLOOKUP(B933&G933&H933,'Liste inscrits'!AH:AS,1,FALSE)),\"\",VLOOKUP(B933&G933&H933,'Liste inscrits'!AH:AS,11,FALSE))","v":""}]
[]
["N° de LICENCE","NOM                     PRENOM\nen lettres capitales",null,"DIV","CR","CBD","N° \nSEC","N° \nASB","Qual. \nChpt AIN"]
[{"$f":"IF(B940<>\"\",VLOOKUP(B940,'Liste inscrits'!$A:$AD,2,FALSE),\"\")","v":""},{"$f":"IF(OFFSET('Liste inscrits'!$A$1,INT(ROW()/35)*4+(ROW()-INT(ROW()/35)*35)/7,0)<>\"\",OFFSET('Liste inscrits'!$A$1,INT(ROW()/35)*4+(ROW()-INT(ROW()/35)*35)/7,0),\"\")","v":""},null,{"$f":"IF(B940<>\"\",VLOOKUP(B940,'Liste inscrits'!$A:$AD,4,FALSE),\"\")","v":""},"ARA",1,{"$f":"IF(B940<>\"\",VLOOKUP(B940,'Liste inscrits'!$A:$AD,5,FALSE),\"\")","v":""},{"$f":"IF(B940<>\"\",VLOOKUP(B940,'Liste inscrits'!$A:$AD,6,FALSE),\"\")","v":""}]
[{"$f":"IF(B940<>\"\",VLOOKUP(B940,'Liste inscrits'!$A:$AD,8,FALSE),\"\")","v":""},{"$f":"IF(B940<>\"\",VLOOKUP(B940,'Liste inscrits'!$A:$AD,7,FALSE),\"\")","v":""},null,{"$f":"IF(B940<>\"\",VLOOKUP(B940,'Liste inscrits'!$A:$AD,10,FALSE),\"\")","v":""},"ARA",1,{"$f":"IF(B940<>\"\",VLOOKUP(B940,'Liste inscrits'!$A:$AD,11,FALSE),\"\")","v":""},{"$f":"IF(B940<>\"\",VLOOKUP(B940,'Liste inscrits'!$A:$AD,12,FALSE),\"\")","v":""}]
[{"$f":"IF(B940<>\"\",VLOOKUP(B940,'Liste inscrits'!$A:$AD,14,FALSE),\"\")","v":""},{"$f":"IF(B940<>\"\",VLOOKUP(B940,'Liste inscrits'!$A:$AD,13,FALSE),\"\")","v":""},null,{"$f":"IF(B940<>\"\",VLOOKUP(B940,'Liste inscrits'!$A:$AD,16,FALSE),\"\")","v":""},"ARA",1,{"$f":"IF(B940<>\"\",VLOOKUP(B940,'Liste inscrits'!$A:$AD,17,FALSE),\"\")","v":""},{"$f":"IF(B940<>\"\",VLOOKUP(B940,'Liste inscrits'!$A:$AD,18,FALSE),\"\")","v":""}]
[]
["Nb parties gagnées\ndans les poules",{"$f":"IF(ISERROR(VLOOKUP(B940&G940&H940,'Liste inscrits'!AH:AJ,1,FALSE)),\"\",VLOOKUP(B940&G940&H940,'Liste inscrits'!AH:AJ,3,FALSE))","v":""},"Classement \ndans la poule ",{"$f":"IF(ISERROR(VLOOKUP(B940&G940&H940,'Liste inscrits'!AH:AU,1,FALSE)),\"\",VLOOKUP(B940&G940&H940,'Liste inscrits'!AH:AU,14,FALSE)&\"  /  \"&VLOOKUP(B940&G940&H940,'Liste inscrits'!AH:AU,13,FALSE))","v":"  /  "},"Nb de parties gagnées \naprès les poules ",null,null,{"$f":"IF(ISERROR(VLOOKUP(B940&G940&H940,'Liste inscrits'!AH:AS,1,FALSE)),\"\",VLOOKUP(B940&G940&H940,'Liste inscrits'!AH:AS,11,FALSE))","v":""}]
[]
[]
["C.B.D. AIN",null,{"$f":"$C$2","v":0},null,null,null,null,{"$f":"$H$2","v":0}]
[]
["SECTEUR :",{"$f":"$B$4","v":{"$error":"#VALUE!"}},null,"Lieu de la compétition :",{"$f":"$E$4","v":0}]
[]
["Date : ",{"$f":"$B$6","v":0},null,null,"Nombre total d'équipes participantes ",null,null,null,{"$f":"$I$6","v":0}]
[]
["N° de LICENCE","NOM                     PRENOM\nen lettres capitales",null,"DIV","CR","CBD","N° \nSEC","N° \nASB","Qual. \nChpt AIN"]
[{"$f":"IF(B954<>\"\",VLOOKUP(B954,'Liste inscrits'!$A:$AD,2,FALSE),\"\")","v":""},{"$f":"IF(OFFSET('Liste inscrits'!$A$1,INT(ROW()/35)*4+(ROW()-INT(ROW()/35)*35)/7,0)<>\"\",OFFSET('Liste inscrits'!$A$1,INT(ROW()/35)*4+(ROW()-INT(ROW()/35)*35)/7,0),\"\")","v":""},null,{"$f":"IF(B954<>\"\",VLOOKUP(B954,'Liste inscrits'!$A:$AD,4,FALSE),\"\")","v":""},"ARA",1,{"$f":"IF(B954<>\"\",VLOOKUP(B954,'Liste inscrits'!$A:$AD,5,FALSE),\"\")","v":""},{"$f":"IF(B954<>\"\",VLOOKUP(B954,'Liste inscrits'!$A:$AD,6,FALSE),\"\")","v":""}]
[{"$f":"IF(B954<>\"\",VLOOKUP(B954,'Liste inscrits'!$A:$AD,8,FALSE),\"\")","v":""},{"$f":"IF(B954<>\"\",VLOOKUP(B954,'Liste inscrits'!$A:$AD,7,FALSE),\"\")","v":""},null,{"$f":"IF(B954<>\"\",VLOOKUP(B954,'Liste inscrits'!$A:$AD,10,FALSE),\"\")","v":""},"ARA",1,{"$f":"IF(B954<>\"\",VLOOKUP(B954,'Liste inscrits'!$A:$AD,11,FALSE),\"\")","v":""},{"$f":"IF(B954<>\"\",VLOOKUP(B954,'Liste inscrits'!$A:$AD,12,FALSE),\"\")","v":""}]
[{"$f":"IF(B954<>\"\",VLOOKUP(B954,'Liste inscrits'!$A:$AD,14,FALSE),\"\")","v":""},{"$f":"IF(B954<>\"\",VLOOKUP(B954,'Liste inscrits'!$A:$AD,13,FALSE),\"\")","v":""},null,{"$f":"IF(B954<>\"\",VLOOKUP(B954,'Liste inscrits'!$A:$AD,16,FALSE),\"\")","v":""},"ARA",1,{"$f":"IF(B954<>\"\",VLOOKUP(B954,'Liste inscrits'!$A:$AD,17,FALSE),\"\")","v":""},{"$f":"IF(B954<>\"\",VLOOKUP(B954,'Liste inscrits'!$A:$AD,18,FALSE),\"\")","v":""}]
[]
["Nb parties gagnées\ndans les poules",{"$f":"IF(ISERROR(VLOOKUP(B954&G954&H954,'Liste inscrits'!AH:AJ,1,FALSE)),\"\",VLOOKUP(B954&G954&H954,'Liste inscrits'!AH:AJ,3,FALSE))","v":""},"Classement \ndans la poule ",{"$f":"IF(ISERROR(VLOOKUP(B954&G954&H954,'Liste inscrits'!AH:AU,1,FALSE)),\"\",VLOOKUP(B954&G954&H954,'Liste inscrits'!AH:AU,14,FALSE)&\"  /  \"&VLOOKUP(B954&G954&H954,'Liste inscrits'!AH:AU,13,FALSE))","v":"  /  "},"Nb de parties gagnées \naprès les poules ",null,null,{"$f":"IF(ISERROR(VLOOKUP(B954&G954&H954,'Liste inscrits'!AH:AS,1,FALSE)),\"\",VLOOKUP(B954&G954&H954,'Liste inscrits'!AH:AS,11,FALSE))","v":""}]
[]
["N° de LICENCE","NOM                     PRENOM\nen lettres capitales",null,"DIV","CR","CBD","N° \nSEC","N° \nASB","Qual. \nChpt AIN"]
[{"$f":"IF(B961<>\"\",VLOOKUP(B961,'Liste inscrits'!$A:$AD,2,FALSE),\"\")","v":""},{"$f":"IF(OFFSET('Liste inscrits'!$A$1,INT(ROW()/35)*4+(ROW()-INT(ROW()/35)*35)/7,0)<>\"\",OFFSET('Liste inscrits'!$A$1,INT(ROW()/35)*4+(ROW()-INT(ROW()/35)*35)/7,0),\"\")","v":""},null,{"$f":"IF(B961<>\"\",VLOOKUP(B961,'Liste inscrits'!$A:$AD,4,FALSE),\"\")","v":""},"ARA",1,{"$f":"IF(B961<>\"\",VLOOKUP(B961,'Liste inscrits'!$A:$AD,5,FALSE),\"\")","v":""},{"$f":"IF(B961<>\"\",VLOOKUP(B961,'Liste inscrits'!$A:$AD,6,FALSE),\"\")","v":""}]
[{"$f":"IF(B961<>\"\",VLOOKUP(B961,'Liste inscrits'!$A:$AD,8,FALSE),\"\")","v":""},{"$f":"IF(B961<>\"\",VLOOKUP(B961,'Liste inscrits'!$A:$AD,7,FALSE),\"\")","v":""},null,{"$f":"IF(B961<>\"\",VLOOKUP(B961,'Liste inscrits'!$A:$AD,10,FALSE),\"\")","v":""},"ARA",1,{"$f":"IF(B961<>\"\",VLOOKUP(B961,'Liste inscrits'!$A:$AD,11,FALSE),\"\")","v":""},{"$f":"IF(B961<>\"\",VLOOKUP(B961,'Liste inscrits'!$A:$AD,12,FALSE),\"\")","v":""}]
[{"$f":"IF(B961<>\"\",VLOOKUP(B961,'Liste inscrits'!$A:$AD,14,FALSE),\"\")","v":""},{"$f":"IF(B961<>\"\",VLOOKUP(B961,'Liste inscrits'!$A:$AD,13,FALSE),\"\")","v":""},null,{"$f":"IF(B961<>\"\",VLOOKUP(B961,'Liste inscrits'!$A:$AD,16,FALSE),\"\")","v":""},"ARA",1,{"$f":"IF(B961<>\"\",VLOOKUP(B961,'Liste inscrits'!$A:$AD,17,FALSE),\"\")","v":""},{"$f":"IF(B961<>\"\",VLOOKUP(B961,'Liste inscrits'!$A:$AD,18,FALSE),\"\")","v":""}]
[]
["Nb parties gagnées\ndans les poules",{"$f":"IF(ISERROR(VLOOKUP(B961&G961&H961,'Liste inscrits'!AH:AJ,1,FALSE)),\"\",VLOOKUP(B961&G961&H961,'Liste inscrits'!AH:AJ,3,FALSE))","v":""},"Classement \ndans la poule ",{"$f":"IF(ISERROR(VLOOKUP(B961&G961&H961,'Liste inscrits'!AH:AU,1,FALSE)),\"\",VLOOKUP(B961&G961&H961,'Liste inscrits'!AH:AU,14,FALSE)&\"  /  \"&VLOOKUP(B961&G961&H961,'Liste inscrits'!AH:AU,13,FALSE))","v":"  /  "},"Nb de parties gagnées \naprès les poules ",null,null,{"$f":"IF(ISERROR(VLOOKUP(B961&G961&H961,'Liste inscrits'!AH:AS,1,FALSE)),\"\",VLOOKUP(B961&G961&H961,'Liste inscrits'!AH:AS,11,FALSE))","v":""}]
[]
["N° de LICENCE","NOM                     PRENOM\nen lettres capitales",null,"DIV","CR","CBD","N° \nSEC","N° \nASB","Qual. \nChpt AIN"]
[{"$f":"IF(B968<>\"\",VLOOKUP(B968,'Liste inscrits'!$A:$AD,2,FALSE),\"\")","v":""},{"$f":"IF(OFFSET('Liste inscrits'!$A$1,INT(ROW()/35)*4+(ROW()-INT(ROW()/35)*35)/7,0)<>\"\",OFFSET('Liste inscrits'!$A$1,INT(ROW()/35)*4+(ROW()-INT(ROW()/35)*35)/7,0),\"\")","v":""},null,{"$f":"IF(B968<>\"\",VLOOKUP(B968,'Liste inscrits'!$A:$AD,4,FALSE),\"\")","v":""},"ARA",1,{"$f":"IF(B968<>\"\",VLOOKUP(B968,'Liste inscrits'!$A:$AD,5,FALSE),\"\")","v":""},{"$f":"IF(B968<>\"\",VLOOKUP(B968,'Liste inscrits'!$A:$AD,6,FALSE),\"\")","v":""}]
[{"$f":"IF(B968<>\"\",VLOOKUP(B968,'Liste inscrits'!$A:$AD,8,FALSE),\"\")","v":""},{"$f":"IF(B968<>\"\",VLOOKUP(B968,'Liste inscrits'!$A:$AD,7,FALSE),\"\")","v":""},null,{"$f":"IF(B968<>\"\",VLOOKUP(B968,'Liste inscrits'!$A:$AD,10,FALSE),\"\")","v":""},"ARA",1,{"$f":"IF(B968<>\"\",VLOOKUP(B968,'Liste inscrits'!$A:$AD,11,FALSE),\"\")","v":""},{"$f":"IF(B968<>\"\",VLOOKUP(B968,'Liste inscrits'!$A:$AD,12,FALSE),\"\")","v":""}]
[{"$f":"IF(B968<>\"\",VLOOKUP(B968,'Liste inscrits'!$A:$AD,14,FALSE),\"\")","v":""},{"$f":"IF(B968<>\"\",VLOOKUP(B968,'Liste inscrits'!$A:$AD,13,FALSE),\"\")","v":""},null,{"$f":"IF(B968<>\"\",VLOOKUP(B968,'Liste inscrits'!$A:$AD,16,FALSE),\"\")","v":""},"ARA",1,{"$f":"IF(B968<>\"\",VLOOKUP(B968,'Liste inscrits'!$A:$AD,17,FALSE),\"\")","v":""},{"$f":"IF(B968<>\"\",VLOOKUP(B968,'Liste inscrits'!$A:$AD,18,FALSE),\"\")","v":""}]
[]
["Nb parties gagnées\ndans les poules",{"$f":"IF(ISERROR(VLOOKUP(B968&G968&H968,'Liste inscrits'!AH:AJ,1,FALSE)),\"\",VLOOKUP(B968&G968&H968,'Liste inscrits'!AH:AJ,3,FALSE))","v":""},"Classement \ndans la poule ",{"$f":"IF(ISERROR(VLOOKUP(B968&G968&H968,'Liste inscrits'!AH:AU,1,FALSE)),\"\",VLOOKUP(B968&G968&H968,'Liste inscrits'!AH:AU,14,FALSE)&\"  /  \"&VLOOKUP(B968&G968&H968,'Liste inscrits'!AH:AU,13,FALSE))","v":"  /  "},"Nb de parties gagnées \naprès les poules ",null,null,{"$f":"IF(ISERROR(VLOOKUP(B968&G968&H968,'Liste inscrits'!AH:AS,1,FALSE)),\"\",VLOOKUP(B968&G968&H968,'Liste inscrits'!AH:AS,11,FALSE))","v":""}]
[]
["N° de LICENCE","NOM                     PRENOM\nen lettres capitales",null,"DIV","CR","CBD","N° \nSEC","N° \nASB","Qual. \nChpt AIN"]
[{"$f":"IF(B975<>\"\",VLOOKUP(B975,'Liste inscrits'!$A:$AD,2,FALSE),\"\")","v":""},{"$f":"IF(OFFSET('Liste inscrits'!$A$1,INT(ROW()/35)*4+(ROW()-INT(ROW()/35)*35)/7,0)<>\"\",OFFSET('Liste inscrits'!$A$1,INT(ROW()/35)*4+(ROW()-INT(ROW()/35)*35)/7,0),\"\")","v":""},null,{"$f":"IF(B975<>\"\",VLOOKUP(B975,'Liste inscrits'!$A:$AD,4,FALSE),\"\")","v":""},"ARA",1,{"$f":"IF(B975<>\"\",VLOOKUP(B975,'Liste inscrits'!$A:$AD,5,FALSE),\"\")","v":""},{"$f":"IF(B975<>\"\",VLOOKUP(B975,'Liste inscrits'!$A:$AD,6,FALSE),\"\")","v":""}]
[{"$f":"IF(B975<>\"\",VLOOKUP(B975,'Liste inscrits'!$A:$AD,8,FALSE),\"\")","v":""},{"$f":"IF(B975<>\"\",VLOOKUP(B975,'Liste inscrits'!$A:$AD,7,FALSE),\"\")","v":""},null,{"$f":"IF(B975<>\"\",VLOOKUP(B975,'Liste inscrits'!$A:$AD,10,FALSE),\"\")","v":""},"ARA",1,{"$f":"IF(B975<>\"\",VLOOKUP(B975,'Liste inscrits'!$A:$AD,11,FALSE),\"\")","v":""},{"$f":"IF(B975<>\"\",VLOOKUP(B975,'Liste inscrits'!$A:$AD,12,FALSE),\"\")","v":""}]
[{"$f":"IF(B975<>\"\",VLOOKUP(B975,'Liste inscrits'!$A:$AD,14,FALSE),\"\")","v":""},{"$f":"IF(B975<>\"\",VLOOKUP(B975,'Liste inscrits'!$A:$AD,13,FALSE),\"\")","v":""},null,{"$f":"IF(B975<>\"\",VLOOKUP(B975,'Liste inscrits'!$A:$AD,16,FALSE),\"\")","v":""},"ARA",1,{"$f":"IF(B975<>\"\",VLOOKUP(B975,'Liste inscrits'!$A:$AD,17,FALSE),\"\")","v":""},{"$f":"IF(B975<>\"\",VLOOKUP(B975,'Liste inscrits'!$A:$AD,18,FALSE),\"\")","v":""}]
[]
["Nb parties gagnées\ndans les poules",{"$f":"IF(ISERROR(VLOOKUP(B975&G975&H975,'Liste inscrits'!AH:AJ,1,FALSE)),\"\",VLOOKUP(B975&G975&H975,'Liste inscrits'!AH:AJ,3,FALSE))","v":""},"Classement \ndans la poule ",{"$f":"IF(ISERROR(VLOOKUP(B975&G975&H975,'Liste inscrits'!AH:AU,1,FALSE)),\"\",VLOOKUP(B975&G975&H975,'Liste inscrits'!AH:AU,14,FALSE)&\"  /  \"&VLOOKUP(B975&G975&H975,'Liste inscrits'!AH:AU,13,FALSE))","v":"  /  "},"Nb de parties gagnées \naprès les poules ",null,null,{"$f":"IF(ISERROR(VLOOKUP(B975&G975&H975,'Liste inscrits'!AH:AS,1,FALSE)),\"\",VLOOKUP(B975&G975&H975,'Liste inscrits'!AH:AS,11,FALSE))","v":""}]
[]
[]
["C.B.D. AIN",null,{"$f":"$C$2","v":0},null,null,null,null,{"$f":"$H$2","v":0}]
[]
["SECTEUR :",{"$f":"$B$4","v":{"$error":"#VALUE!"}},null,"Lieu de la compétition :",{"$f":"$E$4","v":0}]
[]
["Date : ",{"$f":"$B$6","v":0},null,null,"Nombre total d'équipes participantes ",null,null,null,{"$f":"$I$6","v":0}]
[]
["N° de LICENCE","NOM                     PRENOM\nen lettres capitales",null,"DIV","CR","CBD","N° \nSEC","N° \nASB","Qual. \nChpt AIN"]
[{"$f":"IF(B989<>\"\",VLOOKUP(B989,'Liste inscrits'!$A:$AD,2,FALSE),\"\")","v":""},{"$f":"IF(OFFSET('Liste inscrits'!$A$1,INT(ROW()/35)*4+(ROW()-INT(ROW()/35)*35)/7,0)<>\"\",OFFSET('Liste inscrits'!$A$1,INT(ROW()/35)*4+(ROW()-INT(ROW()/35)*35)/7,0),\"\")","v":""},null,{"$f":"IF(B989<>\"\",VLOOKUP(B989,'Liste inscrits'!$A:$AD,4,FALSE),\"\")","v":""},"ARA",1,{"$f":"IF(B989<>\"\",VLOOKUP(B989,'Liste inscrits'!$A:$AD,5,FALSE),\"\")","v":""},{"$f":"IF(B989<>\"\",VLOOKUP(B989,'Liste inscrits'!$A:$AD,6,FALSE),\"\")","v":""}]
[{"$f":"IF(B989<>\"\",VLOOKUP(B989,'Liste inscrits'!$A:$AD,8,FALSE),\"\")","v":""},{"$f":"IF(B989<>\"\",VLOOKUP(B989,'Liste inscrits'!$A:$AD,7,FALSE),\"\")","v":""},null,{"$f":"IF(B989<>\"\",VLOOKUP(B989,'Liste inscrits'!$A:$AD,10,FALSE),\"\")","v":""},"ARA",1,{"$f":"IF(B989<>\"\",VLOOKUP(B989,'Liste inscrits'!$A:$AD,11,FALSE),\"\")","v":""},{"$f":"IF(B989<>\"\",VLOOKUP(B989,'Liste inscrits'!$A:$AD,12,FALSE),\"\")","v":""}]
[{"$f":"IF(B989<>\"\",VLOOKUP(B989,'Liste inscrits'!$A:$AD,14,FALSE),\"\")","v":""},{"$f":"IF(B989<>\"\",VLOOKUP(B989,'Liste inscrits'!$A:$AD,13,FALSE),\"\")","v":""},null,{"$f":"IF(B989<>\"\",VLOOKUP(B989,'Liste inscrits'!$A:$AD,16,FALSE),\"\")","v":""},"ARA",1,{"$f":"IF(B989<>\"\",VLOOKUP(B989,'Liste inscrits'!$A:$AD,17,FALSE),\"\")","v":""},{"$f":"IF(B989<>\"\",VLOOKUP(B989,'Liste inscrits'!$A:$AD,18,FALSE),\"\")","v":""}]
[]
["Nb parties gagnées\ndans les poules",{"$f":"IF(ISERROR(VLOOKUP(B989&G989&H989,'Liste inscrits'!AH:AJ,1,FALSE)),\"\",VLOOKUP(B989&G989&H989,'Liste inscrits'!AH:AJ,3,FALSE))","v":""},"Classement \ndans la poule ",{"$f":"IF(ISERROR(VLOOKUP(B989&G989&H989,'Liste inscrits'!AH:AU,1,FALSE)),\"\",VLOOKUP(B989&G989&H989,'Liste inscrits'!AH:AU,14,FALSE)&\"  /  \"&VLOOKUP(B989&G989&H989,'Liste inscrits'!AH:AU,13,FALSE))","v":"  /  "},"Nb de parties gagnées \naprès les poules ",null,null,{"$f":"IF(ISERROR(VLOOKUP(B989&G989&H989,'Liste inscrits'!AH:AS,1,FALSE)),\"\",VLOOKUP(B989&G989&H989,'Liste inscrits'!AH:AS,11,FALSE))","v":""}]
[]
["N° de LICENCE","NOM                     PRENOM\nen lettres capitales",null,"DIV","CR","CBD","N° \nSEC","N° \nASB","Qual. \nChpt AIN"]
[{"$f":"IF(B996<>\"\",VLOOKUP(B996,'Liste inscrits'!$A:$AD,2,FALSE),\"\")","v":""},{"$f":"IF(OFFSET('Liste inscrits'!$A$1,INT(ROW()/35)*4+(ROW()-INT(ROW()/35)*35)/7,0)<>\"\",OFFSET('Liste inscrits'!$A$1,INT(ROW()/35)*4+(ROW()-INT(ROW()/35)*35)/7,0),\"\")","v":""},null,{"$f":"IF(B996<>\"\",VLOOKUP(B996,'Liste inscrits'!$A:$AD,4,FALSE),\"\")","v":""},"ARA",1,{"$f":"IF(B996<>\"\",VLOOKUP(B996,'Liste inscrits'!$A:$AD,5,FALSE),\"\")","v":""},{"$f":"IF(B996<>\"\",VLOOKUP(B996,'Liste inscrits'!$A:$AD,6,FALSE),\"\")","v":""}]
[{"$f":"IF(B996<>\"\",VLOOKUP(B996,'Liste inscrits'!$A:$AD,8,FALSE),\"\")","v":""},{"$f":"IF(B996<>\"\",VLOOKUP(B996,'Liste inscrits'!$A:$AD,7,FALSE),\"\")","v":""},null,{"$f":"IF(B996<>\"\",VLOOKUP(B996,'Liste inscrits'!$A:$AD,10,FALSE),\"\")","v":""},"ARA",1,{"$f":"IF(B996<>\"\",VLOOKUP(B996,'Liste inscrits'!$A:$AD,11,FALSE),\"\")","v":""},{"$f":"IF(B996<>\"\",VLOOKUP(B996,'Liste inscrits'!$A:$AD,12,FALSE),\"\")","v":""}]
[{"$f":"IF(B996<>\"\",VLOOKUP(B996,'Liste inscrits'!$A:$AD,14,FALSE),\"\")","v":""},{"$f":"IF(B996<>\"\",VLOOKUP(B996,'Liste inscrits'!$A:$AD,13,FALSE),\"\")","v":""},null,{"$f":"IF(B996<>\"\",VLOOKUP(B996,'Liste inscrits'!$A:$AD,16,FALSE),\"\")","v":""},"ARA",1,{"$f":"IF(B996<>\"\",VLOOKUP(B996,'Liste inscrits'!$A:$AD,17,FALSE),\"\")","v":""},{"$f":"IF(B996<>\"\",VLOOKUP(B996,'Liste inscrits'!$A:$AD,18,FALSE),\"\")","v":""}]
[]
["Nb parties gagnées\ndans les poules",{"$f":"IF(ISERROR(VLOOKUP(B996&G996&H996,'Liste inscrits'!AH:AJ,1,FALSE)),\"\",VLOOKUP(B996&G996&H996,'Liste inscrits'!AH:AJ,3,FALSE))","v":""},"Classement \ndans la poule ",{"$f":"IF(ISERROR(VLOOKUP(B996&G996&H996,'Liste inscrits'!AH:AU,1,FALSE)),\"\",VLOOKUP(B996&G996&H996,'Liste inscrits'!AH:AU,14,FALSE)&\"  /  \"&VLOOKUP(B996&G996&H996,'Liste inscrits'!AH:AU,13,FALSE))","v":"  /  "},"Nb de parties gagnées \naprès les poules ",null,null,{"$f":"IF(ISERROR(VLOOKUP(B996&G996&H996,'Liste inscrits'!AH:AS,1,FALSE)),\"\",VLOOKUP(B996&G996&H996,'Liste inscrits'!AH:AS,11,FALSE))","v":""}]
[]
["N° de LICENCE","NOM                     PRENOM\nen lettres capitales",null,"DIV","CR","CBD","N° \nSEC","N° \nASB","Qual. \nChpt AIN"]
[{"$f":"IF(B1003<>\"\",VLOOKUP(B1003,'Liste inscrits'!$A:$AD,2,FALSE),\"\")","v":""},{"$f":"IF(OFFSET('Liste inscrits'!$A$1,INT(ROW()/35)*4+(ROW()-INT(ROW()/35)*35)/7,0)<>\"\",OFFSET('Liste inscrits'!$A$1,INT(ROW()/35)*4+(ROW()-INT(ROW()/35)*35)/7,0),\"\")","v":""},null,{"$f":"IF(B1003<>\"\",VLOOKUP(B1003,'Liste inscrits'!$A:$AD,4,FALSE),\"\")","v":""},"ARA",1,{"$f":"IF(B1003<>\"\",VLOOKUP(B1003,'Liste inscrits'!$A:$AD,5,FALSE),\"\")","v":""},{"$f":"IF(B1003<>\"\",VLOOKUP(B1003,'Liste inscrits'!$A:$AD,6,FALSE),\"\")","v":""}]
[{"$f":"IF(B1003<>\"\",VLOOKUP(B1003,'Liste inscrits'!$A:$AD,8,FALSE),\"\")","v":""},{"$f":"IF(B1003<>\"\",VLOOKUP(B1003,'Liste inscrits'!$A:$AD,7,FALSE),\"\")","v":""},null,{"$f":"IF(B1003<>\"\",VLOOKUP(B1003,'Liste inscrits'!$A:$AD,10,FALSE),\"\")","v":""},"ARA",1,{"$f":"IF(B1003<>\"\",VLOOKUP(B1003,'Liste inscrits'!$A:$AD,11,FALSE),\"\")","v":""},{"$f":"IF(B1003<>\"\",VLOOKUP(B1003,'Liste inscrits'!$A:$AD,12,FALSE),\"\")","v":""}]
[{"$f":"IF(B1003<>\"\",VLOOKUP(B1003,'Liste inscrits'!$A:$AD,14,FALSE),\"\")","v":""},{"$f":"IF(B1003<>\"\",VLOOKUP(B1003,'Liste inscrits'!$A:$AD,13,FALSE),\"\")","v":""},null,{"$f":"IF(B1003<>\"\",VLOOKUP(B1003,'Liste inscrits'!$A:$AD,16,FALSE),\"\")","v":""},"ARA",1,{"$f":"IF(B1003<>\"\",VLOOKUP(B1003,'Liste inscrits'!$A:$AD,17,FALSE),\"\")","v":""},{"$f":"IF(B1003<>\"\",VLOOKUP(B1003,'Liste inscrits'!$A:$AD,18,FALSE),\"\")","v":""}]
[]
["Nb parties gagnées\ndans les poules",{"$f":"IF(ISERROR(VLOOKUP(B1003&G1003&H1003,'Liste inscrits'!AH:AJ,1,FALSE)),\"\",VLOOKUP(B1003&G1003&H1003,'Liste inscrits'!AH:AJ,3,FALSE))","v":""},"Classement \ndans la poule ",{"$f":"IF(ISERROR(VLOOKUP(B1003&G1003&H1003,'Liste inscrits'!AH:AU,1,FALSE)),\"\",VLOOKUP(B1003&G1003&H1003,'Liste inscrits'!AH:AU,14,FALSE)&\"  /  \"&VLOOKUP(B1003&G1003&H1003,'Liste inscrits'!AH:AU,13,FALSE))","v":"  /  "},"Nb de parties gagnées \naprès les poules ",null,null,{"$f":"IF(ISERROR(VLOOKUP(B1003&G1003&H1003,'Liste inscrits'!AH:AS,1,FALSE)),\"\",VLOOKUP(B1003&G1003&H1003,'Liste inscrits'!AH:AS,11,FALSE))","v":""}]
[]
["N° de LICENCE","NOM                     PRENOM\nen lettres capitales",null,"DIV","CR","CBD","N° \nSEC","N° \nASB","Qual. \nChpt AIN"]
[{"$f":"IF(B1010<>\"\",VLOOKUP(B1010,'Liste inscrits'!$A:$AD,2,FALSE),\"\")","v":""},{"$f":"IF(OFFSET('Liste inscrits'!$A$1,INT(ROW()/35)*4+(ROW()-INT(ROW()/35)*35)/7,0)<>\"\",OFFSET('Liste inscrits'!$A$1,INT(ROW()/35)*4+(ROW()-INT(ROW()/35)*35)/7,0),\"\")","v":""},null,{"$f":"IF(B1010<>\"\",VLOOKUP(B1010,'Liste inscrits'!$A:$AD,4,FALSE),\"\")","v":""},"ARA",1,{"$f":"IF(B1010<>\"\",VLOOKUP(B1010,'Liste inscrits'!$A:$AD,5,FALSE),\"\")","v":""},{"$f":"IF(B1010<>\"\",VLOOKUP(B1010,'Liste inscrits'!$A:$AD,6,FALSE),\"\")","v":""}]
[{"$f":"IF(B1010<>\"\",VLOOKUP(B1010,'Liste inscrits'!$A:$AD,8,FALSE),\"\")","v":""},{"$f":"IF(B1010<>\"\",VLOOKUP(B1010,'Liste inscrits'!$A:$AD,7,FALSE),\"\")","v":""},null,{"$f":"IF(B1010<>\"\",VLOOKUP(B1010,'Liste inscrits'!$A:$AD,10,FALSE),\"\")","v":""},"ARA",1,{"$f":"IF(B1010<>\"\",VLOOKUP(B1010,'Liste inscrits'!$A:$AD,11,FALSE),\"\")","v":""},{"$f":"IF(B1010<>\"\",VLOOKUP(B1010,'Liste inscrits'!$A:$AD,12,FALSE),\"\")","v":""}]
[{"$f":"IF(B1010<>\"\",VLOOKUP(B1010,'Liste inscrits'!$A:$AD,14,FALSE),\"\")","v":""},{"$f":"IF(B1010<>\"\",VLOOKUP(B1010,'Liste inscrits'!$A:$AD,13,FALSE),\"\")","v":""},null,{"$f":"IF(B1010<>\"\",VLOOKUP(B1010,'Liste inscrits'!$A:$AD,16,FALSE),\"\")","v":""},"ARA",1,{"$f":"IF(B1010<>\"\",VLOOKUP(B1010,'Liste inscrits'!$A:$AD,17,FALSE),\"\")","v":""},{"$f":"IF(B1010<>\"\",VLOOKUP(B1010,'Liste inscrits'!$A:$AD,18,FALSE),\"\")","v":""}]
[]
["Nb parties gagnées\ndans les poules",{"$f":"IF(ISERROR(VLOOKUP(B1010&G1010&H1010,'Liste inscrits'!AH:AJ,1,FALSE)),\"\",VLOOKUP(B1010&G1010&H1010,'Liste inscrits'!AH:AJ,3,FALSE))","v":""},"Classement \ndans la poule ",{"$f":"IF(ISERROR(VLOOKUP(B1010&G1010&H1010,'Liste inscrits'!AH:AU,1,FALSE)),\"\",VLOOKUP(B1010&G1010&H1010,'Liste inscrits'!AH:AU,14,FALSE)&\"  /  \"&VLOOKUP(B1010&G1010&H1010,'Liste inscrits'!AH:AU,13,FALSE))","v":"  /  "},"Nb de parties gagnées \naprès les poules ",null,null,{"$f":"IF(ISERROR(VLOOKUP(B1010&G1010&H1010,'Liste inscrits'!AH:AS,1,FALSE)),\"\",VLOOKUP(B1010&G1010&H1010,'Liste inscrits'!AH:AS,11,FALSE))","v":""}]
[]
[]
["C.B.D. AIN",null,{"$f":"$C$2","v":0},null,null,null,null,{"$f":"$H$2","v":0}]
[]
["SECTEUR :",{"$f":"$B$4","v":{"$error":"#VALUE!"}},null,"Lieu de la compétition :",{"$f":"$E$4","v":0}]
[]
["Date : ",{"$f":"$B$6","v":0},null,null,"Nombre total d'équipes participantes ",null,null,null,{"$f":"$I$6","v":0}]
[]
["N° de LICENCE","NOM                     PRENOM\nen lettres capitales",null,"DIV","CR","CBD","N° \nSEC","N° \nASB","Qual. \nChpt AIN"]
[{"$f":"IF(B1024<>\"\",VLOOKUP(B1024,'Liste inscrits'!$A:$AD,2,FALSE),\"\")","v":""},{"$f":"IF(OFFSET('Liste inscrits'!$A$1,INT(ROW()/35)*4+(ROW()-INT(ROW()/35)*35)/7,0)<>\"\",OFFSET('Liste inscrits'!$A$1,INT(ROW()/35)*4+(ROW()-INT(ROW()/35)*35)/7,0),\"\")","v":""},null,{"$f":"IF(B1024<>\"\",VLOOKUP(B1024,'Liste inscrits'!$A:$AD,4,FALSE),\"\")","v":""},"ARA",1,{"$f":"IF(B1024<>\"\",VLOOKUP(B1024,'Liste inscrits'!$A:$AD,5,FALSE),\"\")","v":""},{"$f":"IF(B1024<>\"\",VLOOKUP(B1024,'Liste inscrits'!$A:$AD,6,FALSE),\"\")","v":""}]
[{"$f":"IF(B1024<>\"\",VLOOKUP(B1024,'Liste inscrits'!$A:$AD,8,FALSE),\"\")","v":""},{"$f":"IF(B1024<>\"\",VLOOKUP(B1024,'Liste inscrits'!$A:$AD,7,FALSE),\"\")","v":""},null,{"$f":"IF(B1024<>\"\",VLOOKUP(B1024,'Liste inscrits'!$A:$AD,10,FALSE),\"\")","v":""},"ARA",1,{"$f":"IF(B1024<>\"\",VLOOKUP(B1024,'Liste inscrits'!$A:$AD,11,FALSE),\"\")","v":""},{"$f":"IF(B1024<>\"\",VLOOKUP(B1024,'Liste inscrits'!$A:$AD,12,FALSE),\"\")","v":""}]
[{"$f":"IF(B1024<>\"\",VLOOKUP(B1024,'Liste inscrits'!$A:$AD,14,FALSE),\"\")","v":""},{"$f":"IF(B1024<>\"\",VLOOKUP(B1024,'Liste inscrits'!$A:$AD,13,FALSE),\"\")","v":""},null,{"$f":"IF(B1024<>\"\",VLOOKUP(B1024,'Liste inscrits'!$A:$AD,16,FALSE),\"\")","v":""},"ARA",1,{"$f":"IF(B1024<>\"\",VLOOKUP(B1024,'Liste inscrits'!$A:$AD,17,FALSE),\"\")","v":""},{"$f":"IF(B1024<>\"\",VLOOKUP(B1024,'Liste inscrits'!$A:$AD,18,FALSE),\"\")","v":""}]
[]
["Nb parties gagnées\ndans les poules",{"$f":"IF(ISERROR(VLOOKUP(B1024&G1024&H1024,'Liste inscrits'!AH:AJ,1,FALSE)),\"\",VLOOKUP(B1024&G1024&H1024,'Liste inscrits'!AH:AJ,3,FALSE))","v":""},"Classement \ndans la poule ",{"$f":"IF(ISERROR(VLOOKUP(B1024&G1024&H1024,'Liste inscrits'!AH:AU,1,FALSE)),\"\",VLOOKUP(B1024&G1024&H1024,'Liste inscrits'!AH:AU,14,FALSE)&\"  /  \"&VLOOKUP(B1024&G1024&H1024,'Liste inscrits'!AH:AU,13,FALSE))","v":"  /  "},"Nb de parties gagnées \naprès les poules ",null,null,{"$f":"IF(ISERROR(VLOOKUP(B1024&G1024&H1024,'Liste inscrits'!AH:AS,1,FALSE)),\"\",VLOOKUP(B1024&G1024&H1024,'Liste inscrits'!AH:AS,11,FALSE))","v":""}]
[]
["N° de LICENCE","NOM                     PRENOM\nen lettres capitales",null,"DIV","CR","CBD","N° \nSEC","N° \nASB","Qual. \nChpt AIN"]
[{"$f":"IF(B1031<>\"\",VLOOKUP(B1031,'Liste inscrits'!$A:$AD,2,FALSE),\"\")","v":""},{"$f":"IF(OFFSET('Liste inscrits'!$A$1,INT(ROW()/35)*4+(ROW()-INT(ROW()/35)*35)/7,0)<>\"\",OFFSET('Liste inscrits'!$A$1,INT(ROW()/35)*4+(ROW()-INT(ROW()/35)*35)/7,0),\"\")","v":""},null,{"$f":"IF(B1031<>\"\",VLOOKUP(B1031,'Liste inscrits'!$A:$AD,4,FALSE),\"\")","v":""},"ARA",1,{"$f":"IF(B1031<>\"\",VLOOKUP(B1031,'Liste inscrits'!$A:$AD,5,FALSE),\"\")","v":""},{"$f":"IF(B1031<>\"\",VLOOKUP(B1031,'Liste inscrits'!$A:$AD,6,FALSE),\"\")","v":""}]
[{"$f":"IF(B1031<>\"\",VLOOKUP(B1031,'Liste inscrits'!$A:$AD,8,FALSE),\"\")","v":""},{"$f":"IF(B1031<>\"\",VLOOKUP(B1031,'Liste inscrits'!$A:$AD,7,FALSE),\"\")","v":""},null,{"$f":"IF(B1031<>\"\",VLOOKUP(B1031,'Liste inscrits'!$A:$AD,10,FALSE),\"\")","v":""},"ARA",1,{"$f":"IF(B1031<>\"\",VLOOKUP(B1031,'Liste inscrits'!$A:$AD,11,FALSE),\"\")","v":""},{"$f":"IF(B1031<>\"\",VLOOKUP(B1031,'Liste inscrits'!$A:$AD,12,FALSE),\"\")","v":""}]
[{"$f":"IF(B1031<>\"\",VLOOKUP(B1031,'Liste inscrits'!$A:$AD,14,FALSE),\"\")","v":""},{"$f":"IF(B1031<>\"\",VLOOKUP(B1031,'Liste inscrits'!$A:$AD,13,FALSE),\"\")","v":""},null,{"$f":"IF(B1031<>\"\",VLOOKUP(B1031,'Liste inscrits'!$A:$AD,16,FALSE),\"\")","v":""},"ARA",1,{"$f":"IF(B1031<>\"\",VLOOKUP(B1031,'Liste inscrits'!$A:$AD,17,FALSE),\"\")","v":""},{"$f":"IF(B1031<>\"\",VLOOKUP(B1031,'Liste inscrits'!$A:$AD,18,FALSE),\"\")","v":""}]
[]
["Nb parties gagnées\ndans les poules",{"$f":"IF(ISERROR(VLOOKUP(B1031&G1031&H1031,'Liste inscrits'!AH:AJ,1,FALSE)),\"\",VLOOKUP(B1031&G1031&H1031,'Liste inscrits'!AH:AJ,3,FALSE))","v":""},"Classement \ndans la poule ",{"$f":"IF(ISERROR(VLOOKUP(B1031&G1031&H1031,'Liste inscrits'!AH:AU,1,FALSE)),\"\",VLOOKUP(B1031&G1031&H1031,'Liste inscrits'!AH:AU,14,FALSE)&\"  /  \"&VLOOKUP(B1031&G1031&H1031,'Liste inscrits'!AH:AU,13,FALSE))","v":"  /  "},"Nb de parties gagnées \naprès les poules ",null,null,{"$f":"IF(ISERROR(VLOOKUP(B1031&G1031&H1031,'Liste inscrits'!AH:AS,1,FALSE)),\"\",VLOOKUP(B1031&G1031&H1031,'Liste inscrits'!AH:AS,11,FALSE))","v":""}]
[]
["N° de LICENCE","NOM                     PRENOM\nen lettres capitales",null,"DIV","CR","CBD","N° \nSEC","N° \nASB","Qual. \nChpt AIN"]
[{"$f":"IF(B1038<>\"\",VLOOKUP(B1038,'Liste inscrits'!$A:$AD,2,FALSE),\"\")","v":""},{"$f":"IF(OFFSET('Liste inscrits'!$A$1,INT(ROW()/35)*4+(ROW()-INT(ROW()/35)*35)/7,0)<>\"\",OFFSET('Liste inscrits'!$A$1,INT(ROW()/35)*4+(ROW()-INT(ROW()/35)*35)/7,0),\"\")","v":""},null,{"$f":"IF(B1038<>\"\",VLOOKUP(B1038,'Liste inscrits'!$A:$AD,4,FALSE),\"\")","v":""},"ARA",1,{"$f":"IF(B1038<>\"\",VLOOKUP(B1038,'Liste inscrits'!$A:$AD,5,FALSE),\"\")","v":""},{"$f":"IF(B1038<>\"\",VLOOKUP(B1038,'Liste inscrits'!$A:$AD,6,FALSE),\"\")","v":""}]
[{"$f":"IF(B1038<>\"\",VLOOKUP(B1038,'Liste inscrits'!$A:$AD,8,FALSE),\"\")","v":""},{"$f":"IF(B1038<>\"\",VLOOKUP(B1038,'Liste inscrits'!$A:$AD,7,FALSE),\"\")","v":""},null,{"$f":"IF(B1038<>\"\",VLOOKUP(B1038,'Liste inscrits'!$A:$AD,10,FALSE),\"\")","v":""},"ARA",1,{"$f":"IF(B1038<>\"\",VLOOKUP(B1038,'Liste inscrits'!$A:$AD,11,FALSE),\"\")","v":""},{"$f":"IF(B1038<>\"\",VLOOKUP(B1038,'Liste inscrits'!$A:$AD,12,FALSE),\"\")","v":""}]
[{"$f":"IF(B1038<>\"\",VLOOKUP(B1038,'Liste inscrits'!$A:$AD,14,FALSE),\"\")","v":""},{"$f":"IF(B1038<>\"\",VLOOKUP(B1038,'Liste inscrits'!$A:$AD,13,FALSE),\"\")","v":""},null,{"$f":"IF(B1038<>\"\",VLOOKUP(B1038,'Liste inscrits'!$A:$AD,16,FALSE),\"\")","v":""},"ARA",1,{"$f":"IF(B1038<>\"\",VLOOKUP(B1038,'Liste inscrits'!$A:$AD,17,FALSE),\"\")","v":""},{"$f":"IF(B1038<>\"\",VLOOKUP(B1038,'Liste inscrits'!$A:$AD,18,FALSE),\"\")","v":""}]
[]
["Nb parties gagnées\ndans les poules",{"$f":"IF(ISERROR(VLOOKUP(B1038&G1038&H1038,'Liste inscrits'!AH:AJ,1,FALSE)),\"\",VLOOKUP(B1038&G1038&H1038,'Liste inscrits'!AH:AJ,3,FALSE))","v":""},"Classement \ndans la poule ",{"$f":"IF(ISERROR(VLOOKUP(B1038&G1038&H1038,'Liste inscrits'!AH:AU,1,FALSE)),\"\",VLOOKUP(B1038&G1038&H1038,'Liste inscrits'!AH:AU,14,FALSE)&\"  /  \"&VLOOKUP(B1038&G1038&H1038,'Liste inscrits'!AH:AU,13,FALSE))","v":"  /  "},"Nb de parties gagnées \naprès les poules ",null,null,{"$f":"IF(ISERROR(VLOOKUP(B1038&G1038&H1038,'Liste inscrits'!AH:AS,1,FALSE)),\"\",VLOOKUP(B1038&G1038&H1038,'Liste inscrits'!AH:AS,11,FALSE))","v":""}]
[]
["N° de LICENCE","NOM                     PRENOM\nen lettres capitales",null,"DIV","CR","CBD","N° \nSEC","N° \nASB","Qual. \nChpt AIN"]
[{"$f":"IF(B1045<>\"\",VLOOKUP(B1045,'Liste inscrits'!$A:$AD,2,FALSE),\"\")","v":""},{"$f":"IF(OFFSET('Liste inscrits'!$A$1,INT(ROW()/35)*4+(ROW()-INT(ROW()/35)*35)/7,0)<>\"\",OFFSET('Liste inscrits'!$A$1,INT(ROW()/35)*4+(ROW()-INT(ROW()/35)*35)/7,0),\"\")","v":""},null,{"$f":"IF(B1045<>\"\",VLOOKUP(B1045,'Liste inscrits'!$A:$AD,4,FALSE),\"\")","v":""},"ARA",1,{"$f":"IF(B1045<>\"\",VLOOKUP(B1045,'Liste inscrits'!$A:$AD,5,FALSE),\"\")","v":""},{"$f":"IF(B1045<>\"\",VLOOKUP(B1045,'Liste inscrits'!$A:$AD,6,FALSE),\"\")","v":""}]
[{"$f":"IF(B1045<>\"\",VLOOKUP(B1045,'Liste inscrits'!$A:$AD,8,FALSE),\"\")","v":""},{"$f":"IF(B1045<>\"\",VLOOKUP(B1045,'Liste inscrits'!$A:$AD,7,FALSE),\"\")","v":""},null,{"$f":"IF(B1045<>\"\",VLOOKUP(B1045,'Liste inscrits'!$A:$AD,10,FALSE),\"\")","v":""},"ARA",1,{"$f":"IF(B1045<>\"\",VLOOKUP(B1045,'Liste inscrits'!$A:$AD,11,FALSE),\"\")","v":""},{"$f":"IF(B1045<>\"\",VLOOKUP(B1045,'Liste inscrits'!$A:$AD,12,FALSE),\"\")","v":""}]
[{"$f":"IF(B1045<>\"\",VLOOKUP(B1045,'Liste inscrits'!$A:$AD,14,FALSE),\"\")","v":""},{"$f":"IF(B1045<>\"\",VLOOKUP(B1045,'Liste inscrits'!$A:$AD,13,FALSE),\"\")","v":""},null,{"$f":"IF(B1045<>\"\",VLOOKUP(B1045,'Liste inscrits'!$A:$AD,16,FALSE),\"\")","v":""},"ARA",1,{"$f":"IF(B1045<>\"\",VLOOKUP(B1045,'Liste inscrits'!$A:$AD,17,FALSE),\"\")","v":""},{"$f":"IF(B1045<>\"\",VLOOKUP(B1045,'Liste inscrits'!$A:$AD,18,FALSE),\"\")","v":""}]
[]
["Nb parties gagnées\ndans les poules",{"$f":"IF(ISERROR(VLOOKUP(B1045&G1045&H1045,'Liste inscrits'!AH:AJ,1,FALSE)),\"\",VLOOKUP(B1045&G1045&H1045,'Liste inscrits'!AH:AJ,3,FALSE))","v":""},"Classement \ndans la poule ",{"$f":"IF(ISERROR(VLOOKUP(B1045&G1045&H1045,'Liste inscrits'!AH:AU,1,FALSE)),\"\",VLOOKUP(B1045&G1045&H1045,'Liste inscrits'!AH:AU,14,FALSE)&\"  /  \"&VLOOKUP(B1045&G1045&H1045,'Liste inscrits'!AH:AU,13,FALSE))","v":"  /  "},"Nb de parties gagnées \naprès les poules ",null,null,{"$f":"IF(ISERROR(VLOOKUP(B1045&G1045&H1045,'Liste inscrits'!AH:AS,1,FALSE)),\"\",VLOOKUP(B1045&G1045&H1045,'Liste inscrits'!AH:AS,11,FALSE))","v":""}]
[]
[]
["C.B.D. AIN",null,{"$f":"$C$2","v":0},null,null,null,null,{"$f":"$H$2","v":0}]
[]
["SECTEUR :",{"$f":"$B$4","v":{"$error":"#VALUE!"}},null,"Lieu de la compétition :",{"$f":"$E$4","v":0}]
[]
["Date : ",{"$f":"$B$6","v":0},null,null,"Nombre total d'équipes participantes ",null,null,null,{"$f":"$I$6","v":0}]
[]
["N° de LICENCE","NOM                     PRENOM\nen lettres capitales",null,"DIV","CR","CBD","N° \nSEC","N° \nASB","Qual. \nChpt AIN"]
[{"$f":"IF(B1059<>\"\",VLOOKUP(B1059,'Liste inscrits'!$A:$AD,2,FALSE),\"\")","v":""},{"$f":"IF(OFFSET('Liste inscrits'!$A$1,INT(ROW()/35)*4+(ROW()-INT(ROW()/35)*35)/7,0)<>\"\",OFFSET('Liste inscrits'!$A$1,INT(ROW()/35)*4+(ROW()-INT(ROW()/35)*35)/7,0),\"\")","v":""},null,{"$f":"IF(B1059<>\"\",VLOOKUP(B1059,'Liste inscrits'!$A:$AD,4,FALSE),\"\")","v":""},"ARA",1,{"$f":"IF(B1059<>\"\",VLOOKUP(B1059,'Liste inscrits'!$A:$AD,5,FALSE),\"\")","v":""},{"$f":"IF(B1059<>\"\",VLOOKUP(B1059,'Liste inscrits'!$A:$AD,6,FALSE),\"\")","v":""}]
[{"$f":"IF(B1059<>\"\",VLOOKUP(B1059,'Liste inscrits'!$A:$AD,8,FALSE),\"\")","v":""},{"$f":"IF(B1059<>\"\",VLOOKUP(B1059,'Liste inscrits'!$A:$AD,7,FALSE),\"\")","v":""},null,{"$f":"IF(B1059<>\"\",VLOOKUP(B1059,'Liste inscrits'!$A:$AD,10,FALSE),\"\")","v":""},"ARA",1,{"$f":"IF(B1059<>\"\",VLOOKUP(B1059,'Liste inscrits'!$A:$AD,11,FALSE),\"\")","v":""},{"$f":"IF(B1059<>\"\",VLOOKUP(B1059,'Liste inscrits'!$A:$AD,12,FALSE),\"\")","v":""}]
[{"$f":"IF(B1059<>\"\",VLOOKUP(B1059,'Liste inscrits'!$A:$AD,14,FALSE),\"\")","v":""},{"$f":"IF(B1059<>\"\",VLOOKUP(B1059,'Liste inscrits'!$A:$AD,13,FALSE),\"\")","v":""},null,{"$f":"IF(B1059<>\"\",VLOOKUP(B1059,'Liste inscrits'!$A:$AD,16,FALSE),\"\")","v":""},"ARA",1,{"$f":"IF(B1059<>\"\",VLOOKUP(B1059,'Liste inscrits'!$A:$AD,17,FALSE),\"\")","v":""},{"$f":"IF(B1059<>\"\",VLOOKUP(B1059,'Liste inscrits'!$A:$AD,18,FALSE),\"\")","v":""}]
[]
["Nb parties gagnées\ndans les poules",{"$f":"IF(ISERROR(VLOOKUP(B1059&G1059&H1059,'Liste inscrits'!AH:AJ,1,FALSE)),\"\",VLOOKUP(B1059&G1059&H1059,'Liste inscrits'!AH:AJ,3,FALSE))","v":""},"Classement \ndans la poule ",{"$f":"IF(ISERROR(VLOOKUP(B1059&G1059&H1059,'Liste inscrits'!AH:AU,1,FALSE)),\"\",VLOOKUP(B1059&G1059&H1059,'Liste inscrits'!AH:AU,14,FALSE)&\"  /  \"&VLOOKUP(B1059&G1059&H1059,'Liste inscrits'!AH:AU,13,FALSE))","v":"  /  "},"Nb de parties gagnées \naprès les poules ",null,null,{"$f":"IF(ISERROR(VLOOKUP(B1059&G1059&H1059,'Liste inscrits'!AH:AS,1,FALSE)),\"\",VLOOKUP(B1059&G1059&H1059,'Liste inscrits'!AH:AS,11,FALSE))","v":""}]
[]
["N° de LICENCE","NOM                     PRENOM\nen lettres capitales",null,"DIV","CR","CBD","N° \nSEC","N° \nASB","Qual. \nChpt AIN"]
[{"$f":"IF(B1066<>\"\",VLOOKUP(B1066,'Liste inscrits'!$A:$AD,2,FALSE),\"\")","v":""},{"$f":"IF(OFFSET('Liste inscrits'!$A$1,INT(ROW()/35)*4+(ROW()-INT(ROW()/35)*35)/7,0)<>\"\",OFFSET('Liste inscrits'!$A$1,INT(ROW()/35)*4+(ROW()-INT(ROW()/35)*35)/7,0),\"\")","v":""},null,{"$f":"IF(B1066<>\"\",VLOOKUP(B1066,'Liste inscrits'!$A:$AD,4,FALSE),\"\")","v":""},"ARA",1,{"$f":"IF(B1066<>\"\",VLOOKUP(B1066,'Liste inscrits'!$A:$AD,5,FALSE),\"\")","v":""},{"$f":"IF(B1066<>\"\",VLOOKUP(B1066,'Liste inscrits'!$A:$AD,6,FALSE),\"\")","v":""}]
[{"$f":"IF(B1066<>\"\",VLOOKUP(B1066,'Liste inscrits'!$A:$AD,8,FALSE),\"\")","v":""},{"$f":"IF(B1066<>\"\",VLOOKUP(B1066,'Liste inscrits'!$A:$AD,7,FALSE),\"\")","v":""},null,{"$f":"IF(B1066<>\"\",VLOOKUP(B1066,'Liste inscrits'!$A:$AD,10,FALSE),\"\")","v":""},"ARA",1,{"$f":"IF(B1066<>\"\",VLOOKUP(B1066,'Liste inscrits'!$A:$AD,11,FALSE),\"\")","v":""},{"$f":"IF(B1066<>\"\",VLOOKUP(B1066,'Liste inscrits'!$A:$AD,12,FALSE),\"\")","v":""}]
[{"$f":"IF(B1066<>\"\",VLOOKUP(B1066,'Liste inscrits'!$A:$AD,14,FALSE),\"\")","v":""},{"$f":"IF(B1066<>\"\",VLOOKUP(B1066,'Liste inscrits'!$A:$AD,13,FALSE),\"\")","v":""},null,{"$f":"IF(B1066<>\"\",VLOOKUP(B1066,'Liste inscrits'!$A:$AD,16,FALSE),\"\")","v":""},"ARA",1,{"$f":"IF(B1066<>\"\",VLOOKUP(B1066,'Liste inscrits'!$A:$AD,17,FALSE),\"\")","v":""},{"$f":"IF(B1066<>\"\",VLOOKUP(B1066,'Liste inscrits'!$A:$AD,18,FALSE),\"\")","v":""}]
[]
["Nb parties gagnées\ndans les poules",{"$f":"IF(ISERROR(VLOOKUP(B1066&G1066&H1066,'Liste inscrits'!AH:AJ,1,FALSE)),\"\",VLOOKUP(B1066&G1066&H1066,'Liste inscrits'!AH:AJ,3,FALSE))","v":""},"Classement \ndans la poule ",{"$f":"IF(ISERROR(VLOOKUP(B1066&G1066&H1066,'Liste inscrits'!AH:AU,1,FALSE)),\"\",VLOOKUP(B1066&G1066&H1066,'Liste inscrits'!AH:AU,14,FALSE)&\"  /  \"&VLOOKUP(B1066&G1066&H1066,'Liste inscrits'!AH:AU,13,FALSE))","v":"  /  "},"Nb de parties gagnées \naprès les poules ",null,null,{"$f":"IF(ISERROR(VLOOKUP(B1066&G1066&H1066,'Liste inscrits'!AH:AS,1,FALSE)),\"\",VLOOKUP(B1066&G1066&H1066,'Liste inscrits'!AH:AS,11,FALSE))","v":""}]
[]
["N° de LICENCE","NOM                     PRENOM\nen lettres capitales",null,"DIV","CR","CBD","N° \nSEC","N° \nASB","Qual. \nChpt AIN"]
[{"$f":"IF(B1073<>\"\",VLOOKUP(B1073,'Liste inscrits'!$A:$AD,2,FALSE),\"\")","v":""},{"$f":"IF(OFFSET('Liste inscrits'!$A$1,INT(ROW()/35)*4+(ROW()-INT(ROW()/35)*35)/7,0)<>\"\",OFFSET('Liste inscrits'!$A$1,INT(ROW()/35)*4+(ROW()-INT(ROW()/35)*35)/7,0),\"\")","v":""},null,{"$f":"IF(B1073<>\"\",VLOOKUP(B1073,'Liste inscrits'!$A:$AD,4,FALSE),\"\")","v":""},"ARA",1,{"$f":"IF(B1073<>\"\",VLOOKUP(B1073,'Liste inscrits'!$A:$AD,5,FALSE),\"\")","v":""},{"$f":"IF(B1073<>\"\",VLOOKUP(B1073,'Liste inscrits'!$A:$AD,6,FALSE),\"\")","v":""}]
[{"$f":"IF(B1073<>\"\",VLOOKUP(B1073,'Liste inscrits'!$A:$AD,8,FALSE),\"\")","v":""},{"$f":"IF(B1073<>\"\",VLOOKUP(B1073,'Liste inscrits'!$A:$AD,7,FALSE),\"\")","v":""},null,{"$f":"IF(B1073<>\"\",VLOOKUP(B1073,'Liste inscrits'!$A:$AD,10,FALSE),\"\")","v":""},"ARA",1,{"$f":"IF(B1073<>\"\",VLOOKUP(B1073,'Liste inscrits'!$A:$AD,11,FALSE),\"\")","v":""},{"$f":"IF(B1073<>\"\",VLOOKUP(B1073,'Liste inscrits'!$A:$AD,12,FALSE),\"\")","v":""}]
[{"$f":"IF(B1073<>\"\",VLOOKUP(B1073,'Liste inscrits'!$A:$AD,14,FALSE),\"\")","v":""},{"$f":"IF(B1073<>\"\",VLOOKUP(B1073,'Liste inscrits'!$A:$AD,13,FALSE),\"\")","v":""},null,{"$f":"IF(B1073<>\"\",VLOOKUP(B1073,'Liste inscrits'!$A:$AD,16,FALSE),\"\")","v":""},"ARA",1,{"$f":"IF(B1073<>\"\",VLOOKUP(B1073,'Liste inscrits'!$A:$AD,17,FALSE),\"\")","v":""},{"$f":"IF(B1073<>\"\",VLOOKUP(B1073,'Liste inscrits'!$A:$AD,18,FALSE),\"\")","v":""}]
[]
["Nb parties gagnées\ndans les poules",{"$f":"IF(ISERROR(VLOOKUP(B1073&G1073&H1073,'Liste inscrits'!AH:AJ,1,FALSE)),\"\",VLOOKUP(B1073&G1073&H1073,'Liste inscrits'!AH:AJ,3,FALSE))","v":""},"Classement \ndans la poule ",{"$f":"IF(ISERROR(VLOOKUP(B1073&G1073&H1073,'Liste inscrits'!AH:AU,1,FALSE)),\"\",VLOOKUP(B1073&G1073&H1073,'Liste inscrits'!AH:AU,14,FALSE)&\"  /  \"&VLOOKUP(B1073&G1073&H1073,'Liste inscrits'!AH:AU,13,FALSE))","v":"  /  "},"Nb de parties gagnées \naprès les poules ",null,null,{"$f":"IF(ISERROR(VLOOKUP(B1073&G1073&H1073,'Liste inscrits'!AH:AS,1,FALSE)),\"\",VLOOKUP(B1073&G1073&H1073,'Liste inscrits'!AH:AS,11,FALSE))","v":""}]
[]
["N° de LICENCE","NOM                     PRENOM\nen lettres capitales",null,"DIV","CR","CBD","N° \nSEC","N° \nASB","Qual. \nChpt AIN"]
[{"$f":"IF(B1080<>\"\",VLOOKUP(B1080,'Liste inscrits'!$A:$AD,2,FALSE),\"\")","v":""},{"$f":"IF(OFFSET('Liste inscrits'!$A$1,INT(ROW()/35)*4+(ROW()-INT(ROW()/35)*35)/7,0)<>\"\",OFFSET('Liste inscrits'!$A$1,INT(ROW()/35)*4+(ROW()-INT(ROW()/35)*35)/7,0),\"\")","v":""},null,{"$f":"IF(B1080<>\"\",VLOOKUP(B1080,'Liste inscrits'!$A:$AD,4,FALSE),\"\")","v":""},"ARA",1,{"$f":"IF(B1080<>\"\",VLOOKUP(B1080,'Liste inscrits'!$A:$AD,5,FALSE),\"\")","v":""},{"$f":"IF(B1080<>\"\",VLOOKUP(B1080,'Liste inscrits'!$A:$AD,6,FALSE),\"\")","v":""}]
[{"$f":"IF(B1080<>\"\",VLOOKUP(B1080,'Liste inscrits'!$A:$AD,8,FALSE),\"\")","v":""},{"$f":"IF(B1080<>\"\",VLOOKUP(B1080,'Liste inscrits'!$A:$AD,7,FALSE),\"\")","v":""},null,{"$f":"IF(B1080<>\"\",VLOOKUP(B1080,'Liste inscrits'!$A:$AD,10,FALSE),\"\")","v":""},"ARA",1,{"$f":"IF(B1080<>\"\",VLOOKUP(B1080,'Liste inscrits'!$A:$AD,11,FALSE),\"\")","v":""},{"$f":"IF(B1080<>\"\",VLOOKUP(B1080,'Liste inscrits'!$A:$AD,12,FALSE),\"\")","v":""}]
[{"$f":"IF(B1080<>\"\",VLOOKUP(B1080,'Liste inscrits'!$A:$AD,14,FALSE),\"\")","v":""},{"$f":"IF(B1080<>\"\",VLOOKUP(B1080,'Liste inscrits'!$A:$AD,13,FALSE),\"\")","v":""},null,{"$f":"IF(B1080<>\"\",VLOOKUP(B1080,'Liste inscrits'!$A:$AD,16,FALSE),\"\")","v":""},"ARA",1,{"$f":"IF(B1080<>\"\",VLOOKUP(B1080,'Liste inscrits'!$A:$AD,17,FALSE),\"\")","v":""},{"$f":"IF(B1080<>\"\",VLOOKUP(B1080,'Liste inscrits'!$A:$AD,18,FALSE),\"\")","v":""}]
[]
["Nb parties gagnées\ndans les poules",{"$f":"IF(ISERROR(VLOOKUP(B1080&G1080&H1080,'Liste inscrits'!AH:AJ,1,FALSE)),\"\",VLOOKUP(B1080&G1080&H1080,'Liste inscrits'!AH:AJ,3,FALSE))","v":""},"Classement \ndans la poule ",{"$f":"IF(ISERROR(VLOOKUP(B1080&G1080&H1080,'Liste inscrits'!AH:AU,1,FALSE)),\"\",VLOOKUP(B1080&G1080&H1080,'Liste inscrits'!AH:AU,14,FALSE)&\"  /  \"&VLOOKUP(B1080&G1080&H1080,'Liste inscrits'!AH:AU,13,FALSE))","v":"  /  "},"Nb de parties gagnées \naprès les poules ",null,null,{"$f":"IF(ISERROR(VLOOKUP(B1080&G1080&H1080,'Liste inscrits'!AH:AS,1,FALSE)),\"\",VLOOKUP(B1080&G1080&H1080,'Liste inscrits'!AH:AS,11,FALSE))","v":""}]
[]
[]
["C.B.D. AIN",null,{"$f":"$C$2","v":0},null,null,null,null,{"$f":"$H$2","v":0}]
[]
["SECTEUR :",{"$f":"$B$4","v":{"$error":"#VALUE!"}},null,"Lieu de la compétition :",{"$f":"$E$4","v":0}]
[]
["Date : ",{"$f":"$B$6","v":0},null,null,"Nombre total d'équipes participantes ",null,null,null,{"$f":"$I$6","v":0}]
[]
["N° de LICENCE","NOM                     PRENOM\nen lettres capitales",null,"DIV","CR","CBD","N° \nSEC","N° \nASB","Qual. \nChpt AIN"]
[{"$f":"IF(B1094<>\"\",VLOOKUP(B1094,'Liste inscrits'!$A:$AD,2,FALSE),\"\")","v":""},{"$f":"IF(OFFSET('Liste inscrits'!$A$1,INT(ROW()/35)*4+(ROW()-INT(ROW()/35)*35)/7,0)<>\"\",OFFSET('Liste inscrits'!$A$1,INT(ROW()/35)*4+(ROW()-INT(ROW()/35)*35)/7,0),\"\")","v":""},null,{"$f":"IF(B1094<>\"\",VLOOKUP(B1094,'Liste inscrits'!$A:$AD,4,FALSE),\"\")","v":""},"ARA",1,{"$f":"IF(B1094<>\"\",VLOOKUP(B1094,'Liste inscrits'!$A:$AD,5,FALSE),\"\")","v":""},{"$f":"IF(B1094<>\"\",VLOOKUP(B1094,'Liste inscrits'!$A:$AD,6,FALSE),\"\")","v":""}]
[{"$f":"IF(B1094<>\"\",VLOOKUP(B1094,'Liste inscrits'!$A:$AD,8,FALSE),\"\")","v":""},{"$f":"IF(B1094<>\"\",VLOOKUP(B1094,'Liste inscrits'!$A:$AD,7,FALSE),\"\")","v":""},null,{"$f":"IF(B1094<>\"\",VLOOKUP(B1094,'Liste inscrits'!$A:$AD,10,FALSE),\"\")","v":""},"ARA",1,{"$f":"IF(B1094<>\"\",VLOOKUP(B1094,'Liste inscrits'!$A:$AD,11,FALSE),\"\")","v":""},{"$f":"IF(B1094<>\"\",VLOOKUP(B1094,'Liste inscrits'!$A:$AD,12,FALSE),\"\")","v":""}]
[{"$f":"IF(B1094<>\"\",VLOOKUP(B1094,'Liste inscrits'!$A:$AD,14,FALSE),\"\")","v":""},{"$f":"IF(B1094<>\"\",VLOOKUP(B1094,'Liste inscrits'!$A:$AD,13,FALSE),\"\")","v":""},null,{"$f":"IF(B1094<>\"\",VLOOKUP(B1094,'Liste inscrits'!$A:$AD,16,FALSE),\"\")","v":""},"ARA",1,{"$f":"IF(B1094<>\"\",VLOOKUP(B1094,'Liste inscrits'!$A:$AD,17,FALSE),\"\")","v":""},{"$f":"IF(B1094<>\"\",VLOOKUP(B1094,'Liste inscrits'!$A:$AD,18,FALSE),\"\")","v":""}]
[]
["Nb parties gagnées\ndans les poules",{"$f":"IF(ISERROR(VLOOKUP(B1094&G1094&H1094,'Liste inscrits'!AH:AJ,1,FALSE)),\"\",VLOOKUP(B1094&G1094&H1094,'Liste inscrits'!AH:AJ,3,FALSE))","v":""},"Classement \ndans la poule ",{"$f":"IF(ISERROR(VLOOKUP(B1094&G1094&H1094,'Liste inscrits'!AH:AU,1,FALSE)),\"\",VLOOKUP(B1094&G1094&H1094,'Liste inscrits'!AH:AU,14,FALSE)&\"  /  \"&VLOOKUP(B1094&G1094&H1094,'Liste inscrits'!AH:AU,13,FALSE))","v":"  /  "},"Nb de parties gagnées \naprès les poules ",null,null,{"$f":"IF(ISERROR(VLOOKUP(B1094&G1094&H1094,'Liste inscrits'!AH:AS,1,FALSE)),\"\",VLOOKUP(B1094&G1094&H1094,'Liste inscrits'!AH:AS,11,FALSE))","v":""}]
[]
["N° de LICENCE","NOM                     PRENOM\nen lettres capitales",null,"DIV","CR","CBD","N° \nSEC","N° \nASB","Qual. \nChpt AIN"]
[{"$f":"IF(B1101<>\"\",VLOOKUP(B1101,'Liste inscrits'!$A:$AD,2,FALSE),\"\")","v":""},{"$f":"IF(OFFSET('Liste inscrits'!$A$1,INT(ROW()/35)*4+(ROW()-INT(ROW()/35)*35)/7,0)<>\"\",OFFSET('Liste inscrits'!$A$1,INT(ROW()/35)*4+(ROW()-INT(ROW()/35)*35)/7,0),\"\")","v":""},null,{"$f":"IF(B1101<>\"\",VLOOKUP(B1101,'Liste inscrits'!$A:$AD,4,FALSE),\"\")","v":""},"ARA",1,{"$f":"IF(B1101<>\"\",VLOOKUP(B1101,'Liste inscrits'!$A:$AD,5,FALSE),\"\")","v":""},{"$f":"IF(B1101<>\"\",VLOOKUP(B1101,'Liste inscrits'!$A:$AD,6,FALSE),\"\")","v":""}]
[{"$f":"IF(B1101<>\"\",VLOOKUP(B1101,'Liste inscrits'!$A:$AD,8,FALSE),\"\")","v":""},{"$f":"IF(B1101<>\"\",VLOOKUP(B1101,'Liste inscrits'!$A:$AD,7,FALSE),\"\")","v":""},null,{"$f":"IF(B1101<>\"\",VLOOKUP(B1101,'Liste inscrits'!$A:$AD,10,FALSE),\"\")","v":""},"ARA",1,{"$f":"IF(B1101<>\"\",VLOOKUP(B1101,'Liste inscrits'!$A:$AD,11,FALSE),\"\")","v":""},{"$f":"IF(B1101<>\"\",VLOOKUP(B1101,'Liste inscrits'!$A:$AD,12,FALSE),\"\")","v":""}]
[{"$f":"IF(B1101<>\"\",VLOOKUP(B1101,'Liste inscrits'!$A:$AD,14,FALSE),\"\")","v":""},{"$f":"IF(B1101<>\"\",VLOOKUP(B1101,'Liste inscrits'!$A:$AD,13,FALSE),\"\")","v":""},null,{"$f":"IF(B1101<>\"\",VLOOKUP(B1101,'Liste inscrits'!$A:$AD,16,FALSE),\"\")","v":""},"ARA",1,{"$f":"IF(B1101<>\"\",VLOOKUP(B1101,'Liste inscrits'!$A:$AD,17,FALSE),\"\")","v":""},{"$f":"IF(B1101<>\"\",VLOOKUP(B1101,'Liste inscrits'!$A:$AD,18,FALSE),\"\")","v":""}]
[]
["Nb parties gagnées\ndans les poules",{"$f":"IF(ISERROR(VLOOKUP(B1101&G1101&H1101,'Liste inscrits'!AH:AJ,1,FALSE)),\"\",VLOOKUP(B1101&G1101&H1101,'Liste inscrits'!AH:AJ,3,FALSE))","v":""},"Classement \ndans la poule ",{"$f":"IF(ISERROR(VLOOKUP(B1101&G1101&H1101,'Liste inscrits'!AH:AU,1,FALSE)),\"\",VLOOKUP(B1101&G1101&H1101,'Liste inscrits'!AH:AU,14,FALSE)&\"  /  \"&VLOOKUP(B1101&G1101&H1101,'Liste inscrits'!AH:AU,13,FALSE))","v":"  /  "},"Nb de parties gagnées \naprès les poules ",null,null,{"$f":"IF(ISERROR(VLOOKUP(B1101&G1101&H1101,'Liste inscrits'!AH:AS,1,FALSE)),\"\",VLOOKUP(B1101&G1101&H1101,'Liste inscrits'!AH:AS,11,FALSE))","v":""}]
[]
["N° de LICENCE","NOM                     PRENOM\nen lettres capitales",null,"DIV","CR","CBD","N° \nSEC","N° \nASB","Qual. \nChpt AIN"]
[{"$f":"IF(B1108<>\"\",VLOOKUP(B1108,'Liste inscrits'!$A:$AD,2,FALSE),\"\")","v":""},{"$f":"IF(OFFSET('Liste inscrits'!$A$1,INT(ROW()/35)*4+(ROW()-INT(ROW()/35)*35)/7,0)<>\"\",OFFSET('Liste inscrits'!$A$1,INT(ROW()/35)*4+(ROW()-INT(ROW()/35)*35)/7,0),\"\")","v":""},null,{"$f":"IF(B1108<>\"\",VLOOKUP(B1108,'Liste inscrits'!$A:$AD,4,FALSE),\"\")","v":""},"ARA",1,{"$f":"IF(B1108<>\"\",VLOOKUP(B1108,'Liste inscrits'!$A:$AD,5,FALSE),\"\")","v":""},{"$f":"IF(B1108<>\"\",VLOOKUP(B1108,'Liste inscrits'!$A:$AD,6,FALSE),\"\")","v":""}]
[{"$f":"IF(B1108<>\"\",VLOOKUP(B1108,'Liste inscrits'!$A:$AD,8,FALSE),\"\")","v":""},{"$f":"IF(B1108<>\"\",VLOOKUP(B1108,'Liste inscrits'!$A:$AD,7,FALSE),\"\")","v":""},null,{"$f":"IF(B1108<>\"\",VLOOKUP(B1108,'Liste inscrits'!$A:$AD,10,FALSE),\"\")","v":""},"ARA",1,{"$f":"IF(B1108<>\"\",VLOOKUP(B1108,'Liste inscrits'!$A:$AD,11,FALSE),\"\")","v":""},{"$f":"IF(B1108<>\"\",VLOOKUP(B1108,'Liste inscrits'!$A:$AD,12,FALSE),\"\")","v":""}]
[{"$f":"IF(B1108<>\"\",VLOOKUP(B1108,'Liste inscrits'!$A:$AD,14,FALSE),\"\")","v":""},{"$f":"IF(B1108<>\"\",VLOOKUP(B1108,'Liste inscrits'!$A:$AD,13,FALSE),\"\")","v":""},null,{"$f":"IF(B1108<>\"\",VLOOKUP(B1108,'Liste inscrits'!$A:$AD,16,FALSE),\"\")","v":""},"ARA",1,{"$f":"IF(B1108<>\"\",VLOOKUP(B1108,'Liste inscrits'!$A:$AD,17,FALSE),\"\")","v":""},{"$f":"IF(B1108<>\"\",VLOOKUP(B1108,'Liste inscrits'!$A:$AD,18,FALSE),\"\")","v":""}]
[]
["Nb parties gagnées\ndans les poules",{"$f":"IF(ISERROR(VLOOKUP(B1108&G1108&H1108,'Liste inscrits'!AH:AJ,1,FALSE)),\"\",VLOOKUP(B1108&G1108&H1108,'Liste inscrits'!AH:AJ,3,FALSE))","v":""},"Classement \ndans la poule ",{"$f":"IF(ISERROR(VLOOKUP(B1108&G1108&H1108,'Liste inscrits'!AH:AU,1,FALSE)),\"\",VLOOKUP(B1108&G1108&H1108,'Liste inscrits'!AH:AU,14,FALSE)&\"  /  \"&VLOOKUP(B1108&G1108&H1108,'Liste inscrits'!AH:AU,13,FALSE))","v":"  /  "},"Nb de parties gagnées \naprès les poules ",null,null,{"$f":"IF(ISERROR(VLOOKUP(B1108&G1108&H1108,'Liste inscrits'!AH:AS,1,FALSE)),\"\",VLOOKUP(B1108&G1108&H1108,'Liste inscrits'!AH:AS,11,FALSE))","v":""}]
[]
["N° de LICENCE","NOM                     PRENOM\nen lettres capitales",null,"DIV","CR","CBD","N° \nSEC","N° \nASB","Qual. \nChpt AIN"]
[{"$f":"IF(B1115<>\"\",VLOOKUP(B1115,'Liste inscrits'!$A:$AD,2,FALSE),\"\")","v":""},{"$f":"IF(OFFSET('Liste inscrits'!$A$1,INT(ROW()/35)*4+(ROW()-INT(ROW()/35)*35)/7,0)<>\"\",OFFSET('Liste inscrits'!$A$1,INT(ROW()/35)*4+(ROW()-INT(ROW()/35)*35)/7,0),\"\")","v":""},null,{"$f":"IF(B1115<>\"\",VLOOKUP(B1115,'Liste inscrits'!$A:$AD,4,FALSE),\"\")","v":""},"ARA",1,{"$f":"IF(B1115<>\"\",VLOOKUP(B1115,'Liste inscrits'!$A:$AD,5,FALSE),\"\")","v":""},{"$f":"IF(B1115<>\"\",VLOOKUP(B1115,'Liste inscrits'!$A:$AD,6,FALSE),\"\")","v":""}]
[{"$f":"IF(B1115<>\"\",VLOOKUP(B1115,'Liste inscrits'!$A:$AD,8,FALSE),\"\")","v":""},{"$f":"IF(B1115<>\"\",VLOOKUP(B1115,'Liste inscrits'!$A:$AD,7,FALSE),\"\")","v":""},null,{"$f":"IF(B1115<>\"\",VLOOKUP(B1115,'Liste inscrits'!$A:$AD,10,FALSE),\"\")","v":""},"ARA",1,{"$f":"IF(B1115<>\"\",VLOOKUP(B1115,'Liste inscrits'!$A:$AD,11,FALSE),\"\")","v":""},{"$f":"IF(B1115<>\"\",VLOOKUP(B1115,'Liste inscrits'!$A:$AD,12,FALSE),\"\")","v":""}]
[{"$f":"IF(B1115<>\"\",VLOOKUP(B1115,'Liste inscrits'!$A:$AD,14,FALSE),\"\")","v":""},{"$f":"IF(B1115<>\"\",VLOOKUP(B1115,'Liste inscrits'!$A:$AD,13,FALSE),\"\")","v":""},null,{"$f":"IF(B1115<>\"\",VLOOKUP(B1115,'Liste inscrits'!$A:$AD,16,FALSE),\"\")","v":""},"ARA",1,{"$f":"IF(B1115<>\"\",VLOOKUP(B1115,'Liste inscrits'!$A:$AD,17,FALSE),\"\")","v":""},{"$f":"IF(B1115<>\"\",VLOOKUP(B1115,'Liste inscrits'!$A:$AD,18,FALSE),\"\")","v":""}]
[]
["Nb parties gagnées\ndans les poules",{"$f":"IF(ISERROR(VLOOKUP(B1115&G1115&H1115,'Liste inscrits'!AH:AJ,1,FALSE)),\"\",VLOOKUP(B1115&G1115&H1115,'Liste inscrits'!AH:AJ,3,FALSE))","v":""},"Classement \ndans la poule ",{"$f":"IF(ISERROR(VLOOKUP(B1115&G1115&H1115,'Liste inscrits'!AH:AU,1,FALSE)),\"\",VLOOKUP(B1115&G1115&H1115,'Liste inscrits'!AH:AU,14,FALSE)&\"  /  \"&VLOOKUP(B1115&G1115&H1115,'Liste inscrits'!AH:AU,13,FALSE))","v":"  /  "},"Nb de parties gagnées \naprès les poules ",null,null,{"$f":"IF(ISERROR(VLOOKUP(B1115&G1115&H1115,'Liste inscrits'!AH:AS,1,FALSE)),\"\",VLOOKUP(B1115&G1115&H1115,'Liste inscrits'!AH:AS,11,FALSE))","v":""}]
[]
[]
["C.B.D. AIN",null,{"$f":"$C$2","v":0},null,null,null,null,{"$f":"$H$2","v":0}]
[]
["SECTEUR :",{"$f":"$B$4","v":{"$error":"#VALUE!"}},null,"Lieu de la compétition :",{"$f":"$E$4","v":0}]
[]
["Date : ",{"$f":"$B$6","v":0},null,null,"Nombre total d'équipes participantes ",null,null,null,{"$f":"$I$6","v":0}]
[]
["N° de LICENCE","NOM                     PRENOM\nen lettres capitales",null,"DIV","CR","CBD","N° \nSEC","N° \nASB","Qual. \nChpt AIN"]
[{"$f":"IF(B1129<>\"\",VLOOKUP(B1129,'Liste inscrits'!$A:$AD,2,FALSE),\"\")","v":""},{"$f":"IF(OFFSET('Liste inscrits'!$A$1,INT(ROW()/35)*4+(ROW()-INT(ROW()/35)*35)/7,0)<>\"\",OFFSET('Liste inscrits'!$A$1,INT(ROW()/35)*4+(ROW()-INT(ROW()/35)*35)/7,0),\"\")","v":""},null,{"$f":"IF(B1129<>\"\",VLOOKUP(B1129,'Liste inscrits'!$A:$AD,4,FALSE),\"\")","v":""},"ARA",1,{"$f":"IF(B1129<>\"\",VLOOKUP(B1129,'Liste inscrits'!$A:$AD,5,FALSE),\"\")","v":""},{"$f":"IF(B1129<>\"\",VLOOKUP(B1129,'Liste inscrits'!$A:$AD,6,FALSE),\"\")","v":""}]
[{"$f":"IF(B1129<>\"\",VLOOKUP(B1129,'Liste inscrits'!$A:$AD,8,FALSE),\"\")","v":""},{"$f":"IF(B1129<>\"\",VLOOKUP(B1129,'Liste inscrits'!$A:$AD,7,FALSE),\"\")","v":""},null,{"$f":"IF(B1129<>\"\",VLOOKUP(B1129,'Liste inscrits'!$A:$AD,10,FALSE),\"\")","v":""},"ARA",1,{"$f":"IF(B1129<>\"\",VLOOKUP(B1129,'Liste inscrits'!$A:$AD,11,FALSE),\"\")","v":""},{"$f":"IF(B1129<>\"\",VLOOKUP(B1129,'Liste inscrits'!$A:$AD,12,FALSE),\"\")","v":""}]
[{"$f":"IF(B1129<>\"\",VLOOKUP(B1129,'Liste inscrits'!$A:$AD,14,FALSE),\"\")","v":""},{"$f":"IF(B1129<>\"\",VLOOKUP(B1129,'Liste inscrits'!$A:$AD,13,FALSE),\"\")","v":""},null,{"$f":"IF(B1129<>\"\",VLOOKUP(B1129,'Liste inscrits'!$A:$AD,16,FALSE),\"\")","v":""},"ARA",1,{"$f":"IF(B1129<>\"\",VLOOKUP(B1129,'Liste inscrits'!$A:$AD,17,FALSE),\"\")","v":""},{"$f":"IF(B1129<>\"\",VLOOKUP(B1129,'Liste inscrits'!$A:$AD,18,FALSE),\"\")","v":""}]
[]
["Nb parties gagnées\ndans les poules",{"$f":"IF(ISERROR(VLOOKUP(B1129&G1129&H1129,'Liste inscrits'!AH:AJ,1,FALSE)),\"\",VLOOKUP(B1129&G1129&H1129,'Liste inscrits'!AH:AJ,3,FALSE))","v":""},"Classement \ndans la poule ",{"$f":"IF(ISERROR(VLOOKUP(B1129&G1129&H1129,'Liste inscrits'!AH:AU,1,FALSE)),\"\",VLOOKUP(B1129&G1129&H1129,'Liste inscrits'!AH:AU,14,FALSE)&\"  /  \"&VLOOKUP(B1129&G1129&H1129,'Liste inscrits'!AH:AU,13,FALSE))","v":"  /  "},"Nb de parties gagnées \naprès les poules ",null,null,{"$f":"IF(ISERROR(VLOOKUP(B1129&G1129&H1129,'Liste inscrits'!AH:AS,1,FALSE)),\"\",VLOOKUP(B1129&G1129&H1129,'Liste inscrits'!AH:AS,11,FALSE))","v":""}]
[]
["N° de LICENCE","NOM                     PRENOM\nen lettres capitales",null,"DIV","CR","CBD","N° \nSEC","N° \nASB","Qual. \nChpt AIN"]
[{"$f":"IF(B1136<>\"\",VLOOKUP(B1136,'Liste inscrits'!$A:$AD,2,FALSE),\"\")","v":""},{"$f":"IF(OFFSET('Liste inscrits'!$A$1,INT(ROW()/35)*4+(ROW()-INT(ROW()/35)*35)/7,0)<>\"\",OFFSET('Liste inscrits'!$A$1,INT(ROW()/35)*4+(ROW()-INT(ROW()/35)*35)/7,0),\"\")","v":""},null,{"$f":"IF(B1136<>\"\",VLOOKUP(B1136,'Liste inscrits'!$A:$AD,4,FALSE),\"\")","v":""},"ARA",1,{"$f":"IF(B1136<>\"\",VLOOKUP(B1136,'Liste inscrits'!$A:$AD,5,FALSE),\"\")","v":""},{"$f":"IF(B1136<>\"\",VLOOKUP(B1136,'Liste inscrits'!$A:$AD,6,FALSE),\"\")","v":""}]
[{"$f":"IF(B1136<>\"\",VLOOKUP(B1136,'Liste inscrits'!$A:$AD,8,FALSE),\"\")","v":""},{"$f":"IF(B1136<>\"\",VLOOKUP(B1136,'Liste inscrits'!$A:$AD,7,FALSE),\"\")","v":""},null,{"$f":"IF(B1136<>\"\",VLOOKUP(B1136,'Liste inscrits'!$A:$AD,10,FALSE),\"\")","v":""},"ARA",1,{"$f":"IF(B1136<>\"\",VLOOKUP(B1136,'Liste inscrits'!$A:$AD,11,FALSE),\"\")","v":""},{"$f":"IF(B1136<>\"\",VLOOKUP(B1136,'Liste inscrits'!$A:$AD,12,FALSE),\"\")","v":""}]
[{"$f":"IF(B1136<>\"\",VLOOKUP(B1136,'Liste inscrits'!$A:$AD,14,FALSE),\"\")","v":""},{"$f":"IF(B1136<>\"\",VLOOKUP(B1136,'Liste inscrits'!$A:$AD,13,FALSE),\"\")","v":""},null,{"$f":"IF(B1136<>\"\",VLOOKUP(B1136,'Liste inscrits'!$A:$AD,16,FALSE),\"\")","v":""},"ARA",1,{"$f":"IF(B1136<>\"\",VLOOKUP(B1136,'Liste inscrits'!$A:$AD,17,FALSE),\"\")","v":""},{"$f":"IF(B1136<>\"\",VLOOKUP(B1136,'Liste inscrits'!$A:$AD,18,FALSE),\"\")","v":""}]
[]
["Nb parties gagnées\ndans les poules",{"$f":"IF(ISERROR(VLOOKUP(B1136&G1136&H1136,'Liste inscrits'!AH:AJ,1,FALSE)),\"\",VLOOKUP(B1136&G1136&H1136,'Liste inscrits'!AH:AJ,3,FALSE))","v":""},"Classement \ndans la poule ",{"$f":"IF(ISERROR(VLOOKUP(B1136&G1136&H1136,'Liste inscrits'!AH:AU,1,FALSE)),\"\",VLOOKUP(B1136&G1136&H1136,'Liste inscrits'!AH:AU,14,FALSE)&\"  /  \"&VLOOKUP(B1136&G1136&H1136,'Liste inscrits'!AH:AU,13,FALSE))","v":"  /  "},"Nb de parties gagnées \naprès les poules ",null,null,{"$f":"IF(ISERROR(VLOOKUP(B1136&G1136&H1136,'Liste inscrits'!AH:AS,1,FALSE)),\"\",VLOOKUP(B1136&G1136&H1136,'Liste inscrits'!AH:AS,11,FALSE))","v":""}]
[]
["N° de LICENCE","NOM                     PRENOM\nen lettres capitales",null,"DIV","CR","CBD","N° \nSEC","N° \nASB","Qual. \nChpt AIN"]
[{"$f":"IF(B1143<>\"\",VLOOKUP(B1143,'Liste inscrits'!$A:$AD,2,FALSE),\"\")","v":""},{"$f":"IF(OFFSET('Liste inscrits'!$A$1,INT(ROW()/35)*4+(ROW()-INT(ROW()/35)*35)/7,0)<>\"\",OFFSET('Liste inscrits'!$A$1,INT(ROW()/35)*4+(ROW()-INT(ROW()/35)*35)/7,0),\"\")","v":""},null,{"$f":"IF(B1143<>\"\",VLOOKUP(B1143,'Liste inscrits'!$A:$AD,4,FALSE),\"\")","v":""},"ARA",1,{"$f":"IF(B1143<>\"\",VLOOKUP(B1143,'Liste inscrits'!$A:$AD,5,FALSE),\"\")","v":""},{"$f":"IF(B1143<>\"\",VLOOKUP(B1143,'Liste inscrits'!$A:$AD,6,FALSE),\"\")","v":""}]
[{"$f":"IF(B1143<>\"\",VLOOKUP(B1143,'Liste inscrits'!$A:$AD,8,FALSE),\"\")","v":""},{"$f":"IF(B1143<>\"\",VLOOKUP(B1143,'Liste inscrits'!$A:$AD,7,FALSE),\"\")","v":""},null,{"$f":"IF(B1143<>\"\",VLOOKUP(B1143,'Liste inscrits'!$A:$AD,10,FALSE),\"\")","v":""},"ARA",1,{"$f":"IF(B1143<>\"\",VLOOKUP(B1143,'Liste inscrits'!$A:$AD,11,FALSE),\"\")","v":""},{"$f":"IF(B1143<>\"\",VLOOKUP(B1143,'Liste inscrits'!$A:$AD,12,FALSE),\"\")","v":""}]
[{"$f":"IF(B1143<>\"\",VLOOKUP(B1143,'Liste inscrits'!$A:$AD,14,FALSE),\"\")","v":""},{"$f":"IF(B1143<>\"\",VLOOKUP(B1143,'Liste inscrits'!$A:$AD,13,FALSE),\"\")","v":""},null,{"$f":"IF(B1143<>\"\",VLOOKUP(B1143,'Liste inscrits'!$A:$AD,16,FALSE),\"\")","v":""},"ARA",1,{"$f":"IF(B1143<>\"\",VLOOKUP(B1143,'Liste inscrits'!$A:$AD,17,FALSE),\"\")","v":""},{"$f":"IF(B1143<>\"\",VLOOKUP(B1143,'Liste inscrits'!$A:$AD,18,FALSE),\"\")","v":""}]
[]
["Nb parties gagnées\ndans les poules",{"$f":"IF(ISERROR(VLOOKUP(B1143&G1143&H1143,'Liste inscrits'!AH:AJ,1,FALSE)),\"\",VLOOKUP(B1143&G1143&H1143,'Liste inscrits'!AH:AJ,3,FALSE))","v":""},"Classement \ndans la poule ",{"$f":"IF(ISERROR(VLOOKUP(B1143&G1143&H1143,'Liste inscrits'!AH:AU,1,FALSE)),\"\",VLOOKUP(B1143&G1143&H1143,'Liste inscrits'!AH:AU,14,FALSE)&\"  /  \"&VLOOKUP(B1143&G1143&H1143,'Liste inscrits'!AH:AU,13,FALSE))","v":"  /  "},"Nb de parties gagnées \naprès les poules ",null,null,{"$f":"IF(ISERROR(VLOOKUP(B1143&G1143&H1143,'Liste inscrits'!AH:AS,1,FALSE)),\"\",VLOOKUP(B1143&G1143&H1143,'Liste inscrits'!AH:AS,11,FALSE))","v":""}]
[]
["N° de LICENCE","NOM                     PRENOM\nen lettres capitales",null,"DIV","CR","CBD","N° \nSEC","N° \nASB","Qual. \nChpt AIN"]
[{"$f":"IF(B1150<>\"\",VLOOKUP(B1150,'Liste inscrits'!$A:$AD,2,FALSE),\"\")","v":""},{"$f":"IF(OFFSET('Liste inscrits'!$A$1,INT(ROW()/35)*4+(ROW()-INT(ROW()/35)*35)/7,0)<>\"\",OFFSET('Liste inscrits'!$A$1,INT(ROW()/35)*4+(ROW()-INT(ROW()/35)*35)/7,0),\"\")","v":""},null,{"$f":"IF(B1150<>\"\",VLOOKUP(B1150,'Liste inscrits'!$A:$AD,4,FALSE),\"\")","v":""},"ARA",1,{"$f":"IF(B1150<>\"\",VLOOKUP(B1150,'Liste inscrits'!$A:$AD,5,FALSE),\"\")","v":""},{"$f":"IF(B1150<>\"\",VLOOKUP(B1150,'Liste inscrits'!$A:$AD,6,FALSE),\"\")","v":""}]
[{"$f":"IF(B1150<>\"\",VLOOKUP(B1150,'Liste inscrits'!$A:$AD,8,FALSE),\"\")","v":""},{"$f":"IF(B1150<>\"\",VLOOKUP(B1150,'Liste inscrits'!$A:$AD,7,FALSE),\"\")","v":""},null,{"$f":"IF(B1150<>\"\",VLOOKUP(B1150,'Liste inscrits'!$A:$AD,10,FALSE),\"\")","v":""},"ARA",1,{"$f":"IF(B1150<>\"\",VLOOKUP(B1150,'Liste inscrits'!$A:$AD,11,FALSE),\"\")","v":""},{"$f":"IF(B1150<>\"\",VLOOKUP(B1150,'Liste inscrits'!$A:$AD,12,FALSE),\"\")","v":""}]
[{"$f":"IF(B1150<>\"\",VLOOKUP(B1150,'Liste inscrits'!$A:$AD,14,FALSE),\"\")","v":""},{"$f":"IF(B1150<>\"\",VLOOKUP(B1150,'Liste inscrits'!$A:$AD,13,FALSE),\"\")","v":""},null,{"$f":"IF(B1150<>\"\",VLOOKUP(B1150,'Liste inscrits'!$A:$AD,16,FALSE),\"\")","v":""},"ARA",1,{"$f":"IF(B1150<>\"\",VLOOKUP(B1150,'Liste inscrits'!$A:$AD,17,FALSE),\"\")","v":""},{"$f":"IF(B1150<>\"\",VLOOKUP(B1150,'Liste inscrits'!$A:$AD,18,FALSE),\"\")","v":""}]
[]
["Nb parties gagnées\ndans les poules",{"$f":"IF(ISERROR(VLOOKUP(B1150&G1150&H1150,'Liste inscrits'!AH:AJ,1,FALSE)),\"\",VLOOKUP(B1150&G1150&H1150,'Liste inscrits'!AH:AJ,3,FALSE))","v":""},"Classement \ndans la poule ",{"$f":"IF(ISERROR(VLOOKUP(B1150&G1150&H1150,'Liste inscrits'!AH:AU,1,FALSE)),\"\",VLOOKUP(B1150&G1150&H1150,'Liste inscrits'!AH:AU,14,FALSE)&\"  /  \"&VLOOKUP(B1150&G1150&H1150,'Liste inscrits'!AH:AU,13,FALSE))","v":"  /  "},"Nb de parties gagnées \naprès les poules ",null,null,{"$f":"IF(ISERROR(VLOOKUP(B1150&G1150&H1150,'Liste inscrits'!AH:AS,1,FALSE)),\"\",VLOOKUP(B1150&G1150&H1150,'Liste inscrits'!AH:AS,11,FALSE))","v":""}]
[]
[]
["C.B.D. AIN",null,{"$f":"$C$2","v":0},null,null,null,null,{"$f":"$H$2","v":0}]
[]
["SECTEUR :",{"$f":"$B$4","v":{"$error":"#VALUE!"}},null,"Lieu de la compétition :",{"$f":"$E$4","v":0}]
[]
["Date : ",{"$f":"$B$6","v":0},null,null,"Nombre total d'équipes participantes ",null,null,null,{"$f":"$I$6","v":0}]
[]
["N° de LICENCE","NOM                     PRENOM\nen lettres capitales",null,"DIV","CR","CBD","N° \nSEC","N° \nASB","Qual. \nChpt AIN"]
[{"$f":"IF(B1164<>\"\",VLOOKUP(B1164,'Liste inscrits'!$A:$AD,2,FALSE),\"\")","v":""},{"$f":"IF(OFFSET('Liste inscrits'!$A$1,INT(ROW()/35)*4+(ROW()-INT(ROW()/35)*35)/7,0)<>\"\",OFFSET('Liste inscrits'!$A$1,INT(ROW()/35)*4+(ROW()-INT(ROW()/35)*35)/7,0),\"\")","v":""},null,{"$f":"IF(B1164<>\"\",VLOOKUP(B1164,'Liste inscrits'!$A:$AD,4,FALSE),\"\")","v":""},"ARA",1,{"$f":"IF(B1164<>\"\",VLOOKUP(B1164,'Liste inscrits'!$A:$AD,5,FALSE),\"\")","v":""},{"$f":"IF(B1164<>\"\",VLOOKUP(B1164,'Liste inscrits'!$A:$AD,6,FALSE),\"\")","v":""}]
[{"$f":"IF(B1164<>\"\",VLOOKUP(B1164,'Liste inscrits'!$A:$AD,8,FALSE),\"\")","v":""},{"$f":"IF(B1164<>\"\",VLOOKUP(B1164,'Liste inscrits'!$A:$AD,7,FALSE),\"\")","v":""},null,{"$f":"IF(B1164<>\"\",VLOOKUP(B1164,'Liste inscrits'!$A:$AD,10,FALSE),\"\")","v":""},"ARA",1,{"$f":"IF(B1164<>\"\",VLOOKUP(B1164,'Liste inscrits'!$A:$AD,11,FALSE),\"\")","v":""},{"$f":"IF(B1164<>\"\",VLOOKUP(B1164,'Liste inscrits'!$A:$AD,12,FALSE),\"\")","v":""}]
[{"$f":"IF(B1164<>\"\",VLOOKUP(B1164,'Liste inscrits'!$A:$AD,14,FALSE),\"\")","v":""},{"$f":"IF(B1164<>\"\",VLOOKUP(B1164,'Liste inscrits'!$A:$AD,13,FALSE),\"\")","v":""},null,{"$f":"IF(B1164<>\"\",VLOOKUP(B1164,'Liste inscrits'!$A:$AD,16,FALSE),\"\")","v":""},"ARA",1,{"$f":"IF(B1164<>\"\",VLOOKUP(B1164,'Liste inscrits'!$A:$AD,17,FALSE),\"\")","v":""},{"$f":"IF(B1164<>\"\",VLOOKUP(B1164,'Liste inscrits'!$A:$AD,18,FALSE),\"\")","v":""}]
[]
["Nb parties gagnées\ndans les poules",{"$f":"IF(ISERROR(VLOOKUP(B1164&G1164&H1164,'Liste inscrits'!AH:AJ,1,FALSE)),\"\",VLOOKUP(B1164&G1164&H1164,'Liste inscrits'!AH:AJ,3,FALSE))","v":""},"Classement \ndans la poule ",{"$f":"IF(ISERROR(VLOOKUP(B1164&G1164&H1164,'Liste inscrits'!AH:AU,1,FALSE)),\"\",VLOOKUP(B1164&G1164&H1164,'Liste inscrits'!AH:AU,14,FALSE)&\"  /  \"&VLOOKUP(B1164&G1164&H1164,'Liste inscrits'!AH:AU,13,FALSE))","v":"  /  "},"Nb de parties gagnées \naprès les poules ",null,null,{"$f":"IF(ISERROR(VLOOKUP(B1164&G1164&H1164,'Liste inscrits'!AH:AS,1,FALSE)),\"\",VLOOKUP(B1164&G1164&H1164,'Liste inscrits'!AH:AS,11,FALSE))","v":""}]
[]
["N° de LICENCE","NOM                     PRENOM\nen lettres capitales",null,"DIV","CR","CBD","N° \nSEC","N° \nASB","Qual. \nChpt AIN"]
[{"$f":"IF(B1171<>\"\",VLOOKUP(B1171,'Liste inscrits'!$A:$AD,2,FALSE),\"\")","v":""},{"$f":"IF(OFFSET('Liste inscrits'!$A$1,INT(ROW()/35)*4+(ROW()-INT(ROW()/35)*35)/7,0)<>\"\",OFFSET('Liste inscrits'!$A$1,INT(ROW()/35)*4+(ROW()-INT(ROW()/35)*35)/7,0),\"\")","v":""},null,{"$f":"IF(B1171<>\"\",VLOOKUP(B1171,'Liste inscrits'!$A:$AD,4,FALSE),\"\")","v":""},"ARA",1,{"$f":"IF(B1171<>\"\",VLOOKUP(B1171,'Liste inscrits'!$A:$AD,5,FALSE),\"\")","v":""},{"$f":"IF(B1171<>\"\",VLOOKUP(B1171,'Liste inscrits'!$A:$AD,6,FALSE),\"\")","v":""}]
[{"$f":"IF(B1171<>\"\",VLOOKUP(B1171,'Liste inscrits'!$A:$AD,8,FALSE),\"\")","v":""},{"$f":"IF(B1171<>\"\",VLOOKUP(B1171,'Liste inscrits'!$A:$AD,7,FALSE),\"\")","v":""},null,{"$f":"IF(B1171<>\"\",VLOOKUP(B1171,'Liste inscrits'!$A:$AD,10,FALSE),\"\")","v":""},"ARA",1,{"$f":"IF(B1171<>\"\",VLOOKUP(B1171,'Liste inscrits'!$A:$AD,11,FALSE),\"\")","v":""},{"$f":"IF(B1171<>\"\",VLOOKUP(B1171,'Liste inscrits'!$A:$AD,12,FALSE),\"\")","v":""}]
[{"$f":"IF(B1171<>\"\",VLOOKUP(B1171,'Liste inscrits'!$A:$AD,14,FALSE),\"\")","v":""},{"$f":"IF(B1171<>\"\",VLOOKUP(B1171,'Liste inscrits'!$A:$AD,13,FALSE),\"\")","v":""},null,{"$f":"IF(B1171<>\"\",VLOOKUP(B1171,'Liste inscrits'!$A:$AD,16,FALSE),\"\")","v":""},"ARA",1,{"$f":"IF(B1171<>\"\",VLOOKUP(B1171,'Liste inscrits'!$A:$AD,17,FALSE),\"\")","v":""},{"$f":"IF(B1171<>\"\",VLOOKUP(B1171,'Liste inscrits'!$A:$AD,18,FALSE),\"\")","v":""}]
[]
["Nb parties gagnées\ndans les poules",{"$f":"IF(ISERROR(VLOOKUP(B1171&G1171&H1171,'Liste inscrits'!AH:AJ,1,FALSE)),\"\",VLOOKUP(B1171&G1171&H1171,'Liste inscrits'!AH:AJ,3,FALSE))","v":""},"Classement \ndans la poule ",{"$f":"IF(ISERROR(VLOOKUP(B1171&G1171&H1171,'Liste inscrits'!AH:AU,1,FALSE)),\"\",VLOOKUP(B1171&G1171&H1171,'Liste inscrits'!AH:AU,14,FALSE)&\"  /  \"&VLOOKUP(B1171&G1171&H1171,'Liste inscrits'!AH:AU,13,FALSE))","v":"  /  "},"Nb de parties gagnées \naprès les poules ",null,null,{"$f":"IF(ISERROR(VLOOKUP(B1171&G1171&H1171,'Liste inscrits'!AH:AS,1,FALSE)),\"\",VLOOKUP(B1171&G1171&H1171,'Liste inscrits'!AH:AS,11,FALSE))","v":""}]
[]
["N° de LICENCE","NOM                     PRENOM\nen lettres capitales",null,"DIV","CR","CBD","N° \nSEC","N° \nASB","Qual. \nChpt AIN"]
[{"$f":"IF(B1178<>\"\",VLOOKUP(B1178,'Liste inscrits'!$A:$AD,2,FALSE),\"\")","v":""},{"$f":"IF(OFFSET('Liste inscrits'!$A$1,INT(ROW()/35)*4+(ROW()-INT(ROW()/35)*35)/7,0)<>\"\",OFFSET('Liste inscrits'!$A$1,INT(ROW()/35)*4+(ROW()-INT(ROW()/35)*35)/7,0),\"\")","v":""},null,{"$f":"IF(B1178<>\"\",VLOOKUP(B1178,'Liste inscrits'!$A:$AD,4,FALSE),\"\")","v":""},"ARA",1,{"$f":"IF(B1178<>\"\",VLOOKUP(B1178,'Liste inscrits'!$A:$AD,5,FALSE),\"\")","v":""},{"$f":"IF(B1178<>\"\",VLOOKUP(B1178,'Liste inscrits'!$A:$AD,6,FALSE),\"\")","v":""}]
[{"$f":"IF(B1178<>\"\",VLOOKUP(B1178,'Liste inscrits'!$A:$AD,8,FALSE),\"\")","v":""},{"$f":"IF(B1178<>\"\",VLOOKUP(B1178,'Liste inscrits'!$A:$AD,7,FALSE),\"\")","v":""},null,{"$f":"IF(B1178<>\"\",VLOOKUP(B1178,'Liste inscrits'!$A:$AD,10,FALSE),\"\")","v":""},"ARA",1,{"$f":"IF(B1178<>\"\",VLOOKUP(B1178,'Liste inscrits'!$A:$AD,11,FALSE),\"\")","v":""},{"$f":"IF(B1178<>\"\",VLOOKUP(B1178,'Liste inscrits'!$A:$AD,12,FALSE),\"\")","v":""}]
[{"$f":"IF(B1178<>\"\",VLOOKUP(B1178,'Liste inscrits'!$A:$AD,14,FALSE),\"\")","v":""},{"$f":"IF(B1178<>\"\",VLOOKUP(B1178,'Liste inscrits'!$A:$AD,13,FALSE),\"\")","v":""},null,{"$f":"IF(B1178<>\"\",VLOOKUP(B1178,'Liste inscrits'!$A:$AD,16,FALSE),\"\")","v":""},"ARA",1,{"$f":"IF(B1178<>\"\",VLOOKUP(B1178,'Liste inscrits'!$A:$AD,17,FALSE),\"\")","v":""},{"$f":"IF(B1178<>\"\",VLOOKUP(B1178,'Liste inscrits'!$A:$AD,18,FALSE),\"\")","v":""}]
[]
["Nb parties gagnées\ndans les poules",{"$f":"IF(ISERROR(VLOOKUP(B1178&G1178&H1178,'Liste inscrits'!AH:AJ,1,FALSE)),\"\",VLOOKUP(B1178&G1178&H1178,'Liste inscrits'!AH:AJ,3,FALSE))","v":""},"Classement \ndans la poule ",{"$f":"IF(ISERROR(VLOOKUP(B1178&G1178&H1178,'Liste inscrits'!AH:AU,1,FALSE)),\"\",VLOOKUP(B1178&G1178&H1178,'Liste inscrits'!AH:AU,14,FALSE)&\"  /  \"&VLOOKUP(B1178&G1178&H1178,'Liste inscrits'!AH:AU,13,FALSE))","v":"  /  "},"Nb de parties gagnées \naprès les poules ",null,null,{"$f":"IF(ISERROR(VLOOKUP(B1178&G1178&H1178,'Liste inscrits'!AH:AS,1,FALSE)),\"\",VLOOKUP(B1178&G1178&H1178,'Liste inscrits'!AH:AS,11,FALSE))","v":""}]
[]
["N° de LICENCE","NOM                     PRENOM\nen lettres capitales",null,"DIV","CR","CBD","N° \nSEC","N° \nASB","Qual. \nChpt AIN"]
[{"$f":"IF(B1185<>\"\",VLOOKUP(B1185,'Liste inscrits'!$A:$AD,2,FALSE),\"\")","v":""},{"$f":"IF(OFFSET('Liste inscrits'!$A$1,INT(ROW()/35)*4+(ROW()-INT(ROW()/35)*35)/7,0)<>\"\",OFFSET('Liste inscrits'!$A$1,INT(ROW()/35)*4+(ROW()-INT(ROW()/35)*35)/7,0),\"\")","v":""},null,{"$f":"IF(B1185<>\"\",VLOOKUP(B1185,'Liste inscrits'!$A:$AD,4,FALSE),\"\")","v":""},"ARA",1,{"$f":"IF(B1185<>\"\",VLOOKUP(B1185,'Liste inscrits'!$A:$AD,5,FALSE),\"\")","v":""},{"$f":"IF(B1185<>\"\",VLOOKUP(B1185,'Liste inscrits'!$A:$AD,6,FALSE),\"\")","v":""}]
[{"$f":"IF(B1185<>\"\",VLOOKUP(B1185,'Liste inscrits'!$A:$AD,8,FALSE),\"\")","v":""},{"$f":"IF(B1185<>\"\",VLOOKUP(B1185,'Liste inscrits'!$A:$AD,7,FALSE),\"\")","v":""},null,{"$f":"IF(B1185<>\"\",VLOOKUP(B1185,'Liste inscrits'!$A:$AD,10,FALSE),\"\")","v":""},"ARA",1,{"$f":"IF(B1185<>\"\",VLOOKUP(B1185,'Liste inscrits'!$A:$AD,11,FALSE),\"\")","v":""},{"$f":"IF(B1185<>\"\",VLOOKUP(B1185,'Liste inscrits'!$A:$AD,12,FALSE),\"\")","v":""}]
[{"$f":"IF(B1185<>\"\",VLOOKUP(B1185,'Liste inscrits'!$A:$AD,14,FALSE),\"\")","v":""},{"$f":"IF(B1185<>\"\",VLOOKUP(B1185,'Liste inscrits'!$A:$AD,13,FALSE),\"\")","v":""},null,{"$f":"IF(B1185<>\"\",VLOOKUP(B1185,'Liste inscrits'!$A:$AD,16,FALSE),\"\")","v":""},"ARA",1,{"$f":"IF(B1185<>\"\",VLOOKUP(B1185,'Liste inscrits'!$A:$AD,17,FALSE),\"\")","v":""},{"$f":"IF(B1185<>\"\",VLOOKUP(B1185,'Liste inscrits'!$A:$AD,18,FALSE),\"\")","v":""}]
[]
["Nb parties gagnées\ndans les poules",{"$f":"IF(ISERROR(VLOOKUP(B1185&G1185&H1185,'Liste inscrits'!AH:AJ,1,FALSE)),\"\",VLOOKUP(B1185&G1185&H1185,'Liste inscrits'!AH:AJ,3,FALSE))","v":""},"Classement \ndans la poule ",{"$f":"IF(ISERROR(VLOOKUP(B1185&G1185&H1185,'Liste inscrits'!AH:AU,1,FALSE)),\"\",VLOOKUP(B1185&G1185&H1185,'Liste inscrits'!AH:AU,14,FALSE)&\"  /  \"&VLOOKUP(B1185&G1185&H1185,'Liste inscrits'!AH:AU,13,FALSE))","v":"  /  "},"Nb de parties gagnées \naprès les poules ",null,null,{"$f":"IF(ISERROR(VLOOKUP(B1185&G1185&H1185,'Liste inscrits'!AH:AS,1,FALSE)),\"\",VLOOKUP(B1185&G1185&H1185,'Liste inscrits'!AH:AS,11,FALSE))","v":""}]
[]
[]
["C.B.D. AIN",null,{"$f":"$C$2","v":0},null,null,null,null,{"$f":"$H$2","v":0}]
[]
["SECTEUR :",{"$f":"$B$4","v":{"$error":"#VALUE!"}},null,"Lieu de la compétition :",{"$f":"$E$4","v":0}]
[]
["Date : ",{"$f":"$B$6","v":0},null,null,"Nombre total d'équipes participantes ",null,null,null,{"$f":"$I$6","v":0}]
[]
["N° de LICENCE","NOM                     PRENOM\nen lettres capitales",null,"DIV","CR","CBD","N° \nSEC","N° \nASB","Qual. \nChpt AIN"]
[{"$f":"IF(B1199<>\"\",VLOOKUP(B1199,'Liste inscrits'!$A:$AD,2,FALSE),\"\")","v":""},{"$f":"IF(OFFSET('Liste inscrits'!$A$1,INT(ROW()/35)*4+(ROW()-INT(ROW()/35)*35)/7,0)<>\"\",OFFSET('Liste inscrits'!$A$1,INT(ROW()/35)*4+(ROW()-INT(ROW()/35)*35)/7,0),\"\")","v":""},null,{"$f":"IF(B1199<>\"\",VLOOKUP(B1199,'Liste inscrits'!$A:$AD,4,FALSE),\"\")","v":""},"ARA",1,{"$f":"IF(B1199<>\"\",VLOOKUP(B1199,'Liste inscrits'!$A:$AD,5,FALSE),\"\")","v":""},{"$f":"IF(B1199<>\"\",VLOOKUP(B1199,'Liste inscrits'!$A:$AD,6,FALSE),\"\")","v":""}]
[{"$f":"IF(B1199<>\"\",VLOOKUP(B1199,'Liste inscrits'!$A:$AD,8,FALSE),\"\")","v":""},{"$f":"IF(B1199<>\"\",VLOOKUP(B1199,'Liste inscrits'!$A:$AD,7,FALSE),\"\")","v":""},null,{"$f":"IF(B1199<>\"\",VLOOKUP(B1199,'Liste inscrits'!$A:$AD,10,FALSE),\"\")","v":""},"ARA",1,{"$f":"IF(B1199<>\"\",VLOOKUP(B1199,'Liste inscrits'!$A:$AD,11,FALSE),\"\")","v":""},{"$f":"IF(B1199<>\"\",VLOOKUP(B1199,'Liste inscrits'!$A:$AD,12,FALSE),\"\")","v":""}]
[{"$f":"IF(B1199<>\"\",VLOOKUP(B1199,'Liste inscrits'!$A:$AD,14,FALSE),\"\")","v":""},{"$f":"IF(B1199<>\"\",VLOOKUP(B1199,'Liste inscrits'!$A:$AD,13,FALSE),\"\")","v":""},null,{"$f":"IF(B1199<>\"\",VLOOKUP(B1199,'Liste inscrits'!$A:$AD,16,FALSE),\"\")","v":""},"ARA",1,{"$f":"IF(B1199<>\"\",VLOOKUP(B1199,'Liste inscrits'!$A:$AD,17,FALSE),\"\")","v":""},{"$f":"IF(B1199<>\"\",VLOOKUP(B1199,'Liste inscrits'!$A:$AD,18,FALSE),\"\")","v":""}]
[]
["Nb parties gagnées\ndans les poules",{"$f":"IF(ISERROR(VLOOKUP(B1199&G1199&H1199,'Liste inscrits'!AH:AJ,1,FALSE)),\"\",VLOOKUP(B1199&G1199&H1199,'Liste inscrits'!AH:AJ,3,FALSE))","v":""},"Classement \ndans la poule ",{"$f":"IF(ISERROR(VLOOKUP(B1199&G1199&H1199,'Liste inscrits'!AH:AU,1,FALSE)),\"\",VLOOKUP(B1199&G1199&H1199,'Liste inscrits'!AH:AU,14,FALSE)&\"  /  \"&VLOOKUP(B1199&G1199&H1199,'Liste inscrits'!AH:AU,13,FALSE))","v":"  /  "},"Nb de parties gagnées \naprès les poules ",null,null,{"$f":"IF(ISERROR(VLOOKUP(B1199&G1199&H1199,'Liste inscrits'!AH:AS,1,FALSE)),\"\",VLOOKUP(B1199&G1199&H1199,'Liste inscrits'!AH:AS,11,FALSE))","v":""}]
[]
["N° de LICENCE","NOM                     PRENOM\nen lettres capitales",null,"DIV","CR","CBD","N° \nSEC","N° \nASB","Qual. \nChpt AIN"]
[{"$f":"IF(B1206<>\"\",VLOOKUP(B1206,'Liste inscrits'!$A:$AD,2,FALSE),\"\")","v":""},{"$f":"IF(OFFSET('Liste inscrits'!$A$1,INT(ROW()/35)*4+(ROW()-INT(ROW()/35)*35)/7,0)<>\"\",OFFSET('Liste inscrits'!$A$1,INT(ROW()/35)*4+(ROW()-INT(ROW()/35)*35)/7,0),\"\")","v":""},null,{"$f":"IF(B1206<>\"\",VLOOKUP(B1206,'Liste inscrits'!$A:$AD,4,FALSE),\"\")","v":""},"ARA",1,{"$f":"IF(B1206<>\"\",VLOOKUP(B1206,'Liste inscrits'!$A:$AD,5,FALSE),\"\")","v":""},{"$f":"IF(B1206<>\"\",VLOOKUP(B1206,'Liste inscrits'!$A:$AD,6,FALSE),\"\")","v":""}]
[{"$f":"IF(B1206<>\"\",VLOOKUP(B1206,'Liste inscrits'!$A:$AD,8,FALSE),\"\")","v":""},{"$f":"IF(B1206<>\"\",VLOOKUP(B1206,'Liste inscrits'!$A:$AD,7,FALSE),\"\")","v":""},null,{"$f":"IF(B1206<>\"\",VLOOKUP(B1206,'Liste inscrits'!$A:$AD,10,FALSE),\"\")","v":""},"ARA",1,{"$f":"IF(B1206<>\"\",VLOOKUP(B1206,'Liste inscrits'!$A:$AD,11,FALSE),\"\")","v":""},{"$f":"IF(B1206<>\"\",VLOOKUP(B1206,'Liste inscrits'!$A:$AD,12,FALSE),\"\")","v":""}]
[{"$f":"IF(B1206<>\"\",VLOOKUP(B1206,'Liste inscrits'!$A:$AD,14,FALSE),\"\")","v":""},{"$f":"IF(B1206<>\"\",VLOOKUP(B1206,'Liste inscrits'!$A:$AD,13,FALSE),\"\")","v":""},null,{"$f":"IF(B1206<>\"\",VLOOKUP(B1206,'Liste inscrits'!$A:$AD,16,FALSE),\"\")","v":""},"ARA",1,{"$f":"IF(B1206<>\"\",VLOOKUP(B1206,'Liste inscrits'!$A:$AD,17,FALSE),\"\")","v":""},{"$f":"IF(B1206<>\"\",VLOOKUP(B1206,'Liste inscrits'!$A:$AD,18,FALSE),\"\")","v":""}]
[]
["Nb parties gagnées\ndans les poules",{"$f":"IF(ISERROR(VLOOKUP(B1206&G1206&H1206,'Liste inscrits'!AH:AJ,1,FALSE)),\"\",VLOOKUP(B1206&G1206&H1206,'Liste inscrits'!AH:AJ,3,FALSE))","v":""},"Classement \ndans la poule ",{"$f":"IF(ISERROR(VLOOKUP(B1206&G1206&H1206,'Liste inscrits'!AH:AU,1,FALSE)),\"\",VLOOKUP(B1206&G1206&H1206,'Liste inscrits'!AH:AU,14,FALSE)&\"  /  \"&VLOOKUP(B1206&G1206&H1206,'Liste inscrits'!AH:AU,13,FALSE))","v":"  /  "},"Nb de parties gagnées \naprès les poules ",null,null,{"$f":"IF(ISERROR(VLOOKUP(B1206&G1206&H1206,'Liste inscrits'!AH:AS,1,FALSE)),\"\",VLOOKUP(B1206&G1206&H1206,'Liste inscrits'!AH:AS,11,FALSE))","v":""}]
[]
["N° de LICENCE","NOM                     PRENOM\nen lettres capitales",null,"DIV","CR","CBD","N° \nSEC","N° \nASB","Qual. \nChpt AIN"]
[{"$f":"IF(B1213<>\"\",VLOOKUP(B1213,'Liste inscrits'!$A:$AD,2,FALSE),\"\")","v":""},{"$f":"IF(OFFSET('Liste inscrits'!$A$1,INT(ROW()/35)*4+(ROW()-INT(ROW()/35)*35)/7,0)<>\"\",OFFSET('Liste inscrits'!$A$1,INT(ROW()/35)*4+(ROW()-INT(ROW()/35)*35)/7,0),\"\")","v":""},null,{"$f":"IF(B1213<>\"\",VLOOKUP(B1213,'Liste inscrits'!$A:$AD,4,FALSE),\"\")","v":""},"ARA",1,{"$f":"IF(B1213<>\"\",VLOOKUP(B1213,'Liste inscrits'!$A:$AD,5,FALSE),\"\")","v":""},{"$f":"IF(B1213<>\"\",VLOOKUP(B1213,'Liste inscrits'!$A:$AD,6,FALSE),\"\")","v":""}]
[{"$f":"IF(B1213<>\"\",VLOOKUP(B1213,'Liste inscrits'!$A:$AD,8,FALSE),\"\")","v":""},{"$f":"IF(B1213<>\"\",VLOOKUP(B1213,'Liste inscrits'!$A:$AD,7,FALSE),\"\")","v":""},null,{"$f":"IF(B1213<>\"\",VLOOKUP(B1213,'Liste inscrits'!$A:$AD,10,FALSE),\"\")","v":""},"ARA",1,{"$f":"IF(B1213<>\"\",VLOOKUP(B1213,'Liste inscrits'!$A:$AD,11,FALSE),\"\")","v":""},{"$f":"IF(B1213<>\"\",VLOOKUP(B1213,'Liste inscrits'!$A:$AD,12,FALSE),\"\")","v":""}]
[{"$f":"IF(B1213<>\"\",VLOOKUP(B1213,'Liste inscrits'!$A:$AD,14,FALSE),\"\")","v":""},{"$f":"IF(B1213<>\"\",VLOOKUP(B1213,'Liste inscrits'!$A:$AD,13,FALSE),\"\")","v":""},null,{"$f":"IF(B1213<>\"\",VLOOKUP(B1213,'Liste inscrits'!$A:$AD,16,FALSE),\"\")","v":""},"ARA",1,{"$f":"IF(B1213<>\"\",VLOOKUP(B1213,'Liste inscrits'!$A:$AD,17,FALSE),\"\")","v":""},{"$f":"IF(B1213<>\"\",VLOOKUP(B1213,'Liste inscrits'!$A:$AD,18,FALSE),\"\")","v":""}]
[]
["Nb parties gagnées\ndans les poules",{"$f":"IF(ISERROR(VLOOKUP(B1213&G1213&H1213,'Liste inscrits'!AH:AJ,1,FALSE)),\"\",VLOOKUP(B1213&G1213&H1213,'Liste inscrits'!AH:AJ,3,FALSE))","v":""},"Classement \ndans la poule ",{"$f":"IF(ISERROR(VLOOKUP(B1213&G1213&H1213,'Liste inscrits'!AH:AU,1,FALSE)),\"\",VLOOKUP(B1213&G1213&H1213,'Liste inscrits'!AH:AU,14,FALSE)&\"  /  \"&VLOOKUP(B1213&G1213&H1213,'Liste inscrits'!AH:AU,13,FALSE))","v":"  /  "},"Nb de parties gagnées \naprès les poules ",null,null,{"$f":"IF(ISERROR(VLOOKUP(B1213&G1213&H1213,'Liste inscrits'!AH:AS,1,FALSE)),\"\",VLOOKUP(B1213&G1213&H1213,'Liste inscrits'!AH:AS,11,FALSE))","v":""}]
[]
["N° de LICENCE","NOM                     PRENOM\nen lettres capitales",null,"DIV","CR","CBD","N° \nSEC","N° \nASB","Qual. \nChpt AIN"]
[{"$f":"IF(B1220<>\"\",VLOOKUP(B1220,'Liste inscrits'!$A:$AD,2,FALSE),\"\")","v":""},{"$f":"IF(OFFSET('Liste inscrits'!$A$1,INT(ROW()/35)*4+(ROW()-INT(ROW()/35)*35)/7,0)<>\"\",OFFSET('Liste inscrits'!$A$1,INT(ROW()/35)*4+(ROW()-INT(ROW()/35)*35)/7,0),\"\")","v":""},null,{"$f":"IF(B1220<>\"\",VLOOKUP(B1220,'Liste inscrits'!$A:$AD,4,FALSE),\"\")","v":""},"ARA",1,{"$f":"IF(B1220<>\"\",VLOOKUP(B1220,'Liste inscrits'!$A:$AD,5,FALSE),\"\")","v":""},{"$f":"IF(B1220<>\"\",VLOOKUP(B1220,'Liste inscrits'!$A:$AD,6,FALSE),\"\")","v":""}]
[{"$f":"IF(B1220<>\"\",VLOOKUP(B1220,'Liste inscrits'!$A:$AD,8,FALSE),\"\")","v":""},{"$f":"IF(B1220<>\"\",VLOOKUP(B1220,'Liste inscrits'!$A:$AD,7,FALSE),\"\")","v":""},null,{"$f":"IF(B1220<>\"\",VLOOKUP(B1220,'Liste inscrits'!$A:$AD,10,FALSE),\"\")","v":""},"ARA",1,{"$f":"IF(B1220<>\"\",VLOOKUP(B1220,'Liste inscrits'!$A:$AD,11,FALSE),\"\")","v":""},{"$f":"IF(B1220<>\"\",VLOOKUP(B1220,'Liste inscrits'!$A:$AD,12,FALSE),\"\")","v":""}]
[{"$f":"IF(B1220<>\"\",VLOOKUP(B1220,'Liste inscrits'!$A:$AD,14,FALSE),\"\")","v":""},{"$f":"IF(B1220<>\"\",VLOOKUP(B1220,'Liste inscrits'!$A:$AD,13,FALSE),\"\")","v":""},null,{"$f":"IF(B1220<>\"\",VLOOKUP(B1220,'Liste inscrits'!$A:$AD,16,FALSE),\"\")","v":""},"ARA",1,{"$f":"IF(B1220<>\"\",VLOOKUP(B1220,'Liste inscrits'!$A:$AD,17,FALSE),\"\")","v":""},{"$f":"IF(B1220<>\"\",VLOOKUP(B1220,'Liste inscrits'!$A:$AD,18,FALSE),\"\")","v":""}]
[]
["Nb parties gagnées\ndans les poules",{"$f":"IF(ISERROR(VLOOKUP(B1220&G1220&H1220,'Liste inscrits'!AH:AJ,1,FALSE)),\"\",VLOOKUP(B1220&G1220&H1220,'Liste inscrits'!AH:AJ,3,FALSE))","v":""},"Classement \ndans la poule ",{"$f":"IF(ISERROR(VLOOKUP(B1220&G1220&H1220,'Liste inscrits'!AH:AU,1,FALSE)),\"\",VLOOKUP(B1220&G1220&H1220,'Liste inscrits'!AH:AU,14,FALSE)&\"  /  \"&VLOOKUP(B1220&G1220&H1220,'Liste inscrits'!AH:AU,13,FALSE))","v":"  /  "},"Nb de parties gagnées \naprès les poules ",null,null,{"$f":"IF(ISERROR(VLOOKUP(B1220&G1220&H1220,'Liste inscrits'!AH:AS,1,FALSE)),\"\",VLOOKUP(B1220&G1220&H1220,'Liste inscrits'!AH:AS,11,FALSE))","v":""}]
[]
[]
["C.B.D. AIN",null,{"$f":"$C$2","v":0},null,null,null,null,{"$f":"$H$2","v":0}]
[]
["SECTEUR :",{"$f":"$B$4","v":{"$error":"#VALUE!"}},null,"Lieu de la compétition :",{"$f":"$E$4","v":0}]
[]
["Date : ",{"$f":"$B$6","v":0},null,null,"Nombre total d'équipes participantes ",null,null,null,{"$f":"$I$6","v":0}]
[]
["N° de LICENCE","NOM                     PRENOM\nen lettres capitales",null,"DIV","CR","CBD","N° \nSEC","N° \nASB","Qual. \nChpt AIN"]
[{"$f":"IF(B1234<>\"\",VLOOKUP(B1234,'Liste inscrits'!$A:$AD,2,FALSE),\"\")","v":""},{"$f":"IF(OFFSET('Liste inscrits'!$A$1,INT(ROW()/35)*4+(ROW()-INT(ROW()/35)*35)/7,0)<>\"\",OFFSET('Liste inscrits'!$A$1,INT(ROW()/35)*4+(ROW()-INT(ROW()/35)*35)/7,0),\"\")","v":""},null,{"$f":"IF(B1234<>\"\",VLOOKUP(B1234,'Liste inscrits'!$A:$AD,4,FALSE),\"\")","v":""},"ARA",1,{"$f":"IF(B1234<>\"\",VLOOKUP(B1234,'Liste inscrits'!$A:$AD,5,FALSE),\"\")","v":""},{"$f":"IF(B1234<>\"\",VLOOKUP(B1234,'Liste inscrits'!$A:$AD,6,FALSE),\"\")","v":""}]
[{"$f":"IF(B1234<>\"\",VLOOKUP(B1234,'Liste inscrits'!$A:$AD,8,FALSE),\"\")","v":""},{"$f":"IF(B1234<>\"\",VLOOKUP(B1234,'Liste inscrits'!$A:$AD,7,FALSE),\"\")","v":""},null,{"$f":"IF(B1234<>\"\",VLOOKUP(B1234,'Liste inscrits'!$A:$AD,10,FALSE),\"\")","v":""},"ARA",1,{"$f":"IF(B1234<>\"\",VLOOKUP(B1234,'Liste inscrits'!$A:$AD,11,FALSE),\"\")","v":""},{"$f":"IF(B1234<>\"\",VLOOKUP(B1234,'Liste inscrits'!$A:$AD,12,FALSE),\"\")","v":""}]
[{"$f":"IF(B1234<>\"\",VLOOKUP(B1234,'Liste inscrits'!$A:$AD,14,FALSE),\"\")","v":""},{"$f":"IF(B1234<>\"\",VLOOKUP(B1234,'Liste inscrits'!$A:$AD,13,FALSE),\"\")","v":""},null,{"$f":"IF(B1234<>\"\",VLOOKUP(B1234,'Liste inscrits'!$A:$AD,16,FALSE),\"\")","v":""},"ARA",1,{"$f":"IF(B1234<>\"\",VLOOKUP(B1234,'Liste inscrits'!$A:$AD,17,FALSE),\"\")","v":""},{"$f":"IF(B1234<>\"\",VLOOKUP(B1234,'Liste inscrits'!$A:$AD,18,FALSE),\"\")","v":""}]
[]
["Nb parties gagnées\ndans les poules",{"$f":"IF(ISERROR(VLOOKUP(B1234&G1234&H1234,'Liste inscrits'!AH:AJ,1,FALSE)),\"\",VLOOKUP(B1234&G1234&H1234,'Liste inscrits'!AH:AJ,3,FALSE))","v":""},"Classement \ndans la poule ",{"$f":"IF(ISERROR(VLOOKUP(B1234&G1234&H1234,'Liste inscrits'!AH:AU,1,FALSE)),\"\",VLOOKUP(B1234&G1234&H1234,'Liste inscrits'!AH:AU,14,FALSE)&\"  /  \"&VLOOKUP(B1234&G1234&H1234,'Liste inscrits'!AH:AU,13,FALSE))","v":"  /  "},"Nb de parties gagnées \naprès les poules ",null,null,{"$f":"IF(ISERROR(VLOOKUP(B1234&G1234&H1234,'Liste inscrits'!AH:AS,1,FALSE)),\"\",VLOOKUP(B1234&G1234&H1234,'Liste inscrits'!AH:AS,11,FALSE))","v":""}]
[]
["N° de LICENCE","NOM                     PRENOM\nen lettres capitales",null,"DIV","CR","CBD","N° \nSEC","N° \nASB","Qual. \nChpt AIN"]
[{"$f":"IF(B1241<>\"\",VLOOKUP(B1241,'Liste inscrits'!$A:$AD,2,FALSE),\"\")","v":""},{"$f":"IF(OFFSET('Liste inscrits'!$A$1,INT(ROW()/35)*4+(ROW()-INT(ROW()/35)*35)/7,0)<>\"\",OFFSET('Liste inscrits'!$A$1,INT(ROW()/35)*4+(ROW()-INT(ROW()/35)*35)/7,0),\"\")","v":""},null,{"$f":"IF(B1241<>\"\",VLOOKUP(B1241,'Liste inscrits'!$A:$AD,4,FALSE),\"\")","v":""},"ARA",1,{"$f":"IF(B1241<>\"\",VLOOKUP(B1241,'Liste inscrits'!$A:$AD,5,FALSE),\"\")","v":""},{"$f":"IF(B1241<>\"\",VLOOKUP(B1241,'Liste inscrits'!$A:$AD,6,FALSE),\"\")","v":""}]
[{"$f":"IF(B1241<>\"\",VLOOKUP(B1241,'Liste inscrits'!$A:$AD,8,FALSE),\"\")","v":""},{"$f":"IF(B1241<>\"\",VLOOKUP(B1241,'Liste inscrits'!$A:$AD,7,FALSE),\"\")","v":""},null,{"$f":"IF(B1241<>\"\",VLOOKUP(B1241,'Liste inscrits'!$A:$AD,10,FALSE),\"\")","v":""},"ARA",1,{"$f":"IF(B1241<>\"\",VLOOKUP(B1241,'Liste inscrits'!$A:$AD,11,FALSE),\"\")","v":""},{"$f":"IF(B1241<>\"\",VLOOKUP(B1241,'Liste inscrits'!$A:$AD,12,FALSE),\"\")","v":""}]
[{"$f":"IF(B1241<>\"\",VLOOKUP(B1241,'Liste inscrits'!$A:$AD,14,FALSE),\"\")","v":""},{"$f":"IF(B1241<>\"\",VLOOKUP(B1241,'Liste inscrits'!$A:$AD,13,FALSE),\"\")","v":""},null,{"$f":"IF(B1241<>\"\",VLOOKUP(B1241,'Liste inscrits'!$A:$AD,16,FALSE),\"\")","v":""},"ARA",1,{"$f":"IF(B1241<>\"\",VLOOKUP(B1241,'Liste inscrits'!$A:$AD,17,FALSE),\"\")","v":""},{"$f":"IF(B1241<>\"\",VLOOKUP(B1241,'Liste inscrits'!$A:$AD,18,FALSE),\"\")","v":""}]
[]
["Nb parties gagnées\ndans les poules",{"$f":"IF(ISERROR(VLOOKUP(B1241&G1241&H1241,'Liste inscrits'!AH:AJ,1,FALSE)),\"\",VLOOKUP(B1241&G1241&H1241,'Liste inscrits'!AH:AJ,3,FALSE))","v":""},"Classement \ndans la poule ",{"$f":"IF(ISERROR(VLOOKUP(B1241&G1241&H1241,'Liste inscrits'!AH:AU,1,FALSE)),\"\",VLOOKUP(B1241&G1241&H1241,'Liste inscrits'!AH:AU,14,FALSE)&\"  /  \"&VLOOKUP(B1241&G1241&H1241,'Liste inscrits'!AH:AU,13,FALSE))","v":"  /  "},"Nb de parties gagnées \naprès les poules ",null,null,{"$f":"IF(ISERROR(VLOOKUP(B1241&G1241&H1241,'Liste inscrits'!AH:AS,1,FALSE)),\"\",VLOOKUP(B1241&G1241&H1241,'Liste inscrits'!AH:AS,11,FALSE))","v":""}]
[]
["N° de LICENCE","NOM                     PRENOM\nen lettres capitales",null,"DIV","CR","CBD","N° \nSEC","N° \nASB","Qual. \nChpt AIN"]
[{"$f":"IF(B1248<>\"\",VLOOKUP(B1248,'Liste inscrits'!$A:$AD,2,FALSE),\"\")","v":""},{"$f":"IF(OFFSET('Liste inscrits'!$A$1,INT(ROW()/35)*4+(ROW()-INT(ROW()/35)*35)/7,0)<>\"\",OFFSET('Liste inscrits'!$A$1,INT(ROW()/35)*4+(ROW()-INT(ROW()/35)*35)/7,0),\"\")","v":""},null,{"$f":"IF(B1248<>\"\",VLOOKUP(B1248,'Liste inscrits'!$A:$AD,4,FALSE),\"\")","v":""},"ARA",1,{"$f":"IF(B1248<>\"\",VLOOKUP(B1248,'Liste inscrits'!$A:$AD,5,FALSE),\"\")","v":""},{"$f":"IF(B1248<>\"\",VLOOKUP(B1248,'Liste inscrits'!$A:$AD,6,FALSE),\"\")","v":""}]
[{"$f":"IF(B1248<>\"\",VLOOKUP(B1248,'Liste inscrits'!$A:$AD,8,FALSE),\"\")","v":""},{"$f":"IF(B1248<>\"\",VLOOKUP(B1248,'Liste inscrits'!$A:$AD,7,FALSE),\"\")","v":""},null,{"$f":"IF(B1248<>\"\",VLOOKUP(B1248,'Liste inscrits'!$A:$AD,10,FALSE),\"\")","v":""},"ARA",1,{"$f":"IF(B1248<>\"\",VLOOKUP(B1248,'Liste inscrits'!$A:$AD,11,FALSE),\"\")","v":""},{"$f":"IF(B1248<>\"\",VLOOKUP(B1248,'Liste inscrits'!$A:$AD,12,FALSE),\"\")","v":""}]
[{"$f":"IF(B1248<>\"\",VLOOKUP(B1248,'Liste inscrits'!$A:$AD,14,FALSE),\"\")","v":""},{"$f":"IF(B1248<>\"\",VLOOKUP(B1248,'Liste inscrits'!$A:$AD,13,FALSE),\"\")","v":""},null,{"$f":"IF(B1248<>\"\",VLOOKUP(B1248,'Liste inscrits'!$A:$AD,16,FALSE),\"\")","v":""},"ARA",1,{"$f":"IF(B1248<>\"\",VLOOKUP(B1248,'Liste inscrits'!$A:$AD,17,FALSE),\"\")","v":""},{"$f":"IF(B1248<>\"\",VLOOKUP(B1248,'Liste inscrits'!$A:$AD,18,FALSE),\"\")","v":""}]
[]
["Nb parties gagnées\ndans les poules",{"$f":"IF(ISERROR(VLOOKUP(B1248&G1248&H1248,'Liste inscrits'!AH:AJ,1,FALSE)),\"\",VLOOKUP(B1248&G1248&H1248,'Liste inscrits'!AH:AJ,3,FALSE))","v":""},"Classement \ndans la poule ",{"$f":"IF(ISERROR(VLOOKUP(B1248&G1248&H1248,'Liste inscrits'!AH:AU,1,FALSE)),\"\",VLOOKUP(B1248&G1248&H1248,'Liste inscrits'!AH:AU,14,FALSE)&\"  /  \"&VLOOKUP(B1248&G1248&H1248,'Liste inscrits'!AH:AU,13,FALSE))","v":"  /  "},"Nb de parties gagnées \naprès les poules ",null,null,{"$f":"IF(ISERROR(VLOOKUP(B1248&G1248&H1248,'Liste inscrits'!AH:AS,1,FALSE)),\"\",VLOOKUP(B1248&G1248&H1248,'Liste inscrits'!AH:AS,11,FALSE))","v":""}]
[]
["N° de LICENCE","NOM                     PRENOM\nen lettres capitales",null,"DIV","CR","CBD","N° \nSEC","N° \nASB","Qual. \nChpt AIN"]
[{"$f":"IF(B1255<>\"\",VLOOKUP(B1255,'Liste inscrits'!$A:$AD,2,FALSE),\"\")","v":""},{"$f":"IF(OFFSET('Liste inscrits'!$A$1,INT(ROW()/35)*4+(ROW()-INT(ROW()/35)*35)/7,0)<>\"\",OFFSET('Liste inscrits'!$A$1,INT(ROW()/35)*4+(ROW()-INT(ROW()/35)*35)/7,0),\"\")","v":""},null,{"$f":"IF(B1255<>\"\",VLOOKUP(B1255,'Liste inscrits'!$A:$AD,4,FALSE),\"\")","v":""},"ARA",1,{"$f":"IF(B1255<>\"\",VLOOKUP(B1255,'Liste inscrits'!$A:$AD,5,FALSE),\"\")","v":""},{"$f":"IF(B1255<>\"\",VLOOKUP(B1255,'Liste inscrits'!$A:$AD,6,FALSE),\"\")","v":""}]
[{"$f":"IF(B1255<>\"\",VLOOKUP(B1255,'Liste inscrits'!$A:$AD,8,FALSE),\"\")","v":""},{"$f":"IF(B1255<>\"\",VLOOKUP(B1255,'Liste inscrits'!$A:$AD,7,FALSE),\"\")","v":""},null,{"$f":"IF(B1255<>\"\",VLOOKUP(B1255,'Liste inscrits'!$A:$AD,10,FALSE),\"\")","v":""},"ARA",1,{"$f":"IF(B1255<>\"\",VLOOKUP(B1255,'Liste inscrits'!$A:$AD,11,FALSE),\"\")","v":""},{"$f":"IF(B1255<>\"\",VLOOKUP(B1255,'Liste inscrits'!$A:$AD,12,FALSE),\"\")","v":""}]
[{"$f":"IF(B1255<>\"\",VLOOKUP(B1255,'Liste inscrits'!$A:$AD,14,FALSE),\"\")","v":""},{"$f":"IF(B1255<>\"\",VLOOKUP(B1255,'Liste inscrits'!$A:$AD,13,FALSE),\"\")","v":""},null,{"$f":"IF(B1255<>\"\",VLOOKUP(B1255,'Liste inscrits'!$A:$AD,16,FALSE),\"\")","v":""},"ARA",1,{"$f":"IF(B1255<>\"\",VLOOKUP(B1255,'Liste inscrits'!$A:$AD,17,FALSE),\"\")","v":""},{"$f":"IF(B1255<>\"\",VLOOKUP(B1255,'Liste inscrits'!$A:$AD,18,FALSE),\"\")","v":""}]
[]
["Nb parties gagnées\ndans les poules",{"$f":"IF(ISERROR(VLOOKUP(B1255&G1255&H1255,'Liste inscrits'!AH:AJ,1,FALSE)),\"\",VLOOKUP(B1255&G1255&H1255,'Liste inscrits'!AH:AJ,3,FALSE))","v":""},"Classement \ndans la poule ",{"$f":"IF(ISERROR(VLOOKUP(B1255&G1255&H1255,'Liste inscrits'!AH:AU,1,FALSE)),\"\",VLOOKUP(B1255&G1255&H1255,'Liste inscrits'!AH:AU,14,FALSE)&\"  /  \"&VLOOKUP(B1255&G1255&H1255,'Liste inscrits'!AH:AU,13,FALSE))","v":"  /  "},"Nb de parties gagnées \naprès les poules ",null,null,{"$f":"IF(ISERROR(VLOOKUP(B1255&G1255&H1255,'Liste inscrits'!AH:AS,1,FALSE)),\"\",VLOOKUP(B1255&G1255&H1255,'Liste inscrits'!AH:AS,11,FALSE))","v":""}]
[]
[]
["C.B.D. AIN",null,{"$f":"$C$2","v":0},null,null,null,null,{"$f":"$H$2","v":0}]
[]
["SECTEUR :",{"$f":"$B$4","v":{"$error":"#VALUE!"}},null,"Lieu de la compétition :",{"$f":"$E$4","v":0}]
[]
["Date : ",{"$f":"$B$6","v":0},null,null,"Nombre total d'équipes participantes ",null,null,null,{"$f":"$I$6","v":0}]
[]
["N° de LICENCE","NOM                     PRENOM\nen lettres capitales",null,"DIV","CR","CBD","N° \nSEC","N° \nASB","Qual. \nChpt AIN"]
[{"$f":"IF(B1269<>\"\",VLOOKUP(B1269,'Liste inscrits'!$A:$AD,2,FALSE),\"\")","v":""},{"$f":"IF(OFFSET('Liste inscrits'!$A$1,INT(ROW()/35)*4+(ROW()-INT(ROW()/35)*35)/7,0)<>\"\",OFFSET('Liste inscrits'!$A$1,INT(ROW()/35)*4+(ROW()-INT(ROW()/35)*35)/7,0),\"\")","v":""},null,{"$f":"IF(B1269<>\"\",VLOOKUP(B1269,'Liste inscrits'!$A:$AD,4,FALSE),\"\")","v":""},"ARA",1,{"$f":"IF(B1269<>\"\",VLOOKUP(B1269,'Liste inscrits'!$A:$AD,5,FALSE),\"\")","v":""},{"$f":"IF(B1269<>\"\",VLOOKUP(B1269,'Liste inscrits'!$A:$AD,6,FALSE),\"\")","v":""}]
[{"$f":"IF(B1269<>\"\",VLOOKUP(B1269,'Liste inscrits'!$A:$AD,8,FALSE),\"\")","v":""},{"$f":"IF(B1269<>\"\",VLOOKUP(B1269,'Liste inscrits'!$A:$AD,7,FALSE),\"\")","v":""},null,{"$f":"IF(B1269<>\"\",VLOOKUP(B1269,'Liste inscrits'!$A:$AD,10,FALSE),\"\")","v":""},"ARA",1,{"$f":"IF(B1269<>\"\",VLOOKUP(B1269,'Liste inscrits'!$A:$AD,11,FALSE),\"\")","v":""},{"$f":"IF(B1269<>\"\",VLOOKUP(B1269,'Liste inscrits'!$A:$AD,12,FALSE),\"\")","v":""}]
[{"$f":"IF(B1269<>\"\",VLOOKUP(B1269,'Liste inscrits'!$A:$AD,14,FALSE),\"\")","v":""},{"$f":"IF(B1269<>\"\",VLOOKUP(B1269,'Liste inscrits'!$A:$AD,13,FALSE),\"\")","v":""},null,{"$f":"IF(B1269<>\"\",VLOOKUP(B1269,'Liste inscrits'!$A:$AD,16,FALSE),\"\")","v":""},"ARA",1,{"$f":"IF(B1269<>\"\",VLOOKUP(B1269,'Liste inscrits'!$A:$AD,17,FALSE),\"\")","v":""},{"$f":"IF(B1269<>\"\",VLOOKUP(B1269,'Liste inscrits'!$A:$AD,18,FALSE),\"\")","v":""}]
[]
["Nb parties gagnées\ndans les poules",{"$f":"IF(ISERROR(VLOOKUP(B1269&G1269&H1269,'Liste inscrits'!AH:AJ,1,FALSE)),\"\",VLOOKUP(B1269&G1269&H1269,'Liste inscrits'!AH:AJ,3,FALSE))","v":""},"Classement \ndans la poule ",{"$f":"IF(ISERROR(VLOOKUP(B1269&G1269&H1269,'Liste inscrits'!AH:AU,1,FALSE)),\"\",VLOOKUP(B1269&G1269&H1269,'Liste inscrits'!AH:AU,14,FALSE)&\"  /  \"&VLOOKUP(B1269&G1269&H1269,'Liste inscrits'!AH:AU,13,FALSE))","v":"  /  "},"Nb de parties gagnées \naprès les poules ",null,null,{"$f":"IF(ISERROR(VLOOKUP(B1269&G1269&H1269,'Liste inscrits'!AH:AS,1,FALSE)),\"\",VLOOKUP(B1269&G1269&H1269,'Liste inscrits'!AH:AS,11,FALSE))","v":""}]
[]
["N° de LICENCE","NOM                     PRENOM\nen lettres capitales",null,"DIV","CR","CBD","N° \nSEC","N° \nASB","Qual. \nChpt AIN"]
[{"$f":"IF(B1276<>\"\",VLOOKUP(B1276,'Liste inscrits'!$A:$AD,2,FALSE),\"\")","v":""},{"$f":"IF(OFFSET('Liste inscrits'!$A$1,INT(ROW()/35)*4+(ROW()-INT(ROW()/35)*35)/7,0)<>\"\",OFFSET('Liste inscrits'!$A$1,INT(ROW()/35)*4+(ROW()-INT(ROW()/35)*35)/7,0),\"\")","v":""},null,{"$f":"IF(B1276<>\"\",VLOOKUP(B1276,'Liste inscrits'!$A:$AD,4,FALSE),\"\")","v":""},"ARA",1,{"$f":"IF(B1276<>\"\",VLOOKUP(B1276,'Liste inscrits'!$A:$AD,5,FALSE),\"\")","v":""},{"$f":"IF(B1276<>\"\",VLOOKUP(B1276,'Liste inscrits'!$A:$AD,6,FALSE),\"\")","v":""}]
[{"$f":"IF(B1276<>\"\",VLOOKUP(B1276,'Liste inscrits'!$A:$AD,8,FALSE),\"\")","v":""},{"$f":"IF(B1276<>\"\",VLOOKUP(B1276,'Liste inscrits'!$A:$AD,7,FALSE),\"\")","v":""},null,{"$f":"IF(B1276<>\"\",VLOOKUP(B1276,'Liste inscrits'!$A:$AD,10,FALSE),\"\")","v":""},"ARA",1,{"$f":"IF(B1276<>\"\",VLOOKUP(B1276,'Liste inscrits'!$A:$AD,11,FALSE),\"\")","v":""},{"$f":"IF(B1276<>\"\",VLOOKUP(B1276,'Liste inscrits'!$A:$AD,12,FALSE),\"\")","v":""}]
[{"$f":"IF(B1276<>\"\",VLOOKUP(B1276,'Liste inscrits'!$A:$AD,14,FALSE),\"\")","v":""},{"$f":"IF(B1276<>\"\",VLOOKUP(B1276,'Liste inscrits'!$A:$AD,13,FALSE),\"\")","v":""},null,{"$f":"IF(B1276<>\"\",VLOOKUP(B1276,'Liste inscrits'!$A:$AD,16,FALSE),\"\")","v":""},"ARA",1,{"$f":"IF(B1276<>\"\",VLOOKUP(B1276,'Liste inscrits'!$A:$AD,17,FALSE),\"\")","v":""},{"$f":"IF(B1276<>\"\",VLOOKUP(B1276,'Liste inscrits'!$A:$AD,18,FALSE),\"\")","v":""}]
[]
["Nb parties gagnées\ndans les poules",{"$f":"IF(ISERROR(VLOOKUP(B1276&G1276&H1276,'Liste inscrits'!AH:AJ,1,FALSE)),\"\",VLOOKUP(B1276&G1276&H1276,'Liste inscrits'!AH:AJ,3,FALSE))","v":""},"Classement \ndans la poule ",{"$f":"IF(ISERROR(VLOOKUP(B1276&G1276&H1276,'Liste inscrits'!AH:AU,1,FALSE)),\"\",VLOOKUP(B1276&G1276&H1276,'Liste inscrits'!AH:AU,14,FALSE)&\"  /  \"&VLOOKUP(B1276&G1276&H1276,'Liste inscrits'!AH:AU,13,FALSE))","v":"  /  "},"Nb de parties gagnées \naprès les poules ",null,null,{"$f":"IF(ISERROR(VLOOKUP(B1276&G1276&H1276,'Liste inscrits'!AH:AS,1,FALSE)),\"\",VLOOKUP(B1276&G1276&H1276,'Liste inscrits'!AH:AS,11,FALSE))","v":""}]
[]
["N° de LICENCE","NOM                     PRENOM\nen lettres capitales",null,"DIV","CR","CBD","N° \nSEC","N° \nASB","Qual. \nChpt AIN"]
[{"$f":"IF(B1283<>\"\",VLOOKUP(B1283,'Liste inscrits'!$A:$AD,2,FALSE),\"\")","v":""},{"$f":"IF(OFFSET('Liste inscrits'!$A$1,INT(ROW()/35)*4+(ROW()-INT(ROW()/35)*35)/7,0)<>\"\",OFFSET('Liste inscrits'!$A$1,INT(ROW()/35)*4+(ROW()-INT(ROW()/35)*35)/7,0),\"\")","v":""},null,{"$f":"IF(B1283<>\"\",VLOOKUP(B1283,'Liste inscrits'!$A:$AD,4,FALSE),\"\")","v":""},"ARA",1,{"$f":"IF(B1283<>\"\",VLOOKUP(B1283,'Liste inscrits'!$A:$AD,5,FALSE),\"\")","v":""},{"$f":"IF(B1283<>\"\",VLOOKUP(B1283,'Liste inscrits'!$A:$AD,6,FALSE),\"\")","v":""}]
[{"$f":"IF(B1283<>\"\",VLOOKUP(B1283,'Liste inscrits'!$A:$AD,8,FALSE),\"\")","v":""},{"$f":"IF(B1283<>\"\",VLOOKUP(B1283,'Liste inscrits'!$A:$AD,7,FALSE),\"\")","v":""},null,{"$f":"IF(B1283<>\"\",VLOOKUP(B1283,'Liste inscrits'!$A:$AD,10,FALSE),\"\")","v":""},"ARA",1,{"$f":"IF(B1283<>\"\",VLOOKUP(B1283,'Liste inscrits'!$A:$AD,11,FALSE),\"\")","v":""},{"$f":"IF(B1283<>\"\",VLOOKUP(B1283,'Liste inscrits'!$A:$AD,12,FALSE),\"\")","v":""}]
[{"$f":"IF(B1283<>\"\",VLOOKUP(B1283,'Liste inscrits'!$A:$AD,14,FALSE),\"\")","v":""},{"$f":"IF(B1283<>\"\",VLOOKUP(B1283,'Liste inscrits'!$A:$AD,13,FALSE),\"\")","v":""},null,{"$f":"IF(B1283<>\"\",VLOOKUP(B1283,'Liste inscrits'!$A:$AD,16,FALSE),\"\")","v":""},"ARA",1,{"$f":"IF(B1283<>\"\",VLOOKUP(B1283,'Liste inscrits'!$A:$AD,17,FALSE),\"\")","v":""},{"$f":"IF(B1283<>\"\",VLOOKUP(B1283,'Liste inscrits'!$A:$AD,18,FALSE),\"\")","v":""}]
[]
["Nb parties gagnées\ndans les poules",{"$f":"IF(ISERROR(VLOOKUP(B1283&G1283&H1283,'Liste inscrits'!AH:AJ,1,FALSE)),\"\",VLOOKUP(B1283&G1283&H1283,'Liste inscrits'!AH:AJ,3,FALSE))","v":""},"Classement \ndans la poule ",{"$f":"IF(ISERROR(VLOOKUP(B1283&G1283&H1283,'Liste inscrits'!AH:AU,1,FALSE)),\"\",VLOOKUP(B1283&G1283&H1283,'Liste inscrits'!AH:AU,14,FALSE)&\"  /  \"&VLOOKUP(B1283&G1283&H1283,'Liste inscrits'!AH:AU,13,FALSE))","v":"  /  "},"Nb de parties gagnées \naprès les poules ",null,null,{"$f":"IF(ISERROR(VLOOKUP(B1283&G1283&H1283,'Liste inscrits'!AH:AS,1,FALSE)),\"\",VLOOKUP(B1283&G1283&H1283,'Liste inscrits'!AH:AS,11,FALSE))","v":""}]
[]
["N° de LICENCE","NOM                     PRENOM\nen lettres capitales",null,"DIV","CR","CBD","N° \nSEC","N° \nASB","Qual. \nChpt AIN"]
[{"$f":"IF(B1290<>\"\",VLOOKUP(B1290,'Liste inscrits'!$A:$AD,2,FALSE),\"\")","v":""},{"$f":"IF(OFFSET('Liste inscrits'!$A$1,INT(ROW()/35)*4+(ROW()-INT(ROW()/35)*35)/7,0)<>\"\",OFFSET('Liste inscrits'!$A$1,INT(ROW()/35)*4+(ROW()-INT(ROW()/35)*35)/7,0),\"\")","v":""},null,{"$f":"IF(B1290<>\"\",VLOOKUP(B1290,'Liste inscrits'!$A:$AD,4,FALSE),\"\")","v":""},"ARA",1,{"$f":"IF(B1290<>\"\",VLOOKUP(B1290,'Liste inscrits'!$A:$AD,5,FALSE),\"\")","v":""},{"$f":"IF(B1290<>\"\",VLOOKUP(B1290,'Liste inscrits'!$A:$AD,6,FALSE),\"\")","v":""}]
[{"$f":"IF(B1290<>\"\",VLOOKUP(B1290,'Liste inscrits'!$A:$AD,8,FALSE),\"\")","v":""},{"$f":"IF(B1290<>\"\",VLOOKUP(B1290,'Liste inscrits'!$A:$AD,7,FALSE),\"\")","v":""},null,{"$f":"IF(B1290<>\"\",VLOOKUP(B1290,'Liste inscrits'!$A:$AD,10,FALSE),\"\")","v":""},"ARA",1,{"$f":"IF(B1290<>\"\",VLOOKUP(B1290,'Liste inscrits'!$A:$AD,11,FALSE),\"\")","v":""},{"$f":"IF(B1290<>\"\",VLOOKUP(B1290,'Liste inscrits'!$A:$AD,12,FALSE),\"\")","v":""}]
[{"$f":"IF(B1290<>\"\",VLOOKUP(B1290,'Liste inscrits'!$A:$AD,14,FALSE),\"\")","v":""},{"$f":"IF(B1290<>\"\",VLOOKUP(B1290,'Liste inscrits'!$A:$AD,13,FALSE),\"\")","v":""},null,{"$f":"IF(B1290<>\"\",VLOOKUP(B1290,'Liste inscrits'!$A:$AD,16,FALSE),\"\")","v":""},"ARA",1,{"$f":"IF(B1290<>\"\",VLOOKUP(B1290,'Liste inscrits'!$A:$AD,17,FALSE),\"\")","v":""},{"$f":"IF(B1290<>\"\",VLOOKUP(B1290,'Liste inscrits'!$A:$AD,18,FALSE),\"\")","v":""}]
[]
["Nb parties gagnées\ndans les poules",{"$f":"IF(ISERROR(VLOOKUP(B1290&G1290&H1290,'Liste inscrits'!AH:AJ,1,FALSE)),\"\",VLOOKUP(B1290&G1290&H1290,'Liste inscrits'!AH:AJ,3,FALSE))","v":""},"Classement \ndans la poule ",{"$f":"IF(ISERROR(VLOOKUP(B1290&G1290&H1290,'Liste inscrits'!AH:AU,1,FALSE)),\"\",VLOOKUP(B1290&G1290&H1290,'Liste inscrits'!AH:AU,14,FALSE)&\"  /  \"&VLOOKUP(B1290&G1290&H1290,'Liste inscrits'!AH:AU,13,FALSE))","v":"  /  "},"Nb de parties gagnées \naprès les poules ",null,null,{"$f":"IF(ISERROR(VLOOKUP(B1290&G1290&H1290,'Liste inscrits'!AH:AS,1,FALSE)),\"\",VLOOKUP(B1290&G1290&H1290,'Liste inscrits'!AH:AS,11,FALSE))","v":""}]
[]
[]
["C.B.D. AIN",null,{"$f":"$C$2","v":0},null,null,null,null,{"$f":"$H$2","v":0}]
[]
["SECTEUR :",{"$f":"$B$4","v":{"$error":"#VALUE!"}},null,"Lieu de la compétition :",{"$f":"$E$4","v":0}]
[]
["Date : ",{"$f":"$B$6","v":0},null,null,"Nombre total d'équipes participantes ",null,null,null,{"$f":"$I$6","v":0}]
[]
["N° de LICENCE","NOM                     PRENOM\nen lettres capitales",null,"DIV","CR","CBD","N° \nSEC","N° \nASB","Qual. \nChpt AIN"]
[{"$f":"IF(B1304<>\"\",VLOOKUP(B1304,'Liste inscrits'!$A:$AD,2,FALSE),\"\")","v":""},{"$f":"IF(OFFSET('Liste inscrits'!$A$1,INT(ROW()/35)*4+(ROW()-INT(ROW()/35)*35)/7,0)<>\"\",OFFSET('Liste inscrits'!$A$1,INT(ROW()/35)*4+(ROW()-INT(ROW()/35)*35)/7,0),\"\")","v":""},null,{"$f":"IF(B1304<>\"\",VLOOKUP(B1304,'Liste inscrits'!$A:$AD,4,FALSE),\"\")","v":""},"ARA",1,{"$f":"IF(B1304<>\"\",VLOOKUP(B1304,'Liste inscrits'!$A:$AD,5,FALSE),\"\")","v":""},{"$f":"IF(B1304<>\"\",VLOOKUP(B1304,'Liste inscrits'!$A:$AD,6,FALSE),\"\")","v":""}]
[{"$f":"IF(B1304<>\"\",VLOOKUP(B1304,'Liste inscrits'!$A:$AD,8,FALSE),\"\")","v":""},{"$f":"IF(B1304<>\"\",VLOOKUP(B1304,'Liste inscrits'!$A:$AD,7,FALSE),\"\")","v":""},null,{"$f":"IF(B1304<>\"\",VLOOKUP(B1304,'Liste inscrits'!$A:$AD,10,FALSE),\"\")","v":""},"ARA",1,{"$f":"IF(B1304<>\"\",VLOOKUP(B1304,'Liste inscrits'!$A:$AD,11,FALSE),\"\")","v":""},{"$f":"IF(B1304<>\"\",VLOOKUP(B1304,'Liste inscrits'!$A:$AD,12,FALSE),\"\")","v":""}]
[{"$f":"IF(B1304<>\"\",VLOOKUP(B1304,'Liste inscrits'!$A:$AD,14,FALSE),\"\")","v":""},{"$f":"IF(B1304<>\"\",VLOOKUP(B1304,'Liste inscrits'!$A:$AD,13,FALSE),\"\")","v":""},null,{"$f":"IF(B1304<>\"\",VLOOKUP(B1304,'Liste inscrits'!$A:$AD,16,FALSE),\"\")","v":""},"ARA",1,{"$f":"IF(B1304<>\"\",VLOOKUP(B1304,'Liste inscrits'!$A:$AD,17,FALSE),\"\")","v":""},{"$f":"IF(B1304<>\"\",VLOOKUP(B1304,'Liste inscrits'!$A:$AD,18,FALSE),\"\")","v":""}]
[]
["Nb parties gagnées\ndans les poules",{"$f":"IF(ISERROR(VLOOKUP(B1304&G1304&H1304,'Liste inscrits'!AH:AJ,1,FALSE)),\"\",VLOOKUP(B1304&G1304&H1304,'Liste inscrits'!AH:AJ,3,FALSE))","v":""},"Classement \ndans la poule ",{"$f":"IF(ISERROR(VLOOKUP(B1304&G1304&H1304,'Liste inscrits'!AH:AU,1,FALSE)),\"\",VLOOKUP(B1304&G1304&H1304,'Liste inscrits'!AH:AU,14,FALSE)&\"  /  \"&VLOOKUP(B1304&G1304&H1304,'Liste inscrits'!AH:AU,13,FALSE))","v":"  /  "},"Nb de parties gagnées \naprès les poules ",null,null,{"$f":"IF(ISERROR(VLOOKUP(B1304&G1304&H1304,'Liste inscrits'!AH:AS,1,FALSE)),\"\",VLOOKUP(B1304&G1304&H1304,'Liste inscrits'!AH:AS,11,FALSE))","v":""}]
[]
["N° de LICENCE","NOM                     PRENOM\nen lettres capitales",null,"DIV","CR","CBD","N° \nSEC","N° \nASB","Qual. \nChpt AIN"]
[{"$f":"IF(B1311<>\"\",VLOOKUP(B1311,'Liste inscrits'!$A:$AD,2,FALSE),\"\")","v":""},{"$f":"IF(OFFSET('Liste inscrits'!$A$1,INT(ROW()/35)*4+(ROW()-INT(ROW()/35)*35)/7,0)<>\"\",OFFSET('Liste inscrits'!$A$1,INT(ROW()/35)*4+(ROW()-INT(ROW()/35)*35)/7,0),\"\")","v":""},null,{"$f":"IF(B1311<>\"\",VLOOKUP(B1311,'Liste inscrits'!$A:$AD,4,FALSE),\"\")","v":""},"ARA",1,{"$f":"IF(B1311<>\"\",VLOOKUP(B1311,'Liste inscrits'!$A:$AD,5,FALSE),\"\")","v":""},{"$f":"IF(B1311<>\"\",VLOOKUP(B1311,'Liste inscrits'!$A:$AD,6,FALSE),\"\")","v":""}]
[{"$f":"IF(B1311<>\"\",VLOOKUP(B1311,'Liste inscrits'!$A:$AD,8,FALSE),\"\")","v":""},{"$f":"IF(B1311<>\"\",VLOOKUP(B1311,'Liste inscrits'!$A:$AD,7,FALSE),\"\")","v":""},null,{"$f":"IF(B1311<>\"\",VLOOKUP(B1311,'Liste inscrits'!$A:$AD,10,FALSE),\"\")","v":""},"ARA",1,{"$f":"IF(B1311<>\"\",VLOOKUP(B1311,'Liste inscrits'!$A:$AD,11,FALSE),\"\")","v":""},{"$f":"IF(B1311<>\"\",VLOOKUP(B1311,'Liste inscrits'!$A:$AD,12,FALSE),\"\")","v":""}]
[{"$f":"IF(B1311<>\"\",VLOOKUP(B1311,'Liste inscrits'!$A:$AD,14,FALSE),\"\")","v":""},{"$f":"IF(B1311<>\"\",VLOOKUP(B1311,'Liste inscrits'!$A:$AD,13,FALSE),\"\")","v":""},null,{"$f":"IF(B1311<>\"\",VLOOKUP(B1311,'Liste inscrits'!$A:$AD,16,FALSE),\"\")","v":""},"ARA",1,{"$f":"IF(B1311<>\"\",VLOOKUP(B1311,'Liste inscrits'!$A:$AD,17,FALSE),\"\")","v":""},{"$f":"IF(B1311<>\"\",VLOOKUP(B1311,'Liste inscrits'!$A:$AD,18,FALSE),\"\")","v":""}]
[]
["Nb parties gagnées\ndans les poules",{"$f":"IF(ISERROR(VLOOKUP(B1311&G1311&H1311,'Liste inscrits'!AH:AJ,1,FALSE)),\"\",VLOOKUP(B1311&G1311&H1311,'Liste inscrits'!AH:AJ,3,FALSE))","v":""},"Classement \ndans la poule ",{"$f":"IF(ISERROR(VLOOKUP(B1311&G1311&H1311,'Liste inscrits'!AH:AU,1,FALSE)),\"\",VLOOKUP(B1311&G1311&H1311,'Liste inscrits'!AH:AU,14,FALSE)&\"  /  \"&VLOOKUP(B1311&G1311&H1311,'Liste inscrits'!AH:AU,13,FALSE))","v":"  /  "},"Nb de parties gagnées \naprès les poules ",null,null,{"$f":"IF(ISERROR(VLOOKUP(B1311&G1311&H1311,'Liste inscrits'!AH:AS,1,FALSE)),\"\",VLOOKUP(B1311&G1311&H1311,'Liste inscrits'!AH:AS,11,FALSE))","v":""}]
[]
["N° de LICENCE","NOM                     PRENOM\nen lettres capitales",null,"DIV","CR","CBD","N° \nSEC","N° \nASB","Qual. \nChpt AIN"]
[{"$f":"IF(B1318<>\"\",VLOOKUP(B1318,'Liste inscrits'!$A:$AD,2,FALSE),\"\")","v":""},{"$f":"IF(OFFSET('Liste inscrits'!$A$1,INT(ROW()/35)*4+(ROW()-INT(ROW()/35)*35)/7,0)<>\"\",OFFSET('Liste inscrits'!$A$1,INT(ROW()/35)*4+(ROW()-INT(ROW()/35)*35)/7,0),\"\")","v":""},null,{"$f":"IF(B1318<>\"\",VLOOKUP(B1318,'Liste inscrits'!$A:$AD,4,FALSE),\"\")","v":""},"ARA",1,{"$f":"IF(B1318<>\"\",VLOOKUP(B1318,'Liste inscrits'!$A:$AD,5,FALSE),\"\")","v":""},{"$f":"IF(B1318<>\"\",VLOOKUP(B1318,'Liste inscrits'!$A:$AD,6,FALSE),\"\")","v":""}]
[{"$f":"IF(B1318<>\"\",VLOOKUP(B1318,'Liste inscrits'!$A:$AD,8,FALSE),\"\")","v":""},{"$f":"IF(B1318<>\"\",VLOOKUP(B1318,'Liste inscrits'!$A:$AD,7,FALSE),\"\")","v":""},null,{"$f":"IF(B1318<>\"\",VLOOKUP(B1318,'Liste inscrits'!$A:$AD,10,FALSE),\"\")","v":""},"ARA",1,{"$f":"IF(B1318<>\"\",VLOOKUP(B1318,'Liste inscrits'!$A:$AD,11,FALSE),\"\")","v":""},{"$f":"IF(B1318<>\"\",VLOOKUP(B1318,'Liste inscrits'!$A:$AD,12,FALSE),\"\")","v":""}]
[{"$f":"IF(B1318<>\"\",VLOOKUP(B1318,'Liste inscrits'!$A:$AD,14,FALSE),\"\")","v":""},{"$f":"IF(B1318<>\"\",VLOOKUP(B1318,'Liste inscrits'!$A:$AD,13,FALSE),\"\")","v":""},null,{"$f":"IF(B1318<>\"\",VLOOKUP(B1318,'Liste inscrits'!$A:$AD,16,FALSE),\"\")","v":""},"ARA",1,{"$f":"IF(B1318<>\"\",VLOOKUP(B1318,'Liste inscrits'!$A:$AD,17,FALSE),\"\")","v":""},{"$f":"IF(B1318<>\"\",VLOOKUP(B1318,'Liste inscrits'!$A:$AD,18,FALSE),\"\")","v":""}]
[]
["Nb parties gagnées\ndans les poules",{"$f":"IF(ISERROR(VLOOKUP(B1318&G1318&H1318,'Liste inscrits'!AH:AJ,1,FALSE)),\"\",VLOOKUP(B1318&G1318&H1318,'Liste inscrits'!AH:AJ,3,FALSE))","v":""},"Classement \ndans la poule ",{"$f":"IF(ISERROR(VLOOKUP(B1318&G1318&H1318,'Liste inscrits'!AH:AU,1,FALSE)),\"\",VLOOKUP(B1318&G1318&H1318,'Liste inscrits'!AH:AU,14,FALSE)&\"  /  \"&VLOOKUP(B1318&G1318&H1318,'Liste inscrits'!AH:AU,13,FALSE))","v":"  /  "},"Nb de parties gagnées \naprès les poules ",null,null,{"$f":"IF(ISERROR(VLOOKUP(B1318&G1318&H1318,'Liste inscrits'!AH:AS,1,FALSE)),\"\",VLOOKUP(B1318&G1318&H1318,'Liste inscrits'!AH:AS,11,FALSE))","v":""}]
[]
["N° de LICENCE","NOM                     PRENOM\nen lettres capitales",null,"DIV","CR","CBD","N° \nSEC","N° \nASB","Qual. \nChpt AIN"]
[{"$f":"IF(B1325<>\"\",VLOOKUP(B1325,'Liste inscrits'!$A:$AD,2,FALSE),\"\")","v":""},{"$f":"IF(OFFSET('Liste inscrits'!$A$1,INT(ROW()/35)*4+(ROW()-INT(ROW()/35)*35)/7,0)<>\"\",OFFSET('Liste inscrits'!$A$1,INT(ROW()/35)*4+(ROW()-INT(ROW()/35)*35)/7,0),\"\")","v":""},null,{"$f":"IF(B1325<>\"\",VLOOKUP(B1325,'Liste inscrits'!$A:$AD,4,FALSE),\"\")","v":""},"ARA",1,{"$f":"IF(B1325<>\"\",VLOOKUP(B1325,'Liste inscrits'!$A:$AD,5,FALSE),\"\")","v":""},{"$f":"IF(B1325<>\"\",VLOOKUP(B1325,'Liste inscrits'!$A:$AD,6,FALSE),\"\")","v":""}]
[{"$f":"IF(B1325<>\"\",VLOOKUP(B1325,'Liste inscrits'!$A:$AD,8,FALSE),\"\")","v":""},{"$f":"IF(B1325<>\"\",VLOOKUP(B1325,'Liste inscrits'!$A:$AD,7,FALSE),\"\")","v":""},null,{"$f":"IF(B1325<>\"\",VLOOKUP(B1325,'Liste inscrits'!$A:$AD,10,FALSE),\"\")","v":""},"ARA",1,{"$f":"IF(B1325<>\"\",VLOOKUP(B1325,'Liste inscrits'!$A:$AD,11,FALSE),\"\")","v":""},{"$f":"IF(B1325<>\"\",VLOOKUP(B1325,'Liste inscrits'!$A:$AD,12,FALSE),\"\")","v":""}]
[{"$f":"IF(B1325<>\"\",VLOOKUP(B1325,'Liste inscrits'!$A:$AD,14,FALSE),\"\")","v":""},{"$f":"IF(B1325<>\"\",VLOOKUP(B1325,'Liste inscrits'!$A:$AD,13,FALSE),\"\")","v":""},null,{"$f":"IF(B1325<>\"\",VLOOKUP(B1325,'Liste inscrits'!$A:$AD,16,FALSE),\"\")","v":""},"ARA",1,{"$f":"IF(B1325<>\"\",VLOOKUP(B1325,'Liste inscrits'!$A:$AD,17,FALSE),\"\")","v":""},{"$f":"IF(B1325<>\"\",VLOOKUP(B1325,'Liste inscrits'!$A:$AD,18,FALSE),\"\")","v":""}]
[]
["Nb parties gagnées\ndans les poules",{"$f":"IF(ISERROR(VLOOKUP(B1325&G1325&H1325,'Liste inscrits'!AH:AJ,1,FALSE)),\"\",VLOOKUP(B1325&G1325&H1325,'Liste inscrits'!AH:AJ,3,FALSE))","v":""},"Classement \ndans la poule ",{"$f":"IF(ISERROR(VLOOKUP(B1325&G1325&H1325,'Liste inscrits'!AH:AU,1,FALSE)),\"\",VLOOKUP(B1325&G1325&H1325,'Liste inscrits'!AH:AU,14,FALSE)&\"  /  \"&VLOOKUP(B1325&G1325&H1325,'Liste inscrits'!AH:AU,13,FALSE))","v":"  /  "},"Nb de parties gagnées \naprès les poules ",null,null,{"$f":"IF(ISERROR(VLOOKUP(B1325&G1325&H1325,'Liste inscrits'!AH:AS,1,FALSE)),\"\",VLOOKUP(B1325&G1325&H1325,'Liste inscrits'!AH:AS,11,FALSE))","v":""}]
[]
[]
["C.B.D. AIN",null,{"$f":"$C$2","v":0},null,null,null,null,{"$f":"$H$2","v":0}]
[]
["SECTEUR :",{"$f":"$B$4","v":{"$error":"#VALUE!"}},null,"Lieu de la compétition :",{"$f":"$E$4","v":0}]
[]
["Date : ",{"$f":"$B$6","v":0},null,null,"Nombre total d'équipes participantes ",null,null,null,{"$f":"$I$6","v":0}]
[]
["N° de LICENCE","NOM                     PRENOM\nen lettres capitales",null,"DIV","CR","CBD","N° \nSEC","N° \nASB","Qual. \nChpt AIN"]
[{"$f":"IF(B1339<>\"\",VLOOKUP(B1339,'Liste inscrits'!$A:$AD,2,FALSE),\"\")","v":""},{"$f":"IF(OFFSET('Liste inscrits'!$A$1,INT(ROW()/35)*4+(ROW()-INT(ROW()/35)*35)/7,0)<>\"\",OFFSET('Liste inscrits'!$A$1,INT(ROW()/35)*4+(ROW()-INT(ROW()/35)*35)/7,0),\"\")","v":""},null,{"$f":"IF(B1339<>\"\",VLOOKUP(B1339,'Liste inscrits'!$A:$AD,4,FALSE),\"\")","v":""},"ARA",1,{"$f":"IF(B1339<>\"\",VLOOKUP(B1339,'Liste inscrits'!$A:$AD,5,FALSE),\"\")","v":""},{"$f":"IF(B1339<>\"\",VLOOKUP(B1339,'Liste inscrits'!$A:$AD,6,FALSE),\"\")","v":""}]
[{"$f":"IF(B1339<>\"\",VLOOKUP(B1339,'Liste inscrits'!$A:$AD,8,FALSE),\"\")","v":""},{"$f":"IF(B1339<>\"\",VLOOKUP(B1339,'Liste inscrits'!$A:$AD,7,FALSE),\"\")","v":""},null,{"$f":"IF(B1339<>\"\",VLOOKUP(B1339,'Liste inscrits'!$A:$AD,10,FALSE),\"\")","v":""},"ARA",1,{"$f":"IF(B1339<>\"\",VLOOKUP(B1339,'Liste inscrits'!$A:$AD,11,FALSE),\"\")","v":""},{"$f":"IF(B1339<>\"\",VLOOKUP(B1339,'Liste inscrits'!$A:$AD,12,FALSE),\"\")","v":""}]
[{"$f":"IF(B1339<>\"\",VLOOKUP(B1339,'Liste inscrits'!$A:$AD,14,FALSE),\"\")","v":""},{"$f":"IF(B1339<>\"\",VLOOKUP(B1339,'Liste inscrits'!$A:$AD,13,FALSE),\"\")","v":""},null,{"$f":"IF(B1339<>\"\",VLOOKUP(B1339,'Liste inscrits'!$A:$AD,16,FALSE),\"\")","v":""},"ARA",1,{"$f":"IF(B1339<>\"\",VLOOKUP(B1339,'Liste inscrits'!$A:$AD,17,FALSE),\"\")","v":""},{"$f":"IF(B1339<>\"\",VLOOKUP(B1339,'Liste inscrits'!$A:$AD,18,FALSE),\"\")","v":""}]
[]
["Nb parties gagnées\ndans les poules",{"$f":"IF(ISERROR(VLOOKUP(B1339&G1339&H1339,'Liste inscrits'!AH:AJ,1,FALSE)),\"\",VLOOKUP(B1339&G1339&H1339,'Liste inscrits'!AH:AJ,3,FALSE))","v":""},"Classement \ndans la poule ",{"$f":"IF(ISERROR(VLOOKUP(B1339&G1339&H1339,'Liste inscrits'!AH:AU,1,FALSE)),\"\",VLOOKUP(B1339&G1339&H1339,'Liste inscrits'!AH:AU,14,FALSE)&\"  /  \"&VLOOKUP(B1339&G1339&H1339,'Liste inscrits'!AH:AU,13,FALSE))","v":"  /  "},"Nb de parties gagnées \naprès les poules ",null,null,{"$f":"IF(ISERROR(VLOOKUP(B1339&G1339&H1339,'Liste inscrits'!AH:AS,1,FALSE)),\"\",VLOOKUP(B1339&G1339&H1339,'Liste inscrits'!AH:AS,11,FALSE))","v":""}]
[]
["N° de LICENCE","NOM                     PRENOM\nen lettres capitales",null,"DIV","CR","CBD","N° \nSEC","N° \nASB","Qual. \nChpt AIN"]
[{"$f":"IF(B1346<>\"\",VLOOKUP(B1346,'Liste inscrits'!$A:$AD,2,FALSE),\"\")","v":""},{"$f":"IF(OFFSET('Liste inscrits'!$A$1,INT(ROW()/35)*4+(ROW()-INT(ROW()/35)*35)/7,0)<>\"\",OFFSET('Liste inscrits'!$A$1,INT(ROW()/35)*4+(ROW()-INT(ROW()/35)*35)/7,0),\"\")","v":""},null,{"$f":"IF(B1346<>\"\",VLOOKUP(B1346,'Liste inscrits'!$A:$AD,4,FALSE),\"\")","v":""},"ARA",1,{"$f":"IF(B1346<>\"\",VLOOKUP(B1346,'Liste inscrits'!$A:$AD,5,FALSE),\"\")","v":""},{"$f":"IF(B1346<>\"\",VLOOKUP(B1346,'Liste inscrits'!$A:$AD,6,FALSE),\"\")","v":""}]
[{"$f":"IF(B1346<>\"\",VLOOKUP(B1346,'Liste inscrits'!$A:$AD,8,FALSE),\"\")","v":""},{"$f":"IF(B1346<>\"\",VLOOKUP(B1346,'Liste inscrits'!$A:$AD,7,FALSE),\"\")","v":""},null,{"$f":"IF(B1346<>\"\",VLOOKUP(B1346,'Liste inscrits'!$A:$AD,10,FALSE),\"\")","v":""},"ARA",1,{"$f":"IF(B1346<>\"\",VLOOKUP(B1346,'Liste inscrits'!$A:$AD,11,FALSE),\"\")","v":""},{"$f":"IF(B1346<>\"\",VLOOKUP(B1346,'Liste inscrits'!$A:$AD,12,FALSE),\"\")","v":""}]
[{"$f":"IF(B1346<>\"\",VLOOKUP(B1346,'Liste inscrits'!$A:$AD,14,FALSE),\"\")","v":""},{"$f":"IF(B1346<>\"\",VLOOKUP(B1346,'Liste inscrits'!$A:$AD,13,FALSE),\"\")","v":""},null,{"$f":"IF(B1346<>\"\",VLOOKUP(B1346,'Liste inscrits'!$A:$AD,16,FALSE),\"\")","v":""},"ARA",1,{"$f":"IF(B1346<>\"\",VLOOKUP(B1346,'Liste inscrits'!$A:$AD,17,FALSE),\"\")","v":""},{"$f":"IF(B1346<>\"\",VLOOKUP(B1346,'Liste inscrits'!$A:$AD,18,FALSE),\"\")","v":""}]
[]
["Nb parties gagnées\ndans les poules",{"$f":"IF(ISERROR(VLOOKUP(B1346&G1346&H1346,'Liste inscrits'!AH:AJ,1,FALSE)),\"\",VLOOKUP(B1346&G1346&H1346,'Liste inscrits'!AH:AJ,3,FALSE))","v":""},"Classement \ndans la poule ",{"$f":"IF(ISERROR(VLOOKUP(B1346&G1346&H1346,'Liste inscrits'!AH:AU,1,FALSE)),\"\",VLOOKUP(B1346&G1346&H1346,'Liste inscrits'!AH:AU,14,FALSE)&\"  /  \"&VLOOKUP(B1346&G1346&H1346,'Liste inscrits'!AH:AU,13,FALSE))","v":"  /  "},"Nb de parties gagnées \naprès les poules ",null,null,{"$f":"IF(ISERROR(VLOOKUP(B1346&G1346&H1346,'Liste inscrits'!AH:AS,1,FALSE)),\"\",VLOOKUP(B1346&G1346&H1346,'Liste inscrits'!AH:AS,11,FALSE))","v":""}]
[]
["N° de LICENCE","NOM                     PRENOM\nen lettres capitales",null,"DIV","CR","CBD","N° \nSEC","N° \nASB","Qual. \nChpt AIN"]
[{"$f":"IF(B1353<>\"\",VLOOKUP(B1353,'Liste inscrits'!$A:$AD,2,FALSE),\"\")","v":""},{"$f":"IF(OFFSET('Liste inscrits'!$A$1,INT(ROW()/35)*4+(ROW()-INT(ROW()/35)*35)/7,0)<>\"\",OFFSET('Liste inscrits'!$A$1,INT(ROW()/35)*4+(ROW()-INT(ROW()/35)*35)/7,0),\"\")","v":""},null,{"$f":"IF(B1353<>\"\",VLOOKUP(B1353,'Liste inscrits'!$A:$AD,4,FALSE),\"\")","v":""},"ARA",1,{"$f":"IF(B1353<>\"\",VLOOKUP(B1353,'Liste inscrits'!$A:$AD,5,FALSE),\"\")","v":""},{"$f":"IF(B1353<>\"\",VLOOKUP(B1353,'Liste inscrits'!$A:$AD,6,FALSE),\"\")","v":""}]
[{"$f":"IF(B1353<>\"\",VLOOKUP(B1353,'Liste inscrits'!$A:$AD,8,FALSE),\"\")","v":""},{"$f":"IF(B1353<>\"\",VLOOKUP(B1353,'Liste inscrits'!$A:$AD,7,FALSE),\"\")","v":""},null,{"$f":"IF(B1353<>\"\",VLOOKUP(B1353,'Liste inscrits'!$A:$AD,10,FALSE),\"\")","v":""},"ARA",1,{"$f":"IF(B1353<>\"\",VLOOKUP(B1353,'Liste inscrits'!$A:$AD,11,FALSE),\"\")","v":""},{"$f":"IF(B1353<>\"\",VLOOKUP(B1353,'Liste inscrits'!$A:$AD,12,FALSE),\"\")","v":""}]
[{"$f":"IF(B1353<>\"\",VLOOKUP(B1353,'Liste inscrits'!$A:$AD,14,FALSE),\"\")","v":""},{"$f":"IF(B1353<>\"\",VLOOKUP(B1353,'Liste inscrits'!$A:$AD,13,FALSE),\"\")","v":""},null,{"$f":"IF(B1353<>\"\",VLOOKUP(B1353,'Liste inscrits'!$A:$AD,16,FALSE),\"\")","v":""},"ARA",1,{"$f":"IF(B1353<>\"\",VLOOKUP(B1353,'Liste inscrits'!$A:$AD,17,FALSE),\"\")","v":""},{"$f":"IF(B1353<>\"\",VLOOKUP(B1353,'Liste inscrits'!$A:$AD,18,FALSE),\"\")","v":""}]
[]
["Nb parties gagnées\ndans les poules",{"$f":"IF(ISERROR(VLOOKUP(B1353&G1353&H1353,'Liste inscrits'!AH:AJ,1,FALSE)),\"\",VLOOKUP(B1353&G1353&H1353,'Liste inscrits'!AH:AJ,3,FALSE))","v":""},"Classement \ndans la poule ",{"$f":"IF(ISERROR(VLOOKUP(B1353&G1353&H1353,'Liste inscrits'!AH:AU,1,FALSE)),\"\",VLOOKUP(B1353&G1353&H1353,'Liste inscrits'!AH:AU,14,FALSE)&\"  /  \"&VLOOKUP(B1353&G1353&H1353,'Liste inscrits'!AH:AU,13,FALSE))","v":"  /  "},"Nb de parties gagnées \naprès les poules ",null,null,{"$f":"IF(ISERROR(VLOOKUP(B1353&G1353&H1353,'Liste inscrits'!AH:AS,1,FALSE)),\"\",VLOOKUP(B1353&G1353&H1353,'Liste inscrits'!AH:AS,11,FALSE))","v":""}]
[]
["N° de LICENCE","NOM                     PRENOM\nen lettres capitales",null,"DIV","CR","CBD","N° \nSEC","N° \nASB","Qual. \nChpt AIN"]
[{"$f":"IF(B1360<>\"\",VLOOKUP(B1360,'Liste inscrits'!$A:$AD,2,FALSE),\"\")","v":""},{"$f":"IF(OFFSET('Liste inscrits'!$A$1,INT(ROW()/35)*4+(ROW()-INT(ROW()/35)*35)/7,0)<>\"\",OFFSET('Liste inscrits'!$A$1,INT(ROW()/35)*4+(ROW()-INT(ROW()/35)*35)/7,0),\"\")","v":""},null,{"$f":"IF(B1360<>\"\",VLOOKUP(B1360,'Liste inscrits'!$A:$AD,4,FALSE),\"\")","v":""},"ARA",1,{"$f":"IF(B1360<>\"\",VLOOKUP(B1360,'Liste inscrits'!$A:$AD,5,FALSE),\"\")","v":""},{"$f":"IF(B1360<>\"\",VLOOKUP(B1360,'Liste inscrits'!$A:$AD,6,FALSE),\"\")","v":""}]
[{"$f":"IF(B1360<>\"\",VLOOKUP(B1360,'Liste inscrits'!$A:$AD,8,FALSE),\"\")","v":""},{"$f":"IF(B1360<>\"\",VLOOKUP(B1360,'Liste inscrits'!$A:$AD,7,FALSE),\"\")","v":""},null,{"$f":"IF(B1360<>\"\",VLOOKUP(B1360,'Liste inscrits'!$A:$AD,10,FALSE),\"\")","v":""},"ARA",1,{"$f":"IF(B1360<>\"\",VLOOKUP(B1360,'Liste inscrits'!$A:$AD,11,FALSE),\"\")","v":""},{"$f":"IF(B1360<>\"\",VLOOKUP(B1360,'Liste inscrits'!$A:$AD,12,FALSE),\"\")","v":""}]
[{"$f":"IF(B1360<>\"\",VLOOKUP(B1360,'Liste inscrits'!$A:$AD,14,FALSE),\"\")","v":""},{"$f":"IF(B1360<>\"\",VLOOKUP(B1360,'Liste inscrits'!$A:$AD,13,FALSE),\"\")","v":""},null,{"$f":"IF(B1360<>\"\",VLOOKUP(B1360,'Liste inscrits'!$A:$AD,16,FALSE),\"\")","v":""},"ARA",1,{"$f":"IF(B1360<>\"\",VLOOKUP(B1360,'Liste inscrits'!$A:$AD,17,FALSE),\"\")","v":""},{"$f":"IF(B1360<>\"\",VLOOKUP(B1360,'Liste inscrits'!$A:$AD,18,FALSE),\"\")","v":""}]
[]
["Nb parties gagnées\ndans les poules",{"$f":"IF(ISERROR(VLOOKUP(B1360&G1360&H1360,'Liste inscrits'!AH:AJ,1,FALSE)),\"\",VLOOKUP(B1360&G1360&H1360,'Liste inscrits'!AH:AJ,3,FALSE))","v":""},"Classement \ndans la poule ",{"$f":"IF(ISERROR(VLOOKUP(B1360&G1360&H1360,'Liste inscrits'!AH:AU,1,FALSE)),\"\",VLOOKUP(B1360&G1360&H1360,'Liste inscrits'!AH:AU,14,FALSE)&\"  /  \"&VLOOKUP(B1360&G1360&H1360,'Liste inscrits'!AH:AU,13,FALSE))","v":"  /  "},"Nb de parties gagnées \naprès les poules ",null,null,{"$f":"IF(ISERROR(VLOOKUP(B1360&G1360&H1360,'Liste inscrits'!AH:AS,1,FALSE)),\"\",VLOOKUP(B1360&G1360&H1360,'Liste inscrits'!AH:AS,11,FALSE))","v":""}]
[]
[]
["C.B.D. AIN",null,{"$f":"$C$2","v":0},null,null,null,null,{"$f":"$H$2","v":0}]
[]
["SECTEUR :",{"$f":"$B$4","v":{"$error":"#VALUE!"}},null,"Lieu de la compétition :",{"$f":"$E$4","v":0}]
[]
["Date : ",{"$f":"$B$6","v":0},null,null,"Nombre total d'équipes participantes ",null,null,null,{"$f":"$I$6","v":0}]
[]
["N° de LICENCE","NOM                     PRENOM\nen lettres capitales",null,"DIV","CR","CBD","N° \nSEC","N° \nASB","Qual. \nChpt AIN"]
[{"$f":"IF(B1374<>\"\",VLOOKUP(B1374,'Liste inscrits'!$A:$AD,2,FALSE),\"\")","v":""},{"$f":"IF(OFFSET('Liste inscrits'!$A$1,INT(ROW()/35)*4+(ROW()-INT(ROW()/35)*35)/7,0)<>\"\",OFFSET('Liste inscrits'!$A$1,INT(ROW()/35)*4+(ROW()-INT(ROW()/35)*35)/7,0),\"\")","v":""},null,{"$f":"IF(B1374<>\"\",VLOOKUP(B1374,'Liste inscrits'!$A:$AD,4,FALSE),\"\")","v":""},"ARA",1,{"$f":"IF(B1374<>\"\",VLOOKUP(B1374,'Liste inscrits'!$A:$AD,5,FALSE),\"\")","v":""},{"$f":"IF(B1374<>\"\",VLOOKUP(B1374,'Liste inscrits'!$A:$AD,6,FALSE),\"\")","v":""}]
[{"$f":"IF(B1374<>\"\",VLOOKUP(B1374,'Liste inscrits'!$A:$AD,8,FALSE),\"\")","v":""},{"$f":"IF(B1374<>\"\",VLOOKUP(B1374,'Liste inscrits'!$A:$AD,7,FALSE),\"\")","v":""},null,{"$f":"IF(B1374<>\"\",VLOOKUP(B1374,'Liste inscrits'!$A:$AD,10,FALSE),\"\")","v":""},"ARA",1,{"$f":"IF(B1374<>\"\",VLOOKUP(B1374,'Liste inscrits'!$A:$AD,11,FALSE),\"\")","v":""},{"$f":"IF(B1374<>\"\",VLOOKUP(B1374,'Liste inscrits'!$A:$AD,12,FALSE),\"\")","v":""}]
[{"$f":"IF(B1374<>\"\",VLOOKUP(B1374,'Liste inscrits'!$A:$AD,14,FALSE),\"\")","v":""},{"$f":"IF(B1374<>\"\",VLOOKUP(B1374,'Liste inscrits'!$A:$AD,13,FALSE),\"\")","v":""},null,{"$f":"IF(B1374<>\"\",VLOOKUP(B1374,'Liste inscrits'!$A:$AD,16,FALSE),\"\")","v":""},"ARA",1,{"$f":"IF(B1374<>\"\",VLOOKUP(B1374,'Liste inscrits'!$A:$AD,17,FALSE),\"\")","v":""},{"$f":"IF(B1374<>\"\",VLOOKUP(B1374,'Liste inscrits'!$A:$AD,18,FALSE),\"\")","v":""}]
[]
["Nb parties gagnées\ndans les poules",{"$f":"IF(ISERROR(VLOOKUP(B1374&G1374&H1374,'Liste inscrits'!AH:AJ,1,FALSE)),\"\",VLOOKUP(B1374&G1374&H1374,'Liste inscrits'!AH:AJ,3,FALSE))","v":""},"Classement \ndans la poule ",{"$f":"IF(ISERROR(VLOOKUP(B1374&G1374&H1374,'Liste inscrits'!AH:AU,1,FALSE)),\"\",VLOOKUP(B1374&G1374&H1374,'Liste inscrits'!AH:AU,14,FALSE)&\"  /  \"&VLOOKUP(B1374&G1374&H1374,'Liste inscrits'!AH:AU,13,FALSE))","v":"  /  "},"Nb de parties gagnées \naprès les poules ",null,null,{"$f":"IF(ISERROR(VLOOKUP(B1374&G1374&H1374,'Liste inscrits'!AH:AS,1,FALSE)),\"\",VLOOKUP(B1374&G1374&H1374,'Liste inscrits'!AH:AS,11,FALSE))","v":""}]
[]
["N° de LICENCE","NOM                     PRENOM\nen lettres capitales",null,"DIV","CR","CBD","N° \nSEC","N° \nASB","Qual. \nChpt AIN"]
[{"$f":"IF(B1381<>\"\",VLOOKUP(B1381,'Liste inscrits'!$A:$AD,2,FALSE),\"\")","v":""},{"$f":"IF(OFFSET('Liste inscrits'!$A$1,INT(ROW()/35)*4+(ROW()-INT(ROW()/35)*35)/7,0)<>\"\",OFFSET('Liste inscrits'!$A$1,INT(ROW()/35)*4+(ROW()-INT(ROW()/35)*35)/7,0),\"\")","v":""},null,{"$f":"IF(B1381<>\"\",VLOOKUP(B1381,'Liste inscrits'!$A:$AD,4,FALSE),\"\")","v":""},"ARA",1,{"$f":"IF(B1381<>\"\",VLOOKUP(B1381,'Liste inscrits'!$A:$AD,5,FALSE),\"\")","v":""},{"$f":"IF(B1381<>\"\",VLOOKUP(B1381,'Liste inscrits'!$A:$AD,6,FALSE),\"\")","v":""}]
[{"$f":"IF(B1381<>\"\",VLOOKUP(B1381,'Liste inscrits'!$A:$AD,8,FALSE),\"\")","v":""},{"$f":"IF(B1381<>\"\",VLOOKUP(B1381,'Liste inscrits'!$A:$AD,7,FALSE),\"\")","v":""},null,{"$f":"IF(B1381<>\"\",VLOOKUP(B1381,'Liste inscrits'!$A:$AD,10,FALSE),\"\")","v":""},"ARA",1,{"$f":"IF(B1381<>\"\",VLOOKUP(B1381,'Liste inscrits'!$A:$AD,11,FALSE),\"\")","v":""},{"$f":"IF(B1381<>\"\",VLOOKUP(B1381,'Liste inscrits'!$A:$AD,12,FALSE),\"\")","v":""}]
[{"$f":"IF(B1381<>\"\",VLOOKUP(B1381,'Liste inscrits'!$A:$AD,14,FALSE),\"\")","v":""},{"$f":"IF(B1381<>\"\",VLOOKUP(B1381,'Liste inscrits'!$A:$AD,13,FALSE),\"\")","v":""},null,{"$f":"IF(B1381<>\"\",VLOOKUP(B1381,'Liste inscrits'!$A:$AD,16,FALSE),\"\")","v":""},"ARA",1,{"$f":"IF(B1381<>\"\",VLOOKUP(B1381,'Liste inscrits'!$A:$AD,17,FALSE),\"\")","v":""},{"$f":"IF(B1381<>\"\",VLOOKUP(B1381,'Liste inscrits'!$A:$AD,18,FALSE),\"\")","v":""}]
[]
["Nb parties gagnées\ndans les poules",{"$f":"IF(ISERROR(VLOOKUP(B1381&G1381&H1381,'Liste inscrits'!AH:AJ,1,FALSE)),\"\",VLOOKUP(B1381&G1381&H1381,'Liste inscrits'!AH:AJ,3,FALSE))","v":""},"Classement \ndans la poule ",{"$f":"IF(ISERROR(VLOOKUP(B1381&G1381&H1381,'Liste inscrits'!AH:AU,1,FALSE)),\"\",VLOOKUP(B1381&G1381&H1381,'Liste inscrits'!AH:AU,14,FALSE)&\"  /  \"&VLOOKUP(B1381&G1381&H1381,'Liste inscrits'!AH:AU,13,FALSE))","v":"  /  "},"Nb de parties gagnées \naprès les poules ",null,null,{"$f":"IF(ISERROR(VLOOKUP(B1381&G1381&H1381,'Liste inscrits'!AH:AS,1,FALSE)),\"\",VLOOKUP(B1381&G1381&H1381,'Liste inscrits'!AH:AS,11,FALSE))","v":""}]
[]
["N° de LICENCE","NOM                     PRENOM\nen lettres capitales",null,"DIV","CR","CBD","N° \nSEC","N° \nASB","Qual. \nChpt AIN"]
[{"$f":"IF(B1388<>\"\",VLOOKUP(B1388,'Liste inscrits'!$A:$AD,2,FALSE),\"\")","v":""},{"$f":"IF(OFFSET('Liste inscrits'!$A$1,INT(ROW()/35)*4+(ROW()-INT(ROW()/35)*35)/7,0)<>\"\",OFFSET('Liste inscrits'!$A$1,INT(ROW()/35)*4+(ROW()-INT(ROW()/35)*35)/7,0),\"\")","v":""},null,{"$f":"IF(B1388<>\"\",VLOOKUP(B1388,'Liste inscrits'!$A:$AD,4,FALSE),\"\")","v":""},"ARA",1,{"$f":"IF(B1388<>\"\",VLOOKUP(B1388,'Liste inscrits'!$A:$AD,5,FALSE),\"\")","v":""},{"$f":"IF(B1388<>\"\",VLOOKUP(B1388,'Liste inscrits'!$A:$AD,6,FALSE),\"\")","v":""}]
[{"$f":"IF(B1388<>\"\",VLOOKUP(B1388,'Liste inscrits'!$A:$AD,8,FALSE),\"\")","v":""},{"$f":"IF(B1388<>\"\",VLOOKUP(B1388,'Liste inscrits'!$A:$AD,7,FALSE),\"\")","v":""},null,{"$f":"IF(B1388<>\"\",VLOOKUP(B1388,'Liste inscrits'!$A:$AD,10,FALSE),\"\")","v":""},"ARA",1,{"$f":"IF(B1388<>\"\",VLOOKUP(B1388,'Liste inscrits'!$A:$AD,11,FALSE),\"\")","v":""},{"$f":"IF(B1388<>\"\",VLOOKUP(B1388,'Liste inscrits'!$A:$AD,12,FALSE),\"\")","v":""}]
[{"$f":"IF(B1388<>\"\",VLOOKUP(B1388,'Liste inscrits'!$A:$AD,14,FALSE),\"\")","v":""},{"$f":"IF(B1388<>\"\",VLOOKUP(B1388,'Liste inscrits'!$A:$AD,13,FALSE),\"\")","v":""},null,{"$f":"IF(B1388<>\"\",VLOOKUP(B1388,'Liste inscrits'!$A:$AD,16,FALSE),\"\")","v":""},"ARA",1,{"$f":"IF(B1388<>\"\",VLOOKUP(B1388,'Liste inscrits'!$A:$AD,17,FALSE),\"\")","v":""},{"$f":"IF(B1388<>\"\",VLOOKUP(B1388,'Liste inscrits'!$A:$AD,18,FALSE),\"\")","v":""}]
[]
["Nb parties gagnées\ndans les poules",{"$f":"IF(ISERROR(VLOOKUP(B1388&G1388&H1388,'Liste inscrits'!AH:AJ,1,FALSE)),\"\",VLOOKUP(B1388&G1388&H1388,'Liste inscrits'!AH:AJ,3,FALSE))","v":""},"Classement \ndans la poule ",{"$f":"IF(ISERROR(VLOOKUP(B1388&G1388&H1388,'Liste inscrits'!AH:AU,1,FALSE)),\"\",VLOOKUP(B1388&G1388&H1388,'Liste inscrits'!AH:AU,14,FALSE)&\"  /  \"&VLOOKUP(B1388&G1388&H1388,'Liste inscrits'!AH:AU,13,FALSE))","v":"  /  "},"Nb de parties gagnées \naprès les poules ",null,null,{"$f":"IF(ISERROR(VLOOKUP(B1388&G1388&H1388,'Liste inscrits'!AH:AS,1,FALSE)),\"\",VLOOKUP(B1388&G1388&H1388,'Liste inscrits'!AH:AS,11,FALSE))","v":""}]
[]
["N° de LICENCE","NOM                     PRENOM\nen lettres capitales",null,"DIV","CR","CBD","N° \nSEC","N° \nASB","Qual. \nChpt AIN"]
[{"$f":"IF(B1395<>\"\",VLOOKUP(B1395,'Liste inscrits'!$A:$AD,2,FALSE),\"\")","v":""},{"$f":"IF(OFFSET('Liste inscrits'!$A$1,INT(ROW()/35)*4+(ROW()-INT(ROW()/35)*35)/7,0)<>\"\",OFFSET('Liste inscrits'!$A$1,INT(ROW()/35)*4+(ROW()-INT(ROW()/35)*35)/7,0),\"\")","v":""},null,{"$f":"IF(B1395<>\"\",VLOOKUP(B1395,'Liste inscrits'!$A:$AD,4,FALSE),\"\")","v":""},"ARA",1,{"$f":"IF(B1395<>\"\",VLOOKUP(B1395,'Liste inscrits'!$A:$AD,5,FALSE),\"\")","v":""},{"$f":"IF(B1395<>\"\",VLOOKUP(B1395,'Liste inscrits'!$A:$AD,6,FALSE),\"\")","v":""}]
[{"$f":"IF(B1395<>\"\",VLOOKUP(B1395,'Liste inscrits'!$A:$AD,8,FALSE),\"\")","v":""},{"$f":"IF(B1395<>\"\",VLOOKUP(B1395,'Liste inscrits'!$A:$AD,7,FALSE),\"\")","v":""},null,{"$f":"IF(B1395<>\"\",VLOOKUP(B1395,'Liste inscrits'!$A:$AD,10,FALSE),\"\")","v":""},"ARA",1,{"$f":"IF(B1395<>\"\",VLOOKUP(B1395,'Liste inscrits'!$A:$AD,11,FALSE),\"\")","v":""},{"$f":"IF(B1395<>\"\",VLOOKUP(B1395,'Liste inscrits'!$A:$AD,12,FALSE),\"\")","v":""}]
[{"$f":"IF(B1395<>\"\",VLOOKUP(B1395,'Liste inscrits'!$A:$AD,14,FALSE),\"\")","v":""},{"$f":"IF(B1395<>\"\",VLOOKUP(B1395,'Liste inscrits'!$A:$AD,13,FALSE),\"\")","v":""},null,{"$f":"IF(B1395<>\"\",VLOOKUP(B1395,'Liste inscrits'!$A:$AD,16,FALSE),\"\")","v":""},"ARA",1,{"$f":"IF(B1395<>\"\",VLOOKUP(B1395,'Liste inscrits'!$A:$AD,17,FALSE),\"\")","v":""},{"$f":"IF(B1395<>\"\",VLOOKUP(B1395,'Liste inscrits'!$A:$AD,18,FALSE),\"\")","v":""}]
[]
["Nb parties gagnées\ndans les poules",{"$f":"IF(ISERROR(VLOOKUP(B1395&G1395&H1395,'Liste inscrits'!AH:AJ,1,FALSE)),\"\",VLOOKUP(B1395&G1395&H1395,'Liste inscrits'!AH:AJ,3,FALSE))","v":""},"Classement \ndans la poule ",{"$f":"IF(ISERROR(VLOOKUP(B1395&G1395&H1395,'Liste inscrits'!AH:AU,1,FALSE)),\"\",VLOOKUP(B1395&G1395&H1395,'Liste inscrits'!AH:AU,14,FALSE)&\"  /  \"&VLOOKUP(B1395&G1395&H1395,'Liste inscrits'!AH:AU,13,FALSE))","v":"  /  "},"Nb de parties gagnées \naprès les poules ",null,null,{"$f":"IF(ISERROR(VLOOKUP(B1395&G1395&H1395,'Liste inscrits'!AH:AS,1,FALSE)),\"\",VLOOKUP(B1395&G1395&H1395,'Liste inscrits'!AH:AS,11,FALSE))","v":""}]
[]
[]
["C.B.D. AIN",null,{"$f":"$C$2","v":0},null,null,null,null,{"$f":"$H$2","v":0}]
[]
["SECTEUR :",{"$f":"$B$4","v":{"$error":"#VALUE!"}},null,"Lieu de la compétition :",{"$f":"$E$4","v":0}]
[]
["Date : ",{"$f":"$B$6","v":0},null,null,"Nombre total d'équipes participantes ",null,null,null,{"$f":"$I$6","v":0}]
[]
["N° de LICENCE","NOM                     PRENOM\nen lettres capitales",null,"DIV","CR","CBD","N° \nSEC","N° \nASB","Qual. \nChpt AIN"]
[{"$f":"IF(B1409<>\"\",VLOOKUP(B1409,'Liste inscrits'!$A:$AD,2,FALSE),\"\")","v":""},{"$f":"IF(OFFSET('Liste inscrits'!$A$1,INT(ROW()/35)*4+(ROW()-INT(ROW()/35)*35)/7,0)<>\"\",OFFSET('Liste inscrits'!$A$1,INT(ROW()/35)*4+(ROW()-INT(ROW()/35)*35)/7,0),\"\")","v":""},null,{"$f":"IF(B1409<>\"\",VLOOKUP(B1409,'Liste inscrits'!$A:$AD,4,FALSE),\"\")","v":""},"ARA",1,{"$f":"IF(B1409<>\"\",VLOOKUP(B1409,'Liste inscrits'!$A:$AD,5,FALSE),\"\")","v":""},{"$f":"IF(B1409<>\"\",VLOOKUP(B1409,'Liste inscrits'!$A:$AD,6,FALSE),\"\")","v":""}]
[{"$f":"IF(B1409<>\"\",VLOOKUP(B1409,'Liste inscrits'!$A:$AD,8,FALSE),\"\")","v":""},{"$f":"IF(B1409<>\"\",VLOOKUP(B1409,'Liste inscrits'!$A:$AD,7,FALSE),\"\")","v":""},null,{"$f":"IF(B1409<>\"\",VLOOKUP(B1409,'Liste inscrits'!$A:$AD,10,FALSE),\"\")","v":""},"ARA",1,{"$f":"IF(B1409<>\"\",VLOOKUP(B1409,'Liste inscrits'!$A:$AD,11,FALSE),\"\")","v":""},{"$f":"IF(B1409<>\"\",VLOOKUP(B1409,'Liste inscrits'!$A:$AD,12,FALSE),\"\")","v":""}]
[{"$f":"IF(B1409<>\"\",VLOOKUP(B1409,'Liste inscrits'!$A:$AD,14,FALSE),\"\")","v":""},{"$f":"IF(B1409<>\"\",VLOOKUP(B1409,'Liste inscrits'!$A:$AD,13,FALSE),\"\")","v":""},null,{"$f":"IF(B1409<>\"\",VLOOKUP(B1409,'Liste inscrits'!$A:$AD,16,FALSE),\"\")","v":""},"ARA",1,{"$f":"IF(B1409<>\"\",VLOOKUP(B1409,'Liste inscrits'!$A:$AD,17,FALSE),\"\")","v":""},{"$f":"IF(B1409<>\"\",VLOOKUP(B1409,'Liste inscrits'!$A:$AD,18,FALSE),\"\")","v":""}]
[]
["Nb parties gagnées\ndans les poules",{"$f":"IF(ISERROR(VLOOKUP(B1409&G1409&H1409,'Liste inscrits'!AH:AJ,1,FALSE)),\"\",VLOOKUP(B1409&G1409&H1409,'Liste inscrits'!AH:AJ,3,FALSE))","v":""},"Classement \ndans la poule ",{"$f":"IF(ISERROR(VLOOKUP(B1409&G1409&H1409,'Liste inscrits'!AH:AU,1,FALSE)),\"\",VLOOKUP(B1409&G1409&H1409,'Liste inscrits'!AH:AU,14,FALSE)&\"  /  \"&VLOOKUP(B1409&G1409&H1409,'Liste inscrits'!AH:AU,13,FALSE))","v":"  /  "},"Nb de parties gagnées \naprès les poules ",null,null,{"$f":"IF(ISERROR(VLOOKUP(B1409&G1409&H1409,'Liste inscrits'!AH:AS,1,FALSE)),\"\",VLOOKUP(B1409&G1409&H1409,'Liste inscrits'!AH:AS,11,FALSE))","v":""}]
[]
["N° de LICENCE","NOM                     PRENOM\nen lettres capitales",null,"DIV","CR","CBD","N° \nSEC","N° \nASB","Qual. \nChpt AIN"]
[{"$f":"IF(B1416<>\"\",VLOOKUP(B1416,'Liste inscrits'!$A:$AD,2,FALSE),\"\")","v":""},{"$f":"IF(OFFSET('Liste inscrits'!$A$1,INT(ROW()/35)*4+(ROW()-INT(ROW()/35)*35)/7,0)<>\"\",OFFSET('Liste inscrits'!$A$1,INT(ROW()/35)*4+(ROW()-INT(ROW()/35)*35)/7,0),\"\")","v":""},null,{"$f":"IF(B1416<>\"\",VLOOKUP(B1416,'Liste inscrits'!$A:$AD,4,FALSE),\"\")","v":""},"ARA",1,{"$f":"IF(B1416<>\"\",VLOOKUP(B1416,'Liste inscrits'!$A:$AD,5,FALSE),\"\")","v":""},{"$f":"IF(B1416<>\"\",VLOOKUP(B1416,'Liste inscrits'!$A:$AD,6,FALSE),\"\")","v":""}]
[{"$f":"IF(B1416<>\"\",VLOOKUP(B1416,'Liste inscrits'!$A:$AD,8,FALSE),\"\")","v":""},{"$f":"IF(B1416<>\"\",VLOOKUP(B1416,'Liste inscrits'!$A:$AD,7,FALSE),\"\")","v":""},null,{"$f":"IF(B1416<>\"\",VLOOKUP(B1416,'Liste inscrits'!$A:$AD,10,FALSE),\"\")","v":""},"ARA",1,{"$f":"IF(B1416<>\"\",VLOOKUP(B1416,'Liste inscrits'!$A:$AD,11,FALSE),\"\")","v":""},{"$f":"IF(B1416<>\"\",VLOOKUP(B1416,'Liste inscrits'!$A:$AD,12,FALSE),\"\")","v":""}]
[{"$f":"IF(B1416<>\"\",VLOOKUP(B1416,'Liste inscrits'!$A:$AD,14,FALSE),\"\")","v":""},{"$f":"IF(B1416<>\"\",VLOOKUP(B1416,'Liste inscrits'!$A:$AD,13,FALSE),\"\")","v":""},null,{"$f":"IF(B1416<>\"\",VLOOKUP(B1416,'Liste inscrits'!$A:$AD,16,FALSE),\"\")","v":""},"ARA",1,{"$f":"IF(B1416<>\"\",VLOOKUP(B1416,'Liste inscrits'!$A:$AD,17,FALSE),\"\")","v":""},{"$f":"IF(B1416<>\"\",VLOOKUP(B1416,'Liste inscrits'!$A:$AD,18,FALSE),\"\")","v":""}]
[]
["Nb parties gagnées\ndans les poules",{"$f":"IF(ISERROR(VLOOKUP(B1416&G1416&H1416,'Liste inscrits'!AH:AJ,1,FALSE)),\"\",VLOOKUP(B1416&G1416&H1416,'Liste inscrits'!AH:AJ,3,FALSE))","v":""},"Classement \ndans la poule ",{"$f":"IF(ISERROR(VLOOKUP(B1416&G1416&H1416,'Liste inscrits'!AH:AU,1,FALSE)),\"\",VLOOKUP(B1416&G1416&H1416,'Liste inscrits'!AH:AU,14,FALSE)&\"  /  \"&VLOOKUP(B1416&G1416&H1416,'Liste inscrits'!AH:AU,13,FALSE))","v":"  /  "},"Nb de parties gagnées \naprès les poules ",null,null,{"$f":"IF(ISERROR(VLOOKUP(B1416&G1416&H1416,'Liste inscrits'!AH:AS,1,FALSE)),\"\",VLOOKUP(B1416&G1416&H1416,'Liste inscrits'!AH:AS,11,FALSE))","v":""}]
[]
["N° de LICENCE","NOM                     PRENOM\nen lettres capitales",null,"DIV","CR","CBD","N° \nSEC","N° \nASB","Qual. \nChpt AIN"]
[{"$f":"IF(B1423<>\"\",VLOOKUP(B1423,'Liste inscrits'!$A:$AD,2,FALSE),\"\")","v":""},{"$f":"IF(OFFSET('Liste inscrits'!$A$1,INT(ROW()/35)*4+(ROW()-INT(ROW()/35)*35)/7,0)<>\"\",OFFSET('Liste inscrits'!$A$1,INT(ROW()/35)*4+(ROW()-INT(ROW()/35)*35)/7,0),\"\")","v":""},null,{"$f":"IF(B1423<>\"\",VLOOKUP(B1423,'Liste inscrits'!$A:$AD,4,FALSE),\"\")","v":""},"ARA",1,{"$f":"IF(B1423<>\"\",VLOOKUP(B1423,'Liste inscrits'!$A:$AD,5,FALSE),\"\")","v":""},{"$f":"IF(B1423<>\"\",VLOOKUP(B1423,'Liste inscrits'!$A:$AD,6,FALSE),\"\")","v":""}]
[{"$f":"IF(B1423<>\"\",VLOOKUP(B1423,'Liste inscrits'!$A:$AD,8,FALSE),\"\")","v":""},{"$f":"IF(B1423<>\"\",VLOOKUP(B1423,'Liste inscrits'!$A:$AD,7,FALSE),\"\")","v":""},null,{"$f":"IF(B1423<>\"\",VLOOKUP(B1423,'Liste inscrits'!$A:$AD,10,FALSE),\"\")","v":""},"ARA",1,{"$f":"IF(B1423<>\"\",VLOOKUP(B1423,'Liste inscrits'!$A:$AD,11,FALSE),\"\")","v":""},{"$f":"IF(B1423<>\"\",VLOOKUP(B1423,'Liste inscrits'!$A:$AD,12,FALSE),\"\")","v":""}]
[{"$f":"IF(B1423<>\"\",VLOOKUP(B1423,'Liste inscrits'!$A:$AD,14,FALSE),\"\")","v":""},{"$f":"IF(B1423<>\"\",VLOOKUP(B1423,'Liste inscrits'!$A:$AD,13,FALSE),\"\")","v":""},null,{"$f":"IF(B1423<>\"\",VLOOKUP(B1423,'Liste inscrits'!$A:$AD,16,FALSE),\"\")","v":""},"ARA",1,{"$f":"IF(B1423<>\"\",VLOOKUP(B1423,'Liste inscrits'!$A:$AD,17,FALSE),\"\")","v":""},{"$f":"IF(B1423<>\"\",VLOOKUP(B1423,'Liste inscrits'!$A:$AD,18,FALSE),\"\")","v":""}]
[]
["Nb parties gagnées\ndans les poules",{"$f":"IF(ISERROR(VLOOKUP(B1423&G1423&H1423,'Liste inscrits'!AH:AJ,1,FALSE)),\"\",VLOOKUP(B1423&G1423&H1423,'Liste inscrits'!AH:AJ,3,FALSE))","v":""},"Classement \ndans la poule ",{"$f":"IF(ISERROR(VLOOKUP(B1423&G1423&H1423,'Liste inscrits'!AH:AU,1,FALSE)),\"\",VLOOKUP(B1423&G1423&H1423,'Liste inscrits'!AH:AU,14,FALSE)&\"  /  \"&VLOOKUP(B1423&G1423&H1423,'Liste inscrits'!AH:AU,13,FALSE))","v":"  /  "},"Nb de parties gagnées \naprès les poules ",null,null,{"$f":"IF(ISERROR(VLOOKUP(B1423&G1423&H1423,'Liste inscrits'!AH:AS,1,FALSE)),\"\",VLOOKUP(B1423&G1423&H1423,'Liste inscrits'!AH:AS,11,FALSE))","v":""}]
[]
["N° de LICENCE","NOM                     PRENOM\nen lettres capitales",null,"DIV","CR","CBD","N° \nSEC","N° \nASB","Qual. \nChpt AIN"]
[{"$f":"IF(B1430<>\"\",VLOOKUP(B1430,'Liste inscrits'!$A:$AD,2,FALSE),\"\")","v":""},{"$f":"IF(OFFSET('Liste inscrits'!$A$1,INT(ROW()/35)*4+(ROW()-INT(ROW()/35)*35)/7,0)<>\"\",OFFSET('Liste inscrits'!$A$1,INT(ROW()/35)*4+(ROW()-INT(ROW()/35)*35)/7,0),\"\")","v":""},null,{"$f":"IF(B1430<>\"\",VLOOKUP(B1430,'Liste inscrits'!$A:$AD,4,FALSE),\"\")","v":""},"ARA",1,{"$f":"IF(B1430<>\"\",VLOOKUP(B1430,'Liste inscrits'!$A:$AD,5,FALSE),\"\")","v":""},{"$f":"IF(B1430<>\"\",VLOOKUP(B1430,'Liste inscrits'!$A:$AD,6,FALSE),\"\")","v":""}]
[{"$f":"IF(B1430<>\"\",VLOOKUP(B1430,'Liste inscrits'!$A:$AD,8,FALSE),\"\")","v":""},{"$f":"IF(B1430<>\"\",VLOOKUP(B1430,'Liste inscrits'!$A:$AD,7,FALSE),\"\")","v":""},null,{"$f":"IF(B1430<>\"\",VLOOKUP(B1430,'Liste inscrits'!$A:$AD,10,FALSE),\"\")","v":""},"ARA",1,{"$f":"IF(B1430<>\"\",VLOOKUP(B1430,'Liste inscrits'!$A:$AD,11,FALSE),\"\")","v":""},{"$f":"IF(B1430<>\"\",VLOOKUP(B1430,'Liste inscrits'!$A:$AD,12,FALSE),\"\")","v":""}]
[{"$f":"IF(B1430<>\"\",VLOOKUP(B1430,'Liste inscrits'!$A:$AD,14,FALSE),\"\")","v":""},{"$f":"IF(B1430<>\"\",VLOOKUP(B1430,'Liste inscrits'!$A:$AD,13,FALSE),\"\")","v":""},null,{"$f":"IF(B1430<>\"\",VLOOKUP(B1430,'Liste inscrits'!$A:$AD,16,FALSE),\"\")","v":""},"ARA",1,{"$f":"IF(B1430<>\"\",VLOOKUP(B1430,'Liste inscrits'!$A:$AD,17,FALSE),\"\")","v":""},{"$f":"IF(B1430<>\"\",VLOOKUP(B1430,'Liste inscrits'!$A:$AD,18,FALSE),\"\")","v":""}]
[]
["Nb parties gagnées\ndans les poules",{"$f":"IF(ISERROR(VLOOKUP(B1430&G1430&H1430,'Liste inscrits'!AH:AJ,1,FALSE)),\"\",VLOOKUP(B1430&G1430&H1430,'Liste inscrits'!AH:AJ,3,FALSE))","v":""},"Classement \ndans la poule ",{"$f":"IF(ISERROR(VLOOKUP(B1430&G1430&H1430,'Liste inscrits'!AH:AU,1,FALSE)),\"\",VLOOKUP(B1430&G1430&H1430,'Liste inscrits'!AH:AU,14,FALSE)&\"  /  \"&VLOOKUP(B1430&G1430&H1430,'Liste inscrits'!AH:AU,13,FALSE))","v":"  /  "},"Nb de parties gagnées \naprès les poules ",null,null,{"$f":"IF(ISERROR(VLOOKUP(B1430&G1430&H1430,'Liste inscrits'!AH:AS,1,FALSE)),\"\",VLOOKUP(B1430&G1430&H1430,'Liste inscrits'!AH:AS,11,FALSE))","v":""}]
[]
[]
["C.B.D. AIN",null,{"$f":"$C$2","v":0},null,null,null,null,{"$f":"$H$2","v":0}]
[]
["SECTEUR :",{"$f":"$B$4","v":{"$error":"#VALUE!"}},null,"Lieu de la compétition :",{"$f":"$E$4","v":0}]
[]
["Date : ",{"$f":"$B$6","v":0},null,null,"Nombre total d'équipes participantes ",null,null,null,{"$f":"$I$6","v":0}]
[]
["N° de LICENCE","NOM                     PRENOM\nen lettres capitales",null,"DIV","CR","CBD","N° \nSEC","N° \nASB","Qual. \nChpt AIN"]
[{"$f":"IF(B1444<>\"\",VLOOKUP(B1444,'Liste inscrits'!$A:$AD,2,FALSE),\"\")","v":""},{"$f":"IF(OFFSET('Liste inscrits'!$A$1,INT(ROW()/35)*4+(ROW()-INT(ROW()/35)*35)/7,0)<>\"\",OFFSET('Liste inscrits'!$A$1,INT(ROW()/35)*4+(ROW()-INT(ROW()/35)*35)/7,0),\"\")","v":""},null,{"$f":"IF(B1444<>\"\",VLOOKUP(B1444,'Liste inscrits'!$A:$AD,4,FALSE),\"\")","v":""},"ARA",1,{"$f":"IF(B1444<>\"\",VLOOKUP(B1444,'Liste inscrits'!$A:$AD,5,FALSE),\"\")","v":""},{"$f":"IF(B1444<>\"\",VLOOKUP(B1444,'Liste inscrits'!$A:$AD,6,FALSE),\"\")","v":""}]
[{"$f":"IF(B1444<>\"\",VLOOKUP(B1444,'Liste inscrits'!$A:$AD,8,FALSE),\"\")","v":""},{"$f":"IF(B1444<>\"\",VLOOKUP(B1444,'Liste inscrits'!$A:$AD,7,FALSE),\"\")","v":""},null,{"$f":"IF(B1444<>\"\",VLOOKUP(B1444,'Liste inscrits'!$A:$AD,10,FALSE),\"\")","v":""},"ARA",1,{"$f":"IF(B1444<>\"\",VLOOKUP(B1444,'Liste inscrits'!$A:$AD,11,FALSE),\"\")","v":""},{"$f":"IF(B1444<>\"\",VLOOKUP(B1444,'Liste inscrits'!$A:$AD,12,FALSE),\"\")","v":""}]
[{"$f":"IF(B1444<>\"\",VLOOKUP(B1444,'Liste inscrits'!$A:$AD,14,FALSE),\"\")","v":""},{"$f":"IF(B1444<>\"\",VLOOKUP(B1444,'Liste inscrits'!$A:$AD,13,FALSE),\"\")","v":""},null,{"$f":"IF(B1444<>\"\",VLOOKUP(B1444,'Liste inscrits'!$A:$AD,16,FALSE),\"\")","v":""},"ARA",1,{"$f":"IF(B1444<>\"\",VLOOKUP(B1444,'Liste inscrits'!$A:$AD,17,FALSE),\"\")","v":""},{"$f":"IF(B1444<>\"\",VLOOKUP(B1444,'Liste inscrits'!$A:$AD,18,FALSE),\"\")","v":""}]
[]
["Nb parties gagnées\ndans les poules",{"$f":"IF(ISERROR(VLOOKUP(B1444&G1444&H1444,'Liste inscrits'!AH:AJ,1,FALSE)),\"\",VLOOKUP(B1444&G1444&H1444,'Liste inscrits'!AH:AJ,3,FALSE))","v":""},"Classement \ndans la poule ",{"$f":"IF(ISERROR(VLOOKUP(B1444&G1444&H1444,'Liste inscrits'!AH:AU,1,FALSE)),\"\",VLOOKUP(B1444&G1444&H1444,'Liste inscrits'!AH:AU,14,FALSE)&\"  /  \"&VLOOKUP(B1444&G1444&H1444,'Liste inscrits'!AH:AU,13,FALSE))","v":"  /  "},"Nb de parties gagnées \naprès les poules ",null,null,{"$f":"IF(ISERROR(VLOOKUP(B1444&G1444&H1444,'Liste inscrits'!AH:AS,1,FALSE)),\"\",VLOOKUP(B1444&G1444&H1444,'Liste inscrits'!AH:AS,11,FALSE))","v":""}]
[]
["N° de LICENCE","NOM                     PRENOM\nen lettres capitales",null,"DIV","CR","CBD","N° \nSEC","N° \nASB","Qual. \nChpt AIN"]
[{"$f":"IF(B1451<>\"\",VLOOKUP(B1451,'Liste inscrits'!$A:$AD,2,FALSE),\"\")","v":""},{"$f":"IF(OFFSET('Liste inscrits'!$A$1,INT(ROW()/35)*4+(ROW()-INT(ROW()/35)*35)/7,0)<>\"\",OFFSET('Liste inscrits'!$A$1,INT(ROW()/35)*4+(ROW()-INT(ROW()/35)*35)/7,0),\"\")","v":""},null,{"$f":"IF(B1451<>\"\",VLOOKUP(B1451,'Liste inscrits'!$A:$AD,4,FALSE),\"\")","v":""},"ARA",1,{"$f":"IF(B1451<>\"\",VLOOKUP(B1451,'Liste inscrits'!$A:$AD,5,FALSE),\"\")","v":""},{"$f":"IF(B1451<>\"\",VLOOKUP(B1451,'Liste inscrits'!$A:$AD,6,FALSE),\"\")","v":""}]
[{"$f":"IF(B1451<>\"\",VLOOKUP(B1451,'Liste inscrits'!$A:$AD,8,FALSE),\"\")","v":""},{"$f":"IF(B1451<>\"\",VLOOKUP(B1451,'Liste inscrits'!$A:$AD,7,FALSE),\"\")","v":""},null,{"$f":"IF(B1451<>\"\",VLOOKUP(B1451,'Liste inscrits'!$A:$AD,10,FALSE),\"\")","v":""},"ARA",1,{"$f":"IF(B1451<>\"\",VLOOKUP(B1451,'Liste inscrits'!$A:$AD,11,FALSE),\"\")","v":""},{"$f":"IF(B1451<>\"\",VLOOKUP(B1451,'Liste inscrits'!$A:$AD,12,FALSE),\"\")","v":""}]
[{"$f":"IF(B1451<>\"\",VLOOKUP(B1451,'Liste inscrits'!$A:$AD,14,FALSE),\"\")","v":""},{"$f":"IF(B1451<>\"\",VLOOKUP(B1451,'Liste inscrits'!$A:$AD,13,FALSE),\"\")","v":""},null,{"$f":"IF(B1451<>\"\",VLOOKUP(B1451,'Liste inscrits'!$A:$AD,16,FALSE),\"\")","v":""},"ARA",1,{"$f":"IF(B1451<>\"\",VLOOKUP(B1451,'Liste inscrits'!$A:$AD,17,FALSE),\"\")","v":""},{"$f":"IF(B1451<>\"\",VLOOKUP(B1451,'Liste inscrits'!$A:$AD,18,FALSE),\"\")","v":""}]
[]
["Nb parties gagnées\ndans les poules",{"$f":"IF(ISERROR(VLOOKUP(B1451&G1451&H1451,'Liste inscrits'!AH:AJ,1,FALSE)),\"\",VLOOKUP(B1451&G1451&H1451,'Liste inscrits'!AH:AJ,3,FALSE))","v":""},"Classement \ndans la poule ",{"$f":"IF(ISERROR(VLOOKUP(B1451&G1451&H1451,'Liste inscrits'!AH:AU,1,FALSE)),\"\",VLOOKUP(B1451&G1451&H1451,'Liste inscrits'!AH:AU,14,FALSE)&\"  /  \"&VLOOKUP(B1451&G1451&H1451,'Liste inscrits'!AH:AU,13,FALSE))","v":"  /  "},"Nb de parties gagnées \naprès les poules ",null,null,{"$f":"IF(ISERROR(VLOOKUP(B1451&G1451&H1451,'Liste inscrits'!AH:AS,1,FALSE)),\"\",VLOOKUP(B1451&G1451&H1451,'Liste inscrits'!AH:AS,11,FALSE))","v":""}]
[]
["N° de LICENCE","NOM                     PRENOM\nen lettres capitales",null,"DIV","CR","CBD","N° \nSEC","N° \nASB","Qual. \nChpt AIN"]
[{"$f":"IF(B1458<>\"\",VLOOKUP(B1458,'Liste inscrits'!$A:$AD,2,FALSE),\"\")","v":""},{"$f":"IF(OFFSET('Liste inscrits'!$A$1,INT(ROW()/35)*4+(ROW()-INT(ROW()/35)*35)/7,0)<>\"\",OFFSET('Liste inscrits'!$A$1,INT(ROW()/35)*4+(ROW()-INT(ROW()/35)*35)/7,0),\"\")","v":""},null,{"$f":"IF(B1458<>\"\",VLOOKUP(B1458,'Liste inscrits'!$A:$AD,4,FALSE),\"\")","v":""},"ARA",1,{"$f":"IF(B1458<>\"\",VLOOKUP(B1458,'Liste inscrits'!$A:$AD,5,FALSE),\"\")","v":""},{"$f":"IF(B1458<>\"\",VLOOKUP(B1458,'Liste inscrits'!$A:$AD,6,FALSE),\"\")","v":""}]
[{"$f":"IF(B1458<>\"\",VLOOKUP(B1458,'Liste inscrits'!$A:$AD,8,FALSE),\"\")","v":""},{"$f":"IF(B1458<>\"\",VLOOKUP(B1458,'Liste inscrits'!$A:$AD,7,FALSE),\"\")","v":""},null,{"$f":"IF(B1458<>\"\",VLOOKUP(B1458,'Liste inscrits'!$A:$AD,10,FALSE),\"\")","v":""},"ARA",1,{"$f":"IF(B1458<>\"\",VLOOKUP(B1458,'Liste inscrits'!$A:$AD,11,FALSE),\"\")","v":""},{"$f":"IF(B1458<>\"\",VLOOKUP(B1458,'Liste inscrits'!$A:$AD,12,FALSE),\"\")","v":""}]
[{"$f":"IF(B1458<>\"\",VLOOKUP(B1458,'Liste inscrits'!$A:$AD,14,FALSE),\"\")","v":""},{"$f":"IF(B1458<>\"\",VLOOKUP(B1458,'Liste inscrits'!$A:$AD,13,FALSE),\"\")","v":""},null,{"$f":"IF(B1458<>\"\",VLOOKUP(B1458,'Liste inscrits'!$A:$AD,16,FALSE),\"\")","v":""},"ARA",1,{"$f":"IF(B1458<>\"\",VLOOKUP(B1458,'Liste inscrits'!$A:$AD,17,FALSE),\"\")","v":""},{"$f":"IF(B1458<>\"\",VLOOKUP(B1458,'Liste inscrits'!$A:$AD,18,FALSE),\"\")","v":""}]
[]
["Nb parties gagnées\ndans les poules",{"$f":"IF(ISERROR(VLOOKUP(B1458&G1458&H1458,'Liste inscrits'!AH:AJ,1,FALSE)),\"\",VLOOKUP(B1458&G1458&H1458,'Liste inscrits'!AH:AJ,3,FALSE))","v":""},"Classement \ndans la poule ",{"$f":"IF(ISERROR(VLOOKUP(B1458&G1458&H1458,'Liste inscrits'!AH:AU,1,FALSE)),\"\",VLOOKUP(B1458&G1458&H1458,'Liste inscrits'!AH:AU,14,FALSE)&\"  /  \"&VLOOKUP(B1458&G1458&H1458,'Liste inscrits'!AH:AU,13,FALSE))","v":"  /  "},"Nb de parties gagnées \naprès les poules ",null,null,{"$f":"IF(ISERROR(VLOOKUP(B1458&G1458&H1458,'Liste inscrits'!AH:AS,1,FALSE)),\"\",VLOOKUP(B1458&G1458&H1458,'Liste inscrits'!AH:AS,11,FALSE))","v":""}]
[]
["N° de LICENCE","NOM                     PRENOM\nen lettres capitales",null,"DIV","CR","CBD","N° \nSEC","N° \nASB","Qual. \nChpt AIN"]
[{"$f":"IF(B1465<>\"\",VLOOKUP(B1465,'Liste inscrits'!$A:$AD,2,FALSE),\"\")","v":""},{"$f":"IF(OFFSET('Liste inscrits'!$A$1,INT(ROW()/35)*4+(ROW()-INT(ROW()/35)*35)/7,0)<>\"\",OFFSET('Liste inscrits'!$A$1,INT(ROW()/35)*4+(ROW()-INT(ROW()/35)*35)/7,0),\"\")","v":""},null,{"$f":"IF(B1465<>\"\",VLOOKUP(B1465,'Liste inscrits'!$A:$AD,4,FALSE),\"\")","v":""},"ARA",1,{"$f":"IF(B1465<>\"\",VLOOKUP(B1465,'Liste inscrits'!$A:$AD,5,FALSE),\"\")","v":""},{"$f":"IF(B1465<>\"\",VLOOKUP(B1465,'Liste inscrits'!$A:$AD,6,FALSE),\"\")","v":""}]
[{"$f":"IF(B1465<>\"\",VLOOKUP(B1465,'Liste inscrits'!$A:$AD,8,FALSE),\"\")","v":""},{"$f":"IF(B1465<>\"\",VLOOKUP(B1465,'Liste inscrits'!$A:$AD,7,FALSE),\"\")","v":""},null,{"$f":"IF(B1465<>\"\",VLOOKUP(B1465,'Liste inscrits'!$A:$AD,10,FALSE),\"\")","v":""},"ARA",1,{"$f":"IF(B1465<>\"\",VLOOKUP(B1465,'Liste inscrits'!$A:$AD,11,FALSE),\"\")","v":""},{"$f":"IF(B1465<>\"\",VLOOKUP(B1465,'Liste inscrits'!$A:$AD,12,FALSE),\"\")","v":""}]
[{"$f":"IF(B1465<>\"\",VLOOKUP(B1465,'Liste inscrits'!$A:$AD,14,FALSE),\"\")","v":""},{"$f":"IF(B1465<>\"\",VLOOKUP(B1465,'Liste inscrits'!$A:$AD,13,FALSE),\"\")","v":""},null,{"$f":"IF(B1465<>\"\",VLOOKUP(B1465,'Liste inscrits'!$A:$AD,16,FALSE),\"\")","v":""},"ARA",1,{"$f":"IF(B1465<>\"\",VLOOKUP(B1465,'Liste inscrits'!$A:$AD,17,FALSE),\"\")","v":""},{"$f":"IF(B1465<>\"\",VLOOKUP(B1465,'Liste inscrits'!$A:$AD,18,FALSE),\"\")","v":""}]
[]
["Nb parties gagnées\ndans les poules",{"$f":"IF(ISERROR(VLOOKUP(B1465&G1465&H1465,'Liste inscrits'!AH:AJ,1,FALSE)),\"\",VLOOKUP(B1465&G1465&H1465,'Liste inscrits'!AH:AJ,3,FALSE))","v":""},"Classement \ndans la poule ",{"$f":"IF(ISERROR(VLOOKUP(B1465&G1465&H1465,'Liste inscrits'!AH:AU,1,FALSE)),\"\",VLOOKUP(B1465&G1465&H1465,'Liste inscrits'!AH:AU,14,FALSE)&\"  /  \"&VLOOKUP(B1465&G1465&H1465,'Liste inscrits'!AH:AU,13,FALSE))","v":"  /  "},"Nb de parties gagnées \naprès les poules ",null,null,{"$f":"IF(ISERROR(VLOOKUP(B1465&G1465&H1465,'Liste inscrits'!AH:AS,1,FALSE)),\"\",VLOOKUP(B1465&G1465&H1465,'Liste inscrits'!AH:AS,11,FALSE))","v":""}]
[]
[]
["C.B.D. AIN",null,{"$f":"$C$2","v":0},null,null,null,null,{"$f":"$H$2","v":0}]
[]
["SECTEUR :",{"$f":"$B$4","v":{"$error":"#VALUE!"}},null,"Lieu de la compétition :",{"$f":"$E$4","v":0}]
[]
["Date : ",{"$f":"$B$6","v":0},null,null,"Nombre total d'équipes participantes ",null,null,null,{"$f":"$I$6","v":0}]
[]
["N° de LICENCE","NOM                     PRENOM\nen lettres capitales",null,"DIV","CR","CBD","N° \nSEC","N° \nASB","Qual. \nChpt AIN"]
[{"$f":"IF(B1479<>\"\",VLOOKUP(B1479,'Liste inscrits'!$A:$AD,2,FALSE),\"\")","v":""},{"$f":"IF(OFFSET('Liste inscrits'!$A$1,INT(ROW()/35)*4+(ROW()-INT(ROW()/35)*35)/7,0)<>\"\",OFFSET('Liste inscrits'!$A$1,INT(ROW()/35)*4+(ROW()-INT(ROW()/35)*35)/7,0),\"\")","v":""},null,{"$f":"IF(B1479<>\"\",VLOOKUP(B1479,'Liste inscrits'!$A:$AD,4,FALSE),\"\")","v":""},"ARA",1,{"$f":"IF(B1479<>\"\",VLOOKUP(B1479,'Liste inscrits'!$A:$AD,5,FALSE),\"\")","v":""},{"$f":"IF(B1479<>\"\",VLOOKUP(B1479,'Liste inscrits'!$A:$AD,6,FALSE),\"\")","v":""}]
[{"$f":"IF(B1479<>\"\",VLOOKUP(B1479,'Liste inscrits'!$A:$AD,8,FALSE),\"\")","v":""},{"$f":"IF(B1479<>\"\",VLOOKUP(B1479,'Liste inscrits'!$A:$AD,7,FALSE),\"\")","v":""},null,{"$f":"IF(B1479<>\"\",VLOOKUP(B1479,'Liste inscrits'!$A:$AD,10,FALSE),\"\")","v":""},"ARA",1,{"$f":"IF(B1479<>\"\",VLOOKUP(B1479,'Liste inscrits'!$A:$AD,11,FALSE),\"\")","v":""},{"$f":"IF(B1479<>\"\",VLOOKUP(B1479,'Liste inscrits'!$A:$AD,12,FALSE),\"\")","v":""}]
[{"$f":"IF(B1479<>\"\",VLOOKUP(B1479,'Liste inscrits'!$A:$AD,14,FALSE),\"\")","v":""},{"$f":"IF(B1479<>\"\",VLOOKUP(B1479,'Liste inscrits'!$A:$AD,13,FALSE),\"\")","v":""},null,{"$f":"IF(B1479<>\"\",VLOOKUP(B1479,'Liste inscrits'!$A:$AD,16,FALSE),\"\")","v":""},"ARA",1,{"$f":"IF(B1479<>\"\",VLOOKUP(B1479,'Liste inscrits'!$A:$AD,17,FALSE),\"\")","v":""},{"$f":"IF(B1479<>\"\",VLOOKUP(B1479,'Liste inscrits'!$A:$AD,18,FALSE),\"\")","v":""}]
[]
["Nb parties gagnées\ndans les poules",{"$f":"IF(ISERROR(VLOOKUP(B1479&G1479&H1479,'Liste inscrits'!AH:AJ,1,FALSE)),\"\",VLOOKUP(B1479&G1479&H1479,'Liste inscrits'!AH:AJ,3,FALSE))","v":""},"Classement \ndans la poule ",{"$f":"IF(ISERROR(VLOOKUP(B1479&G1479&H1479,'Liste inscrits'!AH:AU,1,FALSE)),\"\",VLOOKUP(B1479&G1479&H1479,'Liste inscrits'!AH:AU,14,FALSE)&\"  /  \"&VLOOKUP(B1479&G1479&H1479,'Liste inscrits'!AH:AU,13,FALSE))","v":"  /  "},"Nb de parties gagnées \naprès les poules ",null,null,{"$f":"IF(ISERROR(VLOOKUP(B1479&G1479&H1479,'Liste inscrits'!AH:AS,1,FALSE)),\"\",VLOOKUP(B1479&G1479&H1479,'Liste inscrits'!AH:AS,11,FALSE))","v":""}]
[]
["N° de LICENCE","NOM                     PRENOM\nen lettres capitales",null,"DIV","CR","CBD","N° \nSEC","N° \nASB","Qual. \nChpt AIN"]
[{"$f":"IF(B1486<>\"\",VLOOKUP(B1486,'Liste inscrits'!$A:$AD,2,FALSE),\"\")","v":""},{"$f":"IF(OFFSET('Liste inscrits'!$A$1,INT(ROW()/35)*4+(ROW()-INT(ROW()/35)*35)/7,0)<>\"\",OFFSET('Liste inscrits'!$A$1,INT(ROW()/35)*4+(ROW()-INT(ROW()/35)*35)/7,0),\"\")","v":""},null,{"$f":"IF(B1486<>\"\",VLOOKUP(B1486,'Liste inscrits'!$A:$AD,4,FALSE),\"\")","v":""},"ARA",1,{"$f":"IF(B1486<>\"\",VLOOKUP(B1486,'Liste inscrits'!$A:$AD,5,FALSE),\"\")","v":""},{"$f":"IF(B1486<>\"\",VLOOKUP(B1486,'Liste inscrits'!$A:$AD,6,FALSE),\"\")","v":""}]
[{"$f":"IF(B1486<>\"\",VLOOKUP(B1486,'Liste inscrits'!$A:$AD,8,FALSE),\"\")","v":""},{"$f":"IF(B1486<>\"\",VLOOKUP(B1486,'Liste inscrits'!$A:$AD,7,FALSE),\"\")","v":""},null,{"$f":"IF(B1486<>\"\",VLOOKUP(B1486,'Liste inscrits'!$A:$AD,10,FALSE),\"\")","v":""},"ARA",1,{"$f":"IF(B1486<>\"\",VLOOKUP(B1486,'Liste inscrits'!$A:$AD,11,FALSE),\"\")","v":""},{"$f":"IF(B1486<>\"\",VLOOKUP(B1486,'Liste inscrits'!$A:$AD,12,FALSE),\"\")","v":""}]
[{"$f":"IF(B1486<>\"\",VLOOKUP(B1486,'Liste inscrits'!$A:$AD,14,FALSE),\"\")","v":""},{"$f":"IF(B1486<>\"\",VLOOKUP(B1486,'Liste inscrits'!$A:$AD,13,FALSE),\"\")","v":""},null,{"$f":"IF(B1486<>\"\",VLOOKUP(B1486,'Liste inscrits'!$A:$AD,16,FALSE),\"\")","v":""},"ARA",1,{"$f":"IF(B1486<>\"\",VLOOKUP(B1486,'Liste inscrits'!$A:$AD,17,FALSE),\"\")","v":""},{"$f":"IF(B1486<>\"\",VLOOKUP(B1486,'Liste inscrits'!$A:$AD,18,FALSE),\"\")","v":""}]
[]
["Nb parties gagnées\ndans les poules",{"$f":"IF(ISERROR(VLOOKUP(B1486&G1486&H1486,'Liste inscrits'!AH:AJ,1,FALSE)),\"\",VLOOKUP(B1486&G1486&H1486,'Liste inscrits'!AH:AJ,3,FALSE))","v":""},"Classement \ndans la poule ",{"$f":"IF(ISERROR(VLOOKUP(B1486&G1486&H1486,'Liste inscrits'!AH:AU,1,FALSE)),\"\",VLOOKUP(B1486&G1486&H1486,'Liste inscrits'!AH:AU,14,FALSE)&\"  /  \"&VLOOKUP(B1486&G1486&H1486,'Liste inscrits'!AH:AU,13,FALSE))","v":"  /  "},"Nb de parties gagnées \naprès les poules ",null,null,{"$f":"IF(ISERROR(VLOOKUP(B1486&G1486&H1486,'Liste inscrits'!AH:AS,1,FALSE)),\"\",VLOOKUP(B1486&G1486&H1486,'Liste inscrits'!AH:AS,11,FALSE))","v":""}]
[]
["N° de LICENCE","NOM                     PRENOM\nen lettres capitales",null,"DIV","CR","CBD","N° \nSEC","N° \nASB","Qual. \nChpt AIN"]
[{"$f":"IF(B1493<>\"\",VLOOKUP(B1493,'Liste inscrits'!$A:$AD,2,FALSE),\"\")","v":""},{"$f":"IF(OFFSET('Liste inscrits'!$A$1,INT(ROW()/35)*4+(ROW()-INT(ROW()/35)*35)/7,0)<>\"\",OFFSET('Liste inscrits'!$A$1,INT(ROW()/35)*4+(ROW()-INT(ROW()/35)*35)/7,0),\"\")","v":""},null,{"$f":"IF(B1493<>\"\",VLOOKUP(B1493,'Liste inscrits'!$A:$AD,4,FALSE),\"\")","v":""},"ARA",1,{"$f":"IF(B1493<>\"\",VLOOKUP(B1493,'Liste inscrits'!$A:$AD,5,FALSE),\"\")","v":""},{"$f":"IF(B1493<>\"\",VLOOKUP(B1493,'Liste inscrits'!$A:$AD,6,FALSE),\"\")","v":""}]
[{"$f":"IF(B1493<>\"\",VLOOKUP(B1493,'Liste inscrits'!$A:$AD,8,FALSE),\"\")","v":""},{"$f":"IF(B1493<>\"\",VLOOKUP(B1493,'Liste inscrits'!$A:$AD,7,FALSE),\"\")","v":""},null,{"$f":"IF(B1493<>\"\",VLOOKUP(B1493,'Liste inscrits'!$A:$AD,10,FALSE),\"\")","v":""},"ARA",1,{"$f":"IF(B1493<>\"\",VLOOKUP(B1493,'Liste inscrits'!$A:$AD,11,FALSE),\"\")","v":""},{"$f":"IF(B1493<>\"\",VLOOKUP(B1493,'Liste inscrits'!$A:$AD,12,FALSE),\"\")","v":""}]
[{"$f":"IF(B1493<>\"\",VLOOKUP(B1493,'Liste inscrits'!$A:$AD,14,FALSE),\"\")","v":""},{"$f":"IF(B1493<>\"\",VLOOKUP(B1493,'Liste inscrits'!$A:$AD,13,FALSE),\"\")","v":""},null,{"$f":"IF(B1493<>\"\",VLOOKUP(B1493,'Liste inscrits'!$A:$AD,16,FALSE),\"\")","v":""},"ARA",1,{"$f":"IF(B1493<>\"\",VLOOKUP(B1493,'Liste inscrits'!$A:$AD,17,FALSE),\"\")","v":""},{"$f":"IF(B1493<>\"\",VLOOKUP(B1493,'Liste inscrits'!$A:$AD,18,FALSE),\"\")","v":""}]
[]
["Nb parties gagnées\ndans les poules",{"$f":"IF(ISERROR(VLOOKUP(B1493&G1493&H1493,'Liste inscrits'!AH:AJ,1,FALSE)),\"\",VLOOKUP(B1493&G1493&H1493,'Liste inscrits'!AH:AJ,3,FALSE))","v":""},"Classement \ndans la poule ",{"$f":"IF(ISERROR(VLOOKUP(B1493&G1493&H1493,'Liste inscrits'!AH:AU,1,FALSE)),\"\",VLOOKUP(B1493&G1493&H1493,'Liste inscrits'!AH:AU,14,FALSE)&\"  /  \"&VLOOKUP(B1493&G1493&H1493,'Liste inscrits'!AH:AU,13,FALSE))","v":"  /  "},"Nb de parties gagnées \naprès les poules ",null,null,{"$f":"IF(ISERROR(VLOOKUP(B1493&G1493&H1493,'Liste inscrits'!AH:AS,1,FALSE)),\"\",VLOOKUP(B1493&G1493&H1493,'Liste inscrits'!AH:AS,11,FALSE))","v":""}]
[]
["N° de LICENCE","NOM                     PRENOM\nen lettres capitales",null,"DIV","CR","CBD","N° \nSEC","N° \nASB","Qual. \nChpt AIN"]
[{"$f":"IF(B1500<>\"\",VLOOKUP(B1500,'Liste inscrits'!$A:$AD,2,FALSE),\"\")","v":""},{"$f":"IF(OFFSET('Liste inscrits'!$A$1,INT(ROW()/35)*4+(ROW()-INT(ROW()/35)*35)/7,0)<>\"\",OFFSET('Liste inscrits'!$A$1,INT(ROW()/35)*4+(ROW()-INT(ROW()/35)*35)/7,0),\"\")","v":""},null,{"$f":"IF(B1500<>\"\",VLOOKUP(B1500,'Liste inscrits'!$A:$AD,4,FALSE),\"\")","v":""},"ARA",1,{"$f":"IF(B1500<>\"\",VLOOKUP(B1500,'Liste inscrits'!$A:$AD,5,FALSE),\"\")","v":""},{"$f":"IF(B1500<>\"\",VLOOKUP(B1500,'Liste inscrits'!$A:$AD,6,FALSE),\"\")","v":""}]
[{"$f":"IF(B1500<>\"\",VLOOKUP(B1500,'Liste inscrits'!$A:$AD,8,FALSE),\"\")","v":""},{"$f":"IF(B1500<>\"\",VLOOKUP(B1500,'Liste inscrits'!$A:$AD,7,FALSE),\"\")","v":""},null,{"$f":"IF(B1500<>\"\",VLOOKUP(B1500,'Liste inscrits'!$A:$AD,10,FALSE),\"\")","v":""},"ARA",1,{"$f":"IF(B1500<>\"\",VLOOKUP(B1500,'Liste inscrits'!$A:$AD,11,FALSE),\"\")","v":""},{"$f":"IF(B1500<>\"\",VLOOKUP(B1500,'Liste inscrits'!$A:$AD,12,FALSE),\"\")","v":""}]
[{"$f":"IF(B1500<>\"\",VLOOKUP(B1500,'Liste inscrits'!$A:$AD,14,FALSE),\"\")","v":""},{"$f":"IF(B1500<>\"\",VLOOKUP(B1500,'Liste inscrits'!$A:$AD,13,FALSE),\"\")","v":""},null,{"$f":"IF(B1500<>\"\",VLOOKUP(B1500,'Liste inscrits'!$A:$AD,16,FALSE),\"\")","v":""},"ARA",1,{"$f":"IF(B1500<>\"\",VLOOKUP(B1500,'Liste inscrits'!$A:$AD,17,FALSE),\"\")","v":""},{"$f":"IF(B1500<>\"\",VLOOKUP(B1500,'Liste inscrits'!$A:$AD,18,FALSE),\"\")","v":""}]
[]
["Nb parties gagnées\ndans les poules",{"$f":"IF(ISERROR(VLOOKUP(B1500&G1500&H1500,'Liste inscrits'!AH:AJ,1,FALSE)),\"\",VLOOKUP(B1500&G1500&H1500,'Liste inscrits'!AH:AJ,3,FALSE))","v":""},"Classement \ndans la poule ",{"$f":"IF(ISERROR(VLOOKUP(B1500&G1500&H1500,'Liste inscrits'!AH:AU,1,FALSE)),\"\",VLOOKUP(B1500&G1500&H1500,'Liste inscrits'!AH:AU,14,FALSE)&\"  /  \"&VLOOKUP(B1500&G1500&H1500,'Liste inscrits'!AH:AU,13,FALSE))","v":"  /  "},"Nb de parties gagnées \naprès les poules ",null,null,{"$f":"IF(ISERROR(VLOOKUP(B1500&G1500&H1500,'Liste inscrits'!AH:AS,1,FALSE)),\"\",VLOOKUP(B1500&G1500&H1500,'Liste inscrits'!AH:AS,11,FALSE))","v":""}]
[]
[]
["C.B.D. AIN",null,{"$f":"$C$2","v":0},null,null,null,null,{"$f":"$H$2","v":0}]
[]
["SECTEUR :",{"$f":"$B$4","v":{"$error":"#VALUE!"}},null,"Lieu de la compétition :",{"$f":"$E$4","v":0}]
[]
["Date : ",{"$f":"$B$6","v":0},null,null,"Nombre total d'équipes participantes ",null,null,null,{"$f":"$I$6","v":0}]
[]
["N° de LICENCE","NOM                     PRENOM\nen lettres capitales",null,"DIV","CR","CBD","N° \nSEC","N° \nASB","Qual. \nChpt AIN"]
[{"$f":"IF(B1514<>\"\",VLOOKUP(B1514,'Liste inscrits'!$A:$AD,2,FALSE),\"\")","v":""},{"$f":"IF(OFFSET('Liste inscrits'!$A$1,INT(ROW()/35)*4+(ROW()-INT(ROW()/35)*35)/7,0)<>\"\",OFFSET('Liste inscrits'!$A$1,INT(ROW()/35)*4+(ROW()-INT(ROW()/35)*35)/7,0),\"\")","v":""},null,{"$f":"IF(B1514<>\"\",VLOOKUP(B1514,'Liste inscrits'!$A:$AD,4,FALSE),\"\")","v":""},"ARA",1,{"$f":"IF(B1514<>\"\",VLOOKUP(B1514,'Liste inscrits'!$A:$AD,5,FALSE),\"\")","v":""},{"$f":"IF(B1514<>\"\",VLOOKUP(B1514,'Liste inscrits'!$A:$AD,6,FALSE),\"\")","v":""}]
[{"$f":"IF(B1514<>\"\",VLOOKUP(B1514,'Liste inscrits'!$A:$AD,8,FALSE),\"\")","v":""},{"$f":"IF(B1514<>\"\",VLOOKUP(B1514,'Liste inscrits'!$A:$AD,7,FALSE),\"\")","v":""},null,{"$f":"IF(B1514<>\"\",VLOOKUP(B1514,'Liste inscrits'!$A:$AD,10,FALSE),\"\")","v":""},"ARA",1,{"$f":"IF(B1514<>\"\",VLOOKUP(B1514,'Liste inscrits'!$A:$AD,11,FALSE),\"\")","v":""},{"$f":"IF(B1514<>\"\",VLOOKUP(B1514,'Liste inscrits'!$A:$AD,12,FALSE),\"\")","v":""}]
[{"$f":"IF(B1514<>\"\",VLOOKUP(B1514,'Liste inscrits'!$A:$AD,14,FALSE),\"\")","v":""},{"$f":"IF(B1514<>\"\",VLOOKUP(B1514,'Liste inscrits'!$A:$AD,13,FALSE),\"\")","v":""},null,{"$f":"IF(B1514<>\"\",VLOOKUP(B1514,'Liste inscrits'!$A:$AD,16,FALSE),\"\")","v":""},"ARA",1,{"$f":"IF(B1514<>\"\",VLOOKUP(B1514,'Liste inscrits'!$A:$AD,17,FALSE),\"\")","v":""},{"$f":"IF(B1514<>\"\",VLOOKUP(B1514,'Liste inscrits'!$A:$AD,18,FALSE),\"\")","v":""}]
[]
["Nb parties gagnées\ndans les poules",{"$f":"IF(ISERROR(VLOOKUP(B1514&G1514&H1514,'Liste inscrits'!AH:AJ,1,FALSE)),\"\",VLOOKUP(B1514&G1514&H1514,'Liste inscrits'!AH:AJ,3,FALSE))","v":""},"Classement \ndans la poule ",{"$f":"IF(ISERROR(VLOOKUP(B1514&G1514&H1514,'Liste inscrits'!AH:AU,1,FALSE)),\"\",VLOOKUP(B1514&G1514&H1514,'Liste inscrits'!AH:AU,14,FALSE)&\"  /  \"&VLOOKUP(B1514&G1514&H1514,'Liste inscrits'!AH:AU,13,FALSE))","v":"  /  "},"Nb de parties gagnées \naprès les poules ",null,null,{"$f":"IF(ISERROR(VLOOKUP(B1514&G1514&H1514,'Liste inscrits'!AH:AS,1,FALSE)),\"\",VLOOKUP(B1514&G1514&H1514,'Liste inscrits'!AH:AS,11,FALSE))","v":""}]
[]
["N° de LICENCE","NOM                     PRENOM\nen lettres capitales",null,"DIV","CR","CBD","N° \nSEC","N° \nASB","Qual. \nChpt AIN"]
[{"$f":"IF(B1521<>\"\",VLOOKUP(B1521,'Liste inscrits'!$A:$AD,2,FALSE),\"\")","v":""},{"$f":"IF(OFFSET('Liste inscrits'!$A$1,INT(ROW()/35)*4+(ROW()-INT(ROW()/35)*35)/7,0)<>\"\",OFFSET('Liste inscrits'!$A$1,INT(ROW()/35)*4+(ROW()-INT(ROW()/35)*35)/7,0),\"\")","v":""},null,{"$f":"IF(B1521<>\"\",VLOOKUP(B1521,'Liste inscrits'!$A:$AD,4,FALSE),\"\")","v":""},"ARA",1,{"$f":"IF(B1521<>\"\",VLOOKUP(B1521,'Liste inscrits'!$A:$AD,5,FALSE),\"\")","v":""},{"$f":"IF(B1521<>\"\",VLOOKUP(B1521,'Liste inscrits'!$A:$AD,6,FALSE),\"\")","v":""}]
[{"$f":"IF(B1521<>\"\",VLOOKUP(B1521,'Liste inscrits'!$A:$AD,8,FALSE),\"\")","v":""},{"$f":"IF(B1521<>\"\",VLOOKUP(B1521,'Liste inscrits'!$A:$AD,7,FALSE),\"\")","v":""},null,{"$f":"IF(B1521<>\"\",VLOOKUP(B1521,'Liste inscrits'!$A:$AD,10,FALSE),\"\")","v":""},"ARA",1,{"$f":"IF(B1521<>\"\",VLOOKUP(B1521,'Liste inscrits'!$A:$AD,11,FALSE),\"\")","v":""},{"$f":"IF(B1521<>\"\",VLOOKUP(B1521,'Liste inscrits'!$A:$AD,12,FALSE),\"\")","v":""}]
[{"$f":"IF(B1521<>\"\",VLOOKUP(B1521,'Liste inscrits'!$A:$AD,14,FALSE),\"\")","v":""},{"$f":"IF(B1521<>\"\",VLOOKUP(B1521,'Liste inscrits'!$A:$AD,13,FALSE),\"\")","v":""},null,{"$f":"IF(B1521<>\"\",VLOOKUP(B1521,'Liste inscrits'!$A:$AD,16,FALSE),\"\")","v":""},"ARA",1,{"$f":"IF(B1521<>\"\",VLOOKUP(B1521,'Liste inscrits'!$A:$AD,17,FALSE),\"\")","v":""},{"$f":"IF(B1521<>\"\",VLOOKUP(B1521,'Liste inscrits'!$A:$AD,18,FALSE),\"\")","v":""}]
[]
["Nb parties gagnées\ndans les poules",{"$f":"IF(ISERROR(VLOOKUP(B1521&G1521&H1521,'Liste inscrits'!AH:AJ,1,FALSE)),\"\",VLOOKUP(B1521&G1521&H1521,'Liste inscrits'!AH:AJ,3,FALSE))","v":""},"Classement \ndans la poule ",{"$f":"IF(ISERROR(VLOOKUP(B1521&G1521&H1521,'Liste inscrits'!AH:AU,1,FALSE)),\"\",VLOOKUP(B1521&G1521&H1521,'Liste inscrits'!AH:AU,14,FALSE)&\"  /  \"&VLOOKUP(B1521&G1521&H1521,'Liste inscrits'!AH:AU,13,FALSE))","v":"  /  "},"Nb de parties gagnées \naprès les poules ",null,null,{"$f":"IF(ISERROR(VLOOKUP(B1521&G1521&H1521,'Liste inscrits'!AH:AS,1,FALSE)),\"\",VLOOKUP(B1521&G1521&H1521,'Liste inscrits'!AH:AS,11,FALSE))","v":""}]
[]
["N° de LICENCE","NOM                     PRENOM\nen lettres capitales",null,"DIV","CR","CBD","N° \nSEC","N° \nASB","Qual. \nChpt AIN"]
[{"$f":"IF(B1528<>\"\",VLOOKUP(B1528,'Liste inscrits'!$A:$AD,2,FALSE),\"\")","v":""},{"$f":"IF(OFFSET('Liste inscrits'!$A$1,INT(ROW()/35)*4+(ROW()-INT(ROW()/35)*35)/7,0)<>\"\",OFFSET('Liste inscrits'!$A$1,INT(ROW()/35)*4+(ROW()-INT(ROW()/35)*35)/7,0),\"\")","v":""},null,{"$f":"IF(B1528<>\"\",VLOOKUP(B1528,'Liste inscrits'!$A:$AD,4,FALSE),\"\")","v":""},"ARA",1,{"$f":"IF(B1528<>\"\",VLOOKUP(B1528,'Liste inscrits'!$A:$AD,5,FALSE),\"\")","v":""},{"$f":"IF(B1528<>\"\",VLOOKUP(B1528,'Liste inscrits'!$A:$AD,6,FALSE),\"\")","v":""}]
[{"$f":"IF(B1528<>\"\",VLOOKUP(B1528,'Liste inscrits'!$A:$AD,8,FALSE),\"\")","v":""},{"$f":"IF(B1528<>\"\",VLOOKUP(B1528,'Liste inscrits'!$A:$AD,7,FALSE),\"\")","v":""},null,{"$f":"IF(B1528<>\"\",VLOOKUP(B1528,'Liste inscrits'!$A:$AD,10,FALSE),\"\")","v":""},"ARA",1,{"$f":"IF(B1528<>\"\",VLOOKUP(B1528,'Liste inscrits'!$A:$AD,11,FALSE),\"\")","v":""},{"$f":"IF(B1528<>\"\",VLOOKUP(B1528,'Liste inscrits'!$A:$AD,12,FALSE),\"\")","v":""}]
[{"$f":"IF(B1528<>\"\",VLOOKUP(B1528,'Liste inscrits'!$A:$AD,14,FALSE),\"\")","v":""},{"$f":"IF(B1528<>\"\",VLOOKUP(B1528,'Liste inscrits'!$A:$AD,13,FALSE),\"\")","v":""},null,{"$f":"IF(B1528<>\"\",VLOOKUP(B1528,'Liste inscrits'!$A:$AD,16,FALSE),\"\")","v":""},"ARA",1,{"$f":"IF(B1528<>\"\",VLOOKUP(B1528,'Liste inscrits'!$A:$AD,17,FALSE),\"\")","v":""},{"$f":"IF(B1528<>\"\",VLOOKUP(B1528,'Liste inscrits'!$A:$AD,18,FALSE),\"\")","v":""}]
[]
["Nb parties gagnées\ndans les poules",{"$f":"IF(ISERROR(VLOOKUP(B1528&G1528&H1528,'Liste inscrits'!AH:AJ,1,FALSE)),\"\",VLOOKUP(B1528&G1528&H1528,'Liste inscrits'!AH:AJ,3,FALSE))","v":""},"Classement \ndans la poule ",{"$f":"IF(ISERROR(VLOOKUP(B1528&G1528&H1528,'Liste inscrits'!AH:AU,1,FALSE)),\"\",VLOOKUP(B1528&G1528&H1528,'Liste inscrits'!AH:AU,14,FALSE)&\"  /  \"&VLOOKUP(B1528&G1528&H1528,'Liste inscrits'!AH:AU,13,FALSE))","v":"  /  "},"Nb de parties gagnées \naprès les poules ",null,null,{"$f":"IF(ISERROR(VLOOKUP(B1528&G1528&H1528,'Liste inscrits'!AH:AS,1,FALSE)),\"\",VLOOKUP(B1528&G1528&H1528,'Liste inscrits'!AH:AS,11,FALSE))","v":""}]
[]
["N° de LICENCE","NOM                     PRENOM\nen lettres capitales",null,"DIV","CR","CBD","N° \nSEC","N° \nASB","Qual. \nChpt AIN"]
[{"$f":"IF(B1535<>\"\",VLOOKUP(B1535,'Liste inscrits'!$A:$AD,2,FALSE),\"\")","v":""},{"$f":"IF(OFFSET('Liste inscrits'!$A$1,INT(ROW()/35)*4+(ROW()-INT(ROW()/35)*35)/7,0)<>\"\",OFFSET('Liste inscrits'!$A$1,INT(ROW()/35)*4+(ROW()-INT(ROW()/35)*35)/7,0),\"\")","v":""},null,{"$f":"IF(B1535<>\"\",VLOOKUP(B1535,'Liste inscrits'!$A:$AD,4,FALSE),\"\")","v":""},"ARA",1,{"$f":"IF(B1535<>\"\",VLOOKUP(B1535,'Liste inscrits'!$A:$AD,5,FALSE),\"\")","v":""},{"$f":"IF(B1535<>\"\",VLOOKUP(B1535,'Liste inscrits'!$A:$AD,6,FALSE),\"\")","v":""}]
[{"$f":"IF(B1535<>\"\",VLOOKUP(B1535,'Liste inscrits'!$A:$AD,8,FALSE),\"\")","v":""},{"$f":"IF(B1535<>\"\",VLOOKUP(B1535,'Liste inscrits'!$A:$AD,7,FALSE),\"\")","v":""},null,{"$f":"IF(B1535<>\"\",VLOOKUP(B1535,'Liste inscrits'!$A:$AD,10,FALSE),\"\")","v":""},"ARA",1,{"$f":"IF(B1535<>\"\",VLOOKUP(B1535,'Liste inscrits'!$A:$AD,11,FALSE),\"\")","v":""},{"$f":"IF(B1535<>\"\",VLOOKUP(B1535,'Liste inscrits'!$A:$AD,12,FALSE),\"\")","v":""}]
[{"$f":"IF(B1535<>\"\",VLOOKUP(B1535,'Liste inscrits'!$A:$AD,14,FALSE),\"\")","v":""},{"$f":"IF(B1535<>\"\",VLOOKUP(B1535,'Liste inscrits'!$A:$AD,13,FALSE),\"\")","v":""},null,{"$f":"IF(B1535<>\"\",VLOOKUP(B1535,'Liste inscrits'!$A:$AD,16,FALSE),\"\")","v":""},"ARA",1,{"$f":"IF(B1535<>\"\",VLOOKUP(B1535,'Liste inscrits'!$A:$AD,17,FALSE),\"\")","v":""},{"$f":"IF(B1535<>\"\",VLOOKUP(B1535,'Liste inscrits'!$A:$AD,18,FALSE),\"\")","v":""}]
[]
["Nb parties gagnées\ndans les poules",{"$f":"IF(ISERROR(VLOOKUP(B1535&G1535&H1535,'Liste inscrits'!AH:AJ,1,FALSE)),\"\",VLOOKUP(B1535&G1535&H1535,'Liste inscrits'!AH:AJ,3,FALSE))","v":""},"Classement \ndans la poule ",{"$f":"IF(ISERROR(VLOOKUP(B1535&G1535&H1535,'Liste inscrits'!AH:AU,1,FALSE)),\"\",VLOOKUP(B1535&G1535&H1535,'Liste inscrits'!AH:AU,14,FALSE)&\"  /  \"&VLOOKUP(B1535&G1535&H1535,'Liste inscrits'!AH:AU,13,FALSE))","v":"  /  "},"Nb de parties gagnées \naprès les poules ",null,null,{"$f":"IF(ISERROR(VLOOKUP(B1535&G1535&H1535,'Liste inscrits'!AH:AS,1,FALSE)),\"\",VLOOKUP(B1535&G1535&H1535,'Liste inscrits'!AH:AS,11,FALSE))","v":""}]
[]
[]
["C.B.D. AIN",null,{"$f":"$C$2","v":0},null,null,null,null,{"$f":"$H$2","v":0}]
[]
["SECTEUR :",{"$f":"$B$4","v":{"$error":"#VALUE!"}},null,"Lieu de la compétition :",{"$f":"$E$4","v":0}]
[]
["Date : ",{"$f":"$B$6","v":0},null,null,"Nombre total d'équipes participantes ",null,null,null,{"$f":"$I$6","v":0}]
[]
["N° de LICENCE","NOM                     PRENOM\nen lettres capitales",null,"DIV","CR","CBD","N° \nSEC","N° \nASB","Qual. \nChpt AIN"]
[{"$f":"IF(B1549<>\"\",VLOOKUP(B1549,'Liste inscrits'!$A:$AD,2,FALSE),\"\")","v":""},{"$f":"IF(OFFSET('Liste inscrits'!$A$1,INT(ROW()/35)*4+(ROW()-INT(ROW()/35)*35)/7,0)<>\"\",OFFSET('Liste inscrits'!$A$1,INT(ROW()/35)*4+(ROW()-INT(ROW()/35)*35)/7,0),\"\")","v":""},null,{"$f":"IF(B1549<>\"\",VLOOKUP(B1549,'Liste inscrits'!$A:$AD,4,FALSE),\"\")","v":""},"ARA",1,{"$f":"IF(B1549<>\"\",VLOOKUP(B1549,'Liste inscrits'!$A:$AD,5,FALSE),\"\")","v":""},{"$f":"IF(B1549<>\"\",VLOOKUP(B1549,'Liste inscrits'!$A:$AD,6,FALSE),\"\")","v":""}]
[{"$f":"IF(B1549<>\"\",VLOOKUP(B1549,'Liste inscrits'!$A:$AD,8,FALSE),\"\")","v":""},{"$f":"IF(B1549<>\"\",VLOOKUP(B1549,'Liste inscrits'!$A:$AD,7,FALSE),\"\")","v":""},null,{"$f":"IF(B1549<>\"\",VLOOKUP(B1549,'Liste inscrits'!$A:$AD,10,FALSE),\"\")","v":""},"ARA",1,{"$f":"IF(B1549<>\"\",VLOOKUP(B1549,'Liste inscrits'!$A:$AD,11,FALSE),\"\")","v":""},{"$f":"IF(B1549<>\"\",VLOOKUP(B1549,'Liste inscrits'!$A:$AD,12,FALSE),\"\")","v":""}]
[{"$f":"IF(B1549<>\"\",VLOOKUP(B1549,'Liste inscrits'!$A:$AD,14,FALSE),\"\")","v":""},{"$f":"IF(B1549<>\"\",VLOOKUP(B1549,'Liste inscrits'!$A:$AD,13,FALSE),\"\")","v":""},null,{"$f":"IF(B1549<>\"\",VLOOKUP(B1549,'Liste inscrits'!$A:$AD,16,FALSE),\"\")","v":""},"ARA",1,{"$f":"IF(B1549<>\"\",VLOOKUP(B1549,'Liste inscrits'!$A:$AD,17,FALSE),\"\")","v":""},{"$f":"IF(B1549<>\"\",VLOOKUP(B1549,'Liste inscrits'!$A:$AD,18,FALSE),\"\")","v":""}]
[]
["Nb parties gagnées\ndans les poules",{"$f":"IF(ISERROR(VLOOKUP(B1549&G1549&H1549,'Liste inscrits'!AH:AJ,1,FALSE)),\"\",VLOOKUP(B1549&G1549&H1549,'Liste inscrits'!AH:AJ,3,FALSE))","v":""},"Classement \ndans la poule ",{"$f":"IF(ISERROR(VLOOKUP(B1549&G1549&H1549,'Liste inscrits'!AH:AU,1,FALSE)),\"\",VLOOKUP(B1549&G1549&H1549,'Liste inscrits'!AH:AU,14,FALSE)&\"  /  \"&VLOOKUP(B1549&G1549&H1549,'Liste inscrits'!AH:AU,13,FALSE))","v":"  /  "},"Nb de parties gagnées \naprès les poules ",null,null,{"$f":"IF(ISERROR(VLOOKUP(B1549&G1549&H1549,'Liste inscrits'!AH:AS,1,FALSE)),\"\",VLOOKUP(B1549&G1549&H1549,'Liste inscrits'!AH:AS,11,FALSE))","v":""}]
[]
["N° de LICENCE","NOM                     PRENOM\nen lettres capitales",null,"DIV","CR","CBD","N° \nSEC","N° \nASB","Qual. \nChpt AIN"]
[{"$f":"IF(B1556<>\"\",VLOOKUP(B1556,'Liste inscrits'!$A:$AD,2,FALSE),\"\")","v":""},{"$f":"IF(OFFSET('Liste inscrits'!$A$1,INT(ROW()/35)*4+(ROW()-INT(ROW()/35)*35)/7,0)<>\"\",OFFSET('Liste inscrits'!$A$1,INT(ROW()/35)*4+(ROW()-INT(ROW()/35)*35)/7,0),\"\")","v":""},null,{"$f":"IF(B1556<>\"\",VLOOKUP(B1556,'Liste inscrits'!$A:$AD,4,FALSE),\"\")","v":""},"ARA",1,{"$f":"IF(B1556<>\"\",VLOOKUP(B1556,'Liste inscrits'!$A:$AD,5,FALSE),\"\")","v":""},{"$f":"IF(B1556<>\"\",VLOOKUP(B1556,'Liste inscrits'!$A:$AD,6,FALSE),\"\")","v":""}]
[{"$f":"IF(B1556<>\"\",VLOOKUP(B1556,'Liste inscrits'!$A:$AD,8,FALSE),\"\")","v":""},{"$f":"IF(B1556<>\"\",VLOOKUP(B1556,'Liste inscrits'!$A:$AD,7,FALSE),\"\")","v":""},null,{"$f":"IF(B1556<>\"\",VLOOKUP(B1556,'Liste inscrits'!$A:$AD,10,FALSE),\"\")","v":""},"ARA",1,{"$f":"IF(B1556<>\"\",VLOOKUP(B1556,'Liste inscrits'!$A:$AD,11,FALSE),\"\")","v":""},{"$f":"IF(B1556<>\"\",VLOOKUP(B1556,'Liste inscrits'!$A:$AD,12,FALSE),\"\")","v":""}]
[{"$f":"IF(B1556<>\"\",VLOOKUP(B1556,'Liste inscrits'!$A:$AD,14,FALSE),\"\")","v":""},{"$f":"IF(B1556<>\"\",VLOOKUP(B1556,'Liste inscrits'!$A:$AD,13,FALSE),\"\")","v":""},null,{"$f":"IF(B1556<>\"\",VLOOKUP(B1556,'Liste inscrits'!$A:$AD,16,FALSE),\"\")","v":""},"ARA",1,{"$f":"IF(B1556<>\"\",VLOOKUP(B1556,'Liste inscrits'!$A:$AD,17,FALSE),\"\")","v":""},{"$f":"IF(B1556<>\"\",VLOOKUP(B1556,'Liste inscrits'!$A:$AD,18,FALSE),\"\")","v":""}]
[]
["Nb parties gagnées\ndans les poules",{"$f":"IF(ISERROR(VLOOKUP(B1556&G1556&H1556,'Liste inscrits'!AH:AJ,1,FALSE)),\"\",VLOOKUP(B1556&G1556&H1556,'Liste inscrits'!AH:AJ,3,FALSE))","v":""},"Classement \ndans la poule ",{"$f":"IF(ISERROR(VLOOKUP(B1556&G1556&H1556,'Liste inscrits'!AH:AU,1,FALSE)),\"\",VLOOKUP(B1556&G1556&H1556,'Liste inscrits'!AH:AU,14,FALSE)&\"  /  \"&VLOOKUP(B1556&G1556&H1556,'Liste inscrits'!AH:AU,13,FALSE))","v":"  /  "},"Nb de parties gagnées \naprès les poules ",null,null,{"$f":"IF(ISERROR(VLOOKUP(B1556&G1556&H1556,'Liste inscrits'!AH:AS,1,FALSE)),\"\",VLOOKUP(B1556&G1556&H1556,'Liste inscrits'!AH:AS,11,FALSE))","v":""}]
[]
["N° de LICENCE","NOM                     PRENOM\nen lettres capitales",null,"DIV","CR","CBD","N° \nSEC","N° \nASB","Qual. \nChpt AIN"]
[{"$f":"IF(B1563<>\"\",VLOOKUP(B1563,'Liste inscrits'!$A:$AD,2,FALSE),\"\")","v":""},{"$f":"IF(OFFSET('Liste inscrits'!$A$1,INT(ROW()/35)*4+(ROW()-INT(ROW()/35)*35)/7,0)<>\"\",OFFSET('Liste inscrits'!$A$1,INT(ROW()/35)*4+(ROW()-INT(ROW()/35)*35)/7,0),\"\")","v":""},null,{"$f":"IF(B1563<>\"\",VLOOKUP(B1563,'Liste inscrits'!$A:$AD,4,FALSE),\"\")","v":""},"ARA",1,{"$f":"IF(B1563<>\"\",VLOOKUP(B1563,'Liste inscrits'!$A:$AD,5,FALSE),\"\")","v":""},{"$f":"IF(B1563<>\"\",VLOOKUP(B1563,'Liste inscrits'!$A:$AD,6,FALSE),\"\")","v":""}]
[{"$f":"IF(B1563<>\"\",VLOOKUP(B1563,'Liste inscrits'!$A:$AD,8,FALSE),\"\")","v":""},{"$f":"IF(B1563<>\"\",VLOOKUP(B1563,'Liste inscrits'!$A:$AD,7,FALSE),\"\")","v":""},null,{"$f":"IF(B1563<>\"\",VLOOKUP(B1563,'Liste inscrits'!$A:$AD,10,FALSE),\"\")","v":""},"ARA",1,{"$f":"IF(B1563<>\"\",VLOOKUP(B1563,'Liste inscrits'!$A:$AD,11,FALSE),\"\")","v":""},{"$f":"IF(B1563<>\"\",VLOOKUP(B1563,'Liste inscrits'!$A:$AD,12,FALSE),\"\")","v":""}]
[{"$f":"IF(B1563<>\"\",VLOOKUP(B1563,'Liste inscrits'!$A:$AD,14,FALSE),\"\")","v":""},{"$f":"IF(B1563<>\"\",VLOOKUP(B1563,'Liste inscrits'!$A:$AD,13,FALSE),\"\")","v":""},null,{"$f":"IF(B1563<>\"\",VLOOKUP(B1563,'Liste inscrits'!$A:$AD,16,FALSE),\"\")","v":""},"ARA",1,{"$f":"IF(B1563<>\"\",VLOOKUP(B1563,'Liste inscrits'!$A:$AD,17,FALSE),\"\")","v":""},{"$f":"IF(B1563<>\"\",VLOOKUP(B1563,'Liste inscrits'!$A:$AD,18,FALSE),\"\")","v":""}]
[]
["Nb parties gagnées\ndans les poules",{"$f":"IF(ISERROR(VLOOKUP(B1563&G1563&H1563,'Liste inscrits'!AH:AJ,1,FALSE)),\"\",VLOOKUP(B1563&G1563&H1563,'Liste inscrits'!AH:AJ,3,FALSE))","v":""},"Classement \ndans la poule ",{"$f":"IF(ISERROR(VLOOKUP(B1563&G1563&H1563,'Liste inscrits'!AH:AU,1,FALSE)),\"\",VLOOKUP(B1563&G1563&H1563,'Liste inscrits'!AH:AU,14,FALSE)&\"  /  \"&VLOOKUP(B1563&G1563&H1563,'Liste inscrits'!AH:AU,13,FALSE))","v":"  /  "},"Nb de parties gagnées \naprès les poules ",null,null,{"$f":"IF(ISERROR(VLOOKUP(B1563&G1563&H1563,'Liste inscrits'!AH:AS,1,FALSE)),\"\",VLOOKUP(B1563&G1563&H1563,'Liste inscrits'!AH:AS,11,FALSE))","v":""}]
[]
["N° de LICENCE","NOM                     PRENOM\nen lettres capitales",null,"DIV","CR","CBD","N° \nSEC","N° \nASB","Qual. \nChpt AIN"]
[{"$f":"IF(B1570<>\"\",VLOOKUP(B1570,'Liste inscrits'!$A:$AD,2,FALSE),\"\")","v":""},{"$f":"IF(OFFSET('Liste inscrits'!$A$1,INT(ROW()/35)*4+(ROW()-INT(ROW()/35)*35)/7,0)<>\"\",OFFSET('Liste inscrits'!$A$1,INT(ROW()/35)*4+(ROW()-INT(ROW()/35)*35)/7,0),\"\")","v":""},null,{"$f":"IF(B1570<>\"\",VLOOKUP(B1570,'Liste inscrits'!$A:$AD,4,FALSE),\"\")","v":""},"ARA",1,{"$f":"IF(B1570<>\"\",VLOOKUP(B1570,'Liste inscrits'!$A:$AD,5,FALSE),\"\")","v":""},{"$f":"IF(B1570<>\"\",VLOOKUP(B1570,'Liste inscrits'!$A:$AD,6,FALSE),\"\")","v":""}]
[{"$f":"IF(B1570<>\"\",VLOOKUP(B1570,'Liste inscrits'!$A:$AD,8,FALSE),\"\")","v":""},{"$f":"IF(B1570<>\"\",VLOOKUP(B1570,'Liste inscrits'!$A:$AD,7,FALSE),\"\")","v":""},null,{"$f":"IF(B1570<>\"\",VLOOKUP(B1570,'Liste inscrits'!$A:$AD,10,FALSE),\"\")","v":""},"ARA",1,{"$f":"IF(B1570<>\"\",VLOOKUP(B1570,'Liste inscrits'!$A:$AD,11,FALSE),\"\")","v":""},{"$f":"IF(B1570<>\"\",VLOOKUP(B1570,'Liste inscrits'!$A:$AD,12,FALSE),\"\")","v":""}]
[{"$f":"IF(B1570<>\"\",VLOOKUP(B1570,'Liste inscrits'!$A:$AD,14,FALSE),\"\")","v":""},{"$f":"IF(B1570<>\"\",VLOOKUP(B1570,'Liste inscrits'!$A:$AD,13,FALSE),\"\")","v":""},null,{"$f":"IF(B1570<>\"\",VLOOKUP(B1570,'Liste inscrits'!$A:$AD,16,FALSE),\"\")","v":""},"ARA",1,{"$f":"IF(B1570<>\"\",VLOOKUP(B1570,'Liste inscrits'!$A:$AD,17,FALSE),\"\")","v":""},{"$f":"IF(B1570<>\"\",VLOOKUP(B1570,'Liste inscrits'!$A:$AD,18,FALSE),\"\")","v":""}]
[]
["Nb parties gagnées\ndans les poules",{"$f":"IF(ISERROR(VLOOKUP(B1570&G1570&H1570,'Liste inscrits'!AH:AJ,1,FALSE)),\"\",VLOOKUP(B1570&G1570&H1570,'Liste inscrits'!AH:AJ,3,FALSE))","v":""},"Classement \ndans la poule ",{"$f":"IF(ISERROR(VLOOKUP(B1570&G1570&H1570,'Liste inscrits'!AH:AU,1,FALSE)),\"\",VLOOKUP(B1570&G1570&H1570,'Liste inscrits'!AH:AU,14,FALSE)&\"  /  \"&VLOOKUP(B1570&G1570&H1570,'Liste inscrits'!AH:AU,13,FALSE))","v":"  /  "},"Nb de parties gagnées \naprès les poules ",null,null,{"$f":"IF(ISERROR(VLOOKUP(B1570&G1570&H1570,'Liste inscrits'!AH:AS,1,FALSE)),\"\",VLOOKUP(B1570&G1570&H1570,'Liste inscrits'!AH:AS,11,FALSE))","v":""}]
[]
[]
["C.B.D. AIN",null,{"$f":"$C$2","v":0},null,null,null,null,{"$f":"$H$2","v":0}]
[]
["SECTEUR :",{"$f":"$B$4","v":{"$error":"#VALUE!"}},null,"Lieu de la compétition :",{"$f":"$E$4","v":0}]
[]
["Date : ",{"$f":"$B$6","v":0},null,null,"Nombre total d'équipes participantes ",null,null,null,{"$f":"$I$6","v":0}]
[]
["N° de LICENCE","NOM                     PRENOM\nen lettres capitales",null,"DIV","CR","CBD","N° \nSEC","N° \nASB","Qual. \nChpt AIN"]
[{"$f":"IF(B1584<>\"\",VLOOKUP(B1584,'Liste inscrits'!$A:$AD,2,FALSE),\"\")","v":""},{"$f":"IF(OFFSET('Liste inscrits'!$A$1,INT(ROW()/35)*4+(ROW()-INT(ROW()/35)*35)/7,0)<>\"\",OFFSET('Liste inscrits'!$A$1,INT(ROW()/35)*4+(ROW()-INT(ROW()/35)*35)/7,0),\"\")","v":""},null,{"$f":"IF(B1584<>\"\",VLOOKUP(B1584,'Liste inscrits'!$A:$AD,4,FALSE),\"\")","v":""},"ARA",1,{"$f":"IF(B1584<>\"\",VLOOKUP(B1584,'Liste inscrits'!$A:$AD,5,FALSE),\"\")","v":""},{"$f":"IF(B1584<>\"\",VLOOKUP(B1584,'Liste inscrits'!$A:$AD,6,FALSE),\"\")","v":""}]
[{"$f":"IF(B1584<>\"\",VLOOKUP(B1584,'Liste inscrits'!$A:$AD,8,FALSE),\"\")","v":""},{"$f":"IF(B1584<>\"\",VLOOKUP(B1584,'Liste inscrits'!$A:$AD,7,FALSE),\"\")","v":""},null,{"$f":"IF(B1584<>\"\",VLOOKUP(B1584,'Liste inscrits'!$A:$AD,10,FALSE),\"\")","v":""},"ARA",1,{"$f":"IF(B1584<>\"\",VLOOKUP(B1584,'Liste inscrits'!$A:$AD,11,FALSE),\"\")","v":""},{"$f":"IF(B1584<>\"\",VLOOKUP(B1584,'Liste inscrits'!$A:$AD,12,FALSE),\"\")","v":""}]
[{"$f":"IF(B1584<>\"\",VLOOKUP(B1584,'Liste inscrits'!$A:$AD,14,FALSE),\"\")","v":""},{"$f":"IF(B1584<>\"\",VLOOKUP(B1584,'Liste inscrits'!$A:$AD,13,FALSE),\"\")","v":""},null,{"$f":"IF(B1584<>\"\",VLOOKUP(B1584,'Liste inscrits'!$A:$AD,16,FALSE),\"\")","v":""},"ARA",1,{"$f":"IF(B1584<>\"\",VLOOKUP(B1584,'Liste inscrits'!$A:$AD,17,FALSE),\"\")","v":""},{"$f":"IF(B1584<>\"\",VLOOKUP(B1584,'Liste inscrits'!$A:$AD,18,FALSE),\"\")","v":""}]
[]
["Nb parties gagnées\ndans les poules",{"$f":"IF(ISERROR(VLOOKUP(B1584&G1584&H1584,'Liste inscrits'!AH:AJ,1,FALSE)),\"\",VLOOKUP(B1584&G1584&H1584,'Liste inscrits'!AH:AJ,3,FALSE))","v":""},"Classement \ndans la poule ",{"$f":"IF(ISERROR(VLOOKUP(B1584&G1584&H1584,'Liste inscrits'!AH:AU,1,FALSE)),\"\",VLOOKUP(B1584&G1584&H1584,'Liste inscrits'!AH:AU,14,FALSE)&\"  /  \"&VLOOKUP(B1584&G1584&H1584,'Liste inscrits'!AH:AU,13,FALSE))","v":"  /  "},"Nb de parties gagnées \naprès les poules ",null,null,{"$f":"IF(ISERROR(VLOOKUP(B1584&G1584&H1584,'Liste inscrits'!AH:AS,1,FALSE)),\"\",VLOOKUP(B1584&G1584&H1584,'Liste inscrits'!AH:AS,11,FALSE))","v":""}]
[]
["N° de LICENCE","NOM                     PRENOM\nen lettres capitales",null,"DIV","CR","CBD","N° \nSEC","N° \nASB","Qual. \nChpt AIN"]
[{"$f":"IF(B1591<>\"\",VLOOKUP(B1591,'Liste inscrits'!$A:$AD,2,FALSE),\"\")","v":""},{"$f":"IF(OFFSET('Liste inscrits'!$A$1,INT(ROW()/35)*4+(ROW()-INT(ROW()/35)*35)/7,0)<>\"\",OFFSET('Liste inscrits'!$A$1,INT(ROW()/35)*4+(ROW()-INT(ROW()/35)*35)/7,0),\"\")","v":""},null,{"$f":"IF(B1591<>\"\",VLOOKUP(B1591,'Liste inscrits'!$A:$AD,4,FALSE),\"\")","v":""},"ARA",1,{"$f":"IF(B1591<>\"\",VLOOKUP(B1591,'Liste inscrits'!$A:$AD,5,FALSE),\"\")","v":""},{"$f":"IF(B1591<>\"\",VLOOKUP(B1591,'Liste inscrits'!$A:$AD,6,FALSE),\"\")","v":""}]
[{"$f":"IF(B1591<>\"\",VLOOKUP(B1591,'Liste inscrits'!$A:$AD,8,FALSE),\"\")","v":""},{"$f":"IF(B1591<>\"\",VLOOKUP(B1591,'Liste inscrits'!$A:$AD,7,FALSE),\"\")","v":""},null,{"$f":"IF(B1591<>\"\",VLOOKUP(B1591,'Liste inscrits'!$A:$AD,10,FALSE),\"\")","v":""},"ARA",1,{"$f":"IF(B1591<>\"\",VLOOKUP(B1591,'Liste inscrits'!$A:$AD,11,FALSE),\"\")","v":""},{"$f":"IF(B1591<>\"\",VLOOKUP(B1591,'Liste inscrits'!$A:$AD,12,FALSE),\"\")","v":""}]
[{"$f":"IF(B1591<>\"\",VLOOKUP(B1591,'Liste inscrits'!$A:$AD,14,FALSE),\"\")","v":""},{"$f":"IF(B1591<>\"\",VLOOKUP(B1591,'Liste inscrits'!$A:$AD,13,FALSE),\"\")","v":""},null,{"$f":"IF(B1591<>\"\",VLOOKUP(B1591,'Liste inscrits'!$A:$AD,16,FALSE),\"\")","v":""},"ARA",1,{"$f":"IF(B1591<>\"\",VLOOKUP(B1591,'Liste inscrits'!$A:$AD,17,FALSE),\"\")","v":""},{"$f":"IF(B1591<>\"\",VLOOKUP(B1591,'Liste inscrits'!$A:$AD,18,FALSE),\"\")","v":""}]
[]
["Nb parties gagnées\ndans les poules",{"$f":"IF(ISERROR(VLOOKUP(B1591&G1591&H1591,'Liste inscrits'!AH:AJ,1,FALSE)),\"\",VLOOKUP(B1591&G1591&H1591,'Liste inscrits'!AH:AJ,3,FALSE))","v":""},"Classement \ndans la poule ",{"$f":"IF(ISERROR(VLOOKUP(B1591&G1591&H1591,'Liste inscrits'!AH:AU,1,FALSE)),\"\",VLOOKUP(B1591&G1591&H1591,'Liste inscrits'!AH:AU,14,FALSE)&\"  /  \"&VLOOKUP(B1591&G1591&H1591,'Liste inscrits'!AH:AU,13,FALSE))","v":"  /  "},"Nb de parties gagnées \naprès les poules ",null,null,{"$f":"IF(ISERROR(VLOOKUP(B1591&G1591&H1591,'Liste inscrits'!AH:AS,1,FALSE)),\"\",VLOOKUP(B1591&G1591&H1591,'Liste inscrits'!AH:AS,11,FALSE))","v":""}]
[]
["N° de LICENCE","NOM                     PRENOM\nen lettres capitales",null,"DIV","CR","CBD","N° \nSEC","N° \nASB","Qual. \nChpt AIN"]
[{"$f":"IF(B1598<>\"\",VLOOKUP(B1598,'Liste inscrits'!$A:$AD,2,FALSE),\"\")","v":""},{"$f":"IF(OFFSET('Liste inscrits'!$A$1,INT(ROW()/35)*4+(ROW()-INT(ROW()/35)*35)/7,0)<>\"\",OFFSET('Liste inscrits'!$A$1,INT(ROW()/35)*4+(ROW()-INT(ROW()/35)*35)/7,0),\"\")","v":""},null,{"$f":"IF(B1598<>\"\",VLOOKUP(B1598,'Liste inscrits'!$A:$AD,4,FALSE),\"\")","v":""},"ARA",1,{"$f":"IF(B1598<>\"\",VLOOKUP(B1598,'Liste inscrits'!$A:$AD,5,FALSE),\"\")","v":""},{"$f":"IF(B1598<>\"\",VLOOKUP(B1598,'Liste inscrits'!$A:$AD,6,FALSE),\"\")","v":""}]
[{"$f":"IF(B1598<>\"\",VLOOKUP(B1598,'Liste inscrits'!$A:$AD,8,FALSE),\"\")","v":""},{"$f":"IF(B1598<>\"\",VLOOKUP(B1598,'Liste inscrits'!$A:$AD,7,FALSE),\"\")","v":""},null,{"$f":"IF(B1598<>\"\",VLOOKUP(B1598,'Liste inscrits'!$A:$AD,10,FALSE),\"\")","v":""},"ARA",1,{"$f":"IF(B1598<>\"\",VLOOKUP(B1598,'Liste inscrits'!$A:$AD,11,FALSE),\"\")","v":""},{"$f":"IF(B1598<>\"\",VLOOKUP(B1598,'Liste inscrits'!$A:$AD,12,FALSE),\"\")","v":""}]
[{"$f":"IF(B1598<>\"\",VLOOKUP(B1598,'Liste inscrits'!$A:$AD,14,FALSE),\"\")","v":""},{"$f":"IF(B1598<>\"\",VLOOKUP(B1598,'Liste inscrits'!$A:$AD,13,FALSE),\"\")","v":""},null,{"$f":"IF(B1598<>\"\",VLOOKUP(B1598,'Liste inscrits'!$A:$AD,16,FALSE),\"\")","v":""},"ARA",1,{"$f":"IF(B1598<>\"\",VLOOKUP(B1598,'Liste inscrits'!$A:$AD,17,FALSE),\"\")","v":""},{"$f":"IF(B1598<>\"\",VLOOKUP(B1598,'Liste inscrits'!$A:$AD,18,FALSE),\"\")","v":""}]
[]
["Nb parties gagnées\ndans les poules",{"$f":"IF(ISERROR(VLOOKUP(B1598&G1598&H1598,'Liste inscrits'!AH:AJ,1,FALSE)),\"\",VLOOKUP(B1598&G1598&H1598,'Liste inscrits'!AH:AJ,3,FALSE))","v":""},"Classement \ndans la poule ",{"$f":"IF(ISERROR(VLOOKUP(B1598&G1598&H1598,'Liste inscrits'!AH:AU,1,FALSE)),\"\",VLOOKUP(B1598&G1598&H1598,'Liste inscrits'!AH:AU,14,FALSE)&\"  /  \"&VLOOKUP(B1598&G1598&H1598,'Liste inscrits'!AH:AU,13,FALSE))","v":"  /  "},"Nb de parties gagnées \naprès les poules ",null,null,{"$f":"IF(ISERROR(VLOOKUP(B1598&G1598&H1598,'Liste inscrits'!AH:AS,1,FALSE)),\"\",VLOOKUP(B1598&G1598&H1598,'Liste inscrits'!AH:AS,11,FALSE))","v":""}]
[]
["N° de LICENCE","NOM                     PRENOM\nen lettres capitales",null,"DIV","CR","CBD","N° \nSEC","N° \nASB","Qual. \nChpt AIN"]
[{"$f":"IF(B1605<>\"\",VLOOKUP(B1605,'Liste inscrits'!$A:$AD,2,FALSE),\"\")","v":""},{"$f":"IF(OFFSET('Liste inscrits'!$A$1,INT(ROW()/35)*4+(ROW()-INT(ROW()/35)*35)/7,0)<>\"\",OFFSET('Liste inscrits'!$A$1,INT(ROW()/35)*4+(ROW()-INT(ROW()/35)*35)/7,0),\"\")","v":""},null,{"$f":"IF(B1605<>\"\",VLOOKUP(B1605,'Liste inscrits'!$A:$AD,4,FALSE),\"\")","v":""},"ARA",1,{"$f":"IF(B1605<>\"\",VLOOKUP(B1605,'Liste inscrits'!$A:$AD,5,FALSE),\"\")","v":""},{"$f":"IF(B1605<>\"\",VLOOKUP(B1605,'Liste inscrits'!$A:$AD,6,FALSE),\"\")","v":""}]
[{"$f":"IF(B1605<>\"\",VLOOKUP(B1605,'Liste inscrits'!$A:$AD,8,FALSE),\"\")","v":""},{"$f":"IF(B1605<>\"\",VLOOKUP(B1605,'Liste inscrits'!$A:$AD,7,FALSE),\"\")","v":""},null,{"$f":"IF(B1605<>\"\",VLOOKUP(B1605,'Liste inscrits'!$A:$AD,10,FALSE),\"\")","v":""},"ARA",1,{"$f":"IF(B1605<>\"\",VLOOKUP(B1605,'Liste inscrits'!$A:$AD,11,FALSE),\"\")","v":""},{"$f":"IF(B1605<>\"\",VLOOKUP(B1605,'Liste inscrits'!$A:$AD,12,FALSE),\"\")","v":""}]
[{"$f":"IF(B1605<>\"\",VLOOKUP(B1605,'Liste inscrits'!$A:$AD,14,FALSE),\"\")","v":""},{"$f":"IF(B1605<>\"\",VLOOKUP(B1605,'Liste inscrits'!$A:$AD,13,FALSE),\"\")","v":""},null,{"$f":"IF(B1605<>\"\",VLOOKUP(B1605,'Liste inscrits'!$A:$AD,16,FALSE),\"\")","v":""},"ARA",1,{"$f":"IF(B1605<>\"\",VLOOKUP(B1605,'Liste inscrits'!$A:$AD,17,FALSE),\"\")","v":""},{"$f":"IF(B1605<>\"\",VLOOKUP(B1605,'Liste inscrits'!$A:$AD,18,FALSE),\"\")","v":""}]
[]
["Nb parties gagnées\ndans les poules",{"$f":"IF(ISERROR(VLOOKUP(B1605&G1605&H1605,'Liste inscrits'!AH:AJ,1,FALSE)),\"\",VLOOKUP(B1605&G1605&H1605,'Liste inscrits'!AH:AJ,3,FALSE))","v":""},"Classement \ndans la poule ",{"$f":"IF(ISERROR(VLOOKUP(B1605&G1605&H1605,'Liste inscrits'!AH:AU,1,FALSE)),\"\",VLOOKUP(B1605&G1605&H1605,'Liste inscrits'!AH:AU,14,FALSE)&\"  /  \"&VLOOKUP(B1605&G1605&H1605,'Liste inscrits'!AH:AU,13,FALSE))","v":"  /  "},"Nb de parties gagnées \naprès les poules ",null,null,{"$f":"IF(ISERROR(VLOOKUP(B1605&G1605&H1605,'Liste inscrits'!AH:AS,1,FALSE)),\"\",VLOOKUP(B1605&G1605&H1605,'Liste inscrits'!AH:AS,11,FALSE))","v":""}]
[]
[]
["C.B.D. AIN",null,{"$f":"$C$2","v":0},null,null,null,null,{"$f":"$H$2","v":0}]
[]
["SECTEUR :",{"$f":"$B$4","v":{"$error":"#VALUE!"}},null,"Lieu de la compétition :",{"$f":"$E$4","v":0}]
[]
["Date : ",{"$f":"$B$6","v":0},null,null,"Nombre total d'équipes participantes ",null,null,null,{"$f":"$I$6","v":0}]
[]
["N° de LICENCE","NOM                     PRENOM\nen lettres capitales",null,"DIV","CR","CBD","N° \nSEC","N° \nASB","Qual. \nChpt AIN"]
[{"$f":"IF(B1619<>\"\",VLOOKUP(B1619,'Liste inscrits'!$A:$AD,2,FALSE),\"\")","v":""},{"$f":"IF(OFFSET('Liste inscrits'!$A$1,INT(ROW()/35)*4+(ROW()-INT(ROW()/35)*35)/7,0)<>\"\",OFFSET('Liste inscrits'!$A$1,INT(ROW()/35)*4+(ROW()-INT(ROW()/35)*35)/7,0),\"\")","v":""},null,{"$f":"IF(B1619<>\"\",VLOOKUP(B1619,'Liste inscrits'!$A:$AD,4,FALSE),\"\")","v":""},"ARA",1,{"$f":"IF(B1619<>\"\",VLOOKUP(B1619,'Liste inscrits'!$A:$AD,5,FALSE),\"\")","v":""},{"$f":"IF(B1619<>\"\",VLOOKUP(B1619,'Liste inscrits'!$A:$AD,6,FALSE),\"\")","v":""}]
[{"$f":"IF(B1619<>\"\",VLOOKUP(B1619,'Liste inscrits'!$A:$AD,8,FALSE),\"\")","v":""},{"$f":"IF(B1619<>\"\",VLOOKUP(B1619,'Liste inscrits'!$A:$AD,7,FALSE),\"\")","v":""},null,{"$f":"IF(B1619<>\"\",VLOOKUP(B1619,'Liste inscrits'!$A:$AD,10,FALSE),\"\")","v":""},"ARA",1,{"$f":"IF(B1619<>\"\",VLOOKUP(B1619,'Liste inscrits'!$A:$AD,11,FALSE),\"\")","v":""},{"$f":"IF(B1619<>\"\",VLOOKUP(B1619,'Liste inscrits'!$A:$AD,12,FALSE),\"\")","v":""}]
[{"$f":"IF(B1619<>\"\",VLOOKUP(B1619,'Liste inscrits'!$A:$AD,14,FALSE),\"\")","v":""},{"$f":"IF(B1619<>\"\",VLOOKUP(B1619,'Liste inscrits'!$A:$AD,13,FALSE),\"\")","v":""},null,{"$f":"IF(B1619<>\"\",VLOOKUP(B1619,'Liste inscrits'!$A:$AD,16,FALSE),\"\")","v":""},"ARA",1,{"$f":"IF(B1619<>\"\",VLOOKUP(B1619,'Liste inscrits'!$A:$AD,17,FALSE),\"\")","v":""},{"$f":"IF(B1619<>\"\",VLOOKUP(B1619,'Liste inscrits'!$A:$AD,18,FALSE),\"\")","v":""}]
[]
["Nb parties gagnées\ndans les poules",{"$f":"IF(ISERROR(VLOOKUP(B1619&G1619&H1619,'Liste inscrits'!AH:AJ,1,FALSE)),\"\",VLOOKUP(B1619&G1619&H1619,'Liste inscrits'!AH:AJ,3,FALSE))","v":""},"Classement \ndans la poule ",{"$f":"IF(ISERROR(VLOOKUP(B1619&G1619&H1619,'Liste inscrits'!AH:AU,1,FALSE)),\"\",VLOOKUP(B1619&G1619&H1619,'Liste inscrits'!AH:AU,14,FALSE)&\"  /  \"&VLOOKUP(B1619&G1619&H1619,'Liste inscrits'!AH:AU,13,FALSE))","v":"  /  "},"Nb de parties gagnées \naprès les poules ",null,null,{"$f":"IF(ISERROR(VLOOKUP(B1619&G1619&H1619,'Liste inscrits'!AH:AS,1,FALSE)),\"\",VLOOKUP(B1619&G1619&H1619,'Liste inscrits'!AH:AS,11,FALSE))","v":""}]
[]
["N° de LICENCE","NOM                     PRENOM\nen lettres capitales",null,"DIV","CR","CBD","N° \nSEC","N° \nASB","Qual. \nChpt AIN"]
[{"$f":"IF(B1626<>\"\",VLOOKUP(B1626,'Liste inscrits'!$A:$AD,2,FALSE),\"\")","v":""},{"$f":"IF(OFFSET('Liste inscrits'!$A$1,INT(ROW()/35)*4+(ROW()-INT(ROW()/35)*35)/7,0)<>\"\",OFFSET('Liste inscrits'!$A$1,INT(ROW()/35)*4+(ROW()-INT(ROW()/35)*35)/7,0),\"\")","v":""},null,{"$f":"IF(B1626<>\"\",VLOOKUP(B1626,'Liste inscrits'!$A:$AD,4,FALSE),\"\")","v":""},"ARA",1,{"$f":"IF(B1626<>\"\",VLOOKUP(B1626,'Liste inscrits'!$A:$AD,5,FALSE),\"\")","v":""},{"$f":"IF(B1626<>\"\",VLOOKUP(B1626,'Liste inscrits'!$A:$AD,6,FALSE),\"\")","v":""}]
[{"$f":"IF(B1626<>\"\",VLOOKUP(B1626,'Liste inscrits'!$A:$AD,8,FALSE),\"\")","v":""},{"$f":"IF(B1626<>\"\",VLOOKUP(B1626,'Liste inscrits'!$A:$AD,7,FALSE),\"\")","v":""},null,{"$f":"IF(B1626<>\"\",VLOOKUP(B1626,'Liste inscrits'!$A:$AD,10,FALSE),\"\")","v":""},"ARA",1,{"$f":"IF(B1626<>\"\",VLOOKUP(B1626,'Liste inscrits'!$A:$AD,11,FALSE),\"\")","v":""},{"$f":"IF(B1626<>\"\",VLOOKUP(B1626,'Liste inscrits'!$A:$AD,12,FALSE),\"\")","v":""}]
[{"$f":"IF(B1626<>\"\",VLOOKUP(B1626,'Liste inscrits'!$A:$AD,14,FALSE),\"\")","v":""},{"$f":"IF(B1626<>\"\",VLOOKUP(B1626,'Liste inscrits'!$A:$AD,13,FALSE),\"\")","v":""},null,{"$f":"IF(B1626<>\"\",VLOOKUP(B1626,'Liste inscrits'!$A:$AD,16,FALSE),\"\")","v":""},"ARA",1,{"$f":"IF(B1626<>\"\",VLOOKUP(B1626,'Liste inscrits'!$A:$AD,17,FALSE),\"\")","v":""},{"$f":"IF(B1626<>\"\",VLOOKUP(B1626,'Liste inscrits'!$A:$AD,18,FALSE),\"\")","v":""}]
[]
["Nb parties gagnées\ndans les poules",{"$f":"IF(ISERROR(VLOOKUP(B1626&G1626&H1626,'Liste inscrits'!AH:AJ,1,FALSE)),\"\",VLOOKUP(B1626&G1626&H1626,'Liste inscrits'!AH:AJ,3,FALSE))","v":""},"Classement \ndans la poule ",{"$f":"IF(ISERROR(VLOOKUP(B1626&G1626&H1626,'Liste inscrits'!AH:AU,1,FALSE)),\"\",VLOOKUP(B1626&G1626&H1626,'Liste inscrits'!AH:AU,14,FALSE)&\"  /  \"&VLOOKUP(B1626&G1626&H1626,'Liste inscrits'!AH:AU,13,FALSE))","v":"  /  "},"Nb de parties gagnées \naprès les poules ",null,null,{"$f":"IF(ISERROR(VLOOKUP(B1626&G1626&H1626,'Liste inscrits'!AH:AS,1,FALSE)),\"\",VLOOKUP(B1626&G1626&H1626,'Liste inscrits'!AH:AS,11,FALSE))","v":""}]
[]
["N° de LICENCE","NOM                     PRENOM\nen lettres capitales",null,"DIV","CR","CBD","N° \nSEC","N° \nASB","Qual. \nChpt AIN"]
[{"$f":"IF(B1633<>\"\",VLOOKUP(B1633,'Liste inscrits'!$A:$AD,2,FALSE),\"\")","v":""},{"$f":"IF(OFFSET('Liste inscrits'!$A$1,INT(ROW()/35)*4+(ROW()-INT(ROW()/35)*35)/7,0)<>\"\",OFFSET('Liste inscrits'!$A$1,INT(ROW()/35)*4+(ROW()-INT(ROW()/35)*35)/7,0),\"\")","v":""},null,{"$f":"IF(B1633<>\"\",VLOOKUP(B1633,'Liste inscrits'!$A:$AD,4,FALSE),\"\")","v":""},"ARA",1,{"$f":"IF(B1633<>\"\",VLOOKUP(B1633,'Liste inscrits'!$A:$AD,5,FALSE),\"\")","v":""},{"$f":"IF(B1633<>\"\",VLOOKUP(B1633,'Liste inscrits'!$A:$AD,6,FALSE),\"\")","v":""}]
[{"$f":"IF(B1633<>\"\",VLOOKUP(B1633,'Liste inscrits'!$A:$AD,8,FALSE),\"\")","v":""},{"$f":"IF(B1633<>\"\",VLOOKUP(B1633,'Liste inscrits'!$A:$AD,7,FALSE),\"\")","v":""},null,{"$f":"IF(B1633<>\"\",VLOOKUP(B1633,'Liste inscrits'!$A:$AD,10,FALSE),\"\")","v":""},"ARA",1,{"$f":"IF(B1633<>\"\",VLOOKUP(B1633,'Liste inscrits'!$A:$AD,11,FALSE),\"\")","v":""},{"$f":"IF(B1633<>\"\",VLOOKUP(B1633,'Liste inscrits'!$A:$AD,12,FALSE),\"\")","v":""}]
[{"$f":"IF(B1633<>\"\",VLOOKUP(B1633,'Liste inscrits'!$A:$AD,14,FALSE),\"\")","v":""},{"$f":"IF(B1633<>\"\",VLOOKUP(B1633,'Liste inscrits'!$A:$AD,13,FALSE),\"\")","v":""},null,{"$f":"IF(B1633<>\"\",VLOOKUP(B1633,'Liste inscrits'!$A:$AD,16,FALSE),\"\")","v":""},"ARA",1,{"$f":"IF(B1633<>\"\",VLOOKUP(B1633,'Liste inscrits'!$A:$AD,17,FALSE),\"\")","v":""},{"$f":"IF(B1633<>\"\",VLOOKUP(B1633,'Liste inscrits'!$A:$AD,18,FALSE),\"\")","v":""}]
[]
["Nb parties gagnées\ndans les poules",{"$f":"IF(ISERROR(VLOOKUP(B1633&G1633&H1633,'Liste inscrits'!AH:AJ,1,FALSE)),\"\",VLOOKUP(B1633&G1633&H1633,'Liste inscrits'!AH:AJ,3,FALSE))","v":""},"Classement \ndans la poule ",{"$f":"IF(ISERROR(VLOOKUP(B1633&G1633&H1633,'Liste inscrits'!AH:AU,1,FALSE)),\"\",VLOOKUP(B1633&G1633&H1633,'Liste inscrits'!AH:AU,14,FALSE)&\"  /  \"&VLOOKUP(B1633&G1633&H1633,'Liste inscrits'!AH:AU,13,FALSE))","v":"  /  "},"Nb de parties gagnées \naprès les poules ",null,null,{"$f":"IF(ISERROR(VLOOKUP(B1633&G1633&H1633,'Liste inscrits'!AH:AS,1,FALSE)),\"\",VLOOKUP(B1633&G1633&H1633,'Liste inscrits'!AH:AS,11,FALSE))","v":""}]
[]
["N° de LICENCE","NOM                     PRENOM\nen lettres capitales",null,"DIV","CR","CBD","N° \nSEC","N° \nASB","Qual. \nChpt AIN"]
[{"$f":"IF(B1640<>\"\",VLOOKUP(B1640,'Liste inscrits'!$A:$AD,2,FALSE),\"\")","v":""},{"$f":"IF(OFFSET('Liste inscrits'!$A$1,INT(ROW()/35)*4+(ROW()-INT(ROW()/35)*35)/7,0)<>\"\",OFFSET('Liste inscrits'!$A$1,INT(ROW()/35)*4+(ROW()-INT(ROW()/35)*35)/7,0),\"\")","v":""},null,{"$f":"IF(B1640<>\"\",VLOOKUP(B1640,'Liste inscrits'!$A:$AD,4,FALSE),\"\")","v":""},"ARA",1,{"$f":"IF(B1640<>\"\",VLOOKUP(B1640,'Liste inscrits'!$A:$AD,5,FALSE),\"\")","v":""},{"$f":"IF(B1640<>\"\",VLOOKUP(B1640,'Liste inscrits'!$A:$AD,6,FALSE),\"\")","v":""}]
[{"$f":"IF(B1640<>\"\",VLOOKUP(B1640,'Liste inscrits'!$A:$AD,8,FALSE),\"\")","v":""},{"$f":"IF(B1640<>\"\",VLOOKUP(B1640,'Liste inscrits'!$A:$AD,7,FALSE),\"\")","v":""},null,{"$f":"IF(B1640<>\"\",VLOOKUP(B1640,'Liste inscrits'!$A:$AD,10,FALSE),\"\")","v":""},"ARA",1,{"$f":"IF(B1640<>\"\",VLOOKUP(B1640,'Liste inscrits'!$A:$AD,11,FALSE),\"\")","v":""},{"$f":"IF(B1640<>\"\",VLOOKUP(B1640,'Liste inscrits'!$A:$AD,12,FALSE),\"\")","v":""}]
[{"$f":"IF(B1640<>\"\",VLOOKUP(B1640,'Liste inscrits'!$A:$AD,14,FALSE),\"\")","v":""},{"$f":"IF(B1640<>\"\",VLOOKUP(B1640,'Liste inscrits'!$A:$AD,13,FALSE),\"\")","v":""},null,{"$f":"IF(B1640<>\"\",VLOOKUP(B1640,'Liste inscrits'!$A:$AD,16,FALSE),\"\")","v":""},"ARA",1,{"$f":"IF(B1640<>\"\",VLOOKUP(B1640,'Liste inscrits'!$A:$AD,17,FALSE),\"\")","v":""},{"$f":"IF(B1640<>\"\",VLOOKUP(B1640,'Liste inscrits'!$A:$AD,18,FALSE),\"\")","v":""}]
[]
["Nb parties gagnées\ndans les poules",{"$f":"IF(ISERROR(VLOOKUP(B1640&G1640&H1640,'Liste inscrits'!AH:AJ,1,FALSE)),\"\",VLOOKUP(B1640&G1640&H1640,'Liste inscrits'!AH:AJ,3,FALSE))","v":""},"Classement \ndans la poule ",{"$f":"IF(ISERROR(VLOOKUP(B1640&G1640&H1640,'Liste inscrits'!AH:AU,1,FALSE)),\"\",VLOOKUP(B1640&G1640&H1640,'Liste inscrits'!AH:AU,14,FALSE)&\"  /  \"&VLOOKUP(B1640&G1640&H1640,'Liste inscrits'!AH:AU,13,FALSE))","v":"  /  "},"Nb de parties gagnées \naprès les poules ",null,null,{"$f":"IF(ISERROR(VLOOKUP(B1640&G1640&H1640,'Liste inscrits'!AH:AS,1,FALSE)),\"\",VLOOKUP(B1640&G1640&H1640,'Liste inscrits'!AH:AS,11,FALSE))","v":""}]
[]
[]
["C.B.D. AIN",null,{"$f":"$C$2","v":0},null,null,null,null,{"$f":"$H$2","v":0}]
[]
["SECTEUR :",{"$f":"$B$4","v":{"$error":"#VALUE!"}},null,"Lieu de la compétition :",{"$f":"$E$4","v":0}]
[]
["Date : ",{"$f":"$B$6","v":0},null,null,"Nombre total d'équipes participantes ",null,null,null,{"$f":"$I$6","v":0}]
[]
["N° de LICENCE","NOM                     PRENOM\nen lettres capitales",null,"DIV","CR","CBD","N° \nSEC","N° \nASB","Qual. \nChpt AIN"]
[{"$f":"IF(B1654<>\"\",VLOOKUP(B1654,'Liste inscrits'!$A:$AD,2,FALSE),\"\")","v":""},{"$f":"IF(OFFSET('Liste inscrits'!$A$1,INT(ROW()/35)*4+(ROW()-INT(ROW()/35)*35)/7,0)<>\"\",OFFSET('Liste inscrits'!$A$1,INT(ROW()/35)*4+(ROW()-INT(ROW()/35)*35)/7,0),\"\")","v":""},null,{"$f":"IF(B1654<>\"\",VLOOKUP(B1654,'Liste inscrits'!$A:$AD,4,FALSE),\"\")","v":""},"ARA",1,{"$f":"IF(B1654<>\"\",VLOOKUP(B1654,'Liste inscrits'!$A:$AD,5,FALSE),\"\")","v":""},{"$f":"IF(B1654<>\"\",VLOOKUP(B1654,'Liste inscrits'!$A:$AD,6,FALSE),\"\")","v":""}]
[{"$f":"IF(B1654<>\"\",VLOOKUP(B1654,'Liste inscrits'!$A:$AD,8,FALSE),\"\")","v":""},{"$f":"IF(B1654<>\"\",VLOOKUP(B1654,'Liste inscrits'!$A:$AD,7,FALSE),\"\")","v":""},null,{"$f":"IF(B1654<>\"\",VLOOKUP(B1654,'Liste inscrits'!$A:$AD,10,FALSE),\"\")","v":""},"ARA",1,{"$f":"IF(B1654<>\"\",VLOOKUP(B1654,'Liste inscrits'!$A:$AD,11,FALSE),\"\")","v":""},{"$f":"IF(B1654<>\"\",VLOOKUP(B1654,'Liste inscrits'!$A:$AD,12,FALSE),\"\")","v":""}]
[{"$f":"IF(B1654<>\"\",VLOOKUP(B1654,'Liste inscrits'!$A:$AD,14,FALSE),\"\")","v":""},{"$f":"IF(B1654<>\"\",VLOOKUP(B1654,'Liste inscrits'!$A:$AD,13,FALSE),\"\")","v":""},null,{"$f":"IF(B1654<>\"\",VLOOKUP(B1654,'Liste inscrits'!$A:$AD,16,FALSE),\"\")","v":""},"ARA",1,{"$f":"IF(B1654<>\"\",VLOOKUP(B1654,'Liste inscrits'!$A:$AD,17,FALSE),\"\")","v":""},{"$f":"IF(B1654<>\"\",VLOOKUP(B1654,'Liste inscrits'!$A:$AD,18,FALSE),\"\")","v":""}]
[]
["Nb parties gagnées\ndans les poules",{"$f":"IF(ISERROR(VLOOKUP(B1654&G1654&H1654,'Liste inscrits'!AH:AJ,1,FALSE)),\"\",VLOOKUP(B1654&G1654&H1654,'Liste inscrits'!AH:AJ,3,FALSE))","v":""},"Classement \ndans la poule ",{"$f":"IF(ISERROR(VLOOKUP(B1654&G1654&H1654,'Liste inscrits'!AH:AU,1,FALSE)),\"\",VLOOKUP(B1654&G1654&H1654,'Liste inscrits'!AH:AU,14,FALSE)&\"  /  \"&VLOOKUP(B1654&G1654&H1654,'Liste inscrits'!AH:AU,13,FALSE))","v":"  /  "},"Nb de parties gagnées \naprès les poules ",null,null,{"$f":"IF(ISERROR(VLOOKUP(B1654&G1654&H1654,'Liste inscrits'!AH:AS,1,FALSE)),\"\",VLOOKUP(B1654&G1654&H1654,'Liste inscrits'!AH:AS,11,FALSE))","v":""}]
[]
["N° de LICENCE","NOM                     PRENOM\nen lettres capitales",null,"DIV","CR","CBD","N° \nSEC","N° \nASB","Qual. \nChpt AIN"]
[{"$f":"IF(B1661<>\"\",VLOOKUP(B1661,'Liste inscrits'!$A:$AD,2,FALSE),\"\")","v":""},{"$f":"IF(OFFSET('Liste inscrits'!$A$1,INT(ROW()/35)*4+(ROW()-INT(ROW()/35)*35)/7,0)<>\"\",OFFSET('Liste inscrits'!$A$1,INT(ROW()/35)*4+(ROW()-INT(ROW()/35)*35)/7,0),\"\")","v":""},null,{"$f":"IF(B1661<>\"\",VLOOKUP(B1661,'Liste inscrits'!$A:$AD,4,FALSE),\"\")","v":""},"ARA",1,{"$f":"IF(B1661<>\"\",VLOOKUP(B1661,'Liste inscrits'!$A:$AD,5,FALSE),\"\")","v":""},{"$f":"IF(B1661<>\"\",VLOOKUP(B1661,'Liste inscrits'!$A:$AD,6,FALSE),\"\")","v":""}]
[{"$f":"IF(B1661<>\"\",VLOOKUP(B1661,'Liste inscrits'!$A:$AD,8,FALSE),\"\")","v":""},{"$f":"IF(B1661<>\"\",VLOOKUP(B1661,'Liste inscrits'!$A:$AD,7,FALSE),\"\")","v":""},null,{"$f":"IF(B1661<>\"\",VLOOKUP(B1661,'Liste inscrits'!$A:$AD,10,FALSE),\"\")","v":""},"ARA",1,{"$f":"IF(B1661<>\"\",VLOOKUP(B1661,'Liste inscrits'!$A:$AD,11,FALSE),\"\")","v":""},{"$f":"IF(B1661<>\"\",VLOOKUP(B1661,'Liste inscrits'!$A:$AD,12,FALSE),\"\")","v":""}]
[{"$f":"IF(B1661<>\"\",VLOOKUP(B1661,'Liste inscrits'!$A:$AD,14,FALSE),\"\")","v":""},{"$f":"IF(B1661<>\"\",VLOOKUP(B1661,'Liste inscrits'!$A:$AD,13,FALSE),\"\")","v":""},null,{"$f":"IF(B1661<>\"\",VLOOKUP(B1661,'Liste inscrits'!$A:$AD,16,FALSE),\"\")","v":""},"ARA",1,{"$f":"IF(B1661<>\"\",VLOOKUP(B1661,'Liste inscrits'!$A:$AD,17,FALSE),\"\")","v":""},{"$f":"IF(B1661<>\"\",VLOOKUP(B1661,'Liste inscrits'!$A:$AD,18,FALSE),\"\")","v":""}]
[]
["Nb parties gagnées\ndans les poules",{"$f":"IF(ISERROR(VLOOKUP(B1661&G1661&H1661,'Liste inscrits'!AH:AJ,1,FALSE)),\"\",VLOOKUP(B1661&G1661&H1661,'Liste inscrits'!AH:AJ,3,FALSE))","v":""},"Classement \ndans la poule ",{"$f":"IF(ISERROR(VLOOKUP(B1661&G1661&H1661,'Liste inscrits'!AH:AU,1,FALSE)),\"\",VLOOKUP(B1661&G1661&H1661,'Liste inscrits'!AH:AU,14,FALSE)&\"  /  \"&VLOOKUP(B1661&G1661&H1661,'Liste inscrits'!AH:AU,13,FALSE))","v":"  /  "},"Nb de parties gagnées \naprès les poules ",null,null,{"$f":"IF(ISERROR(VLOOKUP(B1661&G1661&H1661,'Liste inscrits'!AH:AS,1,FALSE)),\"\",VLOOKUP(B1661&G1661&H1661,'Liste inscrits'!AH:AS,11,FALSE))","v":""}]
[]
["N° de LICENCE","NOM                     PRENOM\nen lettres capitales",null,"DIV","CR","CBD","N° \nSEC","N° \nASB","Qual. \nChpt AIN"]
[{"$f":"IF(B1668<>\"\",VLOOKUP(B1668,'Liste inscrits'!$A:$AD,2,FALSE),\"\")","v":""},{"$f":"IF(OFFSET('Liste inscrits'!$A$1,INT(ROW()/35)*4+(ROW()-INT(ROW()/35)*35)/7,0)<>\"\",OFFSET('Liste inscrits'!$A$1,INT(ROW()/35)*4+(ROW()-INT(ROW()/35)*35)/7,0),\"\")","v":""},null,{"$f":"IF(B1668<>\"\",VLOOKUP(B1668,'Liste inscrits'!$A:$AD,4,FALSE),\"\")","v":""},"ARA",1,{"$f":"IF(B1668<>\"\",VLOOKUP(B1668,'Liste inscrits'!$A:$AD,5,FALSE),\"\")","v":""},{"$f":"IF(B1668<>\"\",VLOOKUP(B1668,'Liste inscrits'!$A:$AD,6,FALSE),\"\")","v":""}]
[{"$f":"IF(B1668<>\"\",VLOOKUP(B1668,'Liste inscrits'!$A:$AD,8,FALSE),\"\")","v":""},{"$f":"IF(B1668<>\"\",VLOOKUP(B1668,'Liste inscrits'!$A:$AD,7,FALSE),\"\")","v":""},null,{"$f":"IF(B1668<>\"\",VLOOKUP(B1668,'Liste inscrits'!$A:$AD,10,FALSE),\"\")","v":""},"ARA",1,{"$f":"IF(B1668<>\"\",VLOOKUP(B1668,'Liste inscrits'!$A:$AD,11,FALSE),\"\")","v":""},{"$f":"IF(B1668<>\"\",VLOOKUP(B1668,'Liste inscrits'!$A:$AD,12,FALSE),\"\")","v":""}]
[{"$f":"IF(B1668<>\"\",VLOOKUP(B1668,'Liste inscrits'!$A:$AD,14,FALSE),\"\")","v":""},{"$f":"IF(B1668<>\"\",VLOOKUP(B1668,'Liste inscrits'!$A:$AD,13,FALSE),\"\")","v":""},null,{"$f":"IF(B1668<>\"\",VLOOKUP(B1668,'Liste inscrits'!$A:$AD,16,FALSE),\"\")","v":""},"ARA",1,{"$f":"IF(B1668<>\"\",VLOOKUP(B1668,'Liste inscrits'!$A:$AD,17,FALSE),\"\")","v":""},{"$f":"IF(B1668<>\"\",VLOOKUP(B1668,'Liste inscrits'!$A:$AD,18,FALSE),\"\")","v":""}]
[]
["Nb parties gagnées\ndans les poules",{"$f":"IF(ISERROR(VLOOKUP(B1668&G1668&H1668,'Liste inscrits'!AH:AJ,1,FALSE)),\"\",VLOOKUP(B1668&G1668&H1668,'Liste inscrits'!AH:AJ,3,FALSE))","v":""},"Classement \ndans la poule ",{"$f":"IF(ISERROR(VLOOKUP(B1668&G1668&H1668,'Liste inscrits'!AH:AU,1,FALSE)),\"\",VLOOKUP(B1668&G1668&H1668,'Liste inscrits'!AH:AU,14,FALSE)&\"  /  \"&VLOOKUP(B1668&G1668&H1668,'Liste inscrits'!AH:AU,13,FALSE))","v":"  /  "},"Nb de parties gagnées \naprès les poules ",null,null,{"$f":"IF(ISERROR(VLOOKUP(B1668&G1668&H1668,'Liste inscrits'!AH:AS,1,FALSE)),\"\",VLOOKUP(B1668&G1668&H1668,'Liste inscrits'!AH:AS,11,FALSE))","v":""}]
[]
["N° de LICENCE","NOM                     PRENOM\nen lettres capitales",null,"DIV","CR","CBD","N° \nSEC","N° \nASB","Qual. \nChpt AIN"]
[{"$f":"IF(B1675<>\"\",VLOOKUP(B1675,'Liste inscrits'!$A:$AD,2,FALSE),\"\")","v":""},{"$f":"IF(OFFSET('Liste inscrits'!$A$1,INT(ROW()/35)*4+(ROW()-INT(ROW()/35)*35)/7,0)<>\"\",OFFSET('Liste inscrits'!$A$1,INT(ROW()/35)*4+(ROW()-INT(ROW()/35)*35)/7,0),\"\")","v":""},null,{"$f":"IF(B1675<>\"\",VLOOKUP(B1675,'Liste inscrits'!$A:$AD,4,FALSE),\"\")","v":""},"ARA",1,{"$f":"IF(B1675<>\"\",VLOOKUP(B1675,'Liste inscrits'!$A:$AD,5,FALSE),\"\")","v":""},{"$f":"IF(B1675<>\"\",VLOOKUP(B1675,'Liste inscrits'!$A:$AD,6,FALSE),\"\")","v":""}]
[{"$f":"IF(B1675<>\"\",VLOOKUP(B1675,'Liste inscrits'!$A:$AD,8,FALSE),\"\")","v":""},{"$f":"IF(B1675<>\"\",VLOOKUP(B1675,'Liste inscrits'!$A:$AD,7,FALSE),\"\")","v":""},null,{"$f":"IF(B1675<>\"\",VLOOKUP(B1675,'Liste inscrits'!$A:$AD,10,FALSE),\"\")","v":""},"ARA",1,{"$f":"IF(B1675<>\"\",VLOOKUP(B1675,'Liste inscrits'!$A:$AD,11,FALSE),\"\")","v":""},{"$f":"IF(B1675<>\"\",VLOOKUP(B1675,'Liste inscrits'!$A:$AD,12,FALSE),\"\")","v":""}]
[{"$f":"IF(B1675<>\"\",VLOOKUP(B1675,'Liste inscrits'!$A:$AD,14,FALSE),\"\")","v":""},{"$f":"IF(B1675<>\"\",VLOOKUP(B1675,'Liste inscrits'!$A:$AD,13,FALSE),\"\")","v":""},null,{"$f":"IF(B1675<>\"\",VLOOKUP(B1675,'Liste inscrits'!$A:$AD,16,FALSE),\"\")","v":""},"ARA",1,{"$f":"IF(B1675<>\"\",VLOOKUP(B1675,'Liste inscrits'!$A:$AD,17,FALSE),\"\")","v":""},{"$f":"IF(B1675<>\"\",VLOOKUP(B1675,'Liste inscrits'!$A:$AD,18,FALSE),\"\")","v":""}]
[]
["Nb parties gagnées\ndans les poules",{"$f":"IF(ISERROR(VLOOKUP(B1675&G1675&H1675,'Liste inscrits'!AH:AJ,1,FALSE)),\"\",VLOOKUP(B1675&G1675&H1675,'Liste inscrits'!AH:AJ,3,FALSE))","v":""},"Classement \ndans la poule ",{"$f":"IF(ISERROR(VLOOKUP(B1675&G1675&H1675,'Liste inscrits'!AH:AU,1,FALSE)),\"\",VLOOKUP(B1675&G1675&H1675,'Liste inscrits'!AH:AU,14,FALSE)&\"  /  \"&VLOOKUP(B1675&G1675&H1675,'Liste inscrits'!AH:AU,13,FALSE))","v":"  /  "},"Nb de parties gagnées \naprès les poules ",null,null,{"$f":"IF(ISERROR(VLOOKUP(B1675&G1675&H1675,'Liste inscrits'!AH:AS,1,FALSE)),\"\",VLOOKUP(B1675&G1675&H1675,'Liste inscrits'!AH:AS,11,FALSE))","v":""}]
[]
[]
["C.B.D. AIN",null,{"$f":"$C$2","v":0},null,null,null,null,{"$f":"$H$2","v":0}]
[]
["SECTEUR :",{"$f":"$B$4","v":{"$error":"#VALUE!"}},null,"Lieu de la compétition :",{"$f":"$E$4","v":0}]
[]
["Date : ",{"$f":"$B$6","v":0},null,null,"Nombre total d'équipes participantes ",null,null,null,{"$f":"$I$6","v":0}]
[]
["N° de LICENCE","NOM                     PRENOM\nen lettres capitales",null,"DIV","CR","CBD","N° \nSEC","N° \nASB","Qual. \nChpt AIN"]
[{"$f":"IF(B1689<>\"\",VLOOKUP(B1689,'Liste inscrits'!$A:$AD,2,FALSE),\"\")","v":""},{"$f":"IF(OFFSET('Liste inscrits'!$A$1,INT(ROW()/35)*4+(ROW()-INT(ROW()/35)*35)/7,0)<>\"\",OFFSET('Liste inscrits'!$A$1,INT(ROW()/35)*4+(ROW()-INT(ROW()/35)*35)/7,0),\"\")","v":""},null,{"$f":"IF(B1689<>\"\",VLOOKUP(B1689,'Liste inscrits'!$A:$AD,4,FALSE),\"\")","v":""},"ARA",1,{"$f":"IF(B1689<>\"\",VLOOKUP(B1689,'Liste inscrits'!$A:$AD,5,FALSE),\"\")","v":""},{"$f":"IF(B1689<>\"\",VLOOKUP(B1689,'Liste inscrits'!$A:$AD,6,FALSE),\"\")","v":""}]
[{"$f":"IF(B1689<>\"\",VLOOKUP(B1689,'Liste inscrits'!$A:$AD,8,FALSE),\"\")","v":""},{"$f":"IF(B1689<>\"\",VLOOKUP(B1689,'Liste inscrits'!$A:$AD,7,FALSE),\"\")","v":""},null,{"$f":"IF(B1689<>\"\",VLOOKUP(B1689,'Liste inscrits'!$A:$AD,10,FALSE),\"\")","v":""},"ARA",1,{"$f":"IF(B1689<>\"\",VLOOKUP(B1689,'Liste inscrits'!$A:$AD,11,FALSE),\"\")","v":""},{"$f":"IF(B1689<>\"\",VLOOKUP(B1689,'Liste inscrits'!$A:$AD,12,FALSE),\"\")","v":""}]
[{"$f":"IF(B1689<>\"\",VLOOKUP(B1689,'Liste inscrits'!$A:$AD,14,FALSE),\"\")","v":""},{"$f":"IF(B1689<>\"\",VLOOKUP(B1689,'Liste inscrits'!$A:$AD,13,FALSE),\"\")","v":""},null,{"$f":"IF(B1689<>\"\",VLOOKUP(B1689,'Liste inscrits'!$A:$AD,16,FALSE),\"\")","v":""},"ARA",1,{"$f":"IF(B1689<>\"\",VLOOKUP(B1689,'Liste inscrits'!$A:$AD,17,FALSE),\"\")","v":""},{"$f":"IF(B1689<>\"\",VLOOKUP(B1689,'Liste inscrits'!$A:$AD,18,FALSE),\"\")","v":""}]
[]
["Nb parties gagnées\ndans les poules",{"$f":"IF(ISERROR(VLOOKUP(B1689&G1689&H1689,'Liste inscrits'!AH:AJ,1,FALSE)),\"\",VLOOKUP(B1689&G1689&H1689,'Liste inscrits'!AH:AJ,3,FALSE))","v":""},"Classement \ndans la poule ",{"$f":"IF(ISERROR(VLOOKUP(B1689&G1689&H1689,'Liste inscrits'!AH:AU,1,FALSE)),\"\",VLOOKUP(B1689&G1689&H1689,'Liste inscrits'!AH:AU,14,FALSE)&\"  /  \"&VLOOKUP(B1689&G1689&H1689,'Liste inscrits'!AH:AU,13,FALSE))","v":"  /  "},"Nb de parties gagnées \naprès les poules ",null,null,{"$f":"IF(ISERROR(VLOOKUP(B1689&G1689&H1689,'Liste inscrits'!AH:AS,1,FALSE)),\"\",VLOOKUP(B1689&G1689&H1689,'Liste inscrits'!AH:AS,11,FALSE))","v":""}]
[]
["N° de LICENCE","NOM                     PRENOM\nen lettres capitales",null,"DIV","CR","CBD","N° \nSEC","N° \nASB","Qual. \nChpt AIN"]
[{"$f":"IF(B1696<>\"\",VLOOKUP(B1696,'Liste inscrits'!$A:$AD,2,FALSE),\"\")","v":""},{"$f":"IF(OFFSET('Liste inscrits'!$A$1,INT(ROW()/35)*4+(ROW()-INT(ROW()/35)*35)/7,0)<>\"\",OFFSET('Liste inscrits'!$A$1,INT(ROW()/35)*4+(ROW()-INT(ROW()/35)*35)/7,0),\"\")","v":""},null,{"$f":"IF(B1696<>\"\",VLOOKUP(B1696,'Liste inscrits'!$A:$AD,4,FALSE),\"\")","v":""},"ARA",1,{"$f":"IF(B1696<>\"\",VLOOKUP(B1696,'Liste inscrits'!$A:$AD,5,FALSE),\"\")","v":""},{"$f":"IF(B1696<>\"\",VLOOKUP(B1696,'Liste inscrits'!$A:$AD,6,FALSE),\"\")","v":""}]
[{"$f":"IF(B1696<>\"\",VLOOKUP(B1696,'Liste inscrits'!$A:$AD,8,FALSE),\"\")","v":""},{"$f":"IF(B1696<>\"\",VLOOKUP(B1696,'Liste inscrits'!$A:$AD,7,FALSE),\"\")","v":""},null,{"$f":"IF(B1696<>\"\",VLOOKUP(B1696,'Liste inscrits'!$A:$AD,10,FALSE),\"\")","v":""},"ARA",1,{"$f":"IF(B1696<>\"\",VLOOKUP(B1696,'Liste inscrits'!$A:$AD,11,FALSE),\"\")","v":""},{"$f":"IF(B1696<>\"\",VLOOKUP(B1696,'Liste inscrits'!$A:$AD,12,FALSE),\"\")","v":""}]
[{"$f":"IF(B1696<>\"\",VLOOKUP(B1696,'Liste inscrits'!$A:$AD,14,FALSE),\"\")","v":""},{"$f":"IF(B1696<>\"\",VLOOKUP(B1696,'Liste inscrits'!$A:$AD,13,FALSE),\"\")","v":""},null,{"$f":"IF(B1696<>\"\",VLOOKUP(B1696,'Liste inscrits'!$A:$AD,16,FALSE),\"\")","v":""},"ARA",1,{"$f":"IF(B1696<>\"\",VLOOKUP(B1696,'Liste inscrits'!$A:$AD,17,FALSE),\"\")","v":""},{"$f":"IF(B1696<>\"\",VLOOKUP(B1696,'Liste inscrits'!$A:$AD,18,FALSE),\"\")","v":""}]
[]
["Nb parties gagnées\ndans les poules",{"$f":"IF(ISERROR(VLOOKUP(B1696&G1696&H1696,'Liste inscrits'!AH:AJ,1,FALSE)),\"\",VLOOKUP(B1696&G1696&H1696,'Liste inscrits'!AH:AJ,3,FALSE))","v":""},"Classement \ndans la poule ",{"$f":"IF(ISERROR(VLOOKUP(B1696&G1696&H1696,'Liste inscrits'!AH:AU,1,FALSE)),\"\",VLOOKUP(B1696&G1696&H1696,'Liste inscrits'!AH:AU,14,FALSE)&\"  /  \"&VLOOKUP(B1696&G1696&H1696,'Liste inscrits'!AH:AU,13,FALSE))","v":"  /  "},"Nb de parties gagnées \naprès les poules ",null,null,{"$f":"IF(ISERROR(VLOOKUP(B1696&G1696&H1696,'Liste inscrits'!AH:AS,1,FALSE)),\"\",VLOOKUP(B1696&G1696&H1696,'Liste inscrits'!AH:AS,11,FALSE))","v":""}]
[]
["N° de LICENCE","NOM                     PRENOM\nen lettres capitales",null,"DIV","CR","CBD","N° \nSEC","N° \nASB","Qual. \nChpt AIN"]
[{"$f":"IF(B1703<>\"\",VLOOKUP(B1703,'Liste inscrits'!$A:$AD,2,FALSE),\"\")","v":""},{"$f":"IF(OFFSET('Liste inscrits'!$A$1,INT(ROW()/35)*4+(ROW()-INT(ROW()/35)*35)/7,0)<>\"\",OFFSET('Liste inscrits'!$A$1,INT(ROW()/35)*4+(ROW()-INT(ROW()/35)*35)/7,0),\"\")","v":""},null,{"$f":"IF(B1703<>\"\",VLOOKUP(B1703,'Liste inscrits'!$A:$AD,4,FALSE),\"\")","v":""},"ARA",1,{"$f":"IF(B1703<>\"\",VLOOKUP(B1703,'Liste inscrits'!$A:$AD,5,FALSE),\"\")","v":""},{"$f":"IF(B1703<>\"\",VLOOKUP(B1703,'Liste inscrits'!$A:$AD,6,FALSE),\"\")","v":""}]
[{"$f":"IF(B1703<>\"\",VLOOKUP(B1703,'Liste inscrits'!$A:$AD,8,FALSE),\"\")","v":""},{"$f":"IF(B1703<>\"\",VLOOKUP(B1703,'Liste inscrits'!$A:$AD,7,FALSE),\"\")","v":""},null,{"$f":"IF(B1703<>\"\",VLOOKUP(B1703,'Liste inscrits'!$A:$AD,10,FALSE),\"\")","v":""},"ARA",1,{"$f":"IF(B1703<>\"\",VLOOKUP(B1703,'Liste inscrits'!$A:$AD,11,FALSE),\"\")","v":""},{"$f":"IF(B1703<>\"\",VLOOKUP(B1703,'Liste inscrits'!$A:$AD,12,FALSE),\"\")","v":""}]
[{"$f":"IF(B1703<>\"\",VLOOKUP(B1703,'Liste inscrits'!$A:$AD,14,FALSE),\"\")","v":""},{"$f":"IF(B1703<>\"\",VLOOKUP(B1703,'Liste inscrits'!$A:$AD,13,FALSE),\"\")","v":""},null,{"$f":"IF(B1703<>\"\",VLOOKUP(B1703,'Liste inscrits'!$A:$AD,16,FALSE),\"\")","v":""},"ARA",1,{"$f":"IF(B1703<>\"\",VLOOKUP(B1703,'Liste inscrits'!$A:$AD,17,FALSE),\"\")","v":""},{"$f":"IF(B1703<>\"\",VLOOKUP(B1703,'Liste inscrits'!$A:$AD,18,FALSE),\"\")","v":""}]
[]
["Nb parties gagnées\ndans les poules",{"$f":"IF(ISERROR(VLOOKUP(B1703&G1703&H1703,'Liste inscrits'!AH:AJ,1,FALSE)),\"\",VLOOKUP(B1703&G1703&H1703,'Liste inscrits'!AH:AJ,3,FALSE))","v":""},"Classement \ndans la poule ",{"$f":"IF(ISERROR(VLOOKUP(B1703&G1703&H1703,'Liste inscrits'!AH:AU,1,FALSE)),\"\",VLOOKUP(B1703&G1703&H1703,'Liste inscrits'!AH:AU,14,FALSE)&\"  /  \"&VLOOKUP(B1703&G1703&H1703,'Liste inscrits'!AH:AU,13,FALSE))","v":"  /  "},"Nb de parties gagnées \naprès les poules ",null,null,{"$f":"IF(ISERROR(VLOOKUP(B1703&G1703&H1703,'Liste inscrits'!AH:AS,1,FALSE)),\"\",VLOOKUP(B1703&G1703&H1703,'Liste inscrits'!AH:AS,11,FALSE))","v":""}]
[]
["N° de LICENCE","NOM                     PRENOM\nen lettres capitales",null,"DIV","CR","CBD","N° \nSEC","N° \nASB","Qual. \nChpt AIN"]
[{"$f":"IF(B1710<>\"\",VLOOKUP(B1710,'Liste inscrits'!$A:$AD,2,FALSE),\"\")","v":""},{"$f":"IF(OFFSET('Liste inscrits'!$A$1,INT(ROW()/35)*4+(ROW()-INT(ROW()/35)*35)/7,0)<>\"\",OFFSET('Liste inscrits'!$A$1,INT(ROW()/35)*4+(ROW()-INT(ROW()/35)*35)/7,0),\"\")","v":""},null,{"$f":"IF(B1710<>\"\",VLOOKUP(B1710,'Liste inscrits'!$A:$AD,4,FALSE),\"\")","v":""},"ARA",1,{"$f":"IF(B1710<>\"\",VLOOKUP(B1710,'Liste inscrits'!$A:$AD,5,FALSE),\"\")","v":""},{"$f":"IF(B1710<>\"\",VLOOKUP(B1710,'Liste inscrits'!$A:$AD,6,FALSE),\"\")","v":""}]
[{"$f":"IF(B1710<>\"\",VLOOKUP(B1710,'Liste inscrits'!$A:$AD,8,FALSE),\"\")","v":""},{"$f":"IF(B1710<>\"\",VLOOKUP(B1710,'Liste inscrits'!$A:$AD,7,FALSE),\"\")","v":""},null,{"$f":"IF(B1710<>\"\",VLOOKUP(B1710,'Liste inscrits'!$A:$AD,10,FALSE),\"\")","v":""},"ARA",1,{"$f":"IF(B1710<>\"\",VLOOKUP(B1710,'Liste inscrits'!$A:$AD,11,FALSE),\"\")","v":""},{"$f":"IF(B1710<>\"\",VLOOKUP(B1710,'Liste inscrits'!$A:$AD,12,FALSE),\"\")","v":""}]
[{"$f":"IF(B1710<>\"\",VLOOKUP(B1710,'Liste inscrits'!$A:$AD,14,FALSE),\"\")","v":""},{"$f":"IF(B1710<>\"\",VLOOKUP(B1710,'Liste inscrits'!$A:$AD,13,FALSE),\"\")","v":""},null,{"$f":"IF(B1710<>\"\",VLOOKUP(B1710,'Liste inscrits'!$A:$AD,16,FALSE),\"\")","v":""},"ARA",1,{"$f":"IF(B1710<>\"\",VLOOKUP(B1710,'Liste inscrits'!$A:$AD,17,FALSE),\"\")","v":""},{"$f":"IF(B1710<>\"\",VLOOKUP(B1710,'Liste inscrits'!$A:$AD,18,FALSE),\"\")","v":""}]
[]
["Nb parties gagnées\ndans les poules",{"$f":"IF(ISERROR(VLOOKUP(B1710&G1710&H1710,'Liste inscrits'!AH:AJ,1,FALSE)),\"\",VLOOKUP(B1710&G1710&H1710,'Liste inscrits'!AH:AJ,3,FALSE))","v":""},"Classement \ndans la poule ",{"$f":"IF(ISERROR(VLOOKUP(B1710&G1710&H1710,'Liste inscrits'!AH:AU,1,FALSE)),\"\",VLOOKUP(B1710&G1710&H1710,'Liste inscrits'!AH:AU,14,FALSE)&\"  /  \"&VLOOKUP(B1710&G1710&H1710,'Liste inscrits'!AH:AU,13,FALSE))","v":"  /  "},"Nb de parties gagnées \naprès les poules ",null,null,{"$f":"IF(ISERROR(VLOOKUP(B1710&G1710&H1710,'Liste inscrits'!AH:AS,1,FALSE)),\"\",VLOOKUP(B1710&G1710&H1710,'Liste inscrits'!AH:AS,11,FALSE))","v":""}]
[]
[]
["C.B.D. AIN",null,{"$f":"$C$2","v":0},null,null,null,null,{"$f":"$H$2","v":0}]
[]
["SECTEUR :",{"$f":"$B$4","v":{"$error":"#VALUE!"}},null,"Lieu de la compétition :",{"$f":"$E$4","v":0}]
[]
["Date : ",{"$f":"$B$6","v":0},null,null,"Nombre total d'équipes participantes ",null,null,null,{"$f":"$I$6","v":0}]
[]
["N° de LICENCE","NOM                     PRENOM\nen lettres capitales",null,"DIV","CR","CBD","N° \nSEC","N° \nASB","Qual. \nChpt AIN"]
[{"$f":"IF(B1724<>\"\",VLOOKUP(B1724,'Liste inscrits'!$A:$AD,2,FALSE),\"\")","v":""},{"$f":"IF(OFFSET('Liste inscrits'!$A$1,INT(ROW()/35)*4+(ROW()-INT(ROW()/35)*35)/7,0)<>\"\",OFFSET('Liste inscrits'!$A$1,INT(ROW()/35)*4+(ROW()-INT(ROW()/35)*35)/7,0),\"\")","v":""},null,{"$f":"IF(B1724<>\"\",VLOOKUP(B1724,'Liste inscrits'!$A:$AD,4,FALSE),\"\")","v":""},"ARA",1,{"$f":"IF(B1724<>\"\",VLOOKUP(B1724,'Liste inscrits'!$A:$AD,5,FALSE),\"\")","v":""},{"$f":"IF(B1724<>\"\",VLOOKUP(B1724,'Liste inscrits'!$A:$AD,6,FALSE),\"\")","v":""}]
[{"$f":"IF(B1724<>\"\",VLOOKUP(B1724,'Liste inscrits'!$A:$AD,8,FALSE),\"\")","v":""},{"$f":"IF(B1724<>\"\",VLOOKUP(B1724,'Liste inscrits'!$A:$AD,7,FALSE),\"\")","v":""},null,{"$f":"IF(B1724<>\"\",VLOOKUP(B1724,'Liste inscrits'!$A:$AD,10,FALSE),\"\")","v":""},"ARA",1,{"$f":"IF(B1724<>\"\",VLOOKUP(B1724,'Liste inscrits'!$A:$AD,11,FALSE),\"\")","v":""},{"$f":"IF(B1724<>\"\",VLOOKUP(B1724,'Liste inscrits'!$A:$AD,12,FALSE),\"\")","v":""}]
[{"$f":"IF(B1724<>\"\",VLOOKUP(B1724,'Liste inscrits'!$A:$AD,14,FALSE),\"\")","v":""},{"$f":"IF(B1724<>\"\",VLOOKUP(B1724,'Liste inscrits'!$A:$AD,13,FALSE),\"\")","v":""},null,{"$f":"IF(B1724<>\"\",VLOOKUP(B1724,'Liste inscrits'!$A:$AD,16,FALSE),\"\")","v":""},"ARA",1,{"$f":"IF(B1724<>\"\",VLOOKUP(B1724,'Liste inscrits'!$A:$AD,17,FALSE),\"\")","v":""},{"$f":"IF(B1724<>\"\",VLOOKUP(B1724,'Liste inscrits'!$A:$AD,18,FALSE),\"\")","v":""}]
[]
["Nb parties gagnées\ndans les poules",{"$f":"IF(ISERROR(VLOOKUP(B1724&G1724&H1724,'Liste inscrits'!AH:AJ,1,FALSE)),\"\",VLOOKUP(B1724&G1724&H1724,'Liste inscrits'!AH:AJ,3,FALSE))","v":""},"Classement \ndans la poule ",{"$f":"IF(ISERROR(VLOOKUP(B1724&G1724&H1724,'Liste inscrits'!AH:AU,1,FALSE)),\"\",VLOOKUP(B1724&G1724&H1724,'Liste inscrits'!AH:AU,14,FALSE)&\"  /  \"&VLOOKUP(B1724&G1724&H1724,'Liste inscrits'!AH:AU,13,FALSE))","v":"  /  "},"Nb de parties gagnées \naprès les poules ",null,null,{"$f":"IF(ISERROR(VLOOKUP(B1724&G1724&H1724,'Liste inscrits'!AH:AS,1,FALSE)),\"\",VLOOKUP(B1724&G1724&H1724,'Liste inscrits'!AH:AS,11,FALSE))","v":""}]
[]
["N° de LICENCE","NOM                     PRENOM\nen lettres capitales",null,"DIV","CR","CBD","N° \nSEC","N° \nASB","Qual. \nChpt AIN"]
[{"$f":"IF(B1731<>\"\",VLOOKUP(B1731,'Liste inscrits'!$A:$AD,2,FALSE),\"\")","v":""},{"$f":"IF(OFFSET('Liste inscrits'!$A$1,INT(ROW()/35)*4+(ROW()-INT(ROW()/35)*35)/7,0)<>\"\",OFFSET('Liste inscrits'!$A$1,INT(ROW()/35)*4+(ROW()-INT(ROW()/35)*35)/7,0),\"\")","v":""},null,{"$f":"IF(B1731<>\"\",VLOOKUP(B1731,'Liste inscrits'!$A:$AD,4,FALSE),\"\")","v":""},"ARA",1,{"$f":"IF(B1731<>\"\",VLOOKUP(B1731,'Liste inscrits'!$A:$AD,5,FALSE),\"\")","v":""},{"$f":"IF(B1731<>\"\",VLOOKUP(B1731,'Liste inscrits'!$A:$AD,6,FALSE),\"\")","v":""}]
[{"$f":"IF(B1731<>\"\",VLOOKUP(B1731,'Liste inscrits'!$A:$AD,8,FALSE),\"\")","v":""},{"$f":"IF(B1731<>\"\",VLOOKUP(B1731,'Liste inscrits'!$A:$AD,7,FALSE),\"\")","v":""},null,{"$f":"IF(B1731<>\"\",VLOOKUP(B1731,'Liste inscrits'!$A:$AD,10,FALSE),\"\")","v":""},"ARA",1,{"$f":"IF(B1731<>\"\",VLOOKUP(B1731,'Liste inscrits'!$A:$AD,11,FALSE),\"\")","v":""},{"$f":"IF(B1731<>\"\",VLOOKUP(B1731,'Liste inscrits'!$A:$AD,12,FALSE),\"\")","v":""}]
[{"$f":"IF(B1731<>\"\",VLOOKUP(B1731,'Liste inscrits'!$A:$AD,14,FALSE),\"\")","v":""},{"$f":"IF(B1731<>\"\",VLOOKUP(B1731,'Liste inscrits'!$A:$AD,13,FALSE),\"\")","v":""},null,{"$f":"IF(B1731<>\"\",VLOOKUP(B1731,'Liste inscrits'!$A:$AD,16,FALSE),\"\")","v":""},"ARA",1,{"$f":"IF(B1731<>\"\",VLOOKUP(B1731,'Liste inscrits'!$A:$AD,17,FALSE),\"\")","v":""},{"$f":"IF(B1731<>\"\",VLOOKUP(B1731,'Liste inscrits'!$A:$AD,18,FALSE),\"\")","v":""}]
[]
["Nb parties gagnées\ndans les poules",{"$f":"IF(ISERROR(VLOOKUP(B1731&G1731&H1731,'Liste inscrits'!AH:AJ,1,FALSE)),\"\",VLOOKUP(B1731&G1731&H1731,'Liste inscrits'!AH:AJ,3,FALSE))","v":""},"Classement \ndans la poule ",{"$f":"IF(ISERROR(VLOOKUP(B1731&G1731&H1731,'Liste inscrits'!AH:AU,1,FALSE)),\"\",VLOOKUP(B1731&G1731&H1731,'Liste inscrits'!AH:AU,14,FALSE)&\"  /  \"&VLOOKUP(B1731&G1731&H1731,'Liste inscrits'!AH:AU,13,FALSE))","v":"  /  "},"Nb de parties gagnées \naprès les poules ",null,null,{"$f":"IF(ISERROR(VLOOKUP(B1731&G1731&H1731,'Liste inscrits'!AH:AS,1,FALSE)),\"\",VLOOKUP(B1731&G1731&H1731,'Liste inscrits'!AH:AS,11,FALSE))","v":""}]
[]
["N° de LICENCE","NOM                     PRENOM\nen lettres capitales",null,"DIV","CR","CBD","N° \nSEC","N° \nASB","Qual. \nChpt AIN"]
[{"$f":"IF(B1738<>\"\",VLOOKUP(B1738,'Liste inscrits'!$A:$AD,2,FALSE),\"\")","v":""},{"$f":"IF(OFFSET('Liste inscrits'!$A$1,INT(ROW()/35)*4+(ROW()-INT(ROW()/35)*35)/7,0)<>\"\",OFFSET('Liste inscrits'!$A$1,INT(ROW()/35)*4+(ROW()-INT(ROW()/35)*35)/7,0),\"\")","v":""},null,{"$f":"IF(B1738<>\"\",VLOOKUP(B1738,'Liste inscrits'!$A:$AD,4,FALSE),\"\")","v":""},"ARA",1,{"$f":"IF(B1738<>\"\",VLOOKUP(B1738,'Liste inscrits'!$A:$AD,5,FALSE),\"\")","v":""},{"$f":"IF(B1738<>\"\",VLOOKUP(B1738,'Liste inscrits'!$A:$AD,6,FALSE),\"\")","v":""}]
[{"$f":"IF(B1738<>\"\",VLOOKUP(B1738,'Liste inscrits'!$A:$AD,8,FALSE),\"\")","v":""},{"$f":"IF(B1738<>\"\",VLOOKUP(B1738,'Liste inscrits'!$A:$AD,7,FALSE),\"\")","v":""},null,{"$f":"IF(B1738<>\"\",VLOOKUP(B1738,'Liste inscrits'!$A:$AD,10,FALSE),\"\")","v":""},"ARA",1,{"$f":"IF(B1738<>\"\",VLOOKUP(B1738,'Liste inscrits'!$A:$AD,11,FALSE),\"\")","v":""},{"$f":"IF(B1738<>\"\",VLOOKUP(B1738,'Liste inscrits'!$A:$AD,12,FALSE),\"\")","v":""}]
[{"$f":"IF(B1738<>\"\",VLOOKUP(B1738,'Liste inscrits'!$A:$AD,14,FALSE),\"\")","v":""},{"$f":"IF(B1738<>\"\",VLOOKUP(B1738,'Liste inscrits'!$A:$AD,13,FALSE),\"\")","v":""},null,{"$f":"IF(B1738<>\"\",VLOOKUP(B1738,'Liste inscrits'!$A:$AD,16,FALSE),\"\")","v":""},"ARA",1,{"$f":"IF(B1738<>\"\",VLOOKUP(B1738,'Liste inscrits'!$A:$AD,17,FALSE),\"\")","v":""},{"$f":"IF(B1738<>\"\",VLOOKUP(B1738,'Liste inscrits'!$A:$AD,18,FALSE),\"\")","v":""}]
[]
["Nb parties gagnées\ndans les poules",{"$f":"IF(ISERROR(VLOOKUP(B1738&G1738&H1738,'Liste inscrits'!AH:AJ,1,FALSE)),\"\",VLOOKUP(B1738&G1738&H1738,'Liste inscrits'!AH:AJ,3,FALSE))","v":""},"Classement \ndans la poule ",{"$f":"IF(ISERROR(VLOOKUP(B1738&G1738&H1738,'Liste inscrits'!AH:AU,1,FALSE)),\"\",VLOOKUP(B1738&G1738&H1738,'Liste inscrits'!AH:AU,14,FALSE)&\"  /  \"&VLOOKUP(B1738&G1738&H1738,'Liste inscrits'!AH:AU,13,FALSE))","v":"  /  "},"Nb de parties gagnées \naprès les poules ",null,null,{"$f":"IF(ISERROR(VLOOKUP(B1738&G1738&H1738,'Liste inscrits'!AH:AS,1,FALSE)),\"\",VLOOKUP(B1738&G1738&H1738,'Liste inscrits'!AH:AS,11,FALSE))","v":""}]
[]
["N° de LICENCE","NOM                     PRENOM\nen lettres capitales",null,"DIV","CR","CBD","N° \nSEC","N° \nASB","Qual. \nChpt AIN"]
[{"$f":"IF(B1745<>\"\",VLOOKUP(B1745,'Liste inscrits'!$A:$AD,2,FALSE),\"\")","v":""},{"$f":"IF(OFFSET('Liste inscrits'!$A$1,INT(ROW()/35)*4+(ROW()-INT(ROW()/35)*35)/7,0)<>\"\",OFFSET('Liste inscrits'!$A$1,INT(ROW()/35)*4+(ROW()-INT(ROW()/35)*35)/7,0),\"\")","v":""},null,{"$f":"IF(B1745<>\"\",VLOOKUP(B1745,'Liste inscrits'!$A:$AD,4,FALSE),\"\")","v":""},"ARA",1,{"$f":"IF(B1745<>\"\",VLOOKUP(B1745,'Liste inscrits'!$A:$AD,5,FALSE),\"\")","v":""},{"$f":"IF(B1745<>\"\",VLOOKUP(B1745,'Liste inscrits'!$A:$AD,6,FALSE),\"\")","v":""}]
[{"$f":"IF(B1745<>\"\",VLOOKUP(B1745,'Liste inscrits'!$A:$AD,8,FALSE),\"\")","v":""},{"$f":"IF(B1745<>\"\",VLOOKUP(B1745,'Liste inscrits'!$A:$AD,7,FALSE),\"\")","v":""},null,{"$f":"IF(B1745<>\"\",VLOOKUP(B1745,'Liste inscrits'!$A:$AD,10,FALSE),\"\")","v":""},"ARA",1,{"$f":"IF(B1745<>\"\",VLOOKUP(B1745,'Liste inscrits'!$A:$AD,11,FALSE),\"\")","v":""},{"$f":"IF(B1745<>\"\",VLOOKUP(B1745,'Liste inscrits'!$A:$AD,12,FALSE),\"\")","v":""}]
[{"$f":"IF(B1745<>\"\",VLOOKUP(B1745,'Liste inscrits'!$A:$AD,14,FALSE),\"\")","v":""},{"$f":"IF(B1745<>\"\",VLOOKUP(B1745,'Liste inscrits'!$A:$AD,13,FALSE),\"\")","v":""},null,{"$f":"IF(B1745<>\"\",VLOOKUP(B1745,'Liste inscrits'!$A:$AD,16,FALSE),\"\")","v":""},"ARA",1,{"$f":"IF(B1745<>\"\",VLOOKUP(B1745,'Liste inscrits'!$A:$AD,17,FALSE),\"\")","v":""},{"$f":"IF(B1745<>\"\",VLOOKUP(B1745,'Liste inscrits'!$A:$AD,18,FALSE),\"\")","v":""}]
[]
["Nb parties gagnées\ndans les poules",{"$f":"IF(ISERROR(VLOOKUP(B1745&G1745&H1745,'Liste inscrits'!AH:AJ,1,FALSE)),\"\",VLOOKUP(B1745&G1745&H1745,'Liste inscrits'!AH:AJ,3,FALSE))","v":""},"Classement \ndans la poule ",{"$f":"IF(ISERROR(VLOOKUP(B1745&G1745&H1745,'Liste inscrits'!AH:AU,1,FALSE)),\"\",VLOOKUP(B1745&G1745&H1745,'Liste inscrits'!AH:AU,14,FALSE)&\"  /  \"&VLOOKUP(B1745&G1745&H1745,'Liste inscrits'!AH:AU,13,FALSE))","v":"  /  "},"Nb de parties gagnées \naprès les poules ",null,null,{"$f":"IF(ISERROR(VLOOKUP(B1745&G1745&H1745,'Liste inscrits'!AH:AS,1,FALSE)),\"\",VLOOKUP(B1745&G1745&H1745,'Liste inscrits'!AH:AS,11,FALSE))","v":""}]
[]
[]
["C.B.D. AIN",null,{"$f":"$C$2","v":0},null,null,null,null,{"$f":"$H$2","v":0}]
[]
["SECTEUR :",{"$f":"$B$4","v":{"$error":"#VALUE!"}},null,"Lieu de la compétition :",{"$f":"$E$4","v":0}]
[]
["Date : ",{"$f":"$B$6","v":0},null,null,"Nombre total d'équipes participantes ",null,null,null,{"$f":"$I$6","v":0}]
[]
["N° de LICENCE","NOM                     PRENOM\nen lettres capitales",null,"DIV","CR","CBD","N° \nSEC","N° \nASB","Qual. \nChpt AIN"]
[{"$f":"IF(B1759<>\"\",VLOOKUP(B1759,'Liste inscrits'!$A:$AD,2,FALSE),\"\")","v":""},{"$f":"IF(OFFSET('Liste inscrits'!$A$1,INT(ROW()/35)*4+(ROW()-INT(ROW()/35)*35)/7,0)<>\"\",OFFSET('Liste inscrits'!$A$1,INT(ROW()/35)*4+(ROW()-INT(ROW()/35)*35)/7,0),\"\")","v":""},null,{"$f":"IF(B1759<>\"\",VLOOKUP(B1759,'Liste inscrits'!$A:$AD,4,FALSE),\"\")","v":""},"ARA",1,{"$f":"IF(B1759<>\"\",VLOOKUP(B1759,'Liste inscrits'!$A:$AD,5,FALSE),\"\")","v":""},{"$f":"IF(B1759<>\"\",VLOOKUP(B1759,'Liste inscrits'!$A:$AD,6,FALSE),\"\")","v":""}]
[{"$f":"IF(B1759<>\"\",VLOOKUP(B1759,'Liste inscrits'!$A:$AD,8,FALSE),\"\")","v":""},{"$f":"IF(B1759<>\"\",VLOOKUP(B1759,'Liste inscrits'!$A:$AD,7,FALSE),\"\")","v":""},null,{"$f":"IF(B1759<>\"\",VLOOKUP(B1759,'Liste inscrits'!$A:$AD,10,FALSE),\"\")","v":""},"ARA",1,{"$f":"IF(B1759<>\"\",VLOOKUP(B1759,'Liste inscrits'!$A:$AD,11,FALSE),\"\")","v":""},{"$f":"IF(B1759<>\"\",VLOOKUP(B1759,'Liste inscrits'!$A:$AD,12,FALSE),\"\")","v":""}]
[{"$f":"IF(B1759<>\"\",VLOOKUP(B1759,'Liste inscrits'!$A:$AD,14,FALSE),\"\")","v":""},{"$f":"IF(B1759<>\"\",VLOOKUP(B1759,'Liste inscrits'!$A:$AD,13,FALSE),\"\")","v":""},null,{"$f":"IF(B1759<>\"\",VLOOKUP(B1759,'Liste inscrits'!$A:$AD,16,FALSE),\"\")","v":""},"ARA",1,{"$f":"IF(B1759<>\"\",VLOOKUP(B1759,'Liste inscrits'!$A:$AD,17,FALSE),\"\")","v":""},{"$f":"IF(B1759<>\"\",VLOOKUP(B1759,'Liste inscrits'!$A:$AD,18,FALSE),\"\")","v":""}]
[]
["Nb parties gagnées\ndans les poules",{"$f":"IF(ISERROR(VLOOKUP(B1759&G1759&H1759,'Liste inscrits'!AH:AJ,1,FALSE)),\"\",VLOOKUP(B1759&G1759&H1759,'Liste inscrits'!AH:AJ,3,FALSE))","v":""},"Classement \ndans la poule ",{"$f":"IF(ISERROR(VLOOKUP(B1759&G1759&H1759,'Liste inscrits'!AH:AU,1,FALSE)),\"\",VLOOKUP(B1759&G1759&H1759,'Liste inscrits'!AH:AU,14,FALSE)&\"  /  \"&VLOOKUP(B1759&G1759&H1759,'Liste inscrits'!AH:AU,13,FALSE))","v":"  /  "},"Nb de parties gagnées \naprès les poules ",null,null,{"$f":"IF(ISERROR(VLOOKUP(B1759&G1759&H1759,'Liste inscrits'!AH:AS,1,FALSE)),\"\",VLOOKUP(B1759&G1759&H1759,'Liste inscrits'!AH:AS,11,FALSE))","v":""}]
[]
["N° de LICENCE","NOM                     PRENOM\nen lettres capitales",null,"DIV","CR","CBD","N° \nSEC","N° \nASB","Qual. \nChpt AIN"]
[{"$f":"IF(B1766<>\"\",VLOOKUP(B1766,'Liste inscrits'!$A:$AD,2,FALSE),\"\")","v":""},{"$f":"IF(OFFSET('Liste inscrits'!$A$1,INT(ROW()/35)*4+(ROW()-INT(ROW()/35)*35)/7,0)<>\"\",OFFSET('Liste inscrits'!$A$1,INT(ROW()/35)*4+(ROW()-INT(ROW()/35)*35)/7,0),\"\")","v":""},null,{"$f":"IF(B1766<>\"\",VLOOKUP(B1766,'Liste inscrits'!$A:$AD,4,FALSE),\"\")","v":""},"ARA",1,{"$f":"IF(B1766<>\"\",VLOOKUP(B1766,'Liste inscrits'!$A:$AD,5,FALSE),\"\")","v":""},{"$f":"IF(B1766<>\"\",VLOOKUP(B1766,'Liste inscrits'!$A:$AD,6,FALSE),\"\")","v":""}]
[{"$f":"IF(B1766<>\"\",VLOOKUP(B1766,'Liste inscrits'!$A:$AD,8,FALSE),\"\")","v":""},{"$f":"IF(B1766<>\"\",VLOOKUP(B1766,'Liste inscrits'!$A:$AD,7,FALSE),\"\")","v":""},null,{"$f":"IF(B1766<>\"\",VLOOKUP(B1766,'Liste inscrits'!$A:$AD,10,FALSE),\"\")","v":""},"ARA",1,{"$f":"IF(B1766<>\"\",VLOOKUP(B1766,'Liste inscrits'!$A:$AD,11,FALSE),\"\")","v":""},{"$f":"IF(B1766<>\"\",VLOOKUP(B1766,'Liste inscrits'!$A:$AD,12,FALSE),\"\")","v":""}]
[{"$f":"IF(B1766<>\"\",VLOOKUP(B1766,'Liste inscrits'!$A:$AD,14,FALSE),\"\")","v":""},{"$f":"IF(B1766<>\"\",VLOOKUP(B1766,'Liste inscrits'!$A:$AD,13,FALSE),\"\")","v":""},null,{"$f":"IF(B1766<>\"\",VLOOKUP(B1766,'Liste inscrits'!$A:$AD,16,FALSE),\"\")","v":""},"ARA",1,{"$f":"IF(B1766<>\"\",VLOOKUP(B1766,'Liste inscrits'!$A:$AD,17,FALSE),\"\")","v":""},{"$f":"IF(B1766<>\"\",VLOOKUP(B1766,'Liste inscrits'!$A:$AD,18,FALSE),\"\")","v":""}]
[]
["Nb parties gagnées\ndans les poules",{"$f":"IF(ISERROR(VLOOKUP(B1766&G1766&H1766,'Liste inscrits'!AH:AJ,1,FALSE)),\"\",VLOOKUP(B1766&G1766&H1766,'Liste inscrits'!AH:AJ,3,FALSE))","v":""},"Classement \ndans la poule ",{"$f":"IF(ISERROR(VLOOKUP(B1766&G1766&H1766,'Liste inscrits'!AH:AU,1,FALSE)),\"\",VLOOKUP(B1766&G1766&H1766,'Liste inscrits'!AH:AU,14,FALSE)&\"  /  \"&VLOOKUP(B1766&G1766&H1766,'Liste inscrits'!AH:AU,13,FALSE))","v":"  /  "},"Nb de parties gagnées \naprès les poules ",null,null,{"$f":"IF(ISERROR(VLOOKUP(B1766&G1766&H1766,'Liste inscrits'!AH:AS,1,FALSE)),\"\",VLOOKUP(B1766&G1766&H1766,'Liste inscrits'!AH:AS,11,FALSE))","v":""}]
[]
["N° de LICENCE","NOM                     PRENOM\nen lettres capitales",null,"DIV","CR","CBD","N° \nSEC","N° \nASB","Qual. \nChpt AIN"]
[{"$f":"IF(B1773<>\"\",VLOOKUP(B1773,'Liste inscrits'!$A:$AD,2,FALSE),\"\")","v":""},{"$f":"IF(OFFSET('Liste inscrits'!$A$1,INT(ROW()/35)*4+(ROW()-INT(ROW()/35)*35)/7,0)<>\"\",OFFSET('Liste inscrits'!$A$1,INT(ROW()/35)*4+(ROW()-INT(ROW()/35)*35)/7,0),\"\")","v":""},null,{"$f":"IF(B1773<>\"\",VLOOKUP(B1773,'Liste inscrits'!$A:$AD,4,FALSE),\"\")","v":""},"ARA",1,{"$f":"IF(B1773<>\"\",VLOOKUP(B1773,'Liste inscrits'!$A:$AD,5,FALSE),\"\")","v":""},{"$f":"IF(B1773<>\"\",VLOOKUP(B1773,'Liste inscrits'!$A:$AD,6,FALSE),\"\")","v":""}]
[{"$f":"IF(B1773<>\"\",VLOOKUP(B1773,'Liste inscrits'!$A:$AD,8,FALSE),\"\")","v":""},{"$f":"IF(B1773<>\"\",VLOOKUP(B1773,'Liste inscrits'!$A:$AD,7,FALSE),\"\")","v":""},null,{"$f":"IF(B1773<>\"\",VLOOKUP(B1773,'Liste inscrits'!$A:$AD,10,FALSE),\"\")","v":""},"ARA",1,{"$f":"IF(B1773<>\"\",VLOOKUP(B1773,'Liste inscrits'!$A:$AD,11,FALSE),\"\")","v":""},{"$f":"IF(B1773<>\"\",VLOOKUP(B1773,'Liste inscrits'!$A:$AD,12,FALSE),\"\")","v":""}]
[{"$f":"IF(B1773<>\"\",VLOOKUP(B1773,'Liste inscrits'!$A:$AD,14,FALSE),\"\")","v":""},{"$f":"IF(B1773<>\"\",VLOOKUP(B1773,'Liste inscrits'!$A:$AD,13,FALSE),\"\")","v":""},null,{"$f":"IF(B1773<>\"\",VLOOKUP(B1773,'Liste inscrits'!$A:$AD,16,FALSE),\"\")","v":""},"ARA",1,{"$f":"IF(B1773<>\"\",VLOOKUP(B1773,'Liste inscrits'!$A:$AD,17,FALSE),\"\")","v":""},{"$f":"IF(B1773<>\"\",VLOOKUP(B1773,'Liste inscrits'!$A:$AD,18,FALSE),\"\")","v":""}]
[]
["Nb parties gagnées\ndans les poules",{"$f":"IF(ISERROR(VLOOKUP(B1773&G1773&H1773,'Liste inscrits'!AH:AJ,1,FALSE)),\"\",VLOOKUP(B1773&G1773&H1773,'Liste inscrits'!AH:AJ,3,FALSE))","v":""},"Classement \ndans la poule ",{"$f":"IF(ISERROR(VLOOKUP(B1773&G1773&H1773,'Liste inscrits'!AH:AU,1,FALSE)),\"\",VLOOKUP(B1773&G1773&H1773,'Liste inscrits'!AH:AU,14,FALSE)&\"  /  \"&VLOOKUP(B1773&G1773&H1773,'Liste inscrits'!AH:AU,13,FALSE))","v":"  /  "},"Nb de parties gagnées \naprès les poules ",null,null,{"$f":"IF(ISERROR(VLOOKUP(B1773&G1773&H1773,'Liste inscrits'!AH:AS,1,FALSE)),\"\",VLOOKUP(B1773&G1773&H1773,'Liste inscrits'!AH:AS,11,FALSE))","v":""}]
[]
["N° de LICENCE","NOM                     PRENOM\nen lettres capitales",null,"DIV","CR","CBD","N° \nSEC","N° \nASB","Qual. \nChpt AIN"]
[{"$f":"IF(B1780<>\"\",VLOOKUP(B1780,'Liste inscrits'!$A:$AD,2,FALSE),\"\")","v":""},{"$f":"IF(OFFSET('Liste inscrits'!$A$1,INT(ROW()/35)*4+(ROW()-INT(ROW()/35)*35)/7,0)<>\"\",OFFSET('Liste inscrits'!$A$1,INT(ROW()/35)*4+(ROW()-INT(ROW()/35)*35)/7,0),\"\")","v":""},null,{"$f":"IF(B1780<>\"\",VLOOKUP(B1780,'Liste inscrits'!$A:$AD,4,FALSE),\"\")","v":""},"ARA",1,{"$f":"IF(B1780<>\"\",VLOOKUP(B1780,'Liste inscrits'!$A:$AD,5,FALSE),\"\")","v":""},{"$f":"IF(B1780<>\"\",VLOOKUP(B1780,'Liste inscrits'!$A:$AD,6,FALSE),\"\")","v":""}]
[{"$f":"IF(B1780<>\"\",VLOOKUP(B1780,'Liste inscrits'!$A:$AD,8,FALSE),\"\")","v":""},{"$f":"IF(B1780<>\"\",VLOOKUP(B1780,'Liste inscrits'!$A:$AD,7,FALSE),\"\")","v":""},null,{"$f":"IF(B1780<>\"\",VLOOKUP(B1780,'Liste inscrits'!$A:$AD,10,FALSE),\"\")","v":""},"ARA",1,{"$f":"IF(B1780<>\"\",VLOOKUP(B1780,'Liste inscrits'!$A:$AD,11,FALSE),\"\")","v":""},{"$f":"IF(B1780<>\"\",VLOOKUP(B1780,'Liste inscrits'!$A:$AD,12,FALSE),\"\")","v":""}]
[{"$f":"IF(B1780<>\"\",VLOOKUP(B1780,'Liste inscrits'!$A:$AD,14,FALSE),\"\")","v":""},{"$f":"IF(B1780<>\"\",VLOOKUP(B1780,'Liste inscrits'!$A:$AD,13,FALSE),\"\")","v":""},null,{"$f":"IF(B1780<>\"\",VLOOKUP(B1780,'Liste inscrits'!$A:$AD,16,FALSE),\"\")","v":""},"ARA",1,{"$f":"IF(B1780<>\"\",VLOOKUP(B1780,'Liste inscrits'!$A:$AD,17,FALSE),\"\")","v":""},{"$f":"IF(B1780<>\"\",VLOOKUP(B1780,'Liste inscrits'!$A:$AD,18,FALSE),\"\")","v":""}]
[]
["Nb parties gagnées\ndans les poules",{"$f":"IF(ISERROR(VLOOKUP(B1780&G1780&H1780,'Liste inscrits'!AH:AJ,1,FALSE)),\"\",VLOOKUP(B1780&G1780&H1780,'Liste inscrits'!AH:AJ,3,FALSE))","v":""},"Classement \ndans la poule ",{"$f":"IF(ISERROR(VLOOKUP(B1780&G1780&H1780,'Liste inscrits'!AH:AU,1,FALSE)),\"\",VLOOKUP(B1780&G1780&H1780,'Liste inscrits'!AH:AU,14,FALSE)&\"  /  \"&VLOOKUP(B1780&G1780&H1780,'Liste inscrits'!AH:AU,13,FALSE))","v":"  /  "},"Nb de parties gagnées \naprès les poules ",null,null,{"$f":"IF(ISERROR(VLOOKUP(B1780&G1780&H1780,'Liste inscrits'!AH:AS,1,FALSE)),\"\",VLOOKUP(B1780&G1780&H1780,'Liste inscrits'!AH:AS,11,FALSE))","v":""}]
[]
[]
["C.B.D. AIN",null,{"$f":"$C$2","v":0},null,null,null,null,{"$f":"$H$2","v":0}]
[]
["SECTEUR :",{"$f":"$B$4","v":{"$error":"#VALUE!"}},null,"Lieu de la compétition :",{"$f":"$E$4","v":0}]
[]
["Date : ",{"$f":"$B$6","v":0},null,null,"Nombre total d'équipes participantes ",null,null,null,{"$f":"$I$6","v":0}]
[]
["N° de LICENCE","NOM                     PRENOM\nen lettres capitales",null,"DIV","CR","CBD","N° \nSEC","N° \nASB","Qual. \nChpt AIN"]
[{"$f":"IF(B1794<>\"\",VLOOKUP(B1794,'Liste inscrits'!$A:$AD,2,FALSE),\"\")","v":""},{"$f":"IF(OFFSET('Liste inscrits'!$A$1,INT(ROW()/35)*4+(ROW()-INT(ROW()/35)*35)/7,0)<>\"\",OFFSET('Liste inscrits'!$A$1,INT(ROW()/35)*4+(ROW()-INT(ROW()/35)*35)/7,0),\"\")","v":""},null,{"$f":"IF(B1794<>\"\",VLOOKUP(B1794,'Liste inscrits'!$A:$AD,4,FALSE),\"\")","v":""},"ARA",1,{"$f":"IF(B1794<>\"\",VLOOKUP(B1794,'Liste inscrits'!$A:$AD,5,FALSE),\"\")","v":""},{"$f":"IF(B1794<>\"\",VLOOKUP(B1794,'Liste inscrits'!$A:$AD,6,FALSE),\"\")","v":""}]
[{"$f":"IF(B1794<>\"\",VLOOKUP(B1794,'Liste inscrits'!$A:$AD,8,FALSE),\"\")","v":""},{"$f":"IF(B1794<>\"\",VLOOKUP(B1794,'Liste inscrits'!$A:$AD,7,FALSE),\"\")","v":""},null,{"$f":"IF(B1794<>\"\",VLOOKUP(B1794,'Liste inscrits'!$A:$AD,10,FALSE),\"\")","v":""},"ARA",1,{"$f":"IF(B1794<>\"\",VLOOKUP(B1794,'Liste inscrits'!$A:$AD,11,FALSE),\"\")","v":""},{"$f":"IF(B1794<>\"\",VLOOKUP(B1794,'Liste inscrits'!$A:$AD,12,FALSE),\"\")","v":""}]
[{"$f":"IF(B1794<>\"\",VLOOKUP(B1794,'Liste inscrits'!$A:$AD,14,FALSE),\"\")","v":""},{"$f":"IF(B1794<>\"\",VLOOKUP(B1794,'Liste inscrits'!$A:$AD,13,FALSE),\"\")","v":""},null,{"$f":"IF(B1794<>\"\",VLOOKUP(B1794,'Liste inscrits'!$A:$AD,16,FALSE),\"\")","v":""},"ARA",1,{"$f":"IF(B1794<>\"\",VLOOKUP(B1794,'Liste inscrits'!$A:$AD,17,FALSE),\"\")","v":""},{"$f":"IF(B1794<>\"\",VLOOKUP(B1794,'Liste inscrits'!$A:$AD,18,FALSE),\"\")","v":""}]
[]
["Nb parties gagnées\ndans les poules",{"$f":"IF(ISERROR(VLOOKUP(B1794&G1794&H1794,'Liste inscrits'!AH:AJ,1,FALSE)),\"\",VLOOKUP(B1794&G1794&H1794,'Liste inscrits'!AH:AJ,3,FALSE))","v":""},"Classement \ndans la poule ",{"$f":"IF(ISERROR(VLOOKUP(B1794&G1794&H1794,'Liste inscrits'!AH:AU,1,FALSE)),\"\",VLOOKUP(B1794&G1794&H1794,'Liste inscrits'!AH:AU,14,FALSE)&\"  /  \"&VLOOKUP(B1794&G1794&H1794,'Liste inscrits'!AH:AU,13,FALSE))","v":"  /  "},"Nb de parties gagnées \naprès les poules ",null,null,{"$f":"IF(ISERROR(VLOOKUP(B1794&G1794&H1794,'Liste inscrits'!AH:AS,1,FALSE)),\"\",VLOOKUP(B1794&G1794&H1794,'Liste inscrits'!AH:AS,11,FALSE))","v":""}]
[]
["N° de LICENCE","NOM                     PRENOM\nen lettres capitales",null,"DIV","CR","CBD","N° \nSEC","N° \nASB","Qual. \nChpt AIN"]
[{"$f":"IF(B1801<>\"\",VLOOKUP(B1801,'Liste inscrits'!$A:$AD,2,FALSE),\"\")","v":""},{"$f":"IF(OFFSET('Liste inscrits'!$A$1,INT(ROW()/35)*4+(ROW()-INT(ROW()/35)*35)/7,0)<>\"\",OFFSET('Liste inscrits'!$A$1,INT(ROW()/35)*4+(ROW()-INT(ROW()/35)*35)/7,0),\"\")","v":""},null,{"$f":"IF(B1801<>\"\",VLOOKUP(B1801,'Liste inscrits'!$A:$AD,4,FALSE),\"\")","v":""},"ARA",1,{"$f":"IF(B1801<>\"\",VLOOKUP(B1801,'Liste inscrits'!$A:$AD,5,FALSE),\"\")","v":""},{"$f":"IF(B1801<>\"\",VLOOKUP(B1801,'Liste inscrits'!$A:$AD,6,FALSE),\"\")","v":""}]
[{"$f":"IF(B1801<>\"\",VLOOKUP(B1801,'Liste inscrits'!$A:$AD,8,FALSE),\"\")","v":""},{"$f":"IF(B1801<>\"\",VLOOKUP(B1801,'Liste inscrits'!$A:$AD,7,FALSE),\"\")","v":""},null,{"$f":"IF(B1801<>\"\",VLOOKUP(B1801,'Liste inscrits'!$A:$AD,10,FALSE),\"\")","v":""},"ARA",1,{"$f":"IF(B1801<>\"\",VLOOKUP(B1801,'Liste inscrits'!$A:$AD,11,FALSE),\"\")","v":""},{"$f":"IF(B1801<>\"\",VLOOKUP(B1801,'Liste inscrits'!$A:$AD,12,FALSE),\"\")","v":""}]
[{"$f":"IF(B1801<>\"\",VLOOKUP(B1801,'Liste inscrits'!$A:$AD,14,FALSE),\"\")","v":""},{"$f":"IF(B1801<>\"\",VLOOKUP(B1801,'Liste inscrits'!$A:$AD,13,FALSE),\"\")","v":""},null,{"$f":"IF(B1801<>\"\",VLOOKUP(B1801,'Liste inscrits'!$A:$AD,16,FALSE),\"\")","v":""},"ARA",1,{"$f":"IF(B1801<>\"\",VLOOKUP(B1801,'Liste inscrits'!$A:$AD,17,FALSE),\"\")","v":""},{"$f":"IF(B1801<>\"\",VLOOKUP(B1801,'Liste inscrits'!$A:$AD,18,FALSE),\"\")","v":""}]
[]
["Nb parties gagnées\ndans les poules",{"$f":"IF(ISERROR(VLOOKUP(B1801&G1801&H1801,'Liste inscrits'!AH:AJ,1,FALSE)),\"\",VLOOKUP(B1801&G1801&H1801,'Liste inscrits'!AH:AJ,3,FALSE))","v":""},"Classement \ndans la poule ",{"$f":"IF(ISERROR(VLOOKUP(B1801&G1801&H1801,'Liste inscrits'!AH:AU,1,FALSE)),\"\",VLOOKUP(B1801&G1801&H1801,'Liste inscrits'!AH:AU,14,FALSE)&\"  /  \"&VLOOKUP(B1801&G1801&H1801,'Liste inscrits'!AH:AU,13,FALSE))","v":"  /  "},"Nb de parties gagnées \naprès les poules ",null,null,{"$f":"IF(ISERROR(VLOOKUP(B1801&G1801&H1801,'Liste inscrits'!AH:AS,1,FALSE)),\"\",VLOOKUP(B1801&G1801&H1801,'Liste inscrits'!AH:AS,11,FALSE))","v":""}]
[]
["N° de LICENCE","NOM                     PRENOM\nen lettres capitales",null,"DIV","CR","CBD","N° \nSEC","N° \nASB","Qual. \nChpt AIN"]
[{"$f":"IF(B1808<>\"\",VLOOKUP(B1808,'Liste inscrits'!$A:$AD,2,FALSE),\"\")","v":""},{"$f":"IF(OFFSET('Liste inscrits'!$A$1,INT(ROW()/35)*4+(ROW()-INT(ROW()/35)*35)/7,0)<>\"\",OFFSET('Liste inscrits'!$A$1,INT(ROW()/35)*4+(ROW()-INT(ROW()/35)*35)/7,0),\"\")","v":""},null,{"$f":"IF(B1808<>\"\",VLOOKUP(B1808,'Liste inscrits'!$A:$AD,4,FALSE),\"\")","v":""},"ARA",1,{"$f":"IF(B1808<>\"\",VLOOKUP(B1808,'Liste inscrits'!$A:$AD,5,FALSE),\"\")","v":""},{"$f":"IF(B1808<>\"\",VLOOKUP(B1808,'Liste inscrits'!$A:$AD,6,FALSE),\"\")","v":""}]
[{"$f":"IF(B1808<>\"\",VLOOKUP(B1808,'Liste inscrits'!$A:$AD,8,FALSE),\"\")","v":""},{"$f":"IF(B1808<>\"\",VLOOKUP(B1808,'Liste inscrits'!$A:$AD,7,FALSE),\"\")","v":""},null,{"$f":"IF(B1808<>\"\",VLOOKUP(B1808,'Liste inscrits'!$A:$AD,10,FALSE),\"\")","v":""},"ARA",1,{"$f":"IF(B1808<>\"\",VLOOKUP(B1808,'Liste inscrits'!$A:$AD,11,FALSE),\"\")","v":""},{"$f":"IF(B1808<>\"\",VLOOKUP(B1808,'Liste inscrits'!$A:$AD,12,FALSE),\"\")","v":""}]
[{"$f":"IF(B1808<>\"\",VLOOKUP(B1808,'Liste inscrits'!$A:$AD,14,FALSE),\"\")","v":""},{"$f":"IF(B1808<>\"\",VLOOKUP(B1808,'Liste inscrits'!$A:$AD,13,FALSE),\"\")","v":""},null,{"$f":"IF(B1808<>\"\",VLOOKUP(B1808,'Liste inscrits'!$A:$AD,16,FALSE),\"\")","v":""},"ARA",1,{"$f":"IF(B1808<>\"\",VLOOKUP(B1808,'Liste inscrits'!$A:$AD,17,FALSE),\"\")","v":""},{"$f":"IF(B1808<>\"\",VLOOKUP(B1808,'Liste inscrits'!$A:$AD,18,FALSE),\"\")","v":""}]
[]
["Nb parties gagnées\ndans les poules",{"$f":"IF(ISERROR(VLOOKUP(B1808&G1808&H1808,'Liste inscrits'!AH:AJ,1,FALSE)),\"\",VLOOKUP(B1808&G1808&H1808,'Liste inscrits'!AH:AJ,3,FALSE))","v":""},"Classement \ndans la poule ",{"$f":"IF(ISERROR(VLOOKUP(B1808&G1808&H1808,'Liste inscrits'!AH:AU,1,FALSE)),\"\",VLOOKUP(B1808&G1808&H1808,'Liste inscrits'!AH:AU,14,FALSE)&\"  /  \"&VLOOKUP(B1808&G1808&H1808,'Liste inscrits'!AH:AU,13,FALSE))","v":"  /  "},"Nb de parties gagnées \naprès les poules ",null,null,{"$f":"IF(ISERROR(VLOOKUP(B1808&G1808&H1808,'Liste inscrits'!AH:AS,1,FALSE)),\"\",VLOOKUP(B1808&G1808&H1808,'Liste inscrits'!AH:AS,11,FALSE))","v":""}]
[]
["N° de LICENCE","NOM                     PRENOM\nen lettres capitales",null,"DIV","CR","CBD","N° \nSEC","N° \nASB","Qual. \nChpt AIN"]
[{"$f":"IF(B1815<>\"\",VLOOKUP(B1815,'Liste inscrits'!$A:$AD,2,FALSE),\"\")","v":""},{"$f":"IF(OFFSET('Liste inscrits'!$A$1,INT(ROW()/35)*4+(ROW()-INT(ROW()/35)*35)/7,0)<>\"\",OFFSET('Liste inscrits'!$A$1,INT(ROW()/35)*4+(ROW()-INT(ROW()/35)*35)/7,0),\"\")","v":""},null,{"$f":"IF(B1815<>\"\",VLOOKUP(B1815,'Liste inscrits'!$A:$AD,4,FALSE),\"\")","v":""},"ARA",1,{"$f":"IF(B1815<>\"\",VLOOKUP(B1815,'Liste inscrits'!$A:$AD,5,FALSE),\"\")","v":""},{"$f":"IF(B1815<>\"\",VLOOKUP(B1815,'Liste inscrits'!$A:$AD,6,FALSE),\"\")","v":""}]
[{"$f":"IF(B1815<>\"\",VLOOKUP(B1815,'Liste inscrits'!$A:$AD,8,FALSE),\"\")","v":""},{"$f":"IF(B1815<>\"\",VLOOKUP(B1815,'Liste inscrits'!$A:$AD,7,FALSE),\"\")","v":""},null,{"$f":"IF(B1815<>\"\",VLOOKUP(B1815,'Liste inscrits'!$A:$AD,10,FALSE),\"\")","v":""},"ARA",1,{"$f":"IF(B1815<>\"\",VLOOKUP(B1815,'Liste inscrits'!$A:$AD,11,FALSE),\"\")","v":""},{"$f":"IF(B1815<>\"\",VLOOKUP(B1815,'Liste inscrits'!$A:$AD,12,FALSE),\"\")","v":""}]
[{"$f":"IF(B1815<>\"\",VLOOKUP(B1815,'Liste inscrits'!$A:$AD,14,FALSE),\"\")","v":""},{"$f":"IF(B1815<>\"\",VLOOKUP(B1815,'Liste inscrits'!$A:$AD,13,FALSE),\"\")","v":""},null,{"$f":"IF(B1815<>\"\",VLOOKUP(B1815,'Liste inscrits'!$A:$AD,16,FALSE),\"\")","v":""},"ARA",1,{"$f":"IF(B1815<>\"\",VLOOKUP(B1815,'Liste inscrits'!$A:$AD,17,FALSE),\"\")","v":""},{"$f":"IF(B1815<>\"\",VLOOKUP(B1815,'Liste inscrits'!$A:$AD,18,FALSE),\"\")","v":""}]
[]
["Nb parties gagnées\ndans les poules",{"$f":"IF(ISERROR(VLOOKUP(B1815&G1815&H1815,'Liste inscrits'!AH:AJ,1,FALSE)),\"\",VLOOKUP(B1815&G1815&H1815,'Liste inscrits'!AH:AJ,3,FALSE))","v":""},"Classement \ndans la poule ",{"$f":"IF(ISERROR(VLOOKUP(B1815&G1815&H1815,'Liste inscrits'!AH:AU,1,FALSE)),\"\",VLOOKUP(B1815&G1815&H1815,'Liste inscrits'!AH:AU,14,FALSE)&\"  /  \"&VLOOKUP(B1815&G1815&H1815,'Liste inscrits'!AH:AU,13,FALSE))","v":"  /  "},"Nb de parties gagnées \naprès les poules ",null,null,{"$f":"IF(ISERROR(VLOOKUP(B1815&G1815&H1815,'Liste inscrits'!AH:AS,1,FALSE)),\"\",VLOOKUP(B1815&G1815&H1815,'Liste inscrits'!AH:AS,11,FALSE))","v":""}]

{"sheet":"AS","index":9,"n_rows":189,"n_cols":8,"rows_kept":189,"cut":false,"hidden":false,"merged":[]}
[null,{"$f":"MAX(B2:B183)","v":0},null,{"$f":"MAX(D2:D183)","v":0},null,0,"N° Secteur","N° AS"]
["Abergement Clemenciat (02)",{"$f":"COUNTIF('Liste inscrits'!C:C,A2)","v":0},null,{"$f":"B2-SUMIF('Liste inscrits'!C:C,A2,'Liste inscrits'!AE:AE)","v":0},null,1,"02","01"]
["Amberieu B. De Tiret  (08)",{"$f":"COUNTIF('Liste inscrits'!C:C,A3)","v":0},null,{"$f":"B3-SUMIF('Liste inscrits'!C:C,A3,'Liste inscrits'!AE:AE)","v":0},null,2,"08","03"]
["Amberieu En Bugey Asc (08)",{"$f":"COUNTIF('Liste inscrits'!C:C,A4)","v":0},null,{"$f":"B4-SUMIF('Liste inscrits'!C:C,A4,'Liste inscrits'!AE:AE)","v":0},null,3,"08","04"]
["Amberieu En Bugey P.T.T  (08)",{"$f":"COUNTIF('Liste inscrits'!C:C,A5)","v":0},null,{"$f":"B5-SUMIF('Liste inscrits'!C:C,A5,'Liste inscrits'!AE:AE)","v":0},null,4,"08","01"]
["Amberieux En Dombes (02)",{"$f":"COUNTIF('Liste inscrits'!C:C,A6)","v":0},null,{"$f":"B6-SUMIF('Liste inscrits'!C:C,A6,'Liste inscrits'!AE:AE)","v":0},null,5,"02","02"]
["Ambronay (03)",{"$f":"COUNTIF('Liste inscrits'!C:C,A7)","v":0},null,{"$f":"B7-SUMIF('Liste inscrits'!C:C,A7,'Liste inscrits'!AE:AE)","v":0},null,6,"03","01"]
["Argis (10)",{"$f":"COUNTIF('Liste inscrits'!C:C,A8)","v":0},null,{"$f":"B8-SUMIF('Liste inscrits'!C:C,A8,'Liste inscrits'!AE:AE)","v":0},null,7,"10","01"]
["Arlod Bellegarde (11)",{"$f":"COUNTIF('Liste inscrits'!C:C,A9)","v":0},null,{"$f":"B9-SUMIF('Liste inscrits'!C:C,A9,'Liste inscrits'!AE:AE)","v":0},null,8,"11","01"]
["Ars S/Formans (06)",{"$f":"COUNTIF('Liste inscrits'!C:C,A10)","v":0},null,{"$f":"B10-SUMIF('Liste inscrits'!C:C,A10,'Liste inscrits'!AE:AE)","v":0},null,9,"06","01"]
["Artemare (09)",{"$f":"COUNTIF('Liste inscrits'!C:C,A11)","v":0},null,{"$f":"B11-SUMIF('Liste inscrits'!C:C,A11,'Liste inscrits'!AE:AE)","v":0},null,10,"09","01"]
["Baneins (02)",{"$f":"COUNTIF('Liste inscrits'!C:C,A12)","v":0},null,{"$f":"B12-SUMIF('Liste inscrits'!C:C,A12,'Liste inscrits'!AE:AE)","v":0},null,11,"02","03"]
["Beauregard (06)",{"$f":"COUNTIF('Liste inscrits'!C:C,A13)","v":0},null,{"$f":"B13-SUMIF('Liste inscrits'!C:C,A13,'Liste inscrits'!AE:AE)","v":0},null,12,"06","02"]
["Beligneux-La Valbonne (01)",{"$f":"COUNTIF('Liste inscrits'!C:C,A14)","v":0},null,{"$f":"B14-SUMIF('Liste inscrits'!C:C,A14,'Liste inscrits'!AE:AE)","v":0},null,13,"01","01"]
["Bellegarde (11)",{"$f":"COUNTIF('Liste inscrits'!C:C,A15)","v":0},null,{"$f":"B15-SUMIF('Liste inscrits'!C:C,A15,'Liste inscrits'!AE:AE)","v":0},null,14,"11","02"]
["Bellegarde B. Des Cites  (11)",{"$f":"COUNTIF('Liste inscrits'!C:C,A16)","v":0},null,{"$f":"B16-SUMIF('Liste inscrits'!C:C,A16,'Liste inscrits'!AE:AE)","v":0},null,15,"11","03"]
["Belley (09)",{"$f":"COUNTIF('Liste inscrits'!C:C,A17)","v":0},null,{"$f":"B17-SUMIF('Liste inscrits'!C:C,A17,'Liste inscrits'!AE:AE)","v":0},null,16,"09","02"]
["Bellignat (05)",{"$f":"COUNTIF('Liste inscrits'!C:C,A18)","v":0},null,{"$f":"B18-SUMIF('Liste inscrits'!C:C,A18,'Liste inscrits'!AE:AE)","v":0},null,17,"05","01"]
["Bettant (08)",{"$f":"COUNTIF('Liste inscrits'!C:C,A19)","v":0},null,{"$f":"B19-SUMIF('Liste inscrits'!C:C,A19,'Liste inscrits'!AE:AE)","v":0},null,18,"08","20"]
["Beynost (01)",{"$f":"COUNTIF('Liste inscrits'!C:C,A20)","v":0},null,{"$f":"B20-SUMIF('Liste inscrits'!C:C,A20,'Liste inscrits'!AE:AE)","v":0},null,19,"01","02"]
["Bourg 4 Vents  (04)",{"$f":"COUNTIF('Liste inscrits'!C:C,A21)","v":0},null,{"$f":"B21-SUMIF('Liste inscrits'!C:C,A21,'Liste inscrits'!AE:AE)","v":0},null,20,"04","23"]
["Bourg Faubourg (04)",{"$f":"COUNTIF('Liste inscrits'!C:C,A22)","v":0},null,{"$f":"B22-SUMIF('Liste inscrits'!C:C,A22,'Liste inscrits'!AE:AE)","v":0},null,21,"04","24"]
["Bourg J.L. (04)",{"$f":"COUNTIF('Liste inscrits'!C:C,A23)","v":0},null,{"$f":"B23-SUMIF('Liste inscrits'!C:C,A23,'Liste inscrits'!AE:AE)","v":0},null,22,"04","25"]
["Bourg Rccb (04)",{"$f":"COUNTIF('Liste inscrits'!C:C,A24)","v":0},null,{"$f":"B24-SUMIF('Liste inscrits'!C:C,A24,'Liste inscrits'!AE:AE)","v":0},null,23,"04","20"]
["Brion (05)",{"$f":"COUNTIF('Liste inscrits'!C:C,A25)","v":0},null,{"$f":"B25-SUMIF('Liste inscrits'!C:C,A25,'Liste inscrits'!AE:AE)","v":0},null,24,"05","02"]
["Cerdon (03)",{"$f":"COUNTIF('Liste inscrits'!C:C,A26)","v":0},null,{"$f":"B26-SUMIF('Liste inscrits'!C:C,A26,'Liste inscrits'!AE:AE)","v":0},null,25,"03","02"]
["Certines (04)",{"$f":"COUNTIF('Liste inscrits'!C:C,A27)","v":0},null,{"$f":"B27-SUMIF('Liste inscrits'!C:C,A27,'Liste inscrits'!AE:AE)","v":0},null,26,"04","02"]
["Ceyzeriat (04)",{"$f":"COUNTIF('Liste inscrits'!C:C,A28)","v":0},null,{"$f":"B28-SUMIF('Liste inscrits'!C:C,A28,'Liste inscrits'!AE:AE)","v":0},null,27,"04","03"]
["Ceyzerieu (09)",{"$f":"COUNTIF('Liste inscrits'!C:C,A29)","v":0},null,{"$f":"B29-SUMIF('Liste inscrits'!C:C,A29,'Liste inscrits'!AE:AE)","v":0},null,28,"09","04"]
["Chalamont (07)",{"$f":"COUNTIF('Liste inscrits'!C:C,A30)","v":0},null,{"$f":"B30-SUMIF('Liste inscrits'!C:C,A30,'Liste inscrits'!AE:AE)","v":0},null,29,"07","02"]
["Chaley (10)",{"$f":"COUNTIF('Liste inscrits'!C:C,A31)","v":0},null,{"$f":"B31-SUMIF('Liste inscrits'!C:C,A31,'Liste inscrits'!AE:AE)","v":0},null,30,"10","03"]
["Challes La Montagne (03)",{"$f":"COUNTIF('Liste inscrits'!C:C,A32)","v":0},null,{"$f":"B32-SUMIF('Liste inscrits'!C:C,A32,'Liste inscrits'!AE:AE)","v":0},null,31,"03","14"]
["Champagne En Valromey (09)",{"$f":"COUNTIF('Liste inscrits'!C:C,A33)","v":0},null,{"$f":"B33-SUMIF('Liste inscrits'!C:C,A33,'Liste inscrits'!AE:AE)","v":0},null,32,"09","05"]
["Champdor (10)",{"$f":"COUNTIF('Liste inscrits'!C:C,A34)","v":0},null,{"$f":"B34-SUMIF('Liste inscrits'!C:C,A34,'Liste inscrits'!AE:AE)","v":0},null,33,"10","04"]
["Chaneins (02)",{"$f":"COUNTIF('Liste inscrits'!C:C,A35)","v":0},null,{"$f":"B35-SUMIF('Liste inscrits'!C:C,A35,'Liste inscrits'!AE:AE)","v":0},null,34,"02","04"]
["Chateau Gaillard (08)",{"$f":"COUNTIF('Liste inscrits'!C:C,A36)","v":0},null,{"$f":"B36-SUMIF('Liste inscrits'!C:C,A36,'Liste inscrits'!AE:AE)","v":0},null,35,"08","07"]
["Chatenay (07)",{"$f":"COUNTIF('Liste inscrits'!C:C,A37)","v":0},null,{"$f":"B37-SUMIF('Liste inscrits'!C:C,A37,'Liste inscrits'!AE:AE)","v":0},null,36,"07","03"]
["Chatillon En Michaille (11)",{"$f":"COUNTIF('Liste inscrits'!C:C,A38)","v":0},null,{"$f":"B38-SUMIF('Liste inscrits'!C:C,A38,'Liste inscrits'!AE:AE)","v":0},null,37,"11","07"]
["Chatillon La Palud (07)",{"$f":"COUNTIF('Liste inscrits'!C:C,A39)","v":0},null,{"$f":"B39-SUMIF('Liste inscrits'!C:C,A39,'Liste inscrits'!AE:AE)","v":0},null,38,"07","04"]
["Chatillon/Chalaronne (02)",{"$f":"COUNTIF('Liste inscrits'!C:C,A40)","v":0},null,{"$f":"B40-SUMIF('Liste inscrits'!C:C,A40,'Liste inscrits'!AE:AE)","v":0},null,39,"02","05"]
["Chaveyriat (12)",{"$f":"COUNTIF('Liste inscrits'!C:C,A41)","v":0},null,{"$f":"B41-SUMIF('Liste inscrits'!C:C,A41,'Liste inscrits'!AE:AE)","v":0},null,40,"12","11"]
["Chaveyriat-Mezeriat-Vandeins (12)",{"$f":"COUNTIF('Liste inscrits'!C:C,A42)","v":0},null,{"$f":"B42-SUMIF('Liste inscrits'!C:C,A42,'Liste inscrits'!AE:AE)","v":0},null,41,"12","50"]
["Chevroux (13)",{"$f":"COUNTIF('Liste inscrits'!C:C,A43)","v":0},null,{"$f":"B43-SUMIF('Liste inscrits'!C:C,A43,'Liste inscrits'!AE:AE)","v":0},null,42,"13","02"]
["Civrieux En Dombes (06)",{"$f":"COUNTIF('Liste inscrits'!C:C,A44)","v":0},null,{"$f":"B44-SUMIF('Liste inscrits'!C:C,A44,'Liste inscrits'!AE:AE)","v":0},null,43,"06","03"]
["Collonges (14)",{"$f":"COUNTIF('Liste inscrits'!C:C,A45)","v":0},null,{"$f":"B45-SUMIF('Liste inscrits'!C:C,A45,'Liste inscrits'!AE:AE)","v":0},null,44,"14","01"]
["Conand (10)",{"$f":"COUNTIF('Liste inscrits'!C:C,A46)","v":0},null,{"$f":"B46-SUMIF('Liste inscrits'!C:C,A46,'Liste inscrits'!AE:AE)","v":0},null,45,"10","13"]
["Corcelles (30)",{"$f":"COUNTIF('Liste inscrits'!C:C,A47)","v":0},null,{"$f":"B47-SUMIF('Liste inscrits'!C:C,A47,'Liste inscrits'!AE:AE)","v":0},null,46,"30","10"]
["Cormaranche (10)",{"$f":"COUNTIF('Liste inscrits'!C:C,A48)","v":0},null,{"$f":"B48-SUMIF('Liste inscrits'!C:C,A48,'Liste inscrits'!AE:AE)","v":0},null,47,"10","05"]
["Crans (07)",{"$f":"COUNTIF('Liste inscrits'!C:C,A49)","v":0},null,{"$f":"B49-SUMIF('Liste inscrits'!C:C,A49,'Liste inscrits'!AE:AE)","v":0},null,48,"07","05"]
["Cras/Reyssouze (13)",{"$f":"COUNTIF('Liste inscrits'!C:C,A50)","v":0},null,{"$f":"B50-SUMIF('Liste inscrits'!C:C,A50,'Liste inscrits'!AE:AE)","v":0},null,49,"13","04"]
["Crozet (14)",{"$f":"COUNTIF('Liste inscrits'!C:C,A51)","v":0},null,{"$f":"B51-SUMIF('Liste inscrits'!C:C,A51,'Liste inscrits'!AE:AE)","v":0},null,50,"14","02"]
["Culoz (09)",{"$f":"COUNTIF('Liste inscrits'!C:C,A52)","v":0},null,{"$f":"B52-SUMIF('Liste inscrits'!C:C,A52,'Liste inscrits'!AE:AE)","v":0},null,51,"09","08"]
["Dagneux (01)",{"$f":"COUNTIF('Liste inscrits'!C:C,A53)","v":0},null,{"$f":"B53-SUMIF('Liste inscrits'!C:C,A53,'Liste inscrits'!AE:AE)","v":0},null,52,"01","04"]
["Divonnaise (14)",{"$f":"COUNTIF('Liste inscrits'!C:C,A54)","v":0},null,{"$f":"B54-SUMIF('Liste inscrits'!C:C,A54,'Liste inscrits'!AE:AE)","v":0},null,53,"14","03"]
["Dommartin (12)",{"$f":"COUNTIF('Liste inscrits'!C:C,A55)","v":0},null,{"$f":"B55-SUMIF('Liste inscrits'!C:C,A55,'Liste inscrits'!AE:AE)","v":0},null,54,"12","03"]
["Dompierre Sur Veyle (07)",{"$f":"COUNTIF('Liste inscrits'!C:C,A56)","v":0},null,{"$f":"B56-SUMIF('Liste inscrits'!C:C,A56,'Liste inscrits'!AE:AE)","v":0},null,55,"07","06"]
["Dortan (05)",{"$f":"COUNTIF('Liste inscrits'!C:C,A57)","v":0},null,{"$f":"B57-SUMIF('Liste inscrits'!C:C,A57,'Liste inscrits'!AE:AE)","v":0},null,56,"05","03"]
["Druillat Platanes (03)",{"$f":"COUNTIF('Liste inscrits'!C:C,A58)","v":0},null,{"$f":"B58-SUMIF('Liste inscrits'!C:C,A58,'Liste inscrits'!AE:AE)","v":0},null,57,"03","03"]
["Druillat Rives De L'Ain (03)",{"$f":"COUNTIF('Liste inscrits'!C:C,A59)","v":0},null,{"$f":"B59-SUMIF('Liste inscrits'!C:C,A59,'Liste inscrits'!AE:AE)","v":0},null,58,"03","53"]
["Druillat Turgon (03)",{"$f":"COUNTIF('Liste inscrits'!C:C,A60)","v":0},null,{"$f":"B60-SUMIF('Liste inscrits'!C:C,A60,'Liste inscrits'!AE:AE)","v":0},null,59,"03","04"]
["Faramans (01)",{"$f":"COUNTIF('Liste inscrits'!C:C,A61)","v":0},null,{"$f":"B61-SUMIF('Liste inscrits'!C:C,A61,'Liste inscrits'!AE:AE)","v":0},null,60,"01","22"]
["Fareins (06)",{"$f":"COUNTIF('Liste inscrits'!C:C,A62)","v":0},null,{"$f":"B62-SUMIF('Liste inscrits'!C:C,A62,'Liste inscrits'!AE:AE)","v":0},null,61,"06","04"]
["Feillens (12)",{"$f":"COUNTIF('Liste inscrits'!C:C,A63)","v":0},null,{"$f":"B63-SUMIF('Liste inscrits'!C:C,A63,'Liste inscrits'!AE:AE)","v":0},null,62,"12","04"]
["Ferney Voltaire (14)",{"$f":"COUNTIF('Liste inscrits'!C:C,A64)","v":0},null,{"$f":"B64-SUMIF('Liste inscrits'!C:C,A64,'Liste inscrits'!AE:AE)","v":0},null,63,"14","05"]
["Foissiat (13)",{"$f":"COUNTIF('Liste inscrits'!C:C,A65)","v":0},null,{"$f":"B65-SUMIF('Liste inscrits'!C:C,A65,'Liste inscrits'!AE:AE)","v":0},null,64,"13","06"]
["Frans Les Vernes (06)",{"$f":"COUNTIF('Liste inscrits'!C:C,A66)","v":0},null,{"$f":"B66-SUMIF('Liste inscrits'!C:C,A66,'Liste inscrits'!AE:AE)","v":0},null,65,"06","05"]
["Genissiat (11)",{"$f":"COUNTIF('Liste inscrits'!C:C,A67)","v":0},null,{"$f":"B67-SUMIF('Liste inscrits'!C:C,A67,'Liste inscrits'!AE:AE)","v":0},null,66,"11","09"]
["Grieges (12)",{"$f":"COUNTIF('Liste inscrits'!C:C,A68)","v":0},null,{"$f":"B68-SUMIF('Liste inscrits'!C:C,A68,'Liste inscrits'!AE:AE)","v":0},null,67,"12","05"]
["Guereins (02)",{"$f":"COUNTIF('Liste inscrits'!C:C,A69)","v":0},null,{"$f":"B69-SUMIF('Liste inscrits'!C:C,A69,'Liste inscrits'!AE:AE)","v":0},null,68,"02","06"]
["Hauteville-Lompnes (10)",{"$f":"COUNTIF('Liste inscrits'!C:C,A70)","v":0},null,{"$f":"B70-SUMIF('Liste inscrits'!C:C,A70,'Liste inscrits'!AE:AE)","v":0},null,69,"10","06"]
["Hotonnes (09)",{"$f":"COUNTIF('Liste inscrits'!C:C,A71)","v":0},null,{"$f":"B71-SUMIF('Liste inscrits'!C:C,A71,'Liste inscrits'!AE:AE)","v":0},null,70,"09","10"]
["Izernore (05)",{"$f":"COUNTIF('Liste inscrits'!C:C,A72)","v":0},null,{"$f":"B72-SUMIF('Liste inscrits'!C:C,A72,'Liste inscrits'!AE:AE)","v":0},null,71,"05","06"]
["Jassans Riottier (06)",{"$f":"COUNTIF('Liste inscrits'!C:C,A73)","v":0},null,{"$f":"B73-SUMIF('Liste inscrits'!C:C,A73,'Liste inscrits'!AE:AE)","v":0},null,72,"06","06"]
["Jujurieux (03)",{"$f":"COUNTIF('Liste inscrits'!C:C,A74)","v":0},null,{"$f":"B74-SUMIF('Liste inscrits'!C:C,A74,'Liste inscrits'!AE:AE)","v":0},null,73,"03","05"]
["La Boisse (01)",{"$f":"COUNTIF('Liste inscrits'!C:C,A75)","v":0},null,{"$f":"B75-SUMIF('Liste inscrits'!C:C,A75,'Liste inscrits'!AE:AE)","v":0},null,74,"01","05"]
["Lagnieu (08)",{"$f":"COUNTIF('Liste inscrits'!C:C,A76)","v":0},null,{"$f":"B76-SUMIF('Liste inscrits'!C:C,A76,'Liste inscrits'!AE:AE)","v":0},null,75,"08","09"]
["Le Mas Rillier (01)",{"$f":"COUNTIF('Liste inscrits'!C:C,A77)","v":0},null,{"$f":"B77-SUMIF('Liste inscrits'!C:C,A77,'Liste inscrits'!AE:AE)","v":0},null,76,"01","06"]
["Lent (04)",{"$f":"COUNTIF('Liste inscrits'!C:C,A78)","v":0},null,{"$f":"B78-SUMIF('Liste inscrits'!C:C,A78,'Liste inscrits'!AE:AE)","v":0},null,77,"04","05"]
["Leyment (08)",{"$f":"COUNTIF('Liste inscrits'!C:C,A79)","v":0},null,{"$f":"B79-SUMIF('Liste inscrits'!C:C,A79,'Liste inscrits'!AE:AE)","v":0},null,78,"08","10"]
["Manziat (12)",{"$f":"COUNTIF('Liste inscrits'!C:C,A80)","v":0},null,{"$f":"B80-SUMIF('Liste inscrits'!C:C,A80,'Liste inscrits'!AE:AE)","v":0},null,79,"12","06"]
["Marboz (13)",{"$f":"COUNTIF('Liste inscrits'!C:C,A81)","v":0},null,{"$f":"B81-SUMIF('Liste inscrits'!C:C,A81,'Liste inscrits'!AE:AE)","v":0},null,80,"13","13"]
["Marchon (05)",{"$f":"COUNTIF('Liste inscrits'!C:C,A82)","v":0},null,{"$f":"B82-SUMIF('Liste inscrits'!C:C,A82,'Liste inscrits'!AE:AE)","v":0},null,81,"05","07"]
["Marlieux (07)",{"$f":"COUNTIF('Liste inscrits'!C:C,A83)","v":0},null,{"$f":"B83-SUMIF('Liste inscrits'!C:C,A83,'Liste inscrits'!AE:AE)","v":0},null,82,"07","08"]
["Martignat (05)",{"$f":"COUNTIF('Liste inscrits'!C:C,A84)","v":0},null,{"$f":"B84-SUMIF('Liste inscrits'!C:C,A84,'Liste inscrits'!AE:AE)","v":0},null,83,"05","08"]
["Massieux (06)",{"$f":"COUNTIF('Liste inscrits'!C:C,A85)","v":0},null,{"$f":"B85-SUMIF('Liste inscrits'!C:C,A85,'Liste inscrits'!AE:AE)","v":0},null,84,"06","07"]
["Meillonnas (04)",{"$f":"COUNTIF('Liste inscrits'!C:C,A86)","v":0},null,{"$f":"B86-SUMIF('Liste inscrits'!C:C,A86,'Liste inscrits'!AE:AE)","v":0},null,85,"04","06"]
["Meximieux (01)",{"$f":"COUNTIF('Liste inscrits'!C:C,A87)","v":0},null,{"$f":"B87-SUMIF('Liste inscrits'!C:C,A87,'Liste inscrits'!AE:AE)","v":0},null,86,"01","08"]
["Mezeriat (12)",{"$f":"COUNTIF('Liste inscrits'!C:C,A88)","v":0},null,{"$f":"B88-SUMIF('Liste inscrits'!C:C,A88,'Liste inscrits'!AE:AE)","v":0},null,87,"12","07"]
["Mionnay (06)",{"$f":"COUNTIF('Liste inscrits'!C:C,A89)","v":0},null,{"$f":"B89-SUMIF('Liste inscrits'!C:C,A89,'Liste inscrits'!AE:AE)","v":0},null,88,"06","09"]
["Miribel (01)",{"$f":"COUNTIF('Liste inscrits'!C:C,A90)","v":0},null,{"$f":"B90-SUMIF('Liste inscrits'!C:C,A90,'Liste inscrits'!AE:AE)","v":0},null,89,"01","09"]
["Miserieux (06)",{"$f":"COUNTIF('Liste inscrits'!C:C,A91)","v":0},null,{"$f":"B91-SUMIF('Liste inscrits'!C:C,A91,'Liste inscrits'!AE:AE)","v":0},null,90,"06","08"]
["Mogneneins Flurieux (02)",{"$f":"COUNTIF('Liste inscrits'!C:C,A92)","v":0},null,{"$f":"B92-SUMIF('Liste inscrits'!C:C,A92,'Liste inscrits'!AE:AE)","v":0},null,91,"02","07"]
["Montcet Vandeins (12)",{"$f":"COUNTIF('Liste inscrits'!C:C,A93)","v":0},null,{"$f":"B93-SUMIF('Liste inscrits'!C:C,A93,'Liste inscrits'!AE:AE)","v":0},null,92,"12","08"]
["Montluel (01)",{"$f":"COUNTIF('Liste inscrits'!C:C,A94)","v":0},null,{"$f":"B94-SUMIF('Liste inscrits'!C:C,A94,'Liste inscrits'!AE:AE)","v":0},null,93,"01","11"]
["Montmerle (02)",{"$f":"COUNTIF('Liste inscrits'!C:C,A95)","v":0},null,{"$f":"B95-SUMIF('Liste inscrits'!C:C,A95,'Liste inscrits'!AE:AE)","v":0},null,94,"02","08"]
["Montreal (05)",{"$f":"COUNTIF('Liste inscrits'!C:C,A96)","v":0},null,{"$f":"B96-SUMIF('Liste inscrits'!C:C,A96,'Liste inscrits'!AE:AE)","v":0},null,95,"05","09"]
["Montrevel (13)",{"$f":"COUNTIF('Liste inscrits'!C:C,A97)","v":0},null,{"$f":"B97-SUMIF('Liste inscrits'!C:C,A97,'Liste inscrits'!AE:AE)","v":0},null,96,"13","08"]
["Neuville Les Dames (02)",{"$f":"COUNTIF('Liste inscrits'!C:C,A98)","v":0},null,{"$f":"B98-SUMIF('Liste inscrits'!C:C,A98,'Liste inscrits'!AE:AE)","v":0},null,97,"02","09"]
["Neuville Sur Ain (03)",{"$f":"COUNTIF('Liste inscrits'!C:C,A99)","v":0},null,{"$f":"B99-SUMIF('Liste inscrits'!C:C,A99,'Liste inscrits'!AE:AE)","v":0},null,98,"03","12"]
["Oussiat (03)",{"$f":"COUNTIF('Liste inscrits'!C:C,A100)","v":0},null,{"$f":"B100-SUMIF('Liste inscrits'!C:C,A100,'Liste inscrits'!AE:AE)","v":0},null,99,"03","06"]
["Oyonnax (05)",{"$f":"COUNTIF('Liste inscrits'!C:C,A101)","v":0},null,{"$f":"B101-SUMIF('Liste inscrits'!C:C,A101,'Liste inscrits'!AE:AE)","v":0},null,100,"05","11"]
["Peron (14)",{"$f":"COUNTIF('Liste inscrits'!C:C,A102)","v":0},null,{"$f":"B102-SUMIF('Liste inscrits'!C:C,A102,'Liste inscrits'!AE:AE)","v":0},null,101,"14","06"]
["Peronnas (04)",{"$f":"COUNTIF('Liste inscrits'!C:C,A103)","v":0},null,{"$f":"B103-SUMIF('Liste inscrits'!C:C,A103,'Liste inscrits'!AE:AE)","v":0},null,102,"04","22"]
["Peyrieu (09)",{"$f":"COUNTIF('Liste inscrits'!C:C,A104)","v":0},null,{"$f":"B104-SUMIF('Liste inscrits'!C:C,A104,'Liste inscrits'!AE:AE)","v":0},null,103,"09","11"]
["Pizay (01)",{"$f":"COUNTIF('Liste inscrits'!C:C,A105)","v":0},null,{"$f":"B105-SUMIF('Liste inscrits'!C:C,A105,'Liste inscrits'!AE:AE)","v":0},null,104,"01","15"]
["Polliat (04)",{"$f":"COUNTIF('Liste inscrits'!C:C,A106)","v":0},null,{"$f":"B106-SUMIF('Liste inscrits'!C:C,A106,'Liste inscrits'!AE:AE)","v":0},null,105,"04","07"]
["Poncin (03)",{"$f":"COUNTIF('Liste inscrits'!C:C,A107)","v":0},null,{"$f":"B107-SUMIF('Liste inscrits'!C:C,A107,'Liste inscrits'!AE:AE)","v":0},null,106,"03","07"]
["Pont D'Ain (03)",{"$f":"COUNTIF('Liste inscrits'!C:C,A108)","v":0},null,{"$f":"B108-SUMIF('Liste inscrits'!C:C,A108,'Liste inscrits'!AE:AE)","v":0},null,107,"03","08"]
["Pont De Vaux (12)",{"$f":"COUNTIF('Liste inscrits'!C:C,A109)","v":0},null,{"$f":"B109-SUMIF('Liste inscrits'!C:C,A109,'Liste inscrits'!AE:AE)","v":0},null,108,12,"90"]
["Pont De Veyle (12)",{"$f":"COUNTIF('Liste inscrits'!C:C,A110)","v":0},null,{"$f":"B110-SUMIF('Liste inscrits'!C:C,A110,'Liste inscrits'!AE:AE)","v":0},null,109,"12","09"]
["Port (05)",{"$f":"COUNTIF('Liste inscrits'!C:C,A111)","v":0},null,{"$f":"B111-SUMIF('Liste inscrits'!C:C,A111,'Liste inscrits'!AE:AE)","v":0},null,110,"05","14"]
["Priay (03)",{"$f":"COUNTIF('Liste inscrits'!C:C,A112)","v":0},null,{"$f":"B112-SUMIF('Liste inscrits'!C:C,A112,'Liste inscrits'!AE:AE)","v":0},null,111,"03","10"]
["Relevant (02)",{"$f":"COUNTIF('Liste inscrits'!C:C,A113)","v":0},null,{"$f":"B113-SUMIF('Liste inscrits'!C:C,A113,'Liste inscrits'!AE:AE)","v":0},null,112,"02","10"]
["Reyrieux (06)",{"$f":"COUNTIF('Liste inscrits'!C:C,A114)","v":0},null,{"$f":"B114-SUMIF('Liste inscrits'!C:C,A114,'Liste inscrits'!AE:AE)","v":0},null,113,"06","20"]
["Rignieux Le Franc (01)",{"$f":"COUNTIF('Liste inscrits'!C:C,A115)","v":0},null,{"$f":"B115-SUMIF('Liste inscrits'!C:C,A115,'Liste inscrits'!AE:AE)","v":0},null,114,"01","16"]
["Roissiat (04)",{"$f":"COUNTIF('Liste inscrits'!C:C,A116)","v":0},null,{"$f":"B116-SUMIF('Liste inscrits'!C:C,A116,'Liste inscrits'!AE:AE)","v":0},null,115,"04","08"]
["Sault Brenaz (08)",{"$f":"COUNTIF('Liste inscrits'!C:C,A117)","v":0},null,{"$f":"B117-SUMIF('Liste inscrits'!C:C,A117,'Liste inscrits'!AE:AE)","v":0},null,116,"08","15"]
["Savigneux (02)",{"$f":"COUNTIF('Liste inscrits'!C:C,A118)","v":0},null,{"$f":"B118-SUMIF('Liste inscrits'!C:C,A118,'Liste inscrits'!AE:AE)","v":0},null,117,"02","14"]
["Serrieres De Briord (08)",{"$f":"COUNTIF('Liste inscrits'!C:C,A119)","v":0},null,{"$f":"B119-SUMIF('Liste inscrits'!C:C,A119,'Liste inscrits'!AE:AE)","v":0},null,118,"08","16"]
["Servas (04)",{"$f":"COUNTIF('Liste inscrits'!C:C,A120)","v":0},null,{"$f":"B120-SUMIF('Liste inscrits'!C:C,A120,'Liste inscrits'!AE:AE)","v":0},null,119,"04","12"]
["Simandre Sur Suran (04)",{"$f":"COUNTIF('Liste inscrits'!C:C,A121)","v":0},null,{"$f":"B121-SUMIF('Liste inscrits'!C:C,A121,'Liste inscrits'!AE:AE)","v":0},null,120,"04","13"]
["St Andre Bx-Condeissiat (07)",{"$f":"COUNTIF('Liste inscrits'!C:C,A122)","v":0},null,{"$f":"B122-SUMIF('Liste inscrits'!C:C,A122,'Liste inscrits'!AE:AE)","v":0},null,121,"07","09"]
["St Andre De Corcy (06)",{"$f":"COUNTIF('Liste inscrits'!C:C,A123)","v":0},null,{"$f":"B123-SUMIF('Liste inscrits'!C:C,A123,'Liste inscrits'!AE:AE)","v":0},null,122,"06","12"]
["St Andre S/V/Jonc (04)",{"$f":"COUNTIF('Liste inscrits'!C:C,A124)","v":0},null,{"$f":"B124-SUMIF('Liste inscrits'!C:C,A124,'Liste inscrits'!AE:AE)","v":0},null,123,"04","09"]
["St Benoit (09)",{"$f":"COUNTIF('Liste inscrits'!C:C,A125)","v":0},null,{"$f":"B125-SUMIF('Liste inscrits'!C:C,A125,'Liste inscrits'!AE:AE)","v":0},null,124,"09","12"]
["St Bernard (06)",{"$f":"COUNTIF('Liste inscrits'!C:C,A126)","v":0},null,{"$f":"B126-SUMIF('Liste inscrits'!C:C,A126,'Liste inscrits'!AE:AE)","v":0},null,125,"06","13"]
["St Bernard Rives Saone (06)",{"$f":"COUNTIF('Liste inscrits'!C:C,A127)","v":0},null,{"$f":"B127-SUMIF('Liste inscrits'!C:C,A127,'Liste inscrits'!AE:AE)","v":0},null,126,"06","56"]
["St Denis En Bugey (08)",{"$f":"COUNTIF('Liste inscrits'!C:C,A128)","v":0},null,{"$f":"B128-SUMIF('Liste inscrits'!C:C,A128,'Liste inscrits'!AE:AE)","v":0},null,127,"08","11"]
["St Denis Les Bourg (04)",{"$f":"COUNTIF('Liste inscrits'!C:C,A129)","v":0},null,{"$f":"B129-SUMIF('Liste inscrits'!C:C,A129,'Liste inscrits'!AE:AE)","v":0},null,128,"04","10"]
["St Didier Aussiat (13)",{"$f":"COUNTIF('Liste inscrits'!C:C,A130)","v":0},null,{"$f":"B130-SUMIF('Liste inscrits'!C:C,A130,'Liste inscrits'!AE:AE)","v":0},null,129,"13","10"]
["St Didier De Formans (06)",{"$f":"COUNTIF('Liste inscrits'!C:C,A131)","v":0},null,{"$f":"B131-SUMIF('Liste inscrits'!C:C,A131,'Liste inscrits'!AE:AE)","v":0},null,130,"06","14"]
["St Etienne Du Bois (04)",{"$f":"COUNTIF('Liste inscrits'!C:C,A132)","v":0},null,{"$f":"B132-SUMIF('Liste inscrits'!C:C,A132,'Liste inscrits'!AE:AE)","v":0},null,131,"04","16"]
["St Etienne/Reyssouze (13)",{"$f":"COUNTIF('Liste inscrits'!C:C,A133)","v":0},null,{"$f":"B133-SUMIF('Liste inscrits'!C:C,A133,'Liste inscrits'!AE:AE)","v":0},null,132,"13","11"]
["St Genis Pouilly (14)",{"$f":"COUNTIF('Liste inscrits'!C:C,A134)","v":0},null,{"$f":"B134-SUMIF('Liste inscrits'!C:C,A134,'Liste inscrits'!AE:AE)","v":0},null,133,"14","08"]
["St Germain De Joux (11)",{"$f":"COUNTIF('Liste inscrits'!C:C,A135)","v":0},null,{"$f":"B135-SUMIF('Liste inscrits'!C:C,A135,'Liste inscrits'!AE:AE)","v":0},null,134,"11","11"]
["St Jean De Gonville (14)",{"$f":"COUNTIF('Liste inscrits'!C:C,A136)","v":0},null,{"$f":"B136-SUMIF('Liste inscrits'!C:C,A136,'Liste inscrits'!AE:AE)","v":0},null,135,"14","09"]
["St Jean Le Vieux (03)",{"$f":"COUNTIF('Liste inscrits'!C:C,A137)","v":0},null,{"$f":"B137-SUMIF('Liste inscrits'!C:C,A137,'Liste inscrits'!AE:AE)","v":0},null,136,"03","11"]
["St Julien/Reyssouze (13)",{"$f":"COUNTIF('Liste inscrits'!C:C,A138)","v":0},null,{"$f":"B138-SUMIF('Liste inscrits'!C:C,A138,'Liste inscrits'!AE:AE)","v":0},null,137,"13","12"]
["St Just (04)",{"$f":"COUNTIF('Liste inscrits'!C:C,A139)","v":0},null,{"$f":"B139-SUMIF('Liste inscrits'!C:C,A139,'Liste inscrits'!AE:AE)","v":0},null,138,"04","11"]
["St Laurent (12)",{"$f":"COUNTIF('Liste inscrits'!C:C,A140)","v":0},null,{"$f":"B140-SUMIF('Liste inscrits'!C:C,A140,'Liste inscrits'!AE:AE)","v":0},null,139,12,"86"]
["St Martin Du Fresne (05)",{"$f":"COUNTIF('Liste inscrits'!C:C,A141)","v":0},null,{"$f":"B141-SUMIF('Liste inscrits'!C:C,A141,'Liste inscrits'!AE:AE)","v":0},null,140,"05","12"]
["St Maurice De Beynost (01)",{"$f":"COUNTIF('Liste inscrits'!C:C,A142)","v":0},null,{"$f":"B142-SUMIF('Liste inscrits'!C:C,A142,'Liste inscrits'!AE:AE)","v":0},null,141,"01","18"]
["St Maurice De Gourdans (01)",{"$f":"COUNTIF('Liste inscrits'!C:C,A143)","v":0},null,{"$f":"B143-SUMIF('Liste inscrits'!C:C,A143,'Liste inscrits'!AE:AE)","v":0},null,142,"01","19"]
["St Paul De Varax (07)",{"$f":"COUNTIF('Liste inscrits'!C:C,A144)","v":0},null,{"$f":"B144-SUMIF('Liste inscrits'!C:C,A144,'Liste inscrits'!AE:AE)","v":0},null,143,"07","11"]
["St Rambert Addas  (10)",{"$f":"COUNTIF('Liste inscrits'!C:C,A145)","v":0},null,{"$f":"B145-SUMIF('Liste inscrits'!C:C,A145,'Liste inscrits'!AE:AE)","v":0},null,144,"10","08"]
["St Rambert B. Ouvriere  (10)",{"$f":"COUNTIF('Liste inscrits'!C:C,A146)","v":0},null,{"$f":"B146-SUMIF('Liste inscrits'!C:C,A146,'Liste inscrits'!AE:AE)","v":0},null,145,"10","09"]
["St Remy (04)",{"$f":"COUNTIF('Liste inscrits'!C:C,A147)","v":0},null,{"$f":"B147-SUMIF('Liste inscrits'!C:C,A147,'Liste inscrits'!AE:AE)","v":0},null,146,"04","04"]
["St Sorlin (08)",{"$f":"COUNTIF('Liste inscrits'!C:C,A148)","v":0},null,{"$f":"B148-SUMIF('Liste inscrits'!C:C,A148,'Liste inscrits'!AE:AE)","v":0},null,147,"08","13"]
["St Trivier De Courtes (13)",{"$f":"COUNTIF('Liste inscrits'!C:C,A149)","v":0},null,{"$f":"B149-SUMIF('Liste inscrits'!C:C,A149,'Liste inscrits'!AE:AE)","v":0},null,148,"13","14"]
["St Trivier/Moignans (02)",{"$f":"COUNTIF('Liste inscrits'!C:C,A150)","v":0},null,{"$f":"B150-SUMIF('Liste inscrits'!C:C,A150,'Liste inscrits'!AE:AE)","v":0},null,149,"02","12"]
["St Vulbas (08)",{"$f":"COUNTIF('Liste inscrits'!C:C,A151)","v":0},null,{"$f":"B151-SUMIF('Liste inscrits'!C:C,A151,'Liste inscrits'!AE:AE)","v":0},null,150,"08","81"]
["St Vulbas Sport-Boules  (08)",{"$f":"COUNTIF('Liste inscrits'!C:C,A152)","v":0},null,{"$f":"B152-SUMIF('Liste inscrits'!C:C,A152,'Liste inscrits'!AE:AE)","v":0},null,151,"08","14"]
["Ste Euphemie (06)",{"$f":"COUNTIF('Liste inscrits'!C:C,A153)","v":0},null,{"$f":"B153-SUMIF('Liste inscrits'!C:C,A153,'Liste inscrits'!AE:AE)","v":0},null,152,"06","15"]
["Sulignat (02)",{"$f":"COUNTIF('Liste inscrits'!C:C,A154)","v":0},null,{"$f":"B154-SUMIF('Liste inscrits'!C:C,A154,'Liste inscrits'!AE:AE)","v":0},null,153,"02","15"]
["Tenay (10)",{"$f":"COUNTIF('Liste inscrits'!C:C,A155)","v":0},null,{"$f":"B155-SUMIF('Liste inscrits'!C:C,A155,'Liste inscrits'!AE:AE)","v":0},null,154,"10","10"]
["Thezillieu (10)",{"$f":"COUNTIF('Liste inscrits'!C:C,A156)","v":0},null,{"$f":"B156-SUMIF('Liste inscrits'!C:C,A156,'Liste inscrits'!AE:AE)","v":0},null,155,"10","11"]
["Thoissey (02)",{"$f":"COUNTIF('Liste inscrits'!C:C,A157)","v":0},null,{"$f":"B157-SUMIF('Liste inscrits'!C:C,A157,'Liste inscrits'!AE:AE)","v":0},null,156,"02","16"]
["Tossiat (04)",{"$f":"COUNTIF('Liste inscrits'!C:C,A158)","v":0},null,{"$f":"B158-SUMIF('Liste inscrits'!C:C,A158,'Liste inscrits'!AE:AE)","v":0},null,157,"04","14"]
["Trevoux (06)",{"$f":"COUNTIF('Liste inscrits'!C:C,A159)","v":0},null,{"$f":"B159-SUMIF('Liste inscrits'!C:C,A159,'Liste inscrits'!AE:AE)","v":0},null,158,"06","16"]
["Vanchy (11)",{"$f":"COUNTIF('Liste inscrits'!C:C,A160)","v":0},null,{"$f":"B160-SUMIF('Liste inscrits'!C:C,A160,'Liste inscrits'!AE:AE)","v":0},null,159,"11","13"]
["Vaux En Bugey (08)",{"$f":"COUNTIF('Liste inscrits'!C:C,A161)","v":0},null,{"$f":"B161-SUMIF('Liste inscrits'!C:C,A161,'Liste inscrits'!AE:AE)","v":0},null,160,"08","18"]
["Villars Les Dombes (07)",{"$f":"COUNTIF('Liste inscrits'!C:C,A162)","v":0},null,{"$f":"B162-SUMIF('Liste inscrits'!C:C,A162,'Liste inscrits'!AE:AE)","v":0},null,161,"07","13"]
["Villebois (08)",{"$f":"COUNTIF('Liste inscrits'!C:C,A163)","v":0},null,{"$f":"B163-SUMIF('Liste inscrits'!C:C,A163,'Liste inscrits'!AE:AE)","v":0},null,162,"08","19"]
["Villeneuve (06)",{"$f":"COUNTIF('Liste inscrits'!C:C,A164)","v":0},null,{"$f":"B164-SUMIF('Liste inscrits'!C:C,A164,'Liste inscrits'!AE:AE)","v":0},null,163,"06","17"]
["Villereversure (04)",{"$f":"COUNTIF('Liste inscrits'!C:C,A165)","v":0},null,{"$f":"B165-SUMIF('Liste inscrits'!C:C,A165,'Liste inscrits'!AE:AE)","v":0},null,164,"04","17"]
["Viriat (04)",{"$f":"COUNTIF('Liste inscrits'!C:C,A166)","v":0},null,{"$f":"B166-SUMIF('Liste inscrits'!C:C,A166,'Liste inscrits'!AE:AE)","v":0},null,165,"04","15"]
["Vonnas (12)",{"$f":"COUNTIF('Liste inscrits'!C:C,A167)","v":0},null,{"$f":"B167-SUMIF('Liste inscrits'!C:C,A167,'Liste inscrits'!AE:AE)","v":0},null,166,"12","10"]
["Secteur Cotiere (01)",{"$f":"COUNTIF('Liste inscrits'!C:C,A168)","v":0},{"$f":"COUNTIF('Liste inscrits'!E:E,MID(A168,LEN(A168)-2,2))","v":0},{"$f":"B168-SUMIF('Liste inscrits'!C:C,A168,'Liste inscrits'!AE:AE)","v":0},{"$f":"C168-SUMIF('Liste inscrits'!E:E,MID(A168,LEN(A168)-2,2),'Liste inscrits'!AE:AE)","v":0},167,1]
["Secteur Dombes-Saone (02)",{"$f":"COUNTIF('Liste inscrits'!C:C,A169)","v":0},{"$f":"COUNTIF('Liste inscrits'!E:E,MID(A169,LEN(A169)-2,2))","v":0},{"$f":"B169-SUMIF('Liste inscrits'!C:C,A169,'Liste inscrits'!AE:AE)","v":0},{"$f":"C169-SUMIF('Liste inscrits'!E:E,MID(A169,LEN(A169)-2,2),'Liste inscrits'!AE:AE)","v":0},168,2]
["Secteur Rives Ain (03)",{"$f":"COUNTIF('Liste inscrits'!C:C,A170)","v":0},{"$f":"COUNTIF('Liste inscrits'!E:E,MID(A170,LEN(A170)-2,2))","v":0},{"$f":"B170-SUMIF('Liste inscrits'!C:C,A170,'Liste inscrits'!AE:AE)","v":0},{"$f":"C170-SUMIF('Liste inscrits'!E:E,MID(A170,LEN(A170)-2,2),'Liste inscrits'!AE:AE)","v":0},169,3]
["Secteur Bressan (04)",{"$f":"COUNTIF('Liste inscrits'!C:C,A171)","v":0},{"$f":"COUNTIF('Liste inscrits'!E:E,MID(A171,LEN(A171)-2,2))","v":0},{"$f":"B171-SUMIF('Liste inscrits'!C:C,A171,'Liste inscrits'!AE:AE)","v":0},{"$f":"C171-SUMIF('Liste inscrits'!E:E,MID(A171,LEN(A171)-2,2),'Liste inscrits'!AE:AE)","v":0},170,4]
["Secteur Haut Bugey (05)",{"$f":"COUNTIF('Liste inscrits'!C:C,A172)","v":0},{"$f":"COUNTIF('Liste inscrits'!E:E,MID(A172,LEN(A172)-2,2))","v":0},{"$f":"B172-SUMIF('Liste inscrits'!C:C,A172,'Liste inscrits'!AE:AE)","v":0},{"$f":"C172-SUMIF('Liste inscrits'!E:E,MID(A172,LEN(A172)-2,2),'Liste inscrits'!AE:AE)","v":0},171,5]
["Secteur Rives Saone (06)",{"$f":"COUNTIF('Liste inscrits'!C:C,A173)","v":0},{"$f":"COUNTIF('Liste inscrits'!E:E,MID(A173,LEN(A173)-2,2))","v":0},{"$f":"B173-SUMIF('Liste inscrits'!C:C,A173,'Liste inscrits'!AE:AE)","v":0},{"$f":"C173-SUMIF('Liste inscrits'!E:E,MID(A173,LEN(A173)-2,2),'Liste inscrits'!AE:AE)","v":0},172,6]
["Secteur Dombes (07)",{"$f":"COUNTIF('Liste inscrits'!C:C,A174)","v":0},{"$f":"COUNTIF('Liste inscrits'!E:E,MID(A174,LEN(A174)-2,2))","v":0},{"$f":"B174-SUMIF('Liste inscrits'!C:C,A174,'Liste inscrits'!AE:AE)","v":0},{"$f":"C174-SUMIF('Liste inscrits'!E:E,MID(A174,LEN(A174)-2,2),'Liste inscrits'!AE:AE)","v":0},173,7]
["Secteur Plaine Ain (08)",{"$f":"COUNTIF('Liste inscrits'!C:C,A175)","v":0},{"$f":"COUNTIF('Liste inscrits'!E:E,MID(A175,LEN(A175)-2,2))","v":0},{"$f":"B175-SUMIF('Liste inscrits'!C:C,A175,'Liste inscrits'!AE:AE)","v":0},{"$f":"C175-SUMIF('Liste inscrits'!E:E,MID(A175,LEN(A175)-2,2),'Liste inscrits'!AE:AE)","v":0},174,8]
["Secteur Bas Bugey (09)",{"$f":"COUNTIF('Liste inscrits'!C:C,A176)","v":0},{"$f":"COUNTIF('Liste inscrits'!E:E,MID(A176,LEN(A176)-2,2))","v":0},{"$f":"B176-SUMIF('Liste inscrits'!C:C,A176,'Liste inscrits'!AE:AE)","v":0},{"$f":"C176-SUMIF('Liste inscrits'!E:E,MID(A176,LEN(A176)-2,2),'Liste inscrits'!AE:AE)","v":0},175,9]
["Secteur Bords Albarine (10)",{"$f":"COUNTIF('Liste inscrits'!C:C,A177)","v":0},{"$f":"COUNTIF('Liste inscrits'!E:E,MID(A177,LEN(A177)-2,2))","v":0},{"$f":"B177-SUMIF('Liste inscrits'!C:C,A177,'Liste inscrits'!AE:AE)","v":0},{"$f":"C177-SUMIF('Liste inscrits'!E:E,MID(A177,LEN(A177)-2,2),'Liste inscrits'!AE:AE)","v":0},176,10]
["Secteur Rhone Valserine (11)",{"$f":"COUNTIF('Liste inscrits'!C:C,A178)","v":0},{"$f":"COUNTIF('Liste inscrits'!E:E,MID(A178,LEN(A178)-2,2))","v":0},{"$f":"B178-SUMIF('Liste inscrits'!C:C,A178,'Liste inscrits'!AE:AE)","v":0},{"$f":"C178-SUMIF('Liste inscrits'!E:E,MID(A178,LEN(A178)-2,2),'Liste inscrits'!AE:AE)","v":0},177,11]
["Secteur Bords Veyle (12)",{"$f":"COUNTIF('Liste inscrits'!C:C,A179)","v":0},{"$f":"COUNTIF('Liste inscrits'!E:E,MID(A179,LEN(A179)-2,2))","v":0},{"$f":"B179-SUMIF('Liste inscrits'!C:C,A179,'Liste inscrits'!AE:AE)","v":0},{"$f":"C179-SUMIF('Liste inscrits'!E:E,MID(A179,LEN(A179)-2,2),'Liste inscrits'!AE:AE)","v":0},178,"12"]
["Secteur Bords Reyssouze (13)",{"$f":"COUNTIF('Liste inscrits'!C:C,A180)","v":0},{"$f":"COUNTIF('Liste inscrits'!E:E,MID(A180,LEN(A180)-2,2))","v":0},{"$f":"B180-SUMIF('Liste inscrits'!C:C,A180,'Liste inscrits'!AE:AE)","v":0},{"$f":"C180-SUMIF('Liste inscrits'!E:E,MID(A180,LEN(A180)-2,2),'Liste inscrits'!AE:AE)","v":0},179,13]
["Secteur Gessien (14)",{"$f":"COUNTIF('Liste inscrits'!C:C,A181)","v":0},{"$f":"COUNTIF('Liste inscrits'!E:E,MID(A181,LEN(A181)-2,2))","v":0},{"$f":"B181-SUMIF('Liste inscrits'!C:C,A181,'Liste inscrits'!AE:AE)","v":0},{"$f":"C181-SUMIF('Liste inscrits'!E:E,MID(A181,LEN(A181)-2,2),'Liste inscrits'!AE:AE)","v":0},180,14]
["Comité Bouliste de l'Ain (98)",{"$f":"COUNTIF('Liste inscrits'!C:C,A182)","v":0},{"$f":"COUNTIF('Liste inscrits'!E:E,MID(A182,LEN(A182)-2,2))","v":0},{"$f":"B182-SUMIF('Liste inscrits'!C:C,A182,'Liste inscrits'!AE:AE)","v":0},{"$f":"C182-SUMIF('Liste inscrits'!E:E,MID(A182,LEN(A182)-2,2),'Liste inscrits'!AE:AE)","v":0},181,98]
["Isère (38)",{"$f":"COUNTIF('Liste inscrits'!C:C,A183)","v":0},{"$f":"COUNTIF('Liste inscrits'!E:E,MID(A183,LEN(A183)-2,2))","v":0},{"$f":"B183-SUMIF('Liste inscrits'!C:C,A183,'Liste inscrits'!AE:AE)","v":0},{"$f":"C183-SUMIF('Liste inscrits'!E:E,MID(A183,LEN(A183)-2,2),'Liste inscrits'!AE:AE)","v":0},182,38]
["Jura (39)",{"$f":"COUNTIF('Liste inscrits'!C:C,A184)","v":0},{"$f":"COUNTIF('Liste inscrits'!E:E,MID(A184,LEN(A184)-2,2))","v":0},{"$f":"B184-SUMIF('Liste inscrits'!C:C,A184,'Liste inscrits'!AE:AE)","v":0},{"$f":"C184-SUMIF('Liste inscrits'!E:E,MID(A184,LEN(A184)-2,2),'Liste inscrits'!AE:AE)","v":0},183,39]
["Rhône (69)",{"$f":"COUNTIF('Liste inscrits'!C:C,A185)","v":0},{"$f":"COUNTIF('Liste inscrits'!E:E,MID(A185,LEN(A185)-2,2))","v":0},{"$f":"B185-SUMIF('Liste inscrits'!C:C,A185,'Liste inscrits'!AE:AE)","v":0},{"$f":"C185-SUMIF('Liste inscrits'!E:E,MID(A185,LEN(A185)-2,2),'Liste inscrits'!AE:AE)","v":0},184,69]
["Saône-et-Loire (71)",{"$f":"COUNTIF('Liste inscrits'!C:C,A186)","v":0},{"$f":"COUNTIF('Liste inscrits'!E:E,MID(A186,LEN(A186)-2,2))","v":0},{"$f":"B186-SUMIF('Liste inscrits'!C:C,A186,'Liste inscrits'!AE:AE)","v":0},{"$f":"C186-SUMIF('Liste inscrits'!E:E,MID(A186,LEN(A186)-2,2),'Liste inscrits'!AE:AE)","v":0},185,71]
["Savoie (73)",{"$f":"COUNTIF('Liste inscrits'!C:C,A187)","v":0},{"$f":"COUNTIF('Liste inscrits'!E:E,MID(A187,LEN(A187)-2,2))","v":0},{"$f":"B187-SUMIF('Liste inscrits'!C:C,A187,'Liste inscrits'!AE:AE)","v":0},{"$f":"C187-SUMIF('Liste inscrits'!E:E,MID(A187,LEN(A187)-2,2),'Liste inscrits'!AE:AE)","v":0},186,73]
["Haute-Savoie (74)",{"$f":"COUNTIF('Liste inscrits'!C:C,A188)","v":0},{"$f":"COUNTIF('Liste inscrits'!E:E,MID(A188,LEN(A188)-2,2))","v":0},{"$f":"B188-SUMIF('Liste inscrits'!C:C,A188,'Liste inscrits'!AE:AE)","v":0},{"$f":"C188-SUMIF('Liste inscrits'!E:E,MID(A188,LEN(A188)-2,2),'Liste inscrits'!AE:AE)","v":0},187,74]
["Autre département (99)",{"$f":"COUNTIF('Liste inscrits'!C:C,A189)","v":0},{"$f":"COUNTIF('Liste inscrits'!E:E,MID(A189,LEN(A189)-2,2))","v":0},{"$f":"B189-SUMIF('Liste inscrits'!C:C,A189,'Liste inscrits'!AE:AE)","v":0},{"$f":"C189-SUMIF('Liste inscrits'!E:E,MID(A189,LEN(A189)-2,2),'Liste inscrits'!AE:AE)","v":0},188,99]

{"sheet":"Feuil1","index":10,"n_rows":52,"n_cols":3,"rows_kept":52,"cut":false,"hidden":true,"merged":[]}
[{"$f":"IF(ROW()<27,CHAR(64+ROW())& \" \",\"A\"&CHAR(38+ROW()))","v":"A "},11,2]
[{"$f":"IF(ROW()<27,CHAR(64+ROW())& \" \",\"A\"&CHAR(38+ROW()))","v":"B "},11,5]
["C ",11,8]
["D ",11,11]
["E ",{"$f":"B1+13","v":24},2]
["F ",{"$f":"B2+13","v":24},5]
["G ",24,8]
["H ",24,11]
["I ",37,2]
["J ",37,5]
["K ",37,8]
["L ",37,11]
["M ",50,2]
["N ",50,5]
["O ",50,8]
["P ",50,11]
["Q ",63,2]
["R ",63,5]
["S ",63,8]
["T ",63,11]
["U ",76,2]
["V ",76,5]
["W ",76,8]
["X ",76,11]
["Y ",89,2]
["Z ",89,5]
["AA",89,8]
[{"$f":"IF(ROW()<27,CHAR(64+ROW()),\"A\"&CHAR(38+ROW()))","v":"AB"},89,11]
["AC",102,2]
["AD",102,5]
["AE",102,8]
["AF",102,11]
["AG",115,2]
["AH",115,5]
["AI",115,8]
["AJ",115,11]
["AK",128,2]
["AL",128,5]
["AM",128,8]
["AN",128,11]
["AO",141,2]
["AP",141,5]
["AQ",141,8]
["AR",141,11]
["AS",154,2]
["AT",154,5]
["AU",154,8]
["AV",154,11]
["AW",167,2]
["AX",167,5]
["AY",167,8]
["AZ",167,11]

{"sheet":"Tirage","index":11,"n_rows":106,"n_cols":31,"rows_kept":106,"cut":false,"hidden":true,"merged":[[64,0,65,0],[54,0,55,0],[56,0,57,0],[58,0,59,0],[60,0,61,0],[62,0,63,0],[44,0,45,0],[46,0,47,0],[48,0,49,0],[50,0,51,0],[52,0,53,0],[34,0,35,0],[36,0,37,0],[38,0,39,0],[40,0,41,0],[42,0,43,0],[2,0,3,0],[4,0,5,0],[6,0,7,0],[8,0,9,0],[10,0,11,0],[30,0,31,0],[32,0,33,0],[12,0,13,0],[22,0,23,0],[24,0,25,0],[26,0,27,0],[28,0,29,0],[14,0,15,0],[16,0,17,0],[18,0,19,0],[20,0,21,0],[66,0,67,0],[68,0,69,0],[70,0,71,0],[72,0,73,0],[74,0,75,0],[76,0,77,0],[78,0,79,0],[80,0,81,0],[82,0,83,0],[84,0,85,0],[86,0,87,0],[88,0,89,0],[90,0,91,0],[92,0,93,0],[94,0,95,0],[96,0,97,0],[98,0,99,0],[100,0,101,0],[102,0,103,0],[104,0,105,0]]}
[null,"Qualificatifs Doubles 4ème division",null,null,null,null,{"$f":"MAX(D:D)","v":0},{"$f":"(COUNTA(B:B)-1)/2","v":0}]
[null,null,null,"Jeu"]
["Poule A ",null,null,{"$f":"IF(B3<>\"\",1,\"\")","v":""},null,null,{"$f":"IF(B4<>\"\",B4,\"\")","v":""},{"$f":"IF(C4<>\"\",C4,\"\")","v":""},{"$f":"IF(D4<>\"\",D4,\"\")","v":""},{"$f":"IF(E4<>\"\",E4,\"\")","v":""},{"$f":"IF(F4<>\"\",F4,\"\")","v":""}]
[null,null,null,{"$f":"IF(AND(E4<>\"\",E4<>\"Office\"),IF(D3<>\"\",D3+1,D2+1),\"\")","v":""},null,null,null,null,null,null,null,null,null,null,null,null,null,null,null,null,null,null,null,null,null,null,null,null,null,null,1]
["Poule B ",null,null,{"$f":"IF(AND(E5<>\"\",E5<>\"Office\"),IF(D4<>\"\",D4+1,D3+1),\"\")","v":""},null,null,{"$f":"IF(B6<>\"\",B6,\"\")","v":""},{"$f":"IF(C6<>\"\",C6,\"\")","v":""},{"$f":"IF(D6<>\"\",D6,\"\")","v":""},{"$f":"IF(E6<>\"\",E6,\"\")","v":""},{"$f":"IF(F6<>\"\",F6,\"\")","v":""}]
[null,null,null,""]
["Poule C ",null,null,"",null,null,{"$f":"IF(B8<>\"\",B8,\"\")","v":""},{"$f":"IF(C8<>\"\",C8,\"\")","v":""},{"$f":"IF(D8<>\"\",D8,\"\")","v":""},{"$f":"IF(E8<>\"\",E8,\"\")","v":""},{"$f":"IF(F8<>\"\",F8,\"\")","v":""}]
[null,null,null,""]
["Poule D ",null,null,"",null,null,{"$f":"IF(B10<>\"\",B10,\"\")","v":""},{"$f":"IF(C10<>\"\",C10,\"\")","v":""},{"$f":"IF(D10<>\"\",D10,\"\")","v":""},{"$f":"IF(E10<>\"\",E10,\"\")","v":""},{"$f":"IF(F10<>\"\",F10,\"\")","v":""}]
[null,null,null,""]
["Poule E ",null,null,"",null,null,{"$f":"IF(B12<>\"\",B12,\"\")","v":""},{"$f":"IF(C12<>\"\",C12,\"\")","v":""},{"$f":"IF(D12<>\"\",D12,\"\")","v":""},{"$f":"IF(E12<>\"\",E12,\"\")","v":""},{"$f":"IF(F12<>\"\",F12,\"\")","v":""}]
[null,null,null,""]
["Poule F ",null,null,"",null,null,{"$f":"IF(B14<>\"\",B14,\"\")","v":""},{"$f":"IF(C14<>\"\",C14,\"\")","v":""},{"$f":"IF(D14<>\"\",D14,\"\")","v":""},{"$f":"IF(E14<>\"\",E14,\"\")","v":""},{"$f":"IF(F14<>\"\",F14,\"\")","v":""}]
[null,null,null,""]
["Poule G ",null,null,"",null,null,{"$f":"IF(B16<>\"\",B16,\"\")","v":""},{"$f":"IF(C16<>\"\",C16,\"\")","v":""},{"$f":"IF(D16<>\"\",D16,\"\")","v":""},{"$f":"IF(E16<>\"\",E16,\"\")","v":""},{"$f":"IF(F16<>\"\",F16,\"\")","v":""}]
[null,null,null,""]
["Poule H ",null,null,"",null,null,{"$f":"IF(B18<>\"\",B18,\"\")","v":""},{"$f":"IF(C18<>\"\",C18,\"\")","v":""},{"$f":"IF(D18<>\"\",D18,\"\")","v":""},{"$f":"IF(E18<>\"\",E18,\"\")","v":""},{"$f":"IF(F18<>\"\",F18,\"\")","v":""}]
[null,null,null,""]
["Poule I ",null,null,"",null,null,{"$f":"IF(B20<>\"\",B20,\"\")","v":""},{"$f":"IF(C20<>\"\",C20,\"\")","v":""},{"$f":"IF(D20<>\"\",D20,\"\")","v":""},{"$f":"IF(E20<>\"\",E20,\"\")","v":""},{"$f":"IF(F20<>\"\",F20,\"\")","v":""}]
[null,null,null,""]
["Poule J ",null,null,"",null,null,{"$f":"IF(B22<>\"\",B22,\"\")","v":""},{"$f":"IF(C22<>\"\",C22,\"\")","v":""},{"$f":"IF(D22<>\"\",D22,\"\")","v":""},{"$f":"IF(E22<>\"\",E22,\"\")","v":""},{"$f":"IF(F22<>\"\",F22,\"\")","v":""}]
[null,null,null,""]
["Poule K ",null,null,"",null,null,{"$f":"IF(B24<>\"\",B24,\"\")","v":""},{"$f":"IF(C24<>\"\",C24,\"\")","v":""},{"$f":"IF(D24<>\"\",D24,\"\")","v":""},{"$f":"IF(E24<>\"\",E24,\"\")","v":""},{"$f":"IF(F24<>\"\",F24,\"\")","v":""}]
[null,null,null,""]
["Poule L ",null,null,"",null,null,{"$f":"IF(B26<>\"\",B26,\"\")","v":""},{"$f":"IF(C26<>\"\",C26,\"\")","v":""},{"$f":"IF(D26<>\"\",D26,\"\")","v":""},{"$f":"IF(E26<>\"\",E26,\"\")","v":""},{"$f":"IF(F26<>\"\",F26,\"\")","v":""}]
[null,null,null,""]
["Poule M ",null,null,"",null,null,{"$f":"IF(B28<>\"\",B28,\"\")","v":""},{"$f":"IF(C28<>\"\",C28,\"\")","v":""},{"$f":"IF(D28<>\"\",D28,\"\")","v":""},{"$f":"IF(E28<>\"\",E28,\"\")","v":""},{"$f":"IF(F28<>\"\",F28,\"\")","v":""}]
[null,null,null,""]
["Poule N ",null,null,"",null,null,{"$f":"IF(B30<>\"\",B30,\"\")","v":""},{"$f":"IF(C30<>\"\",C30,\"\")","v":""},{"$f":"IF(D30<>\"\",D30,\"\")","v":""},{"$f":"IF(E30<>\"\",E30,\"\")","v":""},{"$f":"IF(F30<>\"\",F30,\"\")","v":""}]
[null,null,null,{"$f":"IF(AND(E30<>\"\",E30<>\"Office\"),IF(D29<>\"\",D29+1,D28+1),\"\")","v":""}]
["Poule O ",null,null,"",null,null,{"$f":"IF(B32<>\"\",B32,\"\")","v":""},{"$f":"IF(C32<>\"\",C32,\"\")","v":""},{"$f":"IF(D32<>\"\",D32,\"\")","v":""},{"$f":"IF(E32<>\"\",E32,\"\")","v":""},{"$f":"IF(F32<>\"\",F32,\"\")","v":""}]
[null,null,null,""]
["Poule P ",null,null,"",null,null,{"$f":"IF(B34<>\"\",B34,\"\")","v":""},{"$f":"IF(C34<>\"\",C34,\"\")","v":""},{"$f":"IF(D34<>\"\",D34,\"\")","v":""},{"$f":"IF(E34<>\"\",E34,\"\")","v":""},{"$f":"IF(F34<>\"\",F34,\"\")","v":""}]
[null,null,null,""]
["Poule Q ",null,null,"",null,null,{"$f":"IF(B36<>\"\",B36,\"\")","v":""},{"$f":"IF(C36<>\"\",C36,\"\")","v":""},{"$f":"IF(D36<>\"\",D36,\"\")","v":""},{"$f":"IF(E36<>\"\",E36,\"\")","v":""},{"$f":"IF(F36<>\"\",F36,\"\")","v":""}]
[null,null,null,""]
["Poule R ",null,null,"",null,null,{"$f":"IF(B38<>\"\",B38,\"\")","v":""},{"$f":"IF(C38<>\"\",C38,\"\")","v":""},{"$f":"IF(D38<>\"\",D38,\"\")","v":""},{"$f":"IF(E38<>\"\",E38,\"\")","v":""},{"$f":"IF(F38<>\"\",F38,\"\")","v":""}]
[null,null,null,""]
["Poule S ",null,null,"",null,null,{"$f":"IF(B40<>\"\",B40,\"\")","v":""},{"$f":"IF(C40<>\"\",C40,\"\")","v":""},{"$f":"IF(D40<>\"\",D40,\"\")","v":""},{"$f":"IF(E40<>\"\",E40,\"\")","v":""},{"$f":"IF(F40<>\"\",F40,\"\")","v":""}]
[null,null,null,""]
["Poule T ",null,null,"",null,null,{"$f":"IF(B42<>\"\",B42,\"\")","v":""},{"$f":"IF(C42<>\"\",C42,\"\")","v":""},{"$f":"IF(D42<>\"\",D42,\"\")","v":""},{"$f":"IF(E42<>\"\",E42,\"\")","v":""},{"$f":"IF(F42<>\"\",F42,\"\")","v":""}]
[null,null,null,""]
["Poule U ",null,null,"",null,null,{"$f":"IF(B44<>\"\",B44,\"\")","v":""},{"$f":"IF(C44<>\"\",C44,\"\")","v":""},{"$f":"IF(D44<>\"\",D44,\"\")","v":""},{"$f":"IF(E44<>\"\",E44,\"\")","v":""},{"$f":"IF(F44<>\"\",F44,\"\")","v":""}]
[null,null,null,""]
["Poule V ",null,null,"",null,null,{"$f":"IF(B46<>\"\",B46,\"\")","v":""},{"$f":"IF(C46<>\"\",C46,\"\")","v":""},{"$f":"IF(D46<>\"\",D46,\"\")","v":""},{"$f":"IF(E46<>\"\",E46,\"\")","v":""},{"$f":"IF(F46<>\"\",F46,\"\")","v":""}]
[null,null,null,""]
["Poule W ",null,null,"",null,null,{"$f":"IF(B48<>\"\",B48,\"\")","v":""},{"$f":"IF(C48<>\"\",C48,\"\")","v":""},{"$f":"IF(D48<>\"\",D48,\"\")","v":""},{"$f":"IF(E48<>\"\",E48,\"\")","v":""},{"$f":"IF(F48<>\"\",F48,\"\")","v":""}]
[null,null,null,""]
["Poule X ",null,null,"",null,null,{"$f":"IF(B50<>\"\",B50,\"\")","v":""},{"$f":"IF(C50<>\"\",C50,\"\")","v":""},{"$f":"IF(D50<>\"\",D50,\"\")","v":""},{"$f":"IF(E50<>\"\",E50,\"\")","v":""},{"$f":"IF(F50<>\"\",F50,\"\")","v":""}]
[null,null,null,""]
["Poule Y ",null,null,"",null,null,{"$f":"IF(B52<>\"\",B52,\"\")","v":""},{"$f":"IF(C52<>\"\",C52,\"\")","v":""},{"$f":"IF(D52<>\"\",D52,\"\")","v":""},{"$f":"IF(E52<>\"\",E52,\"\")","v":""},{"$f":"IF(F52<>\"\",F52,\"\")","v":""}]
[null,null,null,""]
["Poule Z ",null,null,"",null,null,{"$f":"IF(B54<>\"\",B54,\"\")","v":""},{"$f":"IF(C54<>\"\",C54,\"\")","v":""},{"$f":"IF(D54<>\"\",D54,\"\")","v":""},{"$f":"IF(E54<>\"\",E54,\"\")","v":""},{"$f":"IF(F54<>\"\",F54,\"\")","v":""}]
[null,null,null,""]
["Poule AA",null,null,"",null,null,{"$f":"IF(B56<>\"\",B56,\"\")","v":""},{"$f":"IF(C56<>\"\",C56,\"\")","v":""},{"$f":"IF(D56<>\"\",D56,\"\")","v":""},{"$f":"IF(E56<>\"\",E56,\"\")","v":""},{"$f":"IF(F56<>\"\",F56,\"\")","v":""}]
[null,null,null,""]
["Poule AB",null,null,"",null,null,{"$f":"IF(B58<>\"\",B58,\"\")","v":""},{"$f":"IF(C58<>\"\",C58,\"\")","v":""},{"$f":"IF(D58<>\"\",D58,\"\")","v":""},{"$f":"IF(E58<>\"\",E58,\"\")","v":""},{"$f":"IF(F58<>\"\",F58,\"\")","v":""}]
[null,null,null,""]
["Poule AC",null,null,"",null,null,{"$f":"IF(B60<>\"\",B60,\"\")","v":""},{"$f":"IF(C60<>\"\",C60,\"\")","v":""},{"$f":"IF(D60<>\"\",D60,\"\")","v":""},{"$f":"IF(E60<>\"\",E60,\"\")","v":""},{"$f":"IF(F60<>\"\",F60,\"\")","v":""}]
[null,null,null,""]
["Poule AD",null,null,"",null,null,{"$f":"IF(B62<>\"\",B62,\"\")","v":""},{"$f":"IF(C62<>\"\",C62,\"\")","v":""},{"$f":"IF(D62<>\"\",D62,\"\")","v":""},{"$f":"IF(E62<>\"\",E62,\"\")","v":""},{"$f":"IF(F62<>\"\",F62,\"\")","v":""}]
[null,null,null,""]
["Poule AE",null,null,"",null,null,{"$f":"IF(B64<>\"\",B64,\"\")","v":""},{"$f":"IF(C64<>\"\",C64,\"\")","v":""},{"$f":"IF(D64<>\"\",D64,\"\")","v":""},{"$f":"IF(E64<>\"\",E64,\"\")","v":""},{"$f":"IF(F64<>\"\",F64,\"\")","v":""}]
[null,null,null,""]
["Poule AF",null,null,"",null,null,{"$f":"IF(B66<>\"\",B66,\"\")","v":""},{"$f":"IF(C66<>\"\",C66,\"\")","v":""},{"$f":"IF(D66<>\"\",D66,\"\")","v":""},{"$f":"IF(E66<>\"\",E66,\"\")","v":""},{"$f":"IF(F66<>\"\",F66,\"\")","v":""}]
[null,null,null,""]
["Poule AG",null,null,"",null,null,{"$f":"IF(B68<>\"\",B68,\"\")","v":""},{"$f":"IF(C68<>\"\",C68,\"\")","v":""},{"$f":"IF(D68<>\"\",D68,\"\")","v":""},{"$f":"IF(E68<>\"\",E68,\"\")","v":""},{"$f":"IF(F68<>\"\",F68,\"\")","v":""},null,{"$f":"IF(H68<>\"\",H68,\"\")","v":""}]
[null,null,null,""]
["Poule AH",null,null,{"$f":"IF(AND(E69<>\"\",E69<>\"Office\"),IF(D68<>\"\",D68+1,D67+1),\"\")","v":""},null,null,{"$f":"IF(B70<>\"\",B70,\"\")","v":""},{"$f":"IF(C70<>\"\",C70,\"\")","v":""},{"$f":"IF(D70<>\"\",D70,\"\")","v":""},{"$f":"IF(E70<>\"\",E70,\"\")","v":""},{"$f":"IF(F70<>\"\",F70,\"\")","v":""},null,{"$f":"IF(H70<>\"\",H70,\"\")","v":""}]
[null,null,null,""]
["Poule AI",null,null,"",null,null,{"$f":"IF(B72<>\"\",B72,\"\")","v":""},{"$f":"IF(C72<>\"\",C72,\"\")","v":""},{"$f":"IF(D72<>\"\",D72,\"\")","v":""},{"$f":"IF(E72<>\"\",E72,\"\")","v":""},{"$f":"IF(F72<>\"\",F72,\"\")","v":""}]
[null,null,null,""]
["Poule AJ",null,null,"",null,null,{"$f":"IF(B74<>\"\",B74,\"\")","v":""},{"$f":"IF(C74<>\"\",C74,\"\")","v":""},{"$f":"IF(D74<>\"\",D74,\"\")","v":""},{"$f":"IF(E74<>\"\",E74,\"\")","v":""},{"$f":"IF(F74<>\"\",F74,\"\")","v":""}]
[null,null,null,""]
["Poule AK",null,null,"",null,null,{"$f":"IF(B76<>\"\",B76,\"\")","v":""},{"$f":"IF(C76<>\"\",C76,\"\")","v":""},{"$f":"IF(D76<>\"\",D76,\"\")","v":""},{"$f":"IF(E76<>\"\",E76,\"\")","v":""},{"$f":"IF(F76<>\"\",F76,\"\")","v":""}]
[null,null,null,""]
["Poule AL",null,null,"",null,null,{"$f":"IF(B78<>\"\",B78,\"\")","v":""},{"$f":"IF(C78<>\"\",C78,\"\")","v":""},{"$f":"IF(D78<>\"\",D78,\"\")","v":""},{"$f":"IF(E78<>\"\",E78,\"\")","v":""},{"$f":"IF(F78<>\"\",F78,\"\")","v":""}]
[null,null,null,""]
["Poule AM",null,null,"",null,null,{"$f":"IF(B80<>\"\",B80,\"\")","v":""},{"$f":"IF(C80<>\"\",C80,\"\")","v":""},{"$f":"IF(D80<>\"\",D80,\"\")","v":""},{"$f":"IF(E80<>\"\",E80,\"\")","v":""},{"$f":"IF(F80<>\"\",F80,\"\")","v":""}]
[null,null,null,""]
["Poule AN",null,null,"",null,null,{"$f":"IF(B82<>\"\",B82,\"\")","v":""},{"$f":"IF(C82<>\"\",C82,\"\")","v":""},{"$f":"IF(D82<>\"\",D82,\"\")","v":""},{"$f":"IF(E82<>\"\",E82,\"\")","v":""},{"$f":"IF(F82<>\"\",F82,\"\")","v":""}]
[null,null,null,""]
["Poule AO",null,null,"",null,null,{"$f":"IF(B84<>\"\",B84,\"\")","v":""},{"$f":"IF(C84<>\"\",C84,\"\")","v":""},{"$f":"IF(D84<>\"\",D84,\"\")","v":""},{"$f":"IF(E84<>\"\",E84,\"\")","v":""},{"$f":"IF(F84<>\"\",F84,\"\")","v":""}]
[null,null,null,""]
["Poule AP",null,null,"",null,null,{"$f":"IF(B86<>\"\",B86,\"\")","v":""},{"$f":"IF(C86<>\"\",C86,\"\")","v":""},{"$f":"IF(D86<>\"\",D86,\"\")","v":""},{"$f":"IF(E86<>\"\",E86,\"\")","v":""},{"$f":"IF(F86<>\"\",F86,\"\")","v":""}]
[null,null,null,""]
["Poule AQ",null,null,"",null,null,{"$f":"IF(B88<>\"\",B88,\"\")","v":""},{"$f":"IF(C88<>\"\",C88,\"\")","v":""},{"$f":"IF(D88<>\"\",D88,\"\")","v":""},{"$f":"IF(E88<>\"\",E88,\"\")","v":""},{"$f":"IF(F88<>\"\",F88,\"\")","v":""}]
[null,null,null,""]
["Poule AR",null,null,"",null,null,{"$f":"IF(B90<>\"\",B90,\"\")","v":""},{"$f":"IF(C90<>\"\",C90,\"\")","v":""},{"$f":"IF(D90<>\"\",D90,\"\")","v":""},{"$f":"IF(E90<>\"\",E90,\"\")","v":""},{"$f":"IF(F90<>\"\",F90,\"\")","v":""}]
[null,null,null,""]
["Poule AS",null,null,"",null,null,{"$f":"IF(B92<>\"\",B92,\"\")","v":""},{"$f":"IF(C92<>\"\",C92,\"\")","v":""},{"$f":"IF(D92<>\"\",D92,\"\")","v":""},{"$f":"IF(E92<>\"\",E92,\"\")","v":""},{"$f":"IF(F92<>\"\",F92,\"\")","v":""}]
[null,null,null,""]
["Poule AT",null,null,"",null,null,{"$f":"IF(B94<>\"\",B94,\"\")","v":""},{"$f":"IF(C94<>\"\",C94,\"\")","v":""},{"$f":"IF(D94<>\"\",D94,\"\")","v":""},{"$f":"IF(E94<>\"\",E94,\"\")","v":""},{"$f":"IF(F94<>\"\",F94,\"\")","v":""}]
[null,null,null,""]
["Poule AU",null,null,"",null,null,{"$f":"IF(B96<>\"\",B96,\"\")","v":""},{"$f":"IF(C96<>\"\",C96,\"\")","v":""},{"$f":"IF(D96<>\"\",D96,\"\")","v":""},{"$f":"IF(E96<>\"\",E96,\"\")","v":""},{"$f":"IF(F96<>\"\",F96,\"\")","v":""}]
[null,null,null,""]
["Poule AV",null,null,"",null,null,{"$f":"IF(B98<>\"\",B98,\"\")","v":""},{"$f":"IF(C98<>\"\",C98,\"\")","v":""},{"$f":"IF(D98<>\"\",D98,\"\")","v":""},{"$f":"IF(E98<>\"\",E98,\"\")","v":""},{"$f":"IF(F98<>\"\",F98,\"\")","v":""}]
[null,null,null,""]
["Poule AW",null,null,"",null,null,{"$f":"IF(B100<>\"\",B100,\"\")","v":""},{"$f":"IF(C100<>\"\",C100,\"\")","v":""},{"$f":"IF(D100<>\"\",D100,\"\")","v":""},{"$f":"IF(E100<>\"\",E100,\"\")","v":""},{"$f":"IF(F100<>\"\",F100,\"\")","v":""}]
[null,null,null,""]
["Poule AX",null,null,"",null,null,{"$f":"IF(B102<>\"\",B102,\"\")","v":""},{"$f":"IF(C102<>\"\",C102,\"\")","v":""},{"$f":"IF(D102<>\"\",D102,\"\")","v":""},{"$f":"IF(E102<>\"\",E102,\"\")","v":""},{"$f":"IF(F102<>\"\",F102,\"\")","v":""}]
[null,null,null,""]
["Poule AY",null,null,"",null,null,{"$f":"IF(B104<>\"\",B104,\"\")","v":""},{"$f":"IF(C104<>\"\",C104,\"\")","v":""},{"$f":"IF(D104<>\"\",D104,\"\")","v":""},{"$f":"IF(E104<>\"\",E104,\"\")","v":""},{"$f":"IF(F104<>\"\",F104,\"\")","v":""}]
[null,null,null,""]
["Poule AZ",null,null,"",null,null,{"$f":"IF(B106<>\"\",B106,\"\")","v":""},{"$f":"IF(C106<>\"\",C106,\"\")","v":""},{"$f":"IF(D106<>\"\",D106,\"\")","v":""},{"$f":"IF(E106<>\"\",E106,\"\")","v":""},{"$f":"IF(F106<>\"\",F106,\"\")","v":""}]
[null,null,null,""]

{"sheet":"Aide","index":12,"n_rows":38,"n_cols":1,"rows_kept":38,"cut":false,"hidden":false,"merged":[]}
["Aide"]
[]
["Ce fichier permet de gérer des concours par poules jusqu'à 208 doublettes."]
["Il est composé de 11 onglets visibles et de 2 onglets masqués "]
["1) L'onglet paramétrage concours contient des informations à compléter pour personnaliser le fichier :"]
["- nom de l'AS ou de l'entité organisatrice à sélectionner dans une liste déroulante"]
["- nom du concours"]
["- lieu du concours"]
["- date du concours"]
["- nombre d'inscrits (ce nombre n'est pas à saisir, il se calcule automatiquement après saisie des équipes"]
["- nombre de qualifiés (à renseigner uniquement dans le cas de concours permettant la qualifications de plusieurs équipes, ce fichier ne gère que jusqu'à 10 qualifiés)"]
["- nombre de poules"]
["- il permet également la saisie des équipes avec le nom des 2 ou 3 joueurs qui la composent, leur N° de licence, leur AS de rattachement (à sélectionner dans une liste déroulante) et leur Division (à selectionner dans la liste)"]
["2) L'onglet Liste inscrits récapitule la composition des équipes avec les 2 ou 3 joueurs qui la composent avec leur nom prénom, leur N° de licence et leur AS de rattachement (à sélectionner dans une liste déroulante)"]
["Cette liste de tous les joueurs permet de renseigner automatiquement les fiches d'inscription à destination du Comité Bouliste"]
["3) L'onglet Tirage Poules se complète automatiquement lorsque l'on active la macro de tirage des poules (macro actionnée par le bouton correspondant dans l'onglet paramétrage concours)"]
["4) L'onglet Fiche score est utilisé par les personnes qui tiennent le tableau de marque pour renseigner les scores des parties de poules"]
["Cet onglet est renseigné automatiquement pour la 1ere partie des noms des équipes dans leurs poules après le tirage des poules et il se complète automatiquement au fur et à mesure de la saisie des scores jusqu'au résultat final des 1ers et 2èmes de poules"]
["5) L'onglet Fiche Tirage dirigé est utilisé pour définir les rencontres post poules entre le 1er d'une poule et le second d'une autre "]
["Il se renseigne automatiquement après que les parties de poules sont terminées de manière à ce que les 2 équipes qualifiées d'une poule ne puissent se rencontrer"]
["Il est à compléter des scores de ces rencontres"]
["6) L'onglet cadrage se renseigne automatiquement après saisie des scores de la partie post-poules, si un cadrage est nécessaire pour obtenir avant la phase finale le nombre d'équipes requis"]
["7) L'onglet tableau final est destinée à définir les parties finales du concours jusqu'à la finale, il se prérenseigne automatiquement soit après la partie post-poules, soit après le cadrage, puis au fur et à mesure de la saisie des scores"]
["8) L'onglet Qualifiés, utile uniquement en cas de concours avec plusieurs qualifiés, se renseigne automatiquement de la composition des équipes qualifiées lorsque le concours est fini"]
["9) L'onglet fiche inscription se renseigne automatiquement des compositions des équipes et de leurs résultats au fur et à mesure de l'avancement de la compétition"]
["10) L'onglet AS répertorie toutes les AS du département de l'Ain, tous les secteurs ainsi que le Comité Bouliste (utilisé comme liste pour la saisie des paramètres du concours et pour les inscriptions des équipes)"]
["11) L'onglet Aide "]
["12) Un onglet Feuil1 masqué contenant des paramètres techniques utilisées par les formules de calcul"]
["13) Un onglet masqué Tirage qui enregistre les affectations des équipes aux poules lors de l'activation de la macro Tirage des Poules"]
[]
["Fonctionnement"]
["Saisir les paramètres du concours et la composition détaillée des équipes dans l'onglet paramétrage concours"]
["Pour la saisie des équipes, il est nécessaire de compléter au minimum les coordonnées du 1er joueur, mais il est indispensable de saisir toutes les coordonnées pour que les tableaux destinés au Comité Bouliste soient complets. \nAprès saisie des informations concernant une équipe, utiliser le bouton \"Validation saisie Equipe\" pour valider cette saisie\nAprès la validation d'une équipe, il est possible de la rappeler en Cliquant sur le bouton \"Rappel Equipe\" et en saisissant le nom du 1er joueur, ce qui permet ensuite de compléter ou modifier les informations avant de les valider à nouveau"]
["En cliquant sur le bouton jaune dans l'onglet paramétrage concours, on obtient une indication sur le nombre de poules maximum et minimum possible avec le nombre d'équipes inscrites, avec indication du nombre de poules de 3 et l'éventuel nombre d'équipes qui devront passer par un cadrage après les poules"]
["Une fois le nombre de poules déterminé (à renseigner en cellule B15 de l'onglet paramétrage concous) , on peut lancer le tirage des poules en cliquant sur le bouton vert dans l'onglet paramétrage concours (en plus du tirage des poules, la macro paramètre automatiquement la feuille de tirage dirigé ainsi que l'éventuelle feuille de cadrage)"]
["Une fois le tirage effectué le fichier est prêt, il reste uniquement à renseigner les scores au fur et à mesure des parties, dans l'onglet Fiche score pour les parties de poules, puis dans l'onglet tirage dirigé et éventuellement dans l'onglet cadrage, et enfin dans l'onglet tableau final"]
["En cas de concours avec plusieurs qualifiés, il convient, après la détermination des qualifiés, de préciser les équipes qui participeront aux phases finales (éventuellement 1/8e de finale, 1/4 de finale, ou demi-finale), en sélectionnant en regard de chaque équipe concernée par ces phases finales son N° d'ordre de 1 à 16, de 1 à 8 ou de 1 à 4), le mode de désignation de ces participants à ces phases finales étant à la liberté des organisateurs soit par tirage au sort soit en faisant disputer une partie de cadrage entre qualifiés (ce fichier ne gère pas cette éventuelle partie de cadrage)"]
["Une fois le concours terminé, les fiches inscription qui se sont complétées des nombres de parties gagnées peuvent être imprimées, ainsi que l'onglet Qualifiés et le tableau final"]